{"text_format":"1","workbook":"xlsx","n_sheets":26,"sheets":["Dados","MetaInfo","aux_ue","data_EU","precos_ue","aux_pr_ue","CEA_DAdos","AUX_CEA","CEA","pr_UE","Preços_Cereais_CI","AUx_PR_C_CI","PR_NAC","indice","Inicio","base_parc","analise","aux","AUX_BAl","BAL","bal_dados","BAse","Sheet3","Sheet1","Prod_Superf","Prod_Superf_UE"],"not_rendered":{"charts":18,"images":1,"macros":1,"external_links":0,"defined_names":14,"comments":0,"pivot_tables":0},"unopened":[],"bounds":{"document_bytes":16777216,"sheet_cells":100000,"rows_first":2000,"rows_last":500,"rows_between":2000,"halvings":0,"cell_chars":16384,"cell_head_chars":4096},"cells_cut":0,"cells_raw":0,"read":"whole","date_system":"1900"}

{"sheet":"Dados","index":0,"n_rows":154,"n_cols":14,"rows_kept":154,"cut":false,"hidden":true,"merged":[[5,4,5,13],[6,4,6,13],[7,4,7,13],[8,4,8,13]]}
[]
[]
[null,null,"1 expl; 2 Superf_cereais_grao"]
[]
[]
[null,null,null,null,"Explorações agrícolas com culturas temporárias (N.º) por Localização geográfica (Região agrária), Tipo (culturas temporárias) e Classes de área (cultura agrícola); Não periódica"]
[null,null,null,null,"Tipo (culturas temporárias)"]
[null,null,null,null,"1: Cereais para grão"]
[null,null,null,null,"Período de referência dos dados"]
[null,"variavel","tipo1","tipo2","1989","1993","1995","1997","1999","2003","2005","2007","2009","2013"]
[{"$f":"+B11&D11&C11","v":"1110"},1,10,"1",133869,84967,81818,76735,78337,58798,47540,40510,43954,32328]
[{"$f":"+B12&D12&C12","v":"1210"},1,10,"2",87818,67632,58404,50654,45302,37517,30273,25356,26095,20501]
["1310",1,10,"3",64913,55160,46321,39638,32433,28859,23191,18623,19530,15768]
["1410",1,10,"4",42494,37795,31431,27110,19580,16206,12426,9896,10816,9442]
["1510",1,10,"5",17113,14929,13554,11455,9839,7305,5770,4781,4980,4392]
["1610",1,10,"6",3283,2885,2881,2696,2717,2114,1752,1377,1695,1641]
["1710",1,10,"7",1416,1098,1194,1159,1245,1022,885,677,870,695]
["1810",1,10,"8",1252,865,886,1035,993,831,655,533,584,548]
["1010",1,10,"0",352158,265331,236488,210483,190446,152653,122492,101753,108524,85315]
["1111",1,"11","1",37736,19545,21969,19163,20277,15891,14209,12480,13548,10738]
["1211",1,"11","2",29060,23766,19595,17659,15835,13643,12291,10803,10410,8924]
["1311",1,"11","3",19863,19072,15484,13891,10314,10468,8656,7209,7221,6040]
["1411",1,"11","4",8570,9807,7115,6078,3991,3389,2802,2337,2504,1780]
["1511",1,"11","5",838,1031,843,592,478,275,194,168,227,112]
["1611",1,"11","6",6,15,23,11,3,0,0,2,4,4]
["1711",1,"11","7",1,0,0,0,0,0,0,0,0,0]
["1811",1,"11","8",0,0,0,0,0,0,0,0,0,0]
["1011",1,"11","0",96074,73235,65028,57395,50898,43667,38153,32998,33914,27598]
["1112",1,"12","1",10131,9562,9380,8883,9915,7218,6647,5936,6460,5551]
["1212",1,"12","2",9043,7026,6482,5976,5693,4801,3695,3433,4021,3421]
["1312",1,"12","3",11151,8766,8369,7543,6004,4817,4696,3712,4028,3503]
["1412",1,"12","4",11862,10050,8662,8097,5787,4817,3740,2881,3199,3469]
["1512",1,"12","5",4956,4842,3880,3349,2532,1553,1478,1208,1060,1211]
["1612",1,"12","6",322,343,247,203,135,60,50,24,50,80]
["1712",1,"12","7",26,16,33,6,6,1,1,19,3,7]
["1812",1,"12","8",1,1,1,0,2,0,0,0,0,0]
["1012",1,"12","0",47492,40606,37054,34057,30074,23267,20306,17212,18821,17242]
["1113",1,"13","1",54922,36522,34464,32384,30869,23842,20177,16739,17096,11279]
["1213",1,"13","2",30349,23965,21050,17845,16741,14120,11394,8527,8559,6116]
["1313",1,"13","3",15560,14902,12414,9420,9378,8605,6754,5347,5181,3841]
["1413",1,"13","4",5558,5755,5009,4041,3038,2810,2280,2186,1813,1477]
["1513",1,"13","5",923,958,967,694,685,550,645,578,501,548]
["1613",1,"13","6",87,130,89,80,110,138,117,149,122,118]
["1713",1,"13","7",13,9,19,25,27,21,24,21,32,35]
["1813",1,"13","8",8,5,5,3,4,8,5,6,11,8]
["1013",1,"13","0",107420,82246,74016,64492,60852,50094,41396,33553,33315,23421]
["1114",1,"14","1",15275,9914,8457,9884,10350,7189,4487,3048,4201,3158]
["1214",1,"14","2",8850,6442,5862,4890,3412,2595,1578,1378,1389,926]
["1314",1,"14","3",7322,5520,4956,3677,2811,2267,1376,975,1247,1095]
["1414",1,"14","4",5896,4838,4312,3407,2350,1801,1219,750,1034,1051]
["1514",1,"14","5",2778,2226,2009,1530,1238,787,502,374,503,422]
["1614",1,"14","6",326,261,268,200,218,100,79,49,77,65]
["1714",1,"14","7",81,64,82,49,61,15,23,13,17,14]
["1814",1,"14","8",40,16,29,39,27,19,14,7,16,4]
["1014",1,"14","0",40568,29280,25976,23676,20467,14773,9276,6594,8484,6735]
["1115",1,"15","1",12484,7497,6387,5353,5188,3844,1549,1884,2338,1405]
["1215",1,"15","2",7620,4323,3755,2914,2389,1711,977,880,1320,849]
["1315",1,"15","3",6380,3929,3041,3241,2024,1429,1035,790,1164,813]
["1415",1,"15","4",4227,3179,2795,2504,1795,1281,962,615,1092,606]
["1515",1,"15","5",1932,1668,2005,1748,1477,1125,803,661,932,754]
["1615",1,"15","6",442,364,444,526,445,279,275,270,402,430]
["1715",1,"15","7",153,116,130,126,183,120,141,116,192,151]
["1815",1,"15","8",95,66,75,101,102,81,61,61,97,108]
["1015",1,"15","0",33333,21141,18632,16513,13603,9871,5804,5278,7537,5116]
["1116",1,"16","1",817,427,180,180,568,268,142,115,107,37]
["1216",1,"16","2",1454,1071,813,692,712,373,173,223,250,111]
["1316",1,"16","3",2957,1702,1105,1151,1293,930,500,392,540,343]
["1416",1,"16","4",4229,2660,2330,1967,2054,1881,1233,1024,1052,868]
["1516",1,"16","5",4507,3251,3124,3010,3086,2875,2049,1711,1692,1239]
["1616",1,"16","6",2024,1716,1749,1637,1762,1517,1213,870,1031,934]
["1716",1,"16","7",1131,884,913,941,956,846,690,504,619,485]
["1816",1,"16","8",1102,766,771,889,853,720,571,457,458,428]
["1016",1,"16","0",18221,12477,10984,10468,11284,9409,6571,5296,5749,4444]
["1117",1,"17","1",2504,1500,982,887,1170,546,330,309,204,160]
["1217",1,"17","2",1442,1039,847,677,520,274,165,112,146,154]
[{"$f":"+B76&D76&C76","v":"1317"},1,"17","3",1680,1269,953,714,609,342,173,198,149,134]
["1417",1,"17","4",2152,1506,1208,1017,565,226,190,103,122,191]
["1517",1,"17","5",1179,954,727,532,343,140,100,82,65,107]
["1617",1,"17","6",76,57,60,39,44,21,19,13,9,9]
["1717",1,"17","7",11,9,18,12,12,19,6,4,7,4]
["1817",1,"17","8",6,11,5,3,5,3,4,2,2,0]
["1017",1,"17","0",9050,6346,4799,3882,3268,1571,987,823,704,758]
["2010",2,10,0,896507,702538,675457,649423,601003,479372,383912,303307,345556,305390]
["2110",2,10,"1",32999,21724,20588,19287,18495,14283,11363,9563,10363,7645]
["2210",2,10,"2",60083,46538,39855,34798,31534,25986,20945,17383,18104,14121]
["2310",2,10,"3",86673,73224,61432,53086,43543,38887,30746,24459,25911,20314]
["2410",2,10,"4",124096,109881,91999,79258,58230,47735,35634,28546,31674,26991]
["2510",2,10,"5",146801,126422,119357,100818,89844,66246,53653,42977,45502,40040]
["2610",2,10,"6",98149,85982,87861,81374,84493,66819,54051,42479,51735,50136]
["2710",2,10,"7",96086,75064,81848,80716,86460,72253,61130,46828,59034,47702]
["2810",2,10,"8",251619,163704,172517,200086,188404,147162,116391,91072,103234,98441]
["2011",2,"11",0,86367,81987,66729,57036,44914,39522,32911,27749,28895,21966]
["2111",2,"11","1",9919,5473,5947,5168,5362,4346,3829,3219,3493,2698]
["2211",2,"11","2",20188,16751,13585,12415,11228,9663,8618,7522,7339,6201]
["2311",2,"11","3",26823,25447,20618,18517,13782,14218,11384,9309,9444,7617]
["2411",2,"11","4",23634,27114,19725,16584,11202,9401,7451,6451,6906,4545]
["2511",2,"11","5",5562,6846,5912,4086,3256,1895,1629,1200,1603,784]
["2611",2,"11","6",191,356,942,267,83,0,0,48,111,121]
["2711",2,"11","7",50,0,0,0,0,0,0,0,0,0]
["2811",2,"11","8",0,0,0,0,0,0,0,0,0,0]
["2012",2,"12",0,110916,98858,85384,74347,57288,40725,34281,27881,29404,31487]
["2112",2,"12","1",2434,2172,2056,2069,2168,1607,1432,1292,1472,1351]
["2212",2,"12","2",6262,4744,4386,4105,3928,3286,2473,2409,2795,2361]
["2312",2,"12","3",15294,11736,11248,10306,8284,6480,6452,5097,5556,4833]
["2412",2,"12","4",35926,30498,26472,24823,17642,14888,11183,8569,9649,10379]
["2512",2,"12","5",40434,39374,32310,27210,20967,12763,11464,8935,8511,9979]
["2612",2,"12","6",8908,9375,6810,5455,3688,1634,1224,639,1247,2217]
["2712",2,"12","7",1556,849,1993,379,359,66,53,941,175,366]
["2812",2,"12","8",103,110,110,0,251,0,0,0,0,0]
["2013",2,"13",0,82590,75325,66760,55161,51856,45866,40316,35576,34150,28500]
["2113",2,"13","1",13423,9512,8776,8239,7418,5798,4763,3986,4002,2668]
["2213",2,"13","2",20908,16774,14564,12450,11737,9842,8052,5882,5961,4281]
["2313",2,"13","3",20731,19959,16675,12936,12575,11495,9015,7141,6856,4998]
["2413",2,"13","4",15562,16474,14344,11294,8566,7508,6372,6161,5113,4138]
["2513",2,"13","5",7370,7612,7839,5872,5918,4580,5985,5425,4533,5032]
["2613",2,"13","6",2443,3569,2494,2256,3227,3976,3500,4333,3644,3714]
["2713",2,"13","7",840,677,1218,1662,1785,1568,1831,1690,2290,2359]
["2813",2,"13","8",1314,747,851,452,630,1101,797,959,1752,1308]
["2014",2,"14",0,81866,59244,58207,48054,41645,26125,17511,11831,16630,12508]
["2114",2,"14","1",3564,2393,2097,2264,2079,1510,877,611,801,624]
["2214",2,"14","2",5905,4084,3764,3045,2281,1704,1000,845,910,608]
["2314",2,"14","3",9696,7103,6271,4714,3783,3144,1772,1230,1647,1300]
["2414",2,"14","4",17411,14156,12263,9879,7111,5495,3505,2241,3087,2988]
["2514",2,"14","5",23371,17606,16144,12695,10883,6842,4434,3207,4287,3573]
["2614",2,"14","6",9303,7334,7610,5785,6638,2619,2147,1447,2188,1964]
["2714",2,"14","7",5388,4154,5702,3344,4268,1025,1562,868,1085,922]
["2814",2,"14","8",7227,2414,4356,6328,4602,3785,2215,1383,2625,530]
["2015",2,"15",0,86699,63600,69809,75484,70617,50893,42379,37975,57035,54553]
["2115",2,"15","1",2848,1699,1434,1285,1111,879,358,385,530,259]
["2215",2,"15","2",4973,2880,2563,1943,1580,1093,597,536,861,513]
["2315",2,"15","3",8177,5211,3976,4327,2664,1905,1243,965,1512,975]
["2415",2,"15","4",12140,9342,8435,7670,5506,3738,2665,1748,3287,1689]
["2515",2,"15","5",16885,14377,18132,16198,14234,10760,8112,6669,9077,7083]
["2615",2,"15","6",13211,10842,12891,15625,13788,8692,8400,8210,12196,13360]
["2715",2,"15","7",10170,7781,8587,8674,12612,8486,10132,8236,12911,10448]
["2815",2,"15","8",18294,11469,13790,19763,19123,15340,10873,11225,16660,20226]
["2016",2,"16",0,424335,303589,312661,327876,325832,271305,213260,160163,177223,154135]
["2116",2,"16","1",216,125,57,47,128,45,39,21,28,11]
["2216",2,"16","2",899,649,452,420,442,227,107,128,151,64]
[{"$f":"+B140&D140&C140","v":"2316"},2,"16","3",3697,2108,1367,1391,1667,1210,667,470,709,430]
["2416",2,"16","4",12715,7746,7016,5908,6497,6021,3922,3103,3272,2693]
["2516",2,"16","5",43677,32506,32750,30288,31697,28273,21205,16893,16907,12735]
["2616",2,"16","6",62022,52852,55384,50864,55802,49249,38176,27480,32063,28489]
["2716",2,"16","7",77356,60987,63266,65876,66617,59759,47151,34790,42162,33336]
["2816",2,"16","8",223754,146617,152368,173081,162982,126521,101992,77280,81932,76377]
["2017",2,"17",0,23734,19937,15907,11465,8852,4936,3254,2132,2219,2240]
["2117",2,"17","1",595,350,220,215,228,98,66,49,37,34]
["2217",2,"17","2",949,657,541,421,337,171,99,61,87,93]
["2317",2,"17","3",2254,1660,1278,895,788,434,213,248,187,160]
["2417",2,"17","4",6709,4551,3745,3100,1705,684,534,273,360,558]
["2517",2,"17","5",9503,8101,6269,4470,2890,1133,825,650,584,855]
["2617",2,"17","6",2071,1656,1730,1122,1267,649,604,322,287,270]
["2717",2,"17","7",726,616,1083,780,820,1350,400,304,411,270]
["2817",2,"17","8",927,2347,1041,462,816,415,514,225,265,0]

{"sheet":"MetaInfo","index":1,"n_rows":25,"n_cols":15,"rows_kept":25,"cut":false,"hidden":true,"merged":[]}
[]
["Metainformação associada ao quadro",null,null,null,null,null,null,null,{"$f":"+INDEX(BAse!N102:N104,MetaInfo!O2)","v":0},{"$f":"+INDEX(BAse!M102:M104,MetaInfo!O2)","v":"(Nº exp.)"},{"$f":"+INDEX(L4:L12,K3)","v":">= 100 ha"},{"$f":"+INDEX(L4:L12,L3)","v":"<0,5 ha"},{"$f":"+INDEX(N4:N11,M3)","v":"Ribatejo e Oeste"},{"$f":"+INDEX(N4:N11,N3)","v":"Alentejo"},1]
[null,null,null,null,null,null,null,null,null,{"$f":"+INDEX(K4:K12,K3)&INDEX(M4:M11,M3)","v":"815"},9,2,6,7]
[null,null,null,null,null,null,null,null,null,{"$f":"+INDEX(K4:K12,L3)&INDEX(M4:M11,N3)","v":"116"},0,"Todas as classes de área",10,"Continente"]
["Explorações agrícolas com culturas temporárias (N.º)",null,null,null,null,null,null,null,null,null,"1","<0,5 ha",11,"Entre Douro e Minho"]
["Designação","Explorações agrícolas com culturas temporárias (N.º) por Localização geográfica (Região agrária), Tipo (culturas temporárias) e Classes de área (cultura agrícola); Não periódica",null,null,null,null,null,null,null,null,"2","0,5 - <1 ha",12,"Trás-os-Montes"]
["Periodicidade","Não periódica",null,null,null,null,null,null,null,null,"3","1 - <2 ha",13,"Beira Litoral"]
["Fonte","INE, Estatísticas agrícolas de base",null,null,null,null,null,null,null,null,"4","2 - <5 ha",14,"Beira Interior"]
["Primeiro período disponível","1989",null,null,null,null,null,null,null,null,"5","5 - <20 ha",15,"Ribatejo e Oeste"]
["Ultimo período disponível","2013",null,null,null,null,null,null,null,null,"6","20 - <50 ha",16,"Alentejo"]
["Dimensões",null,null,null,null,null,null,null,null,null,"7","50 - <100 ha",17,"Algarve"]
["     Dimensão 1","Período de referência dos dados",null,null,null,null,null,null,null,null,"8",">= 100 ha"]
["     Dimensão 2","Localização geográfica (Região agrária)"]
["     Dimensão 3","Tipo (culturas temporárias)"]
["     Dimensão 4","Classes de área (cultura agrícola)"]
["Conceitos"]
["     CULTURAS TEMPORÁRIAS","Culturas cujo ciclo vegetativo não excede um ano (as anuais) e também as que são ressemeadas com intervalos que não excedem cinco anos (morangos, espargos, prados temporários, etc.)."]
["     EXPLORAÇÃO AGRÍCOLA","Unidade técnico-económica que utiliza fatores de produção comuns, tais como: mão-de-obra, máquinas, instalações, terrenos, entre outros, e que deve satisfazer obrigatoriamente as quatro condições seguintes: 1. produzir produtos agrícolas ou manter em boas condições agrícolas e ambientais as terras que já não são utilizadas para fins produtivos; 2. atingir ou ultrapassar uma certa dimensão (área, número de animais); 3. estar submetida a uma gestão única; 4. estar localizada num local bem determinado e identificável."]
["     PERÍODO DE REFERÊNCIA","Período de tempo a que a informação se refere e que pode ser um dia específico ou um intervalo de tempo (mês, ano fiscal, ano civil, entre outros)."]
["Definição",""]
["Fórmula",""]
["Unidade de Medida (símbolo)","Número (N.º)"]
["Potência de 10","0"]
["Observações","A informação relativa a 1989, 1999, 2009, tem por base operações censitárias (Recenseamentos Agrícolas). Entre estes períodos, bienalmente nos anos ímpares e com excepção de 1991 e 2001, a informação tem por base inquéritos amostrais."]
["Data da última atualização","27-Nov-2014"]

{"sheet":"aux_ue","index":2,"n_rows":35,"n_cols":17,"rows_kept":35,"cut":false,"hidden":true,"merged":[]}
[]
[{"$f":"+INDEX(B5:B14,A4)","v":"Trigo mole"},{"$f":"+INDEX(B5:B14,B4)","v":"Trigo duro"},null,null,{"$f":"+INDEX(F5:F35,E4)","v":"Eslováquia"},{"$f":"+INDEX(F5:F35,F4)","v":"Itália"},null,{"$f":"+I5&A3&E3","v":"Gross productionSoft wheatSlovakia"}]
[{"$f":"+INDEX(A5:A14,A4)","v":"Soft wheat"},{"$f":"+INDEX(A5:A14,B4)","v":"Durum wheat"},null,null,{"$f":"+INDEX(E5:E35,E4)","v":"Slovakia"},{"$f":"+INDEX(E5:E35,F4)","v":"Italy"},null,{"$f":"+I5&B3&F3","v":"Gross productionDurum wheatItaly"}]
[2,3,null,null,27,18,null,null,{"$f":"+INDEX(J7:J9,I6)","v":"Produção"},null,{"$f":"+INDEX(K7:K9,I6)","v":"(mil ton)"},{"$f":"+INDEX(L7:L9,I6)","v":0},null,null,null,1,"Cereais para grão"]
["Total cereals","Cereais totais",0,null,"Austria","Áustria",1,null,{"$f":"+INDEX(I7:I9,I6)","v":"Gross production"},null,null,null,null,null,null,2,"Trigo"]
["Soft wheat","Trigo mole",1,null,"Belgium","Bélgica",2,null,2,null,null,null,null,null,null,3,"Trigo mole"]
["Durum wheat","Trigo duro",2,null,"Bulgaria","Bulgária",3,null,"Area","Área","(ha)",0,null,null,null,4,"Trigo duro"]
["Rye","Centeio",3,null,"Croatia","Croácia",4,null,"Gross production","Produção","(mil ton)",0,null,null,null,5,"Centeio"]
["Oat","Aveia",4,null,"Cyprus","Chipre",5,null,"Yield","Produtividade","(ton/ha)",1,null,null,null,6,"Aveia"]
["Barley","Cevada",5,null,"Czech Republic","República Checa",6,null,null,null,null,null,null,null,null,7,"Cevada"]
["Triticale","Triticale",6,null,"Denmark","Dinamarca",7,null,null,null,null,null,null,null,null,8,"Triticale"]
["Grain maize","Milho da grão",7,null,"Estonia","Estônia",8,null,null,null,null,null,null,null,null,9,"Milho"]
["Sorghum","Sorgo",8,null,"EU-15","UE-15",9,null,null,null,null,null,null,null,null,10,"Milho regadio"]
["Other cereals","Outros cereais",9,null,"EU-28","UE-28",10,null,null,null,null,null,null,null,null,11,"Milho sequeiro"]
[null,null,null,null,"EU-N13","UE-N13",11,null,null,null,null,null,null,null,null,12,"Arroz"]
[null,null,null,null,"Finland","Finlândia",12]
[null,null,null,null,"France","França",13]
[null,null,null,null,"Germany","Alemanha",14]
[null,null,null,null,"Greece","Grécia",15]
[null,null,null,null,"Hungary","Hungria",16]
[null,null,null,null,"Ireland","Irlanda",17]
[null,null,null,null,"Italy","Itália",18]
[null,null,null,null,"Latvia","Letônia",19]
[null,null,null,null,"Lithuania","Lituânia",20]
[null,null,null,null,"Luxembourg","Luxemburgo",21]
[null,null,null,null,"Malta","Malta",22]
[null,null,null,null,"Netherlands","Países Baixos",23]
[null,null,null,null,"Poland","Polônia",24]
[null,null,null,null,"Portugal","Portugal",25]
[null,null,null,null,"Romania","Romênia",26]
[null,null,null,null,"Slovakia","Eslováquia",27]
[null,null,null,null,"Slovenia","Eslovênia",28]
[null,null,null,null,"Spain","Espanha",29]
[null,null,null,null,"Sweden","Suécia",30]
[null,null,null,null,"United Kingdom","Reino Unido",31]

{"sheet":"data_EU","index":3,"n_rows":931,"n_cols":30,"rows_kept":931,"cut":false,"hidden":true,"merged":[]}
["Concate","Type","Product","Member State","trimavg","1993","1994","1995","1996","1997","1998","1999","2000","2001","2002","2003","2004","2005","2006","2007","2008","2009","2010","2011","2012","2013","2014","2015","2016","2017"]
["AreaSoft wheatEU-28","Area","Soft wheat","EU-28",23997.873333333337,21881.965,21814.501000000004,22439.763999999999,22071.272000000001,23460.396999999997,23319.353999999999,21487.599999999999,23115.62,22836.049999999996,23230.180000000004,20991.31,22702.999999999996,22953.859999999997,22046.82,22192.9,23584.749999999996,22936.42,23148.450000000004,23707.559999999998,23277.17,23387.94,24417.789999999997,24324.629999999997,24281.05,23606.134444444444]
["AreaSoft wheatEU-15","Area","Soft wheat","EU-15",14671.796666666667,12929.1,12815.299999999997,13410.599999999999,13749.600000000002,14062.4,14019.8,13519.699999999999,14235.660000000002,12978.100000000002,14054.480000000003,13312.809999999998,13896.97,14048.52,13845.380000000001,13867.84,14842.829999999998,13814.48,14465.130000000003,15061.65,14469.96,14189.89,14962.25,14888.439999999997,14656.990000000002,14521.153333333334]
["AreaSoft wheatEU-N13","Area","Soft wheat","EU-N13",9363.26,8952.8649999999998,8999.2010000000064,9029.1640000000007,8321.6719999999987,9397.9969999999976,9299.5540000000001,7967.9,8879.9599999999973,9857.9499999999935,9175.7000000000007,7678.5000000000036,8806.029999999997,8905.3399999999965,8201.4399999999987,8325.0600000000013,8741.9199999999983,9121.9399999999987,8683.3200000000015,8645.909999999998,8807.2099999999991,9198.0499999999993,9455.5399999999972,9436.19,9624.0599999999977,9084.9811111111103]
["AreaSoft wheatBelgium","Area","Soft wheat","Belgium",214.49000000000004,203.6,202.9,209.1,204.5,209.4,220.5,181,213,181,203,199,212,214,210,210,224,211.5,213,200.71,217.1,201.86,210.76,221.78,215.61,215.00666666666672]
["AreaSoft wheatBulgaria","Area","Soft wheat","Bulgaria",1202.3500000000001,1266,1319.8,1181.0999999999999,957.7,1211.7,1335.8,1097.3,1106.7,1333,1347.6,817.8,1017.6,1083.5,966,1082.4000000000001,1106.5999999999999,1184.8,1102.6199999999999,1101.78,1166.3,1301.56,1261.47,1096.2,1179.28,1100]
["AreaSoft wheatCzech Republic","Area","Soft wheat","Czech Republic",831.71666666666658,783,812,832,801,825.5,912.3,867.1,970.4,923.2,848.8,648.4,863.2,820.4,781.5,811,802.3,831.3,833.58,863.13,815.38,829.39,835.94,829.82,839.71,832.06]
["AreaSoft wheatDenmark","Area","Soft wheat","Denmark",609.83333333333337,619.4,573.6,608,674,684,680,638,619.20000000000005,634,576.6,664.3,666.4,675.6,686.3,688.8,638.20000000000005,739,763.6,747,614.1,567.9,662.1,632.4,583,562]
["AreaSoft wheatGermany","Area","Soft wheat","Germany",3168.1333333333332,2385,2424,2571.6,2586.4,2713,2790.8,2589.1,2960.3,2892.5,3009.8,2956.4,3103.4,3163.4,3102.9,2984.5,3207,3214.8,3276.64,3232.9,3045,3119.6,3208.4,3263.9,3176.4,3198.4]
["AreaSoft wheatEstonia","Area","Soft wheat","Estonia",147.73333333333329,50.3,34.200000000000003,38.6,45.9,50.9,66.8,66.099999999999994,68.900000000000006,59.6,64.5,67.2,78.400000000000006,85.4,90.9,99.5,107.6,113.6,119.4,128.4,124.3,124.2,154.4,169.7,164.5,151.43333333333331]
["AreaSoft wheatIreland","Area","Soft wheat","Ireland",68.286666666666676,79.2,74.099999999999994,70.7,85.7,93.9,83.9,68.099999999999994,78,84.9,102.7,95.72,102.72,95.23,87.51,84.25,110.67,84.47,77.819999999999993,94.16,98.03,60.6,71.61,65.33,67.92,71]
["AreaSoft wheatGreece","Area","Soft wheat","Greece",164.03666666666666,328.9,307.39999999999998,252.3,262.60000000000002,242.2,230.1,208,160.30000000000001,170.45,130.01,124.04,88.36,100.37,165.07,186.29,174.24,178.25,154.33000000000001,139.88,162.53,174.74,189.84,154.84,153.84,151.24]
["AreaSoft wheatSpain","Area","Soft wheat","Spain",1803.4166666666663,1379,1322,1480.7,1359.5,1431.6,1283.5,1628,1485.7,1291.9000000000001,1480.5,1307.4000000000001,1226.3,1363.7,1306.2,1389.9,1526.2,1233.5999999999999,1459.77,1994.65,1777.12,1781.58,1874.07,1828.42,1800.25,1711.1]
["AreaSoft wheatFrance","Area","Soft wheat","France",5050.8566666666666,4288,4338.3,4513.5,4764,4840.7,4934.7,4775.2,4910.5,4460.2,4894.8,4524.3999999999996,4830.7,4855.3,4793.1000000000004,4783,5064.7,4733.1000000000004,4898.5200000000004,4990.18,4866.3599999999997,4983.16,5010.5,5158.91,5173.8599999999997,5146]
["AreaSoft wheatCroatia","Area","Soft wheat","Croatia",168.73999999999998,158.965,145.501,174.16400000000002,147.97200000000001,155.49700000000001,188.85400000000001,116.4,182.3,184.3,179.2,157.18,162.63,146.25,175.55,175.05,154.69999999999999,179.2,166.73,147.18,185.84,203.43,155.58000000000001,141.15,164.8,98.5]
["AreaSoft wheatItaly","Area","Soft wheat","Italy",577.91666666666663,889.1,844.9,858.9,792.8,700.9,698.4,696,658.8,625.20000000000005,682.1,577.29999999999995,581.79999999999995,602.79999999999995,582.79999999999995,661.2,702.2,533.6,572.45000000000005,531.14,593.49,631.66999999999996,586.62,553.64,528.74,528.80999999999995]
["AreaSoft wheatCyprus","Area","Soft wheat","Cyprus",0,0,0,0,0,0,0,0,0,0,0,0,0,0,0,0,0,0,0,0,0,0,0,0,0,1.59]
["AreaSoft wheatLatvia","Area","Soft wheat","Latvia",402.73333333333341,169.1,94.6,109.6,149.19999999999999,152.30000000000001,150.9,146,158.1,166.8,153.5,167.8,169.9,187.4,215.1,224.6,256.60000000000002,285.7,301.2,306.89999999999998,352.4,369.3,391.6,447.3,479.1,472.8]
["AreaSoft wheatLithuania","Area","Soft wheat","Lithuania",737.20666666666659,375.5,270,260.60000000000002,347.8,375.6,359.6,333.7,370.4,352.2,335.1,336.5,355.1,369.5,343.8,354.6,403.5,500,517.6,551.1,627,667.4,708,836.22,870.89,785]
["AreaSoft wheatLuxembourg","Area","Soft wheat","Luxembourg",13.859999999999998,8.4,9,9.3000000000000007,9.6999999999999993,9.6999999999999993,9.8000000000000007,7.8,11,9.8000000000000007,12,11.2,11.7,11.9,12.7,12.6,14.6,13.8,14.01,13.88,13.52,14.25,12.67,14.49,13.81,13.976666666666668]
["AreaSoft wheatHungary","Area","Soft wheat","Hungary",1054.346666666667,957,1026,1072,1160,1219,1173.5,723.9,1009.6,1191.8,1099.7,1102.7,1161.8,1121.7,1065,1103.4000000000001,1121.8,1133.4000000000001,997.22,965.62,1057.81,1075.9100000000001,1098.23,1029.32,1010.02,971.21]
["AreaSoft wheatMalta","Area","Soft wheat","Malta",0,0,0,0,0,0,0,0,0,0,0,0,0,0,0,0,0,0,0,0,0,0,0,0,0,0]
["AreaSoft wheatNetherlands","Area","Soft wheat","Netherlands",145.49,118,121.6,135.4,141.6,137.5,139.30000000000001,102.8,136.69999999999999,124.3,135.19999999999999,129.19999999999999,137.30000000000001,135.69999999999999,140,141.30000000000001,156.5,150.9,153.69999999999999,151,152,153,142,142.47,127.09,125.1]
["AreaSoft wheatAustria","Area","Soft wheat","Austria",289.82666666666665,231.7,231.8,246.4,236.7,247.5,247.7,240.6,278.10000000000002,275.7,276.2,255.3,272.5,273.5,268.7,277.60000000000002,278.89999999999998,292.2,285.35000000000002,289.02,293.93,284.94,290.61,283.89,294.51,274.18]
["AreaSoft wheatPoland","Area","Soft wheat","Poland",2286.9200000000005,2476.9,2407,2406.8000000000002,2480.4,2555.1,2631.3,2583,2635.1,2627,2414.1999999999998,2308,2310.6999999999998,2218.1,2175.6999999999998,2112,2278,2346.1999999999998,2141.5,2258.6999999999998,2077.1999999999998,2137.9,2338.8000000000002,2395.5,2384.06,2327.1800000000003]
["AreaSoft wheatPortugal","Area","Soft wheat","Portugal",44.656666666666666,238,215,235,210,248,121.9,146,87.36,49.95,42.37,30.15,35.39,120.62,101.4,53.5,85.32,61.96,48.61,39.630000000000003,51.08,50.76,46.19,37.020000000000003,35.29,30.16]
["AreaSoft wheatRomania","Area","Soft wheat","Romania",2104.15,2281.6,2412.1999999999998,2480.8000000000002,1781.7,2406.5,2016.5,1674.1,1937.9,2543.21,2294.4699999999998,1733.93,2291.91,2472.33,2009.01,1973.27,2108.61,2140.61,2149.88,1942.33,1988.7,2099.7399999999998,2108.89,2103.8200000000002,2125.9299999999998,1981.05]
["AreaSoft wheatSlovenia","Area","Soft wheat","Slovenia",32.11333333333333,37.200000000000003,35.9,36.799999999999997,35.200000000000003,33.4,35,31.6,38.26,39.340000000000003,35.729999999999997,35.590000000000003,32.39,30.06,32.08,32.04,35.409999999999997,34.53,31.95,29.67,34.590000000000003,31.76,33.119999999999997,30.73,31.46,32.077777777777776]
["AreaSoft wheatSlovakia","Area","Soft wheat","Slovakia",367.09333333333325,397.3,442,436.7,414.8,412.5,429,328.7,402.3,437.5,402.9,303.39999999999998,362.4,370.7,346.8,357.2,366.8,372.6,321.64,351.1,377.69,357.46,369.51,356.43,374.31,332.08000000000004]
["AreaSoft wheatFinland","Area","Soft wheat","Finland",232.20000000000005,99,88.9,100.7,112.5,124.8,137.19999999999999,117.7,149.5,144.6,174.2,191.6,235.5,215.1,192.4,203.9,219.6,218.3,211.2,253.4,227.3,227.5,267.39999999999998,241.8,215.2,221.10000000000002]
["AreaSoft wheatSweden","Area","Soft wheat","Sweden",422.78333333333336,304,251.8,261.39999999999998,334.6,344.2,398,275.39999999999998,401.2,398.6,339.1,411,403.1,354.1,360.2,360.5,360.5,374,397.13,415.1,366.4,323.33,453.48,457.55,448.47,474.08000000000004]
["AreaSoft wheatUnited Kingdom","Area","Soft wheat","United Kingdom",1863.6666666666667,1757.8,1810,1857.6,1975,2035,2044,1846,2086,1635,1995.9,1835.8,1989.8,1867.2,1836.1,1830.5,2080.1999999999998,1775,1939,1969,1992,1615,1936,1832,1823,1799]
["AreaDurum wheatEU-28","Area","Durum wheat","EU-28",2475.3799999999997,2824.1919999999996,2960.28,3052.5439999999999,3096.596,3151.9839999999999,3138.44,3517.5519999999997,3743.9799999999996,3821.4300000000003,4005.9700000000007,3898.7299999999996,4109.4299999999994,3668.86,2988.69,2795.02,3085.5499999999997,2956.0600000000004,2873.1800000000003,2504.89,2598.4199999999996,2392.4900000000002,2295.2399999999998,2435.2299999999996,2710.64,2645.7833333333333]
["AreaDurum wheatEU-15","Area","Durum wheat","EU-15",2416.5633333333335,2787.0919999999996,2924.88,3016.7440000000001,3059.8960000000002,3114.5839999999998,3098.64,3479.3519999999999,3700.4799999999996,3766.58,3961.02,3849.91,4055.9399999999996,3626.46,2960.5500000000006,2769.98,3056.8,2857.1800000000003,2788.13,2427.4,2538.4700000000003,2342.71,2252.9899999999998,2368.5099999999998,2608.35,2556.4633333333336]
["AreaDurum wheatEU-N13","Area","Durum wheat","EU-N13",58.816666666666457,37.099999999999909,35.400000000000091,35.799999999999727,36.699999999999818,37.400000000000091,39.800000000000182,38.199999999999818,43.5,54.850000000000364,44.950000000000728,48.819999999999709,53.489999999999782,42.400000000000091,28.139999999999418,25.039999999999964,28.749999999999545,98.880000000000109,85.050000000000182,77.489999999999782,59.949999999999363,49.7800000000002,42.25,66.7199999999998,102.28999999999996,89.319999999999709]
["AreaDurum wheatBelgium","Area","Durum wheat","Belgium",0,0,0,0,0,0,0,0,0,0,0,0,0,0,0,0,0,0,0,0,0,0,0,0,0,0]
["AreaDurum wheatBulgaria","Area","Durum wheat","Bulgaria",11.979999999999999,19,19,19,19,19,19,16.100000000000001,15.1,22.5,21,23.2,22,18.3,4.4000000000000004,5.6,5,62.9,28.94,35.68,18.7,12.73,6.45,9.7200000000000006,13.49,11]
["AreaDurum wheatCzech Republic","Area","Durum wheat","Czech Republic",0,0,0,0,0,0,0,0,0,0,0,0,0,0,0,0,0,0,0,0,0,0,0,0,0,0]
["AreaDurum wheatDenmark","Area","Durum wheat","Denmark",0,0,0,0,0,0,0,0,0,0,0,0,0,0,0,0,0,0,0,0,0,0,0,0,0,0]
["AreaDurum wheatGermany","Area","Durum wheat","Germany",13.933333333333335,9.6,10.9,7.2,8,6.6,11.7,12,8.6,4.7,4.8,7.3,8.1999999999999993,10.3,11.7,7.6,6.5,11.2,21.06,15.3,11.7,8.6,11.3,18.8,25.3,13.933333333333337]
["AreaDurum wheatEstonia","Area","Durum wheat","Estonia",0,0,0,0,0,0,0,0,0,0,0,0,0,0,0,0,0,0,0,0,0,0,0,0,0,0]
["AreaDurum wheatIreland","Area","Durum wheat","Ireland",0,0,0,0,0,0,0,0,0,0,0,0,0,0,0,0,0,0,0,0,0,0,0,0,0,0]
["AreaDurum wheatGreece","Area","Durum wheat","Greece",353.38666666666671,583.1,595,605,601.29999999999995,618.9,616,660,668.99,760.64,760.3,727.05,750.5,745.37,520.09,437.19,483.14,603.75,488.22,403.82,400.66,370.47,354.53,332.25,335.16,309.64999999999998]
["AreaDurum wheatSpain","Area","Durum wheat","Spain",367.45666666666665,651.5,648,645.70000000000005,653,647,629.1,827,867.3,885.1,926.2,913.2,948.7,910.5,614,413.4,531.70000000000005,538.9,488.31,378.05,411.05,343.39,297.14,347.93,448.8,443.1]
["AreaDurum wheatFrance","Area","Durum wheat","France",347.13666666666671,223.1,235.4,230,271.7,267.8,298,329,337.9,306.39999999999998,335.5,352.7,406.7,422.6,452.7,455.8,427.8,413.5,506.85,417.15,436.96,335.99,286.77999999999997,318.86,386.56,379]
["AreaDurum wheatCroatia","Area","Durum wheat","Croatia",1.2066666666666668,0,0,0,0,0,0,0,1,1,1,1,1,1,1,1,1.8,1.1000000000000001,1.78,2.62,1.1100000000000001,1.08,1.41,1.53,1.1000000000000001,2.4]
["AreaDurum wheatItaly","Area","Durum wheat","Italy",1295.6399999999996,1297.2919999999999,1404.38,1493.3440000000001,1486.9959999999999,1531.9839999999999,1499.1399999999999,1555.3519999999999,1663.1,1664.2,1733.3,1688.8,1772.1,1520.1,1342.9,1439.2,1586.8,1261.9000000000001,1257.07,1194.8900000000001,1260.1400000000001,1270.49,1287.56,1328.87,1383.68,1383.68]
["AreaDurum wheatCyprus","Area","Durum wheat","Cyprus",8.9033333333333342,5,3.3,3.7,4.5999999999999996,5.3,5.8,6.6,6.2,5.4,5.9,7.23,7.45,5.26,5.39,5.29,4.99,5.76,7.83,10.59,8.5500000000000007,6.92,6.14,11.97,11.24,8.9600000000000009]
["AreaDurum wheatLatvia","Area","Durum wheat","Latvia",0,0,0,0,0,0,0,0,0,0,0,0,0,0,0,0,0,0,0,0,0,0,0,0,0,0]
["AreaDurum wheatLithuania","Area","Durum wheat","Lithuania",0,0,0,0,0,0,0,0,0,0,0,0,0,0,0,0,0,0,0,0,0,0,0,0,0,0]
["AreaDurum wheatLuxembourg","Area","Durum wheat","Luxembourg",0,0,0,0,0,0,0,0,0,0,0,0,0,0,0,0,0,0,0,0,0,0,0,0,0,0]
["AreaDurum wheatHungary","Area","Durum wheat","Hungary",16.106666666666666,9,9,9,9,9,9,9.9,14.8,13.8,10.8,11.1,12,9,9.6999999999999993,7.9,8.5,13.1,13.51,12.22,12.21,14.57,14.5,19.25,30.29,19.510000000000002]
["AreaDurum wheatMalta","Area","Durum wheat","Malta",0,0,0,0,0,0,0,0,0,0,0,0,0,0,0,0,0,0,0,0,0,0,0,0,0,0]
["AreaDurum wheatNetherlands","Area","Durum wheat","Netherlands",0,0,0,0,0,0,0,0,0,0,0,0,0,0,0,0,0,0,0,0,0,0,0,0,0,0]
["AreaDurum wheatAustria","Area","Durum wheat","Austria",15.79,9.3000000000000007,9.1999999999999993,9.5,10.9,12.3,16.7,20,15.7,12,12.6,16.7,17.7,15.5,15.9,15.4,17.899999999999999,16.899999999999999,17.5,15.32,14.25,12.35,14.04,19.079999999999998,23.25,22.88]
["AreaDurum wheatPoland","Area","Durum wheat","Poland",0,0,0,0,0,0,0,0,0,0,0,0,0,0,0,0,0,0,0,0,0,0,0,0,0,0]
["AreaDurum wheatPortugal","Area","Durum wheat","Portugal",2.69,12,21,25,27,29,27,75,138.88999999999999,133.54,188.32,144.16,152.04,2.09,3.26,1.39,2.96,11.03,9.1199999999999992,2.87,3.71,1.42,1.64,2.72,5.6,4.22]
["AreaDurum wheatRomania","Area","Durum wheat","Romania",4.5533333333333337,1.4,1.4,1.4,1.4,1.4,3.3,1.2,2.2999999999999998,3.05,3.05,1.29,4.04,3.64,3.55,1.75,1.66,8.2200000000000006,12.51,4.68,8.93,4.25,3.97,2.78,5.44,4.75]
["AreaDurum wheatSlovenia","Area","Durum wheat","Slovenia",0,0,0,0,0,0,0,0,0,0,0,0,0,0,0,0,0,0,0,0,0,0,0,0,0,0]
["AreaDurum wheatSlovakia","Area","Durum wheat","Slovakia",14.049999999999999,2.7,2.7,2.7,2.7,2.7,2.7,4.4000000000000004,4.0999999999999996,9.1,3.2,5,7,5.2,4.0999999999999996,3.5,6.8,7.8,20.48,11.7,10.45,10.23,9.7799999999999994,21.47,40.729999999999997,42.7]
["AreaDurum wheatFinland","Area","Durum wheat","Finland",0,0,0,0,0,0,0,0,0,0,0,0,0,0,0,0,0,0,0,0,0,0,0,0,0,0]
["AreaDurum wheatSweden","Area","Durum wheat","Sweden",0,0,0,0,0,0,0,0,0,0,0,0,0,0,0,0,0,0,0,0,0,0,0,0,0,0]
["AreaDurum wheatUnited Kingdom","Area","Durum wheat","United Kingdom",0,1.2,1,1,1,1,1,1,0,0,0,0,0,0,0,0,0,0,0,0,0,0,0,0,0,0]
["AreaRyeEU-28","Area","Rye","EU-28",2167.5822001974757,4116.3530000000001,4208.4630000000006,4292.7299999999996,4156.5429999999997,4086.4590000000003,4183.8459999999995,3736.8460000000005,3677.599999999999,3573.43,2915.9299999999989,2590.0800000000004,2763.7399999999989,2483.38,2346.54,2576.35,2749.72,2784.7799999999993,2294.3536363636363,2232.5691074380165,2367.9770921779782,2653.5573482974996,2170.7639136053049,1964.0055948091447,1909.9496085799874,2031.5537281520001]
["AreaRyeEU-15","Area","Rye","EU-15",1071.3565211851303,0,0,0,0,0,0,0,1240.8300000000002,1217.7199999999998,1069.56,852.21000000000015,933.86,824.65999999999985,825.72,998.31000000000006,1063.0900000000001,1106.4699999999998,981.95363636363641,971.67910743801656,1103.3826477335338,1197.0380890382407,1051.8213210127126,1058.8655948091446,988.37960857998769,932.86706148533312]
["AreaRyeEU-N13","Area","Rye","EU-N13",1101.7023456790123,169.1,94.6,109.6,149.19999999999999,152.30000000000001,150.9,146,2436.7699999999986,2355.71,1846.369999999999,1737.8700000000003,1829.8799999999987,1658.7200000000003,1520.82,1578.04,1686.6299999999997,1678.3099999999995,1312.3999999999999,1260.8899999999999,1264.5944444444444,1456.5192592592589,1118.9425925925923,905.1400000000001,921.56999999999971,1098.686666666667]
["AreaRyeBelgium","Area","Rye","Belgium",0.52999999999999992,375.5,270,260.60000000000002,347.8,375.6,359.6,333.7,1.0999999999999999,0.8,0.7,0.6,0.7,0.5,0.6,0.7,0.5,0.5,1.3,0.46,0.5,0.53,0.39,0.56000000000000005,0.59,0.52999999999999992]
["AreaRyeBulgaria","Area","Rye","Bulgaria",11.503333333333332,8.4,9,9.3000000000000007,9.6999999999999993,9.6999999999999993,9.8000000000000007,7.8,18.600000000000001,19.5,13.1,9.8000000000000007,8.5,8.8000000000000007,7.4,5.0999999999999996,7.4,10,10.79,10.3,12.6,15.46,14.44,6.3,7.47,6]
["AreaRyeCzech Republic","Area","Rye","Czech Republic",25.893333333333331,957,1026,1072,1160,1219,1173.5,723.9,43.9,40.1,35.299999999999997,41.9,59.2,46.9,22.5,37.5,43.4,38.5,30.25,24.99,30.56,37.5,25.14,21.98,20.95,22.22]
["AreaRyeDenmark","Area","Rye","Denmark",97.766666666666652,0,0,0,0,0,0,0,50.5,65.3,46.3,32.9,31.6,27.3,27.5,30.3,28.9,44.3,52.1,57.6,64.599999999999994,87.2,106.5,122,99.6,111]
["AreaRyeGermany","Area","Rye","Germany",641.79182982710563,118,121.6,135.4,141.6,137.5,139.30000000000001,102.8,842.7,837,728.4,531.20000000000005,624.9,549.1,538.9,670.9,736.9,749.4,617.15363636363634,603.81910743801654,698.36598106686699,774.33253348268568,620.5239136053051,606.48559480914469,561.19960857998785,528.61706148533312]
["AreaRyeEstonia","Area","Rye","Estonia",14.033333333333333,231.7,231.8,246.4,236.7,247.5,247.7,240.6,28.9,20.9,17.899999999999999,15.2,8.1,7.4,7.3,16.8,21.4,15.3,12.6,13.3,16.899999999999999,11.5,15.4,14.3,12.4,14.033333333333333]
["AreaRyeIreland","Area","Rye","Ireland",0,2476.9,2407,2406.8000000000002,2480.4,2555.1,2631.3,2583,0,0,0,0,0,0,0,0,0,0,0,0,0,0,0,0,0,0]
["AreaRyeGreece","Area","Rye","Greece",15.810000000000002,238,215,235,210,248,121.9,146,11.75,20.149999999999999,15.16,15.26,9.5399999999999991,10.29,17.34,18.190000000000001,20.37,20.309999999999999,16.77,17.579999999999998,15.44,15.79,23.41,15.72,15.92,15.82]
["AreaRyeSpain","Area","Rye","Spain",154.88851851851851,2281.6,2412.1999999999998,2480.8000000000002,1781.7,2406.5,2016.5,1674.1,109.6,102.1,102.1,108.1,90.7,90.5,106.1,111.7,111.5,131.80000000000001,135.5,132.30000000000001,168.18666666666664,161.61555555555555,139.49740740740739,146.63,156.41999999999999,116]
["AreaRyeFrance","Area","Rye","France",27.163333333333338,37.200000000000003,35.9,36.799999999999997,35.200000000000003,33.4,35,31.6,31.6,28.4,28.6,27.9,33.799999999999997,31,26.6,27.5,25.8,25.1,29.64,27.67,31.55,29.1,26.15,26.24,24.4,24]
["AreaRyeCroatia","Area","Rye","Croatia",1.1599999999999999,397.3,442,436.7,414.8,412.5,429,328.7,2.7,3,3.2,2.96,2.87,1.85,2.0099999999999998,1.73,1.4,1,1,1.2,0.85,1.02,1.37,1.0900000000000001,1.4,1.2]
["AreaRyeItaly","Area","Rye","Italy",4.3699999999999983,99,88.9,100.7,112.5,124.8,137.19999999999999,117.7,3.5,3,3.4,2.7,2.9,2.7,2.8,3,4.7,4.5999999999999996,4.51,4.8499999999999996,4.99,4.83,3.84,4.1100000000000003,4.17,4.17]
["AreaRyeCyprus","Area","Rye","Cyprus",0,304,251.8,261.39999999999998,334.6,344.2,398,275.39999999999998,0,0,0,0,0,0,0,0,0,0,0,0,0,0,0,0,0,0]
["AreaRyeLatvia","Area","Rye","Latvia",34.699999999999996,1757.8,1810,1857.6,1975,2035,2044,1846,54.8,55.8,42.3,44.2,45.1,39.299999999999997,42.8,57.5,59,59,32.9,27.2,36.299999999999997,28.3,32,37.299999999999997,35.799999999999997,34]
["AreaRyeLithuania","Area","Rye","Lithuania",42.019999999999989,0,0,0,0,0,0,0,133.1,111.3,74.599999999999994,59.8,55.5,50.9,51.1,69.8,74.3,82.2,49.5,42,55.9,49.4,37.9,38.76,31.88,25]
["AreaRyeLuxembourg","Area","Rye","Luxembourg",0.89000000000000012,0,0,0,0,0,0,0,0.7,0.7,1.1000000000000001,0.7,1.1000000000000001,0.9,1.1000000000000001,1.3,1.3,1.1000000000000001,1.1000000000000001,0.84,1.02,0.83999999999999986,0.87,0.9,0.9,0.89000000000000012]
["AreaRyeHungary","Area","Rye","Hungary",34.578641975308635,0,0,0,0,0,0,0,43.1,50.8,48.6,46,45.4,41.8,38.9,39.799999999999997,43.6,40,36.6,32.64,34.961111111111109,35.174814814814816,33.6,37.71,26.7,22.23]
["AreaRyeMalta","Area","Rye","Malta",0,0,0,0,0,0,0,0,0,0,0,0,0,0,0,0,0,0,0,0,0,0,0,0,0,0]
["AreaRyeNetherlands","Area","Rye","Netherlands",1.8766666666666667,0,0,0,0,0,0,0,6,3.6,3.6,3.5,3.4,2.5,2.4,2.8,2.1,2.2999999999999998,2.4,2,2,2,2,1.63,1.61,1.5]
["AreaRyeAustria","Area","Rye","Austria",45.44,0,0,0,0,0,0,0,52.5,51.2,47.1,40,45.7,42.8,26.9,46.7,53.2,48.5,45.7,45.94,48.519999999999996,56.11,48.24,39.56,37.31,34.46]
["AreaRyePoland","Area","Rye","Poland",914.96864197530829,1993,1994,1995,1996,1997,1998,1999,2065.1999999999998,2002.3,1560.3,1479.3,1549.6,1415.3,1318,1316.2,1396.5,1395.7,1106.4000000000001,1082.7,1051.2333333333333,1243.5444444444445,932.69259259259263,725.3,760.98,953.08]
["AreaRyePortugal","Area","Rye","Portugal",19.133333333333333,0,0,0,0,0,0,0,44.68,37.57,33.5,30.35,28.62,25.37,23.48,22.22,21.32,20.56,20.440000000000001,19.72,19.510000000000002,21.06,19.79,18.100000000000001,18.100000000000001,16.41]
["AreaRyeRomania","Area","Rye","Romania",9.9766666666666648,1410.1,1526.5,1623.2,1616.3,1665.2,1629.5,1690.6,14.07,12.31,12.27,12.81,21.91,20.65,17.239999999999998,12.09,13.02,15.52,14.56,12.35,8.67,10.74,10.17,9.58,10.18,9.31]
["AreaRyeSlovenia","Area","Rye","Slovenia",1.2333333333333336,2824.1919999999996,2960.28,3052.5439999999999,3096.596,3151.9839999999999,3138.44,3517.5519999999997,0.7,0.7,0.6,0.6,1.1000000000000001,1.32,0.77,0.82,0.71,0.89,0.8,0.81,0.9,1.49,1.64,1.24,0.97,1.2333333333333334]
["AreaRyeSlovakia","Area","Rye","Slovakia",14.383333333333335,2824.1919999999996,2960.28,3052.5439999999999,3096.596,3151.9839999999999,3138.44,3517.5519999999997,31.7,39,38.200000000000003,25.3,32.6,24.5,12.8,20.7,25.9,20.2,17,13.4,15.72,22.39,14.59,11.58,12.84,10.38]
["AreaRyeFinland","Area","Rye","Finland",23.333333333333329,2787.0919999999996,2924.88,3016.7440000000001,3059.8960000000002,3114.5839999999998,3098.64,3479.3519999999999,44.5,29,30.5,30.7,31,14.3,21.9,32,23.8,16.399999999999999,25.2,26.9,20.7,12.3,23.7,31.4,25.6,31.9]
["AreaRyeSweden","Area","Rye","Sweden",23.516666666666666,37.099999999999909,35.400000000000091,35.799999999999727,36.699999999999818,37.400000000000091,39.800000000000182,38.199999999999818,34.5,34.1,24.1,24,24.2,21.3,23.1,24.7,27.5,36.6,24.14,25,22,25.02,26.91,23.53,16.559999999999999,21.57]
["AreaRyeUnited Kingdom","Area","Rye","United Kingdom",12.770000000000001,0,0,0,0,0,0,0,7.2,4.8,5,4.3,5.7,6.1,7,6.3,5.2,5,6,7,6,6.31,10,22,26,26]
["AreaBarleyEU-28","Area","Barley","EU-28",12375.516666666668,16003.249750000001,15657.869750000002,15246.362750000004,15402.878749999998,16227.203749999999,15392.081750000001,14589.561749999999,14201.120000000003,14418.760000000002,14348.559999999998,14040.810000000001,13812.140000000001,13864.460000000001,13818.250000000002,13795.279999999999,14551.210000000003,13972.73,12235.759999999998,11900.34,12501.63,12369.759999999997,12434.299999999997,12217.35,12322.490000000002,12277.273333333336]
["AreaBarleyEU-15","Area","Barley","EU-15",9474.6133333333364,11321.2,10925.400000000001,10987.500000000002,11433.5,11852.800000000001,11362.4,10857.599999999999,10680.490000000002,10743.220000000001,10518.889999999998,10547.84,10332.799999999999,10197.370000000001,10269.89,10207.919999999998,10987.37,10442.59,9164.68,8956.4499999999989,9403.3100000000013,9602.8799999999992,9523.2199999999993,9414.2200000000012,9486.4,9537.5733333333337]
["AreaBarleyEU-N13","Area","Barley","EU-N13",2850.1,4682.0497500000001,4732.4697500000002,4258.8627500000021,3969.378749999998,4374.4037499999977,4029.6817500000016,3731.9617500000004,3520.630000000001,3675.5400000000009,3829.67,3492.9700000000012,3479.340000000002,3667.09,3548.3600000000024,3587.3600000000006,3563.840000000002,3530.1399999999994,3071.0799999999981,2943.8900000000012,3098.3199999999979,2766.8799999999974,2911.0799999999981,2803.1299999999992,2836.090000000002,2739.7000000000025]
["AreaBarleyBelgium","Area","Barley","Belgium",47.356666666666676,66.2,57.8,53.7,50.5,50.3,53.6,52.6,48,52,46,41,39,40,49,49,55,53.9,40.83,44.14,45.1,46.67,47.02,48.38,55.4,47.016666666666673]
["AreaBarleyBulgaria","Area","Barley","Bulgaria",188.27333333333331,362,390,396.2,260.5,291.3,255.4,243.6,226.8,292.2,388.8,270.60000000000002,329,264.60000000000002,185.7,186.9,222.7,258.5,245.32,178.99,191.4,197.46,214.7,175.96,160.78,135]
["AreaBarleyCzech Republic","Area","Barley","Czech Republic",355.15333333333336,638,641,560,604,646.5,577.70000000000005,542.9,494.7,495.1,488.1,550,469,521.5,528.1,498.7,482.4,454.8,388.93,372.78,382.33,348.99,350.52,365.95,325.73,327.71000000000004]
["AreaBarleyDenmark","Area","Barley","Denmark",675.73333333333323,709.5,700,719,764,720,686,728,731.1,743.8,824.5,709.9,697.1,705.1,679.1,631.5,717.3,593,575.20000000000005,602.79999999999995,723.4,689.3,604.4,631,706.9,666]
["AreaBarleyGermany","Area","Barley","Germany",1600.1666666666667,2200.8000000000002,2069.5,2108.6999999999998,2208.4,2274,2180.8000000000002,2210.4,2067.6,2111.8000000000002,1970.3,2074.6,1979.5,1946.8,2025.3,1916.9,1961.7,1877.9,1641.32,1598.1,1677.8,1570.4,1573.7,1621.8,1605,1589.9]
["AreaBarleyEstonia","Area","Barley","Estonia",130.1,218.1,217.9,186.5,148,165.7,166.8,153.9,165.1,134.30000000000001,129.9,131.4,127.1,144,141.80000000000001,135.9,136.30000000000001,140.6,104.8,118.3,109,133.1,125.8,131.4,135.4,130.16666666666663]
["AreaBarleyIreland","Area","Barley","Ireland",203.74333333333334,180.8,169.7,178.6,181.4,189.8,190.7,192,182.3,182,176,183.12,183.67,164.43,166.98,167.55,187.16,193.59,174.8,180.62,192.77,219.45,215.67,202.79,189.21,183]
["AreaBarleyGreece","Area","Barley","Greece",144.98333333333332,167.2,162.1,133,152.30000000000001,144.9,137.5,119,97.32,129.55000000000001,105.18,100.21,89.83,85,97.15,112.89,116.03,127.54,112.01,101.63,114.45,126.1,182.59,154.11000000000001,154.74,153.84]
["AreaBarleySpain","Area","Barley","Spain",2691.4233333333336,3540.9,3539.5,3556,3572.2,3682.2,3535.2,3121,3278,2992.1,3101.5,3110.9,3178.8,3143.7,3197.4,3228.4,3486.9,3024.2,2885.61,2700.68,2691.09,2784.28,2792.11,2598.9,2569.65,2579.1]
["AreaBarleyFrance","Area","Barley","France",1761.1566666666665,1604.1,1385.6,1366,1511.7,1662.2,1599.9,1500.4,1533.8,1705,1642.5,1758.5,1630.6,1602.4,1667.3,1699.1,1799.3,1883.9,1582.03,1544.58,1684.31,1635.6,1769.71,1829.45,1900,1922]
["AreaBarleyCroatia","Area","Barley","Croatia",51.886666666666656,46.84975,46.469750000000005,42.762750000000004,41.278750000000002,44.003750000000004,52.981750000000005,54.761750000000006,55.5,61.3,61.2,65,67.540000000000006,50.34,59.16,59,65.5,59.6,52.52,48.32,56.91,53.8,46.16,43.7,55.7,53.3]
["AreaBarleyItaly","Area","Barley","Italy",237.62666666666664,425.1,392.5,381.5,359.4,356.7,356.9,353.2,343.7,333.1,342.8,309.7,307.2,319.89999999999998,330.7,344.7,330.5,306.8,273.52,247.04,246.13,237.27,232.71,242.9,228.59,246.43]
["AreaBarleyCyprus","Area","Barley","Cyprus",21.010000000000005,64,60,57,55,37.5,53,52,45,50.2,51.3,65.010000000000005,58.45,52.52,48.91,34.020000000000003,30.68,22.44,24.15,24.96,28.85,23.53,18.940000000000001,20.56,12.55,14.35]
["AreaBarleyLatvia","Area","Barley","Latvia",93.333333333333329,275.3,266.5,203.3,178.4,194.5,173.4,147.30000000000001,134.9,130.30000000000001,136.9,132.6,127.3,148.69999999999999,154.19999999999999,145.30000000000001,131.19999999999999,104.6,100.4,95.9,86.3,84.4,118.2,99.3,94.4,82.3]
["AreaBarleyLithuania","Area","Barley","Lithuania",209.66666666666666,587.5,619.9,544.5,473.8,503,462.9,421.2,353.2,335.5,365,308.3,292.5,349.4,383.4,381.4,332.5,277.39999999999998,231.8,252.7,217.3,209.3,267,202.4,171.78,140]
["AreaBarleyLuxembourg","Area","Barley","Luxembourg",7.5300000000000011,13.7,13.6,12.7,12.8,12.6,12.3,12.8,10.5,11.6,9.6,10.4,8.9,9.9,9.5,9.1999999999999993,9.6999999999999993,9.4,8.26,7.94,7.14,7.74,8.32,7.71,6.9,7.6266666666666669]
["AreaBarleyHungary","Area","Barley","Hungary",286.53000000000003,429,423,393,325,370,368.9,333.7,324.7,367.5,370.5,340.8,331.1,316.89999999999998,292.60000000000002,321.5,329.6,320.8,281.10000000000002,261.25,275.43,262,288.14999999999998,296.01,312.57,292.42]
["AreaBarleyMalta","Area","Barley","Malta",0,0,0,0,0,0,0,0,0,0,0,0,0,0,0,0,0,0,0,0,0,0,0,0,0,0]
["AreaBarleyNetherlands","Area","Barley","Netherlands",30.936666666666667,40.1,43.7,35.6,35.5,42,39.700000000000003,58.3,47.2,66.400000000000006,56.9,54.9,47.3,50,44.2,46,50.2,44.5,33.299999999999997,34,30,30,28,32.81,34.29,30.2]
["AreaBarleyAustria","Area","Barley","Austria",146.32666666666668,265.3,252.7,229.1,259.60000000000002,260.60000000000002,265.60000000000002,243.9,223.8,217.5,200.9,212.3,191.3,191.7,206.4,193.3,185.9,181.5,168.89,153.29,150.58000000000001,142.57,145.83000000000001,151.77000000000001,140.43,138.80000000000001]
["AreaBarleyPoland","Area","Barley","Poland",861.81666666666661,1167.7,1032,1047.5999999999999,1129.8,1242,1137.5999999999999,1107.5,1096,1071.2,1050.7,1016.2,1013.9,1113.0999999999999,1220.5999999999999,1232.4000000000001,1206.5999999999999,1157,974.5,1018,1160.5999999999999,820,808.3,839.3,926.15,964.73]
["AreaBarleyPortugal","Area","Barley","Portugal",19.296666666666667,61.6,53,51,46,32.799999999999997,26.2,25,21.77,11.77,11.21,11.51,15.9,34.340000000000003,44.16,40.479999999999997,43.08,40.86,20.22,16.63,18.34,18.38,17.170000000000002,21.17,21.17,20.62]
["AreaBarleyRomania","Area","Barley","Romania",490.38000000000005,637.1,785,581.70000000000005,515.4,626.5,517.20000000000005,415.5,411.86,528.78,578.78,329.57,424.53,484.58,331.65,363.81,394.03,517.51,515.82000000000005,419.51,424.24,495.69,516,468.45,507,460.15999999999997]
["AreaBarleySlovenia","Area","Barley","Slovenia",18.543333333333337,9.1,12.7,12.7,12.5,10.8,10.9,10.9,11.57,12.66,12.39,13.79,15.32,15.45,17.04,18.53,19.23,20.09,18.73,17.48,17.97,17.309999999999999,18.48,20.11,19.18,18.543333333333337]
["AreaBarleySlovakia","Area","Barley","Slovakia",133.37333333333333,247.4,238,233.6,225.7,242.6,252.9,248.7,201.3,196.5,196.1,269.7,223.6,206,185.2,209.9,213.1,196.8,133.01,135.69999999999999,147.99,121.3,138.83000000000001,139.99,114.85,121.02]
["AreaBarleyFinland","Area","Barley","Finland",465.73333333333329,458.9,504.9,516.20000000000005,542.5,582.79999999999995,578,581,558.70000000000005,547.20000000000005,522.20000000000005,530.70000000000005,564.6,594.79999999999995,564.4,550.1,613.20000000000005,600.70000000000005,417.4,432,451.2,494.4,496.9,451.6,433.5,439.1]
["AreaBarleySweden","Area","Barley","Sweden",338.97333333333324,420,473,453.4,468.6,482.9,445,482,408.7,394.5,408.3,364.1,391.7,371.6,306.89999999999998,320.89999999999998,399.4,361.8,310.29000000000002,323,369,387.72,329.09,318.83,318.62,317.94]
["AreaBarleyUnited Kingdom","Area","Barley","United Kingdom",1101,1167,1107.8,1193,1268.5999999999999,1359,1255,1178,1128,1244.9000000000001,1101,1076,1007.4,937.7,881.4,897.9,1032,1143,921,970,1002,1213,1080,1101,1122,1196]
["AreaOatEU-28","Area","Oat","EU-28",2595.7133333333336,3344.4718000000003,3398.7608,3043.2308000000003,3143.5578,3231.8097999999995,3104.6367999999993,3192.5918000000001,3082.6766815695441,3088.6173926738811,3266.4195259868925,3219.2852034750808,2986.0922359396436,2888.2374485596706,2970.4230864197534,3040.2659259259262,3012.9744444444445,2914.163333333333,2695.2700000000004,2694.7499999999995,2665.7599999999998,2666.1600000000008,2545.61,2526.6000000000004,2575.77,2703.813333333333]
["AreaOatEU-15","Area","Oat","EU-15",1630.0033333333338,1991.4,2069.5,1885.7999999999997,1937.8999999999996,2001.5,1939.8,1975.1000000000001,1944.0400000000002,1983.8799999999999,2074.4400000000005,2077.7000000000003,1894.8600000000001,1793.9900000000005,1896.28,1900.34,1919.6999999999998,1864.13,1627.54,1657.33,1628.58,1730.48,1572.5999999999997,1605.6600000000003,1655.77,1748.7533333333338]
["AreaOatEU-N13","Area","Oat","EU-N13",943.21000000000049,1353.0718000000002,1329.2608,1157.4308000000005,1205.6578000000004,1230.3097999999995,1164.8367999999994,1217.4918,1138.636681569544,1104.7373926738812,1191.979525986892,1141.5852034750806,1091.2322359396435,1094.2474485596701,1074.1430864197534,1139.9259259259263,1093.2744444444447,1050.0333333333328,1067.7300000000005,1037.4199999999996,1037.1799999999998,935.68000000000075,973.01000000000045,920.94,920,955.05999999999926]
["AreaOatBelgium","Area","Oat","Belgium",3.4899999999999998,11.5,9.6,6.3,5.4,6.2,5.8,7.7,5.3,6.8,6.5,7,5.7,5.7,5.3,5.0999999999999996,5.2,5.6,4.9000000000000004,3.52,2.9,3.76,3.04,3.94,3.67,3.4899999999999998]
["AreaOatBulgaria","Area","Oat","Bulgaria",15.603333333333333,51.7,53.1,35.700000000000003,35.4,41.1,47.3,56.8,40.6,51.3,41,37.6,43,30.6,16.399999999999999,21.9,24.9,20,24.35,14.79,16.600000000000001,17.89,14.89,11.08,15.32,10]
["AreaOatCzech Republic","Area","Oat","Czech Republic",42.75,70,77,60,66,77.599999999999994,57.7,54,46.716681569543937,44.417392673881011,57.619525986892242,74.015203475080028,55.202235939643352,48.317448559670787,54.363086419753088,55.625925925925927,45.514444444444443,46.563333333333333,52.28,45.24,50.77,43.56,42.29,42.4,37.57,44.07]
["AreaOatDenmark","Area","Oat","Denmark",47.233333333333327,28.2,40,26,26.4,30,31,26,44.4,60.1,55.2,49.5,62,69.2,69.400000000000006,65.5,74.5,55.3,42.5,41.7,50.6,55.6,36.200000000000003,38,53.1,58]
["AreaOatGermany","Area","Oat","Germany",127,358.6,391.9,309.2,301.89999999999998,312.39999999999998,264.10000000000002,267.8,237,233.3,233.1,261.89999999999998,227.8,209.9,183.7,177.8,179.5,162.6,141.43,143.4,145.4,131.5,123.8,125.7,115.5,129.6]
["AreaOatEstonia","Area","Oat","Estonia",29.466666666666669,35.700000000000003,36.1,38.5,49,54.4,61,61,53.3,48.1,35.200000000000003,36.5,35.4,33.700000000000003,32.6,31.5,34.200000000000003,36.1,30.4,28.4,31.8,34.799999999999997,27.3,24.4,29.3,29.466666666666665]
["AreaOatIreland","Area","Oat","Ireland",23.443333333333339,20.2,20.9,19.899999999999999,20.9,20.6,19.399999999999999,20.2,16.8,16.8,18.8,21.02,19.96,16.809999999999999,20.37,21.27,22.91,20.41,19.71,21.4,23.69,26.66,18.62,23.43,23.21,24]
["AreaOatGreece","Area","Oat","Greece",84.183333333333337,43.3,40,41.9,43.8,43.8,44.1,49.6,42.81,59.84,44.31,42.08,42.6,38.42,61.24,63.81,69.06,61.67,55.25,79.63,68.38,77.150000000000006,79.650000000000006,96.01,95.75,95.18]
["AreaOatSpain","Area","Oat","Spain",455.65000000000003,315,347,366.8,391.3,399.8,413.2,423,432.1,445.9,455.2,496.3,469.6,451.8,524.4,531.4,505.5,561.1,511.33,508.34,438.75,444.47,430.28,483.73,500.94,548.6]
["AreaOatFrance","Area","Oat","France",88.40333333333335,171,160.5,142.80000000000001,133.9,127.1,131,113.7,103.1,117.6,152.9,136.5,126.1,111.1,107,106.7,100.4,116.8,86.5,77.400000000000006,82.89,93.68,99.19,85.73,85.8,89]
["AreaOatCroatia","Area","Oat","Croatia",23.206666666666667,22.271799999999999,23.5608,20.8308,21.357799999999997,23.209800000000001,26.736800000000002,29.191800000000001,26,26.1,24.5,25.3,23.46,21.19,24.91,27.97,19.899999999999999,20.9,19.28,25.34,28.51,21.66,21.15,23.46,24.5,24]
["AreaOatItaly","Area","Oat","Italy",105.78333333333332,143.69999999999999,144.19999999999999,134.6,142.69999999999999,151,152.1,142,140.69999999999999,139.9,150.9,148.4,146.6,174.8,161,154.5,147.6,133.9,114.19,109.64,120.01,104.86,103.53,108.96,92.05,107.06]
["AreaOatCyprus","Area","Oat","Cyprus",0.29000000000000004,0.1,0.2,0.2,0.2,0.3,0.3,0.3,0.3,0.4,0.4,0.51,0.5,4.37,4.92,4.25,3.03,2.95,0.91,0.37,0.42,0.31,0.23,0.32,0.24,0.44]
["AreaOatLatvia","Area","Oat","Latvia",61.133333333333347,48.5,54,45.6,53.6,59.1,59.7,47.2,45.5,55.2,47.1,49.4,56.7,58,62.9,62.4,66.2,60.6,56.7,58,59.8,61.5,65.400000000000006,59.3,62.1,71.599999999999994]
["AreaOatLithuania","Area","Oat","Lithuania",71.473333333333315,43.2,54.5,47.4,51.6,56.1,49.6,51.2,44.3,47.9,55,48.2,52.8,59.6,59.3,61.7,68,63.8,57.8,63.2,70.8,73.599999999999994,75.900000000000006,64.150000000000006,70.02,80]
["AreaOatLuxembourg","Area","Oat","Luxembourg",1.1333333333333335,3.8,3.5,2.8,2.6,2.5,2.2999999999999998,2.5,1.9,1.7,2,2.2000000000000002,1.9,1.7,1.5,1.4,1.3,1.4,1.1399999999999999,1.1200000000000001,0.92,1.1299999999999999,1.18,1.19,1.0900000000000001,1.1333333333333333]
["AreaOatHungary","Area","Oat","Hungary",49.163333333333334,53,56,53,48,52,51.7,70.900000000000006,58.3,60.6,63.8,68.400000000000006,69.599999999999994,62.4,59.3,60,61.2,52.2,50.8,53.54,53,51.23,50.87,45.39,35.58,36.119999999999997]
["AreaOatMalta","Area","Oat","Malta",0,0,0,0,0,0,0,0,0,0,0,0,0,0,0,0,0,0,0,0,0,0,0,0,0,0]
["AreaOatNetherlands","Area","Oat","Netherlands",1.843333333333333,5.2,5.5,2.9,1.9,2,2.1,2.5,2.4,2.6,2.5,2.5,2,1.7,1.7,1.7,1.5,1.6,1.7,1,2,2,2,1.53,1.48,1.5]
["AreaOatAustria","Area","Oat","Austria",23.323333333333338,52.9,49.4,40.799999999999997,41.6,46.1,40.5,35.5,33,31.4,32.1,34.4,30.3,30.2,35.200000000000003,31.1,26.6,27.6,26.58,25.03,24.82,23.17,23.3,23.5,22.51,23.21]
["AreaOatPoland","Area","Oat","Poland",472.38333333333338,641.70000000000005,618.1,595.4,624.70000000000005,625.6,561.29999999999995,572.29999999999995,565.6,531,605.20000000000005,526.9,519.70000000000005,539.20000000000005,539.1,582.6,550.6,525.29999999999995,577.29999999999995,546.20000000000005,513.79999999999995,433.8,478.6,460.7,477.85,490.6]
["AreaOatPortugal","Area","Oat","Portugal",44.603333333333332,92,75,73,71,76,48,83,85.03,61.34,57.13,54.1,55.8,53.66,53.67,46.06,55.23,58.45,61.75,52.35,41.12,50.19,50.54,40.42,42.5,42.41]
["AreaOatRomania","Area","Oat","Romania",178.07666666666668,364.5,334.1,238.9,233.9,219.1,228.1,248.2,232.32,219.37,239.44,242.25,207.51,214.82,196.82,208.71,200.4,202.73,181.38,185.3,194.54,182.23,179.65,172.35,151.49,151.47999999999999]
["AreaOatSlovenia","Area","Oat","Slovenia",1.3533333333333335,2.4,2.6,1.9,1.9,1.8,1.8,2.4,2.2999999999999998,2.25,1.92,2.0099999999999998,1.96,1.85,2.73,2.4700000000000002,2.33,1.89,1.77,1.84,1.37,1.2,1.36,1.51,1.33,1.3533333333333335]
["AreaOatSlovakia","Area","Oat","Slovakia",15.280000000000001,20,20,20,20,20,19.600000000000001,24,23.4,18.100000000000001,20.8,30.5,25.4,20.2,20.8,20.8,17,17,14.76,15.2,15.77,13.9,15.37,15.88,14.7,15.93]
["AreaOatFinland","Area","Oat","Finland",307.60000000000002,332.3,332.5,329.3,374.4,369.2,376.5,403.9,399.7,422.7,450.6,425.5,371.8,345.9,353.6,361.5,372.9,342.6,278.3,308.2,313.8,344.3,304.7,281.10000000000002,304.3,336.6]
["AreaOatSweden","Area","Oat","Sweden",175.19666666666663,322,341,278,284,315,311.5,305.7,290.8,271.60000000000002,287.7,274.89999999999998,224.9,192.7,196.7,203.5,222.5,186.1,158.26,175.6,191.3,195.01,159.57,161.41999999999999,172.87,158.97]
["AreaOatUnited Kingdom","Area","Oat","United Kingdom",136.33333333333334,91.7,108.5,111.5,96.1,99.8,98.2,92,109,112.3,125.5,121.4,107.8,90.4,121.5,129,135,129,124,109,122,177,137,131,141,130]
["AreaGrain maizeEU-28","Area","Grain maize","EU-28",9548.4433333333345,9205.6099999999988,9040.0609999999997,8917.5029999999988,9498.5120000000006,9458.5169999999998,9315.2620000000006,9302.4279999999999,9728.3378571428584,9902.7771428571432,9703.19,10130.83,10451.619999999999,9309.4500000000007,8844.630000000001,8577.409999999998,9195.1200000000026,8658.1899999999987,8334.9800000000014,9292.3700000000026,9846.5399999999991,9774.7100000000009,9615.3700000000008,9255.25,8583.510000000002,8469.75]
["AreaGrain maizeEU-15","Area","Grain maize","EU-15",4059.1399999999994,3927,3832.7,3801.5,4152.1000000000004,4313.5999999999995,4126.5,4084.5000000000005,4203.55,4539.58,4415.8900000000003,4428.46,4601.7599999999993,4231.9299999999994,3874.6300000000006,3892.9600000000005,4281.7800000000007,4007.8900000000003,3885.79,4061.69,4230.5899999999992,4304.75,4198.8500000000004,3747.9799999999996,3436.6600000000003,3373.1266666666666]
["AreaGrain maizeEU-N13","Area","Grain maize","EU-N13",5464.583333333333,5278.6099999999988,5207.3609999999999,5116.0029999999988,5346.4120000000003,5144.9170000000004,5188.7620000000006,5217.9279999999999,5524.7878571428582,5363.1971428571433,5287.3,5702.37,5849.86,5077.5200000000013,4970,4684.4499999999971,4913.340000000002,4650.2999999999984,4449.1900000000014,5230.6800000000021,5615.95,5469.9600000000009,5416.52,5507.27,5146.8500000000022,5096.623333333333]
["AreaGrain maizeBelgium","Area","Grain maize","Belgium",62.809999999999981,18.5,26.1,26.4,22.2,23.6,28.2,33.5,35.799999999999997,40.6,47.4,52.7,52.2,54.3,56.5,58.2,72,66.7,69.8,72.03,67.2,74.17,62.83,58.4,52.08,62.809999999999981]
["AreaGrain maizeBulgaria","Area","Grain maize","Bulgaria",434.5,528.4,493.2,475.3,477.8,463.7,477.1,487.5,576.29999999999995,353.1,304,414.7,383.2,298.7,350.3,214.4,329.3,274.2,327.52,399.42,466.8,428.3,408.4,498.64,406.92,412]
["AreaGrain maizeCzech Republic","Area","Grain maize","Czech Republic",94.020000000000024,30,30,27,30,41.2,32.9,39.4,47.3,61.9,70.569999999999993,85.43,89.92,98,89.8,111.7,113.8,105.3,103.28,121.01,119.33,96.9,98.75,79.97,86.41,83.76]
["AreaGrain maizeDenmark","Area","Grain maize","Denmark",10.633333333333336,0,0,0,0,0,0,0,0,0,0,0,0,0,0,0,0,5,9.5,10.6,12.9,12.8,10.1,9,5.7,5.0999999999999996]
["AreaGrain maizeGermany","Area","Grain maize","Germany",477.93333333333339,331.1,345.4,325.10000000000002,372.1,368.3,341,370.7,360.8,396.5,398.7,463.4,461.7,443.1,401,403.2,520.5,464.3,466.59,487.9,526.20000000000005,497,481.3,455.5,416.3,392.4]
["AreaGrain maizeEstonia","Area","Grain maize","Estonia",0,0,0,0,0,0,0,0,0,0,0,0,0,0,0,0,0,0,0,0,0,0,0,0,0,0]
["AreaGrain maizeIreland","Area","Grain maize","Ireland",0,0,0,0,0,0,0,0,0,0,0,0,0,0,0,0,0,0,0,0,0,0,0,0,0,0]
["AreaGrain maizeGreece","Area","Grain maize","Greece",165.37333333333336,198,197.9,160,212.4,212,215.2,210,208.25,210.39,225.47,249.02,251.41,241.42,179.13,190.34,240.1,235.26,181.05,181.88,183.95,183.01,159.78,152.05000000000001,153.33000000000001,152.08000000000001]
["AreaGrain maizeSpain","Area","Grain maize","Spain",402.34333333333331,264.5,341.8,357.5,439.7,486.4,459.1,394,433.1,512.5,465.1,476.1,479.8,417.3,344.4,361,371.7,347.6,314.20999999999998,369.26,390.22,442.3,418.55,398.26,357.28,345.3]
["AreaGrain maizeFrance","Area","Grain maize","France",1732.6533333333336,1829.6,1643.5,1630.6,1707.7,1824,1761,1715.4,1764.8,1916.4,1830.9,1684.5,1821,1658.3,1503.6,1530.7,1758.5,1679.8,1600.33,1596.71,1718.64,1839.83,1848.07,1639.49,1488.74,1440]
["AreaGrain maizeCroatia","Area","Grain maize","Croatia",268.30333333333328,271.70999999999998,269.06099999999998,252.60300000000001,259.81199999999995,269.81700000000001,276.36199999999997,282.72800000000001,292.39999999999998,305.89999999999998,306.8,304.72000000000003,306.35000000000002,318.97000000000003,296.2,288.55,314.10000000000002,296.89999999999998,296.77,305.13,299.16000000000003,288.37,252.57,263.97000000000003,250,250]
["AreaGrain maizeItaly","Area","Grain maize","Italy",835.14333333333309,934.5,909.9,942.5,1022.7,1039.2,970.3,1027.9000000000001,1063.5999999999999,1109.3,1112,1163.2,1196.8,1119.5,1108,1053.4000000000001,991.5,915.5,927.08,994.83,976.56,908.11,869.95,727.37,660.73,661.02]
["AreaGrain maizeCyprus","Area","Grain maize","Cyprus",0,0,0,0,0,0,0,0,0,0,0,0,0,0,0,0,0,0,0,0,0,0,0,0,0,0]
["AreaGrain maizeLatvia","Area","Grain maize","Latvia",0,0,0,0,0,0,0,0,0,0,0,0,0,0,0,0,0,0,0,0,0,0,0,0,0,0]
["AreaGrain maizeLithuania","Area","Grain maize","Lithuania",14.120000000000003,2,2,2,2,2,2,2,1.2178571428571432,1.107142857142859,2.9,2.7,1.4,1.6,2,5.4,7.6,5.5,7.1,9.6,12.9,17.2,19,11.71,12.26,15]
["AreaGrain maizeLuxembourg","Area","Grain maize","Luxembourg",0.18666666666666668,0,0,0,0.3,0.5,0.5,0.5,0.3,0.5,0.3,0.3,0.4,0.2,0.3,0.3,0.4,0.4,0.38,0.3,0.2,0.24,0.22,0.14000000000000001,0.13,0.18666666666666668]
["AreaGrain maizeHungary","Area","Grain maize","Hungary",1176.2800000000002,1121,1204,1033,1053,1059,1022.5,1114.8,1192.7,1258.0999999999999,1205.8,1144.7,1190.0999999999999,1197.5,1215,1078.8,1191.8,1177.3,1078.83,1230.25,1191.29,1242.6099999999999,1191.42,1146.1300000000001,1022.98,1047.8800000000001]
["AreaGrain maizeMalta","Area","Grain maize","Malta",0,0,0,0,0,0,0,0,0,0,0,0,0,0,0,0,0,0,0,0,0,0,0,0,0,0]
["AreaGrain maizeNetherlands","Area","Grain maize","Netherlands",18.266666666666666,10.8,11.6,9,10.9,12.7,13.7,16,20.3,27.2,23.7,24.5,22.4,20.7,19.8,19.3,22.1,18.8,24,23,21,21,18,15.8,12.27,12.3]
["AreaGrain maizeAustria","Area","Grain maize","Austria",204.49666666666667,169.9,179.5,173.4,179.1,161,144.19999999999999,152.5,164.1,171.4,172.2,173.3,178.7,167.2,159.30000000000001,170.9,194.1,178.5,201.14,217.1,219.7,201.92,216.32,188.73,195.25,209.1]
["AreaGrain maizePoland","Area","Grain maize","Poland",626.66999999999985,54.5,50.4,48.2,69.3,77.099999999999994,85.2,104.2,152.30000000000001,224.4,318.7,356.3,411.7,339.3,303,262,317.2,274.10000000000002,334.2,333.3,543.79999999999995,614.29999999999995,678.3,670.3,595.41,626.66999999999985]
["AreaGrain maizePortugal","Area","Grain maize","Portugal",102.5833333333333,170.1,177,177,185,185.9,193.3,164,152.5,154.79,140.12,141.44,137.35,109.91,102.6,105.62,110.88,94.73,90.37,99.98,102.2,111.79,107.64,97.91,88.15,84.2]
["AreaGrain maizeRomania","Area","Grain maize","Romania",2559.5566666666673,3065.7,2983.4,3109.2,3277,3046.9,3128.9,3013.4,3049.36,2974.02,2894.5,3199.58,3274.19,2628.58,2520.56,2525.39,2441.64,2339.39,2098.4699999999998,2589.7800000000002,2731.16,2518.88,2513.56,2607.37,2552.42,2429.5100000000002]
["AreaGrain maizeSlovenia","Area","Grain maize","Slovenia",38.413333333333327,59.3,49.4,46.8,47.1,47.5,45.6,44.4,48.01,47.57,45.53,44.14,46,42.37,39.840000000000003,40.909999999999997,43.7,38.61,36.43,40.19,39.17,41.86,38.33,37.74,36.909999999999997,38.413333333333334]
["AreaGrain maizeSlovakia","Area","Grain maize","Slovakia",206.65666666666667,146,125.9,121.9,130.4,137.69999999999999,118.2,129.5,165.2,137.1,138.5,150.1,147,152.5,153.30000000000001,157.30000000000001,154.19999999999999,139,166.59,202,212.34,221.54,216.19,191.44,183.54,193.39]
["AreaGrain maizeFinland","Area","Grain maize","Finland",0,0,0,0,0,0,0,0,0,0,0,0,0,0,0,0,0,0,0,0,0,0,0,0,0,0]
["AreaGrain maizeSweden","Area","Grain maize","Sweden",1.4333333333333333,0,0,0,0,0,0,0,0,0,0,0,0,0,0,0,0,1.3,1.34,2.1,2.4,1.27,0.95,1.33,1.7,1.63]
["AreaGrain maizeUnited Kingdom","Area","Grain maize","United Kingdom",6.5200000000000005,0,0,0,0,0,0,0,0,0,0,0,0,0,0,0,0,0,0,6,9.42,11.31,5.14,4,5,7]
["AreaSorghumEU-28","Area","Sorghum","EU-28",136.60333333333338,141.80000000000001,122.4,99.1,112.8,119,118.1,97.500000000000014,109.09999999999998,121.61,123.52000000000001,112.38000000000001,106.61000000000001,97.269999999999982,105.36999999999999,98.590000000000018,96.53,115.82000000000001,113.94,116.72999999999999,119.02999999999999,145.26000000000002,157.79,138.86000000000001,125.69,125.38000000000001]
["AreaSorghumEU-15","Area","Sorghum","EU-15",109.95666666666666,125.70000000000002,107.30000000000001,85.8,99,108.2,105.69999999999999,90.2,102.6,110.80000000000001,113.13,97.96,89.53,90.1,99.63,90.43,82.52000000000001,105.69999999999999,96.73,94.98,88.31,113.43,126.8,113.23,103.21000000000001,105.99000000000001]
["AreaSorghumEU-N13","Area","Sorghum","EU-N13",29.113333333333326,16.099999999999994,15.099999999999994,13.299999999999997,13.799999999999997,10.799999999999997,12.400000000000006,7.3000000000000114,6.4999999999999858,10.809999999999988,10.390000000000015,14.420000000000016,17.080000000000013,7.1699999999999875,5.7399999999999949,8.1600000000000108,14.009999999999991,10.120000000000019,17.209999999999994,21.749999999999986,30.719999999999985,31.830000000000013,30.989999999999995,25.63000000000001,22.47999999999999,19.39]
["AreaSorghumBelgium","Area","Sorghum","Belgium",0,0,0,0,0,0,0,0,0,0,0,0,0,0,0,0,0,0,0,0,0,0,0,0,0,0]
["AreaSorghumBulgaria","Area","Sorghum","Bulgaria",5.45,0.5,0.5,0.5,0.5,0.5,0.5,0.7,0.6,1.5,4.3,3.5,3,1.6,1.2,1.6,1.8,0.7,3.54,2.84,5.3,4.34,6.71,6.82,3.36,2.52]
["AreaSorghumCzech Republic","Area","Sorghum","Czech Republic",0,0,0,0,0,0,0,0,0,0,0,0,0,0,0,0,0,0,0,0,0,0,0,0,0,0]
["AreaSorghumDenmark","Area","Sorghum","Denmark",0,0,0,0,0,0,0,0,0,0,0,0,0,0,0,0,0,0,0,0,0,0,0,0,0,0]
["AreaSorghumGermany","Area","Sorghum","Germany",0,0,0,0,0,0,0,0,0,0,0,0,0,0,0,0,0,0,0,0,0,0,0,0,0,0]
["AreaSorghumEstonia","Area","Sorghum","Estonia",0,0,0,0,0,0,0,0,0,0,0,0,0,0,0,0,0,0,0,0,0,0,0,0,0,0]
["AreaSorghumIreland","Area","Sorghum","Ireland",0,0,0,0,0,0,0,0,0,0,0,0,0,0,0,0,0,0,0,0,0,0,0,0,0,0]
["AreaSorghumGreece","Area","Sorghum","Greece",1.63,0,0,0,0,0,0,0,0.3,0.2,0.33,0.06,0.13,0.2,0.13,0.13,0.12,0.3,0.04,0.22,0.14000000000000001,0.2,1.83,2.86,2.86,2.88]
["AreaSorghumSpain","Area","Sorghum","Spain",8.3566666666666691,4.9000000000000004,20.5,6.4,9.3000000000000007,10.199999999999999,12.6,7,8.8000000000000007,8.5,7.6,6.4,7.2,7,5.4,7.1,6.8,7.5,7.14,8.48,7.73,8.9700000000000006,7.29,8.3800000000000008,8.9600000000000009,8.3000000000000007]
["AreaSorghumFrance","Area","Sorghum","France",50.206666666666671,81.900000000000006,47.4,45,54,67.8,64,51.7,59.6,67.7,71.099999999999994,61,48,51.2,55.4,49.2,37,58,47.65,43.44,42.15,51.25,62.97,53.7,45.67,48]
["AreaSorghumCroatia","Area","Sorghum","Croatia",0.01,0,0,0,0,0,0,0,0,0,0,0,0,0,0,0,0,0,0,0,0,0,0,0.03,0.05,0.05]
["AreaSorghumItaly","Area","Sorghum","Italy",46.633333333333333,38.9,39.4,34.4,35.700000000000003,30.2,29.1,31.5,33.9,34.4,34.1,30.5,34.200000000000003,31.6,38.700000000000003,34,38.6,39.9,40.729999999999997,41.73,37.1,51.07,51.91,45.37,43.46,43.84]
["AreaSorghumCyprus","Area","Sorghum","Cyprus",0,0,0,0,0,0,0,0,0,0,0,0,0,0,0,0,0,0,0,0,0,0,0,0,0,0]
["AreaSorghumLatvia","Area","Sorghum","Latvia",0,0,0,0,0,0,0,0,0,0,0,0,0,0,0,0,0,0,0,0,0,0,0,0,0,0]
["AreaSorghumLithuania","Area","Sorghum","Lithuania",0,0,0,0,0,0,0,0,0,0,0,0,0,0,0,0,0,0,0,0,0,0,0,0,0,0]
["AreaSorghumLuxembourg","Area","Sorghum","Luxembourg",0,0,0,0,0,0,0,0,0,0,0,0,0,0,0,0,0,0,0,0,0,0,0,0,0,0]
["AreaSorghumHungary","Area","Sorghum","Hungary",4.6900000000000004,10,7,7,6,5,4.5,4.9000000000000004,4.2,3,3.3,4,5.4,4.0999999999999996,3.8,4.7,3.9,2.8,3.16,5.33,4.43,5.33,4.58,4.58,4.91,4.03]
["AreaSorghumMalta","Area","Sorghum","Malta",0,0,0,0,0,0,0,0,0,0,0,0,0,0,0,0,0,0,0,0,0,0,0,0,0,0]
["AreaSorghumNetherlands","Area","Sorghum","Netherlands",0,0,0,0,0,0,0,0,0,0,0,0,0,0.1,0,0,0,0,0,0,0,0,0,0,0,0]
["AreaSorghumAustria","Area","Sorghum","Austria",2.3333333333333335,0,0,0,0,0,0,0,0,0,0,0,0,0,0,0,0,0,1.17,1.1100000000000001,1.19,1.94,2.8,2.92,2.2599999999999998,2.97]
["AreaSorghumPoland","Area","Sorghum","Poland",0,0,0,0,0,0,0,0,0,0,0,0,0,0,0,0,0,0,0,0,0,0,0,0,0,0]
["AreaSorghumPortugal","Area","Sorghum","Portugal",0,0,0,0,0,0,0,0,0,0,0,0,0,0,0,0,0,0,0,0,0,0,0,0,0,0]
["AreaSorghumRomania","Area","Sorghum","Romania",17.443333333333332,5.6,7.6,5.8,7.3,5.3,7.4,1.7,1.6,6.21,2.79,6.92,8.68,1.47,0.74,1.06,8.01,6.12,10.28,13.08,19.989999999999998,21.67,18.850000000000001,13.49,13.08,11.92]
["AreaSorghumSlovenia","Area","Sorghum","Slovenia",3.0000000000000002E-2,0,0,0,0,0,0,0,0,0,0,0,0,0,0,0.4,0,0,0,0,0,0,0,0.09,0.11,3.0000000000000002E-2]
["AreaSorghumSlovakia","Area","Sorghum","Slovakia",0.81333333333333313,0,0,0,0,0,0,0,0.1,0.1,0,0,0,0,0,0.4,0.3,0.5,0.23,0.5,1,0.49,0.85,0.62,0.97,0.84]
["AreaSorghumFinland","Area","Sorghum","Finland",0,0,0,0,0,0,0,0,0,0,0,0,0,0,0,0,0,0,0,0,0,0,0,0,0,0]
["AreaSorghumSweden","Area","Sorghum","Sweden",0,0,0,0,0,0,0,0,0,0,0,0,0,0,0,0,0,0,0,0,0,0,0,0,0,0]
["AreaSorghumUnited Kingdom","Area","Sorghum","United Kingdom",0,0,0,0,0,0,0,0,0,0,0,0,0,0,0,0,0,0,0,0,0,0,0,0,0,0]
["AreaTriticaleEU-28","Area","Triticale","EU-28",2884.7555555555559,1260.0999999999997,1218.3000000000004,1373.8999999999999,1622.0000000000002,1690.1,1750.9999999999998,1665.9999999999998,1860.7999999999997,2072.84,2255.39,2303.0800000000004,2477.7099999999991,2597.8599999999992,2441.8299999999995,2525.04,2678.1799999999994,2885.73,2735.5099999999993,2624.4999999999995,2530.2399999999998,2749.4,2953.0066666666667,3116.4288888888887,2951.8600000000006,2757.2099999999996]
["AreaTriticaleEU-15","Area","Triticale","EU-15",1155.2996296296294,524.70000000000005,526.6,633.59999999999991,748.30000000000007,857.1,900.89999999999986,815.19999999999993,963.73000000000025,964.78000000000009,1008.7599999999999,988.99000000000012,1034.06,1024.48,940.47000000000014,929.2299999999999,981.25,1022.7700000000002,1039.8899999999999,1028.53,1158.58,1129.7,1209.4166666666667,1173.9588888888889,1133.3599999999999,1108.21]
["AreaTriticaleEU-N13","Area","Triticale","EU-N13",1727.2633333333335,735.39999999999964,691.70000000000039,740.3,873.70000000000016,832.99999999999989,850.09999999999991,850.79999999999984,897.06999999999948,1108.06,1246.6300000000001,1314.0900000000001,1443.6499999999992,1573.3799999999992,1501.3599999999992,1595.81,1696.9299999999994,1862.9599999999998,1695.6199999999994,1595.9699999999996,1371.6599999999999,1619.7,1743.59,1942.4699999999998,1818.5000000000007,1648.9999999999995]
["AreaTriticaleBelgium","Area","Triticale","Belgium",5.8999999999999995,8.8000000000000007,8.9,9.4,9,8.6,9.6,4.9000000000000004,8.6,5.6,7.6,7.3,8.1,7.5,7.2,6.6,6.1,6.2,7.2,4.79,6,6.1,5.71,5.55,5.99,5.9000000000000012]
["AreaTriticaleBulgaria","Area","Triticale","Bulgaria",14.180000000000001,5,5,5,5,5,4.8,7.7,7.9,4.3,10.199999999999999,11.9,9.5,9.3000000000000007,9.6,6.5,4.5999999999999996,6,11.01,8.59,10.8,13.73,18.91,12.71,16.100000000000001,15]
["AreaTriticaleCzech Republic","Area","Triticale","Czech Republic",44.636666666666677,17,15,16,14,14.9,20.3,26,37,49.5,53.1,46,62.8,64.8,41,50.1,57.8,53,45.87,43.53,44.2,46.82,48.5,42.89,39.6,36.26]
["AreaTriticaleDenmark","Area","Triticale","Denmark",14.93333333333333,0,0,0,0,13,28,54,54.5,34.700000000000003,25.1,28,33.5,31.3,31.6,32.200000000000003,35.1,44.5,36.5,26.7,22,13.3,15.5,16,10.1,8]
["AreaTriticaleGermany","Area","Triticale","Germany",398.2,218.5,208.1,288.60000000000002,364.2,437.8,468.5,386.5,499.5,533.5,560.5,499.8,507.4,480.8,404.6,381,398.8,401.1,397.52,383.4,371.4,396.9,418.2,401.6,396.1,401.5]
["AreaTriticaleEstonia","Area","Triticale","Estonia",5.8333333333333348,4,4,4,4,4,4,4,4,4.2,5.3,7.2,6.5,6.2,2.5,4.4000000000000004,5.9,8,4,4.5,5.6,3.2,6.2,7.1,5.7,5.833333333333333]
["AreaTriticaleIreland","Area","Triticale","Ireland",0,0,0,0,0,0,0,0,0,0,0,0,0,0,0,0,0,0,0,0,0,0,0,0,0,0]
["AreaTriticaleGreece","Area","Triticale","Greece",14.073333333333332,0,0,0,0,0,0,0,2,1.46,1.1000000000000001,1.1499999999999999,4.03,2.29,2.44,4.0999999999999996,3.11,4.12,3.91,4.24,5.22,7.3,16.95,18.89,17.97,18.84]
["AreaTriticaleSpain","Area","Triticale","Spain",184.53666666666666,35.200000000000003,32.6,29.9,33.299999999999997,33.200000000000003,24.7,28,37.200000000000003,37.5,35.799999999999997,41.5,23.5,39,45,47.4,54.4,60.9,65.98,81.319999999999993,125.88,142.31,195.68,215.62,223.99,214.6]
["AreaTriticaleFrance","Area","Triticale","France",371.71000000000004,163.19999999999999,174.8,185.4,205.6,217.9,236.7,241,244.1,240.8,270.7,290.10000000000002,328.2,332.9,330.8,324.2,343.1,355.5,383.3,391.11,415.79,385.02,387.5,342.61,342.25,326]
["AreaTriticaleCroatia","Area","Triticale","Croatia",14.973333333333331,0,0,0,0,0,0,0,0,0,0,0,0,0,1.59,2.71,3.2,3.1,10.85,9.9499999999999993,13.04,14.09,16.86,13.97,19.8,16]
["AreaTriticaleItaly","Area","Triticale","Italy",45.201851851851863,0,0,0,1.5,0,0,0,0,0,0,0,0,0,0,0,0,0,12.8,25.55,104.29,61.9,33.416666666666671,40.288888888888899,13.91,14.66]
["AreaTriticaleCyprus","Area","Triticale","Cyprus",0,0,0,0,0,0,0,0,0,0,0,0,0,0,0,0,0,0,0,0,0,0,0,0,0,0.53]
["AreaTriticaleLatvia","Area","Triticale","Latvia",11.433333333333332,6.8,3.1,2.7,1.7,2.8,5.3,5.8,5.9,13,15.5,19.100000000000001,17.100000000000001,13.3,11.3,12.4,13.8,13.1,11.4,9.4,13.2,14.1,9.9,10.3,10.8,6.8]
["AreaTriticaleLithuania","Area","Triticale","Lithuania",120.39333333333336,15.8,27.5,22.5,34.1,40.6,36.9,45,50.8,60.6,56,78.5,83.9,75.2,65.3,80.5,98.2,136.1,108.6,94.4,119.1,144.9,120.1,121.98,100.37,80]
["AreaTriticaleLuxembourg","Area","Triticale","Luxembourg",4.6499999999999995,2.7,2.4,2.9,3,3.1,3.4,2.8,3.6,3.1,4,3.7,3.6,3.4,3.5,3.5,3.6,4.0999999999999996,4.78,4.34,4.74,4.5599999999999996,4.79,4.5999999999999996,4.6100000000000003,4.6499999999999995]
["AreaTriticaleHungary","Area","Triticale","Hungary",118.41333333333334,23,42,64,108,124,129.30000000000001,92.6,83.4,119.6,131.69999999999999,139,157.19999999999999,157,132.80000000000001,130.4,131.19999999999999,125.4,119.66,100.64,111.36,118,123.16,127.26,114.08,93.55]
["AreaTriticaleMalta","Area","Triticale","Malta",0,0,0,0,0,0,0,0,0,0,0,0,0,0,0,0,0,0,0,0,0,0,0,0,0,0]
["AreaTriticaleNetherlands","Area","Triticale","Netherlands",1.7866666666666668,1.9,1.6,2.6,3.3,2.9,4.4000000000000004,1.8,6.6,4,4.4000000000000004,3.8,3.6,3.7,3.6,3.9,3.2,2.7,2.7,2,2,2,2,1.36,1.04,1.2]
["AreaTriticaleAustria","Area","Triticale","Austria",50.010000000000012,0,0,19.3,17.600000000000001,21.9,25.8,23.6,27.5,31.2,37.6,40.700000000000003,43.1,39.5,23.6,38.9,46.3,50.6,47.8,45.59,43.75,45,51.3,53.73,54.89,55.22]
["AreaTriticalePoland","Area","Triticale","Poland",1295.4066666666665,656.8,586.20000000000005,616.4,696.5,630.1,635.5,660.1,695.3,838.3,943.9,985.6,1058.2,1194.5,1194.3,1260.2,1333.5,1465,1329.9,1269.3,991.8,1176.7,1306,1516.2,1403.52,1295.4066666666665]
["AreaTriticalePortugal","Area","Triticale","Portugal",24.810000000000002,52.7,50,44,42,44,23,27,23.83,18.82,17.059999999999999,13.44,11.93,20.49,19.23,15.93,20.239999999999998,23.85,24.49,20.49,20.81,30.4,30.2,22.73,21.5,18.98]
["AreaTriticaleRomania","Area","Triticale","Romania",74.850000000000009,1.3,1.3,1.3,1.3,1.3,1.9,1.7,3.23,5.33,10.47,11.27,27.93,33.89,27.9,32.909999999999997,31.79,38.56,41.02,41.81,48.07,72.89,76.73,74.930000000000007,94.63,86.35]
["AreaTriticaleSlovenia","Area","Triticale","Slovenia",4.12,0.1,0.7,0.7,0.7,0.6,0.5,0.6,0.84,1.23,1.66,1.82,2.12,1.99,2.87,3.09,3.24,3.4,3.48,3.35,3.64,3.49,4.2300000000000004,4.49,5.29,4.12]
["AreaTriticaleSlovakia","Area","Triticale","Slovakia",11.089999999999998,5.6,6.9,7.7,8.4,9.6999999999999993,11.6,7.3,8.6999999999999993,12,18.8,13.7,18.399999999999999,17.2,12.2,12.6,13.7,11.3,9.83,10.5,10.85,11.78,13,10.64,8.61,9.15]
["AreaTriticaleFinland","Area","Triticale","Finland",0,0,0,0,0,0,0,0,0,0.6,0.4,0.5,0,0,0,0,0,0,0,0,0,0,0,0,0,0]
["AreaTriticaleSweden","Area","Triticale","Sweden",30.626666666666665,35,42.5,44.6,61.7,66.5,66.8,32.6,40.700000000000003,39.6,30.6,44.4,51.9,50.1,54.8,53.6,48.9,53.2,35.909999999999997,24,23.7,22.91,38.17,41.98,30.01,27.66]
["AreaTriticaleUnited Kingdom","Area","Triticale","United Kingdom",11,6.7,5.7,6.9,7.1,8.1999999999999993,10,13,15.6,13.9,13.9,14.6,15.2,13.5,14.1,17.899999999999999,18.399999999999999,16,17,15,13,12,10,9,11,11]
["AreaOther cerealsEU-28","Area","Other cereals","EU-28",1368.9411913205506,1682,1722.6000000000001,1858,1801.9999999999998,2008.9000000000003,1935.2,1869.5999999999997,1972.0933184304561,1864.3526073261194,1750.240474013108,1901.3647965249202,1924.4277640603568,1917.5725514403296,2055.5369135802466,1984.4107407407407,1893.3855555555558,1815.1266666666666,1528.4630303030303,1662.1108925619837,1756.3007411553554,1452.2026517024997,1340.2060863946951,1296.6477385241888,1314.4148358644566,1581.8288644405927]
["AreaOther cerealsEU-15","Area","Other cereals","EU-15",283.38708445864432,255,262.49999999999994,259.29999999999995,284.20000000000005,294.2,273.59999999999997,259.10000000000002,253.67000000000002,244.73,257.95999999999998,293.46999999999997,292.58000000000004,283.16999999999996,292.32000000000005,286.15999999999997,281.8,300.15999999999997,264.21636363636367,258.90089256198348,275.43518559979964,294.22191096175879,281.60867898728748,289.73773852418867,278.81483586445654,330.75219777392601]
["AreaOther cerealsEU-N13","Area","Other cereals","EU-N13",1084.0593827160494,1427,1460.1000000000001,1598.7,1517.7999999999997,1714.7000000000003,1661.6000000000001,1610.4999999999995,1718.423318430456,1619.6226073261194,1492.280474013108,1607.8947965249201,1631.8477640603569,1634.4025514403297,1763.2169135802465,1698.2507407407406,1611.5855555555559,1514.9666666666667,1264.2466666666667,1403.2100000000003,1480.8655555555556,1157.9807407407409,1058.5974074074077,1006.9100000000001,1035.5999999999999,1251.0766666666668]
["AreaOther cerealsBelgium","Area","Other cereals","Belgium",3.3866666666666663,1.4,1.5,1.2,1.5999999999999999,1.2000000000000002,1,1.3,2,0.6,0.5,0.5,0.8,0.5,0.6,0.7,0.6,0.5,0,2.0499999999999998,3,3.6,3.83,3.04,3.52,3.3866666666666663]
["AreaOther cerealsBulgaria","Area","Other cereals","Bulgaria",4.5333333333333341,19,12,83.4,94.2,78.7,6.7,7.1,7.4,6.3,1.6,13.7,8.5,4.0999999999999996,2.9,2.2000000000000002,3.5,3.6,4.26,4.51,4.5999999999999996,5.29,3.71,5.93,3.11,4.1233333333333322]
["AreaOther cerealsCzech Republic","Area","Other cereals","Czech Republic",9.1733333333333338,4,6,6,7,4.5999999999999996,5.5,6.6,10.083318430456064,9.2826073261189883,8.580474013107759,14.084796524919982,10.097764060356653,11.582551440329219,14.636913580246915,11.907407407407405,13.385555555555555,12.336666666666668,8.66,8.82,11.86,9.98,8.48,6.82,9.06,6.370000000000001]
["AreaOther cerealsDenmark","Area","Other cereals","Denmark",7.2666666666666657,2.7,4,5,5.8,4,4,0,0,0,0,0,0,0,0,0,9.1999999999999993,11.6,5,5.0999999999999996,7.9,7.3999999999999986,8.1,6,6.5,6]
["AreaOther cerealsGermany","Area","Other cereals","Germany",32.963763812065956,58.1,63,55,57.3,58.6,48.3,50.099999999999994,39.1,36.299999999999997,35.299999999999997,44.800000000000004,34,35.6,34,29.8,27.5,27.2,33.766363636363636,35.68089256198347,51.434018933132982,35.367466517314391,31.376086394694845,32.147738524188625,29.078169197789904,33.319975551703834]
["AreaOther cerealsEstonia","Area","Other cereals","Estonia",3.8000000000000003,9.1,9.6,9,14.5,21.6,20.900000000000002,16,12.6,7,6.3999999999999995,5.6999999999999993,5.3,5.2,5,4,3.6999999999999997,2.7,4.0999999999999996,4.0999999999999996,2.9,4.3,3.8,3.5,4.0999999999999996,3.4333333333333331]
["AreaOther cerealsIreland","Area","Other cereals","Ireland",0,4.7,5.3,4.7,5.5,5.6,6.6,9.5,0,0,0,0,0,0,0,0,0,0,0,0,0,0,0,0,0,0]
["AreaOther cerealsGreece","Area","Other cereals","Greece",1.78,1,1,1,0.5,0.4,0.6,1,1.21,1.4,1.35,1.3800000000000001,1.37,1.25,6.71,9.56,2.6399999999999997,2.13,1.66,2.61,1.94,2.17,2.86,1.23,1.0900000000000001,1.1300000000000001]
["AreaOther cerealsSpain","Area","Other cereals","Spain",49.329012345679018,23.1,28.3,41.5,47.400000000000006,52.5,48.5,37,37.6,36.299999999999997,41.6,48.600000000000009,55.599999999999994,55.599999999999994,55.1,52.300000000000004,49.800000000000004,48.4,49.83,34.09999999999998,38.043333333333337,46.964444444444453,48.1025925925926,58.710000000000008,52.92,58.710000000000008]
["AreaOther cerealsFrance","Area","Other cereals","France",98.613333333333344,70.900000000000006,65.8,63.199999999999996,66.2,69.5,67.5,61,69.5,74.699999999999989,82.5,97,103.9,93.2,94.4,96.1,89.300000000000011,91.3,83.740000000000009,89.460000000000008,92.4,99.07,84.16,104.37,109.14,121]
["AreaOther cerealsCroatia","Area","Other cereals","Croatia",0.72000000000000008,2.5,2.5,2.5,2.5,2.5,2.5,2.5,2.5,2.4,2.8,2.73,3.11,4.59,0.22,0.71,0.4,0.8,0.68,0.76,0.73,0.69,0.28000000000000003,0.74,0.9,0.9]
["AreaOther cerealsItaly","Area","Other cereals","Italy",33.75,2.9,3.3,3.7,9.9,10.5,8.6999999999999993,6.8,5.9,6.5,7.3,7.5,7.4,6.8,8.1,10.6,12.3,19.100000000000001,22.67,22.92,18.023333333333337,35.56,37.31,36.96,28.73,33.75]
["AreaOther cerealsCyprus","Area","Other cereals","Cyprus",0,0,0,0,0,0,0,0,0,0,0,0,0,0,0,0,0,0,0,0,0,0,0,0,0,0]
["AreaOther cerealsLatvia","Area","Other cereals","Latvia",19.233333333333331,6.3,5.3999999999999995,6.8999999999999995,6.8999999999999995,11.6,19,22.1,20.8,22.6,19.7,15.4,20.6,22.200000000000003,25.5,19.7,17.399999999999999,17.8,14.6,18.3,15.899999999999999,20,21.700000000000003,16,23.9,39]
["AreaOther cerealsLithuania","Area","Other cereals","Lithuania",56.386666666666677,15.200000000000001,19.099999999999998,17,19.5,27.799999999999997,24.200000000000003,26.799999999999997,27.8,28.4,29.4,30.6,37.299999999999997,49.900000000000006,58,49.9,37.9,38.5,39.599999999999994,51.7,56.7,51.6,60.9,53.9,58.56,56.566666666666656]
["AreaOther cerealsLuxembourg","Area","Other cereals","Luxembourg",0.33000000000000007,0.5,0.7,0.7,0.9,0.4,0.4,0.6,0.7,0.6,0.4,0.4,0.3,0.3,0.30000000000000004,0.2,0.2,0.2,0.27,0.37,0.31,0.31000000000000005,0.37,0.25,0.42,0.32999999999999996]
["AreaOther cerealsHungary","Area","Other cereals","Hungary",10.472962962962962,0,0,0,0,28,11.2,28.3,29.599999999999998,13.799999999999999,18,26.6,26.3,20.399999999999999,18.8,16.133333333333333,14.1,14.299999999999999,11.746666666666666,13.319999999999999,12.538888888888888,7.2151851851851854,10.36,8.52,13.56,6.84]
["AreaOther cerealsMalta","Area","Other cereals","Malta",0,0,0,0,0,0,0,0,0,0,0,0,0,0,0,0,0,0,0,0,0,0,0,0,0,0]
["AreaOther cerealsNetherlands","Area","Other cereals","Netherlands",0,3.8,5.2,5,5.6,5.4,5.8,6,7.2,7.7,6.7,7.1,6.8,7.3,7.5,7.2,7.6,7.6,0,0,0,0,0,0,0,0]
["AreaOther cerealsAustria","Area","Other cereals","Austria",15.826666666666668,47.2,46.8,37.4,36.299999999999997,40.799999999999997,39.799999999999997,37.700000000000003,35.300000000000004,33.799999999999997,35.299999999999997,37.200000000000003,36.5,35.799999999999997,40.700000000000003,37.299999999999997,38.200000000000003,39.299999999999997,17.670000000000002,14.88,14.780000000000001,16.02,16.68,17.53,13.91,14.52]
["AreaOther cerealsPoland","Area","Other cereals","Poland",970.00765432098763,1368.6,1403.5,1470.2,1369.4,1536.6000000000001,1567,1496.7,1604.1000000000001,1525.9,1400.8000000000002,1490.8999999999999,1513.3000000000002,1509.3,1630.5,1587.6000000000001,1516.5,1419.5,1173.8,1294.9000000000001,1365.8666666666668,1053.2555555555555,942.30740740740737,904.69999999999993,914.45999999999992,1127.2733333333333]
["AreaOther cerealsPortugal","Area","Other cereals","Portugal",0.9355555555555557,0,0,0,0,0,0,0,6.86,6.03,5.21,4.3899999999999997,3.51,2.62,1.61,0.6,0.96,1.33,1.23,1.1299999999999999,1.02,0.92,0.92,0.93,0.95666666666666667,0.9355555555555557]
["AreaOther cerealsRomania","Area","Other cereals","Romania",3.2700000000000009,0,0,1.6,1.5,1.4,2,1.8,1.1200000000000001,1.48,1.83,4.0999999999999996,3.46,1.9,1.75,2.4500000000000002,1.82,1.06,4.4000000000000004,3.34,5.67,3.79,3.43,2.59,2.35,2.52]
["AreaOther cerealsSlovenia","Area","Other cereals","Slovenia",2.6199999999999997,0.6,0.6,0.6,0.6,0.6,0.6,0.8,0.92,1.06,1.47,1.38,0.98,1.63,1.1100000000000001,1.55,1.38,1.57,1.61,1.66,2.1,1.86,2.71,3.05,3.73,2.6199999999999997]
["AreaOther cerealsSlovakia","Area","Other cereals","Slovakia",1.3166666666666667,1.7,1.4,1.5,1.7,1.3,2,1.8,1.5,1.4,1.7,2.7,2.9,3.6,4.8,2.1,1.5,2.8,0.79,1.8,2,0,0.92,1.1599999999999999,1.87,1.43]
["AreaOther cerealsFinland","Area","Other cereals","Finland",20.666666666666668,10.5,9.6999999999999993,10.7,10.6,12.9,13.200000000000001,13.1,14.5,11.9,12.5,12.899999999999999,18.3,17.400000000000002,20.2,20.8,21.8,25,19.399999999999999,21.9,23.299999999999997,21.3,26.299999999999997,13.9,17.400000000000002,46.5]
["AreaOther cerealsSweden","Area","Other cereals","Sweden",16.173333333333336,25,25,27,34,30,27,33,31.8,26.5,26,27.900000000000002,20.5,23.4,20.100000000000001,18.7,18.899999999999999,19.5,22.98,22.7,17.899999999999999,19.149999999999999,15.47,14.67,15.15,11.17]
["AreaOther cerealsUnited Kingdom","Area","Other cereals","United Kingdom",3.8381666666666661,3.2,2.9,3.2,2.6,2.4,2.2000000000000002,2,2,2.4,3.3,3.8,3.6,3.4,3,2.2999999999999998,2.8,7,6,6,5.3845000000000001,6.39,6.13,0,0,0]
["AreaTotal cerealsEU-28","Area","Total cereals","EU-28",57509.850018518533,60459.741549999999,60143.235550000012,60323.134549999995,60906.159550000004,63434.37055,62257.920549999995,59459.679550000001,61491.32785714286,61699.86714285714,61599.4,59187.87000000001,61334.77,59780.950000000004,57618.090000000004,57585.266666666663,60847.42,59039.01999999999,55959.906666666677,56735.82,57663.067833333327,57591.48,57930.076666666668,57275.002222222218,56775.374444444446,56198.727037037032]
["AreaTotal cerealsEU-15","Area","Total cereals","EU-15",34820.773351851858,33861.191999999995,33464.18,34080.844000000005,35464.495999999999,36604.383999999991,35827.339999999997,35080.751999999993,37325.050000000003,36549.390000000007,37474.130000000005,36449.35,37132.36,36120.68,35004.869999999995,34943.170000000006,37497.14,35521.370000000003,34314.060000000005,34518.610000000008,34896.617833333337,34905.1,35179.556666666664,34660.602222222224,34347.934444444443,34214.88925925926]
["AreaTotal cerealsEU-N13","Area","Total cereals","EU-N13",22683.766666666666,22651.296549999999,22565.192550000003,22059.160550000001,21434.32055,22895.827549999995,22397.634549999999,20788.081549999999,24166.277857142857,25150.47714285714,24125.27,22738.520000000004,24202.409999999996,23660.269999999993,22613.220000000005,22642.096666666668,23350.280000000002,23517.649999999994,21645.846666666668,22217.21,22766.449999999997,22686.38,22750.519999999997,22614.400000000001,22427.439999999999,21983.837777777779]
["AreaTotal cerealsBelgium","Area","Total cereals","Belgium",338.40000000000003,685.5,576.79999999999995,566.70000000000005,641,674.90000000000009,678.30000000000007,614.70000000000005,313.80000000000007,287.40000000000009,311.7,308.10000000000002,318.5,322.5,329.20000000000005,330.3,363.40000000000003,344.9,337.03,327.70000000000005,341.79999999999995,336.69000000000005,333.57999999999993,341.65000000000003,336.86,338.14000000000004]
["AreaTotal cerealsBulgaria","Area","Total cereals","Bulgaria",1888.7133333333331,2260,2301.6,2205.5,1859.8000000000002,2120.6999999999998,2156.4,1924.5999999999997,1999.9999999999998,2083.7000000000003,2131.6,1602.8000000000002,1824.3,1719.4999999999995,1543.9,1526.6000000000001,1705.8,1820.7,1758.3499999999997,1756.8999999999999,1893.0999999999997,1996.76,1949.6800000000005,1823.3600000000001,1805.8299999999997,1695.6433333333332]
["AreaTotal cerealsCzech Republic","Area","Total cereals","Czech Republic",1404.1966666666665,2499,2607,2573,2682,2829.2999999999997,2779.9,2259.9,1650.1,1623.5000000000002,1562.0699999999997,1459.83,1609.42,1611.5,1531.8999999999999,1576.5333333333333,1558.6,1541.7999999999997,1462.85,1479.5,1454.4299999999998,1413.14,1409.62,1389.8300000000002,1359.03,1352.4499999999998]
["AreaTotal cerealsDenmark","Area","Total cereals","Denmark",1454.0666666666664,1359.8000000000002,1317.6,1358,1470.2,1451,1429,1446,1499.7000000000003,1537.8999999999999,1527.7,1484.6,1490.6,1508.5,1493.9,1448.3,1503.2,1492.6999999999998,1484.4,1491.5,1495.5,1433.5,1442.8999999999999,1454.4,1464.8999999999999,1416.1]
["AreaTotal cerealsGermany","Area","Total cereals","Germany",6507.2777777777774,5679.7000000000007,5634.4,5800.8,6039.9,6308.2000000000007,6244.5000000000009,5989.4000000000005,7015.6000000000013,7045.6,6940.9000000000005,6839.4,6946.9,6839.0000000000009,6702.1,6571.7,7038.4000000000005,6908.5000000000009,6595.4800000000005,6500.4999999999991,6527.2999999999993,6533.7000000000007,6468.6,6525.9333333333343,6324.8777777777786,6287.6703703703697]
["AreaTotal cerealsEstonia","Area","Total cereals","Estonia",331.4666666666667,548.90000000000009,533.6,523,498.09999999999997,544.1,567.19999999999993,541.6,332.8,274.10000000000002,259.2,263.2,260.8,281.89999999999998,280.10000000000002,292.09999999999997,309.09999999999997,316.3,275.3,297,290.5,311.09999999999997,332.90000000000003,350.4,351.40000000000003,334.36666666666656]
["AreaTotal cerealsIreland","Area","Total cereals","Ireland",301.38666666666671,2761.7999999999997,2677,2680.7,2773.9,2865,2931.9,2872.7999999999997,277.10000000000002,283.7,297.5,299.86,306.34999999999997,276.47000000000003,274.86,273.07,320.74,298.47000000000003,272.33,296.17999999999995,314.49,306.71000000000004,305.89999999999998,291.55,280.33999999999997,278]
["AreaTotal cerealsGreece","Area","Total cereals","Greece",946.76666666666654,1559.5,1518.4,1428.2,1482.9,1510.2,1365.3999999999999,1393.6,1192.9299999999998,1354.0800000000002,1283.2099999999996,1260.2500000000002,1237.77,1224.6099999999999,1049.3000000000002,1022.5000000000001,1108.8099999999997,1233.3299999999997,1013.24,931.49000000000012,952.71000000000015,956.93,1011.44,927.96,930.6600000000002,900.66000000000008]
["AreaTotal cerealsSpain","Area","Total cereals","Spain",6120.5566666666673,8495.7000000000007,8691.9,8965.2999999999993,8287.3999999999978,9149.4000000000015,8422.4,8139.1,6689.4000000000015,6311.9,6615.6,6508.5000000000009,6480.2000000000007,6479.1,6197.9999999999991,6142.6,6644.5,5954,5917.68,6207.18,6048.07,6155.8800000000019,6202.72,6086.5800000000008,6119.21,6024.81]
["AreaTotal cerealsFrance","Area","Total cereals","France",9522.8266666666659,8469,8087.1999999999989,8213.3000000000011,8750,9110.4,9127.8000000000011,8819.0000000000018,9054.9000000000015,8917.2000000000007,9309.5000000000018,8932.6,9329,9158.0000000000018,9030.9,9072.3000000000011,9645.9,9357,9218.56,9177.6999999999989,9371.0500000000011,9452.7000000000007,9575.0299999999988,9559.36,9556.42,9495]
["AreaTotal cerealsCroatia","Area","Total cereals","Croatia",532.59,899.59654999999998,929.09254999999985,929.56054999999992,887.72055,907.52755000000002,976.43455000000006,814.28155000000015,562.4,584,578.69999999999993,558.8900000000001,566.96,544.19000000000005,560.64,556.72,561.00000000000011,562.59999999999991,549.6099999999999,540.5,586.15000000000009,584.14000000000021,495.38,489.6400000000001,518.25,446.34999999999997]
["AreaTotal cerealsItaly","Area","Total cereals","Italy",3200.3585185185184,3830.4919999999997,3827.4800000000005,3949.6439999999998,3964.1959999999995,3945.2839999999997,3851.8399999999997,3930.4519999999998,3913.1999999999994,3915.6,4065.9000000000005,3928.0999999999995,4048.9999999999995,3778.2,3574.9999999999995,3700.6,3814.2,3215.3,3225.0200000000004,3172.59,3360.7333333333336,3305.76,3206.8466666666664,3088.4688888888882,2984.0600000000004,3023.42]
["AreaTotal cerealsCyprus","Area","Total cereals","Cyprus",29.64,373.1,315.3,322.29999999999995,394.40000000000003,387.3,457.1,334.3,51.5,56,57.599999999999994,72.750000000000014,66.400000000000006,62.15,59.22,43.56,38.700000000000003,31.150000000000002,32.889999999999993,35.919999999999995,37.820000000000007,30.76,25.310000000000002,32.85,24.029999999999998,25.87]
["AreaTotal cerealsLatvia","Area","Total cereals","Latvia",628.63333333333333,2263.8000000000002,2233.6,2225.6999999999998,2364.7999999999997,2455.3000000000002,2452.3000000000002,2214.4,419.99999999999994,443.70000000000005,415.00000000000006,428.5,436.70000000000005,468.9,511.79999999999995,521.9,544.19999999999993,540.79999999999995,517.19999999999993,515.69999999999993,563.9,577.6,638.80000000000007,669.49999999999989,706.09999999999991,706.5]
["AreaTotal cerealsLithuania","Area","Total cereals","Lithuania",1272.6533333333334,1039.2,993,894,928.80000000000007,1005.1,935.2,879.9,980.81785714285706,937.00714285714287,918,864.60000000000014,878.49999999999989,956.1,962.89999999999986,1003.3,1022,1103.5,1012.0000000000001,1064.7,1159.7,1213.3999999999999,1288.8,1329.1200000000003,1315.7599999999998,1181.5666666666666]
["AreaTotal cerealsLuxembourg","Area","Total cereals","Luxembourg",28.45,29.1,29.2,28.4,29.3,28.799999999999997,28.7,27.000000000000004,28.7,28.000000000000004,29.4,28.899999999999995,27.9,28.3,28.9,28.5,31.1,30.399999999999995,29.939999999999998,28.790000000000003,27.849999999999998,29.069999999999993,28.419999999999998,29.28,27.86,28.793333333333333]
["AreaTotal cerealsHungary","Area","Total cereals","Hungary",2759.7466666666674,2602,2767,2631,2709,2866,2770.6000000000004,2379,2760.3999999999996,3078.9999999999995,2952.2,2883.2999999999997,2998.9,2930.8,2835.9000000000005,2762.6333333333332,2905.7,2879.3000000000006,2592.6266666666656,2674.81,2753.03,2812.04,2814.87,2714.1700000000005,2570.6899999999996,2493.7900000000004]
["AreaTotal cerealsMalta","Area","Total cereals","Malta",0,0,0,0,0,0,0,0,0,0,0,0,0,0,0,0,0,0,0,0,0,0,0,0,0,0]
["AreaTotal cerealsNetherlands","Area","Total cereals","Netherlands",199.53333333333333,179.8,189.2,190.5,198.8,202.5,205,187.4,226.39999999999998,235.79999999999998,232.99999999999997,225.5,222.8,221.69999999999996,219.20000000000002,222.20000000000002,243.2,228.4,217.79999999999995,213,209,210,194,195.60000000000002,177.78,171.79999999999998]
["AreaTotal cerealsAustria","Area","Total cereals","Austria",792.48666666666657,776.30000000000007,769.4,755.89999999999986,781.80000000000007,790.2,780.3,753.80000000000007,830,824.19999999999993,814.00000000000011,809.90000000000009,815.80000000000007,796.2,776.70000000000016,811.19999999999993,841.1,835.09999999999991,811.8,807.28,811.52,784.02,809.11999999999978,780.70999999999992,784.31999999999994,775.34]
["AreaTotal cerealsPoland","Area","Total cereals","Poland",7492.1666666666652,8359.1999999999989,8091.2,8179.5999999999985,8366.1,8663.5000000000018,8615.9,8522.8000000000011,8813.6,8820.1,8293.7999999999993,8163.2,8377.0999999999985,8328.7999999999993,8381.2000000000007,8353,8598.9000000000015,8582.7999999999993,7637.5999999999995,7803.1,7704.3,7479.5,7485.0000000000009,7512,7462.4299999999994,7784.9400000000005]
["AreaTotal cerealsPortugal","Area","Total cereals","Portugal",257.62666666666672,626.40000000000009,591,605,581,615.70000000000005,439.4,520,560.92000000000007,473.81,494.91999999999996,429.53999999999996,440.54,369.1,349.41000000000008,285.8,339.98999999999995,312.77000000000004,276.23,252.8,257.78999999999996,284.92,274.09000000000003,241,233.26666666666668,217.93555555555557]
["AreaTotal cerealsRomania","Area","Total cereals","Romania",5438.86,7767.3,8051.5000000000009,8043.9000000000005,7435.8,7973.6,7534.7999999999993,7048.2,5653.76,6293.7599999999993,6037.6,5541.7200000000012,6264.1600000000008,5861.8600000000006,5109.2199999999993,5121.4400000000005,5200.9799999999996,5269.72,5028.3200000000006,5212.1800000000012,5429.9699999999993,5409.88,5431.25,5455.3600000000006,5462.52,5137.0500000000011]
["AreaTotal cerealsSlovenia","Area","Total cereals","Slovenia",99.23,2932.8919999999994,3062.18,3152.0439999999999,3194.5959999999995,3246.6840000000002,3232.84,3608.252,102.60000000000001,104.81000000000002,99.3,99.329999999999984,99.870000000000019,94.669999999999987,96.440000000000012,99.81,105.99999999999999,100.98,94.77000000000001,95,99.74,98.97,99.86999999999999,98.96,98.98,98.391111111111115]
["AreaTotal cerealsSlovakia","Area","Total cereals","Slovakia",763.51666666666677,3644.8919999999994,3797.1800000000003,3876.6439999999998,3900.2959999999998,3978.4839999999995,3974.4399999999996,4261.9520000000002,838.30000000000007,850.80000000000007,820.19999999999993,800.40000000000009,819.3,799.90000000000009,740,784.49999999999989,799.3,768,684.33,741.9,793.81000000000006,759.08999999999992,779.04,749.20999999999992,752.42000000000007,726.92]
["AreaTotal cerealsFinland","Area","Total cereals","Finland",1051.9666666666665,3687.7919999999999,3860.88,3973.6440000000002,4099.8960000000006,4204.2839999999997,4203.54,4595.0519999999997,1166.9000000000001,1156,1190.4000000000001,1191.9000000000001,1221.2,1187.5,1152.5000000000002,1168.3,1251.3,1203,951.49999999999989,1042.4000000000001,1036.3,1099.8,1119,1019.8,995.99999999999989,1075.2]
["AreaTotal cerealsSweden","Area","Total cereals","Sweden",1005.1300000000002,1143.0999999999999,1168.7,1100.1999999999996,1219.5999999999999,1276,1288.1000000000001,1166.8999999999996,1207.7,1164.9000000000001,1115.8,1146.3000000000002,1116.3000000000002,1013.2,961.80000000000007,981.9,1077.7,1032.5,950.05,987.50000000000011,992.7,974.40999999999985,1023.64,1019.3100000000001,1003.3800000000001,1013.02]
["AreaTotal cerealsUnited Kingdom","Area","Total cereals","United Kingdom",3125.6015000000002,3027.5999999999995,3035.9,3173.2,3350.3999999999996,3505.4,3410.3999999999996,3132,3347.7999999999997,3013.3,3244.6000000000004,3055.9,3129.5,2918.3,2863.1,2883.9,3273.6,3075,3013,3082,3149.8045000000002,3041.0099999999998,3184.27,3099,3128,3169]
["Gross productionSoft wheatEU-28","Gross production","Soft wheat","EU-28",140320.17333333334,104112.730976215,107213.92363076699,112500.162908624,115841.58385928799,119591.58799999997,125901.523743104,115619.54017440001,123647.49999999999,118222.45,124216.39000000001,103182.63,137464,126597.46999999999,118222.09000000001,112582.94,141334.24999999997,130395.37999999998,127847.3,131142.1,125950.89000000003,136207.45000000001,149675.26000000004,152515.07999999999,135077.81,140460.08500000002]
["Gross productionSoft wheatEU-15","Gross production","Soft wheat","EU-15",98631.67,76971.000000000015,77452.2,80599.499999999985,90921.299999999974,87522.7,94453.099999999991,89173.099999999991,95532.72,83155.47,94274.47,81967.87,100079.19999999998,93253.03,90662.390000000014,86093.87999999999,104198.71999999997,96848.839999999982,95826.310000000012,95739.510000000009,92726.700000000012,96798.35,106369.96,107789.43999999999,89776.150000000009,97214.194333333347]
["Gross productionSoft wheatEU-N13","Gross production","Soft wheat","EU-N13",42480.013333333343,27141.730976214982,29761.723630766995,31900.662908624014,24920.283859288014,32068.887999999977,31448.423743104009,26446.440174400021,28114.779999999984,35066.979999999996,29941.920000000013,21214.760000000009,37384.800000000017,33344.439999999988,27559.699999999997,26489.060000000012,37135.53,33546.539999999994,32020.989999999991,35402.589999999997,33224.190000000017,39409.100000000006,43305.300000000032,44725.64,45301.659999999989,43245.890666666673]
["Gross productionSoft wheatBelgium","Gross production","Soft wheat","Belgium",1865.7266666666667,1463.1,1424.7,1522.9,1844.1,1661,1771.8,1528.5,1687.6,1457.4,1675.1,1692.9,1913.1,1799.4,1719.5,1645.3,1944.3,1978.1,1912.8,1687.73,1834.6,1843.6,1918.98,2076.2600000000002,1445.83,1793.1556000000005]
["Gross productionSoft wheatBulgaria","Gross production","Soft wheat","Bulgaria",5255.7733333333335,3618.2,3754.3,3435.3,1802.1,3574.8,3751.3,3117.8,3365.9,4015,4066.1,1959.5,3891.1,3399.9,3248,2376.6,4610.1000000000004,3792.3,3999.29,4305.18,4404.8999999999996,5464.06,5323.68,4979.58,5605.42,5796.9999999999991]
["Gross productionSoft wheatCzech Republic","Gross production","Soft wheat","Czech Republic",5139.1066666666675,3304.3,3713.5,3822.8,3727.2,3640.3,3844.7,4028.3,4084.1,4476.1000000000004,3866.5,2637.9,5042.5,4145,3506.3,3938.9,4631.5,4358.1000000000004,4161.55,4913.05,3518.9,4700.7,5442.35,5274.27,5454.66,4601.2918]
["Gross productionSoft wheatDenmark","Gross production","Soft wheat","Denmark",4585.5333333333328,4334.3999999999996,3725.2,4598.5,4757,4965,4928,4471,4693.3999999999996,4663.8999999999996,4056.2,4701.3999999999996,4758.5,4887.2,4801.6000000000004,4519.2,5018.7,5940.4,5059.8999999999996,4831.3999999999996,4525.1000000000004,4145.2,5153.3,5030,4201.5,4209.38]
["Gross productionSoft wheatGermany","Gross production","Soft wheat","Germany",25252.633333333331,15720.3,16422.400000000001,17725.5,18875,19793.2,20127.5,19550.7,21578.1,22814,20792,19225.099999999999,25377.1,23641.9,22365.9,20790.099999999999,25949.8,25125.4,23671.21,22710.2,22351.8,24966.400000000001,27711.200000000001,26462.3,24329.200000000001,24627.68]
["Gross productionSoft wheatEstonia","Gross production","Soft wheat","Estonia",518.56666666666672,105.6,57.1,77.099999999999994,101.3,111.2,118,88.4,146.80000000000001,132.9,148.4,144.9,196.6,263.39999999999998,219.6,345.7,342.5,342.5,327.60000000000002,360.2,484.7,406.8,615.5,812.6,455.5,533.04533333333325]
["Gross productionSoft wheatIreland","Gross production","Soft wheat","Ireland",684.08333333333337,538.70000000000005,571.79999999999995,583,771.2,724.5,673,597.4,737.4,769.2,867.2,794.1,1019.2,802.7,800.98,713.41,992.85,690.09,669.16,929.23,707.9,545.33000000000004,716.95,696.6,647.75,682.31]
["Gross productionSoft wheatGreece","Gross production","Soft wheat","Greece",467.87666666666684,862,998,717,676,620,595,621,408.52,399.26,380.53,321.72000000000003,273.70999999999998,270.07,430.83,465.91,525.23,489.68,427.57,443.93,476.82,568.84,621.66,352.98,357.97,488.5052]
["Gross productionSoft wheatSpain","Gross production","Soft wheat","Spain",5965.1099999999979,4183.2,3301,2715.7,4343.1000000000004,3523.4,4071.5,4555,5354.4,3108.2,4669,4029.8,4388.8999999999996,3092.2,3878.4,5209.2,5646.6,3404.6,4941.33,6876.65,4690.33,6811.65,5645.94,5437.74,6913.06,4551.5259999999998]
["Gross productionSoft wheatFrance","Gross production","Soft wheat","France",36636.273333333331,28311.9,29458.1,29831.4,34675.5,32983,38245.1,35394.6,35668.400000000001,30188.7,37319.699999999997,29053.7,37607.300000000003,34843.300000000003,33263.800000000003,30779,36900.199999999997,36233.4,35486.639999999999,33970.21,35540.83,36866.58,37501.410000000003,40910.300000000003,27840.99,36793.9]
["Gross productionSoft wheatCroatia","Gross production","Soft wheat","Croatia",884.20666666666682,665.53097621500012,550.32363076700005,672.36290862400017,546.08385928799999,621.98800000000006,797.22374310400005,383.84017440000002,865.3,811.7,822.7,506.21,801.42,601.75,804.6,812.35,849.5,930.8,674.69,770.22,993.64,994.15,643.34,752.98,906,533.87]
["Gross productionSoft wheatItaly","Gross production","Soft wheat","Italy",3147.936666666667,4095.3,3895.4,3853.2,3500,3000.9,3447.7,3228.3,3117.3,2789.3,3279.9,2512,3093,3286.1,3193,3247.5,3746.2,2692.9,2952.8,2828.88,3494.18,3341.78,3105.86,2996.17,2988.55,2844.9977999999996]
["Gross productionSoft wheatCyprus","Gross production","Soft wheat","Cyprus",0,0,0,0,0,0,0,0,0,0,0,0,0,0,0,0,0,0,0,0,0,0,0,0,0,0]
["Gross productionSoft wheatLatvia","Gross production","Soft wheat","Latvia",1689.8666666666668,338.3,199.4,243.7,357.5,394.6,385.3,351.9,427.4,451.7,519.5,468.4,499.9,676.5,598.29999999999995,807.3,989.6,1036.4000000000001,989.4,939.5,1539.8,1435,1467.5,2250.1,2062.3000000000002,1985.7600000000002]
["Gross productionSoft wheatLithuania","Gross production","Soft wheat","Lithuania",3342.6433333333334,890.6,549.4,637.29999999999995,936.2,1127.4000000000001,1031,870.9,1237.5999999999999,1076.3,1217.5999999999999,1204.0999999999999,1430.2,1379.4,809.8,1390.7,1722.5,2100.1999999999998,1710.4,1869.3,2998.9,2871.3,3230.6,4380.33,3798.43,3610.9999999999995]
["Gross productionSoft wheatLuxembourg","Gross production","Soft wheat","Luxembourg",82.733333333333334,48.5,45.2,52.7,64.400000000000006,57.4,60.1,46.4,61.2,54,71.7,68.599999999999994,80,71.7,75.599999999999994,70.5,97.2,90.9,83.47,76.84,79.2,91.06,77.94,91.06,70.069999999999993,78.269333333333336]
["Gross productionSoft wheatHungary","Gross production","Soft wheat","Hungary",5141.8933333333334,2991,4844,4584,3880,5228,4862.3999999999996,2604.1,3647.95,5147.68,3867.6,2917.5,5952.9,5049.2,4336.3999999999996,3957.5,5594.2,4371.3999999999996,3701.03,4056.73,3965.36,4993.45,5194.66,5237.57,5441.54,5147.4130000000005]
["Gross productionSoft wheatMalta","Gross production","Soft wheat","Malta",0,0,0,0,0,0,0,0,0,0,0,0,0,0,0,0,0,0,0,0,0,0,0,0,0,0]
["Gross productionSoft wheatNetherlands","Gross production","Soft wheat","Netherlands",1297.9266666666665,1034.9000000000001,981,1166.7,1268.9000000000001,1062.5999999999999,1072,851.4,1142.7,990.7,1056.5999999999999,1130.0999999999999,1223.9000000000001,1174.7,1184.5,1018.4,1366.2,1402,1370,1175,1302,1335,1304,1287.78,1018.53,1115.8920000000001]
["Gross productionSoft wheatAustria","Gross production","Soft wheat","Austria",1636.3300000000002,984.9,1217.0999999999999,1264.5999999999999,1197.9000000000001,1301.9000000000001,1275.7,1317.8,1269.3,1462.2,1384.8,1127.5999999999999,1630.2,1390.4,1319.7,1346.1,1598.4,1456.7,1439.07,1703.84,1231.82,1534.57,1737.16,1637.26,1853.05,1491.5392000000002]
["Gross productionSoft wheatPoland","Gross production","Soft wheat","Poland",10423.633333333333,8242.7000000000007,7658.5,8668,8575.9,8192.7000000000007,9536.6,9051.2999999999993,8502.9,9283,9304,7858.2,9892.5,8771.4,7059.7,8317.2999999999993,9274.9,9789.9,9408.1,9339.2000000000007,8607.6,9485.2000000000007,11628.7,10957.8,10827.9,11286.823]
["Gross productionSoft wheatPortugal","Gross production","Soft wheat","Portugal",81.826666666666668,403,420,329,362,297.5,123.1,238,182.2,50.91,85.84,36.15,58.29,80.36,242.08,99.76,196.34,103.77,66.959999999999994,47.1,54.72,89.34,94.96,74.489999999999995,81.650000000000006,64.542400000000001]
["Gross productionSoft wheatRomania","Gross production","Soft wheat","Romania",7601.1799999999994,5314.1,6135.3,7666.6,3143.8,7153,5176.6000000000004,4659.1000000000004,4430.67,7725.42,4412.55,2477.4299999999998,7798.05,7330.5,5517.75,3043.17,7176.03,5186.74,5783.57,7116.93,5275.63,7283.62,7565.41,7954.51,8363.99,7924.2]
["Gross productionSoft wheatSlovenia","Gross production","Soft wheat","Slovenia",164.49,142.9,155.30000000000001,155.6,137.1,138.9,169.1,117.3,162.56,181.08,174.87,122.92,146.83000000000001,141.29,134.44999999999999,133.34,160.30000000000001,136.9,153.47999999999999,153.58000000000001,188.07,138.24,173.24,157.06,163.16999999999999,168.40833333333333]
["Gross productionSoft wheatSlovakia","Gross production","Soft wheat","Slovakia",1875.2466666666667,1528.5,2144.6,1937.9,1713.1,1886,1776.2,1173.5,1243.5999999999999,1766.1,1542.1,917.7,1732.8,1586.1,1324.8,1366.2,1784.4,1501.3,1111.8800000000001,1578.7,1246.69,1636.58,2020.32,1968.84,2222.75,1657.0792000000004]
["Gross productionSoft wheatFinland","Gross production","Soft wheat","Finland",916.19999999999982,358.5,337.4,379.5,459.3,464.1,396.9,254.1,538.29999999999995,488.9,569,679,782.3,801.2,684.1,796.8,787.5,887,724.4,974.8,887.1,869.4,1088.2,992.1,810.5,844.60200000000009]
["Gross productionSoft wheatSweden","Gross production","Soft wheat","Sweden",2736.7333333333331,1746.3,1344.9,1553.8,2029.9,2056.1999999999998,2248.6999999999998,1658.9,2399.9,2344.8000000000002,2112.6,2282.6999999999998,2412.3000000000002,2246.8000000000002,1967.4,2255.6999999999998,2202.1999999999998,2277.9,2143,2226.6999999999998,2289.3000000000002,1868.6,3086.4,3300.4,2834.5,3109.9648000000002]
["Gross productionSoft wheatUnited Kingdom","Gross production","Soft wheat","United Kingdom",14696,12886,13310,14306,16097,15012,15417,14860,16694,11574,15954.3,14313,15461.4,14865,14735,13137,17227,14076,14878,15257,13261,11921,16606,16444,14383,14517.93]
["Gross productionDurum wheatEU-28","Gross production","Durum wheat","EU-28",8298.8033333333351,6740.2320000000009,7990.3279999999995,6856.9679999999998,8505.1039999999994,7170.6999999999989,9155.5520000000015,8223.8399999999983,9764.5898565599691,8652.3959500602614,9995.4346182251975,8769.3798846432182,12409.27015797461,9176.3485371307033,9199.6965310925316,8225.7948224090578,10060.68,9214.6400000000012,9405.6899999999987,8583,8411.1500000000015,8096.56,7703.7099999999991,8388.6999999999989,9260.2000000000007,9128.6874073146828]
["Gross productionDurum wheatEU-15","Gross production","Durum wheat","EU-15",8080.7633333333333,6641.5320000000011,7895.3279999999995,6758.9679999999998,8405.1039999999994,7072.4999999999991,9044.152,8122.04,9650.4500000000025,8481.93,9857.7800000000025,8667.9699999999993,12224.140000000001,9013.36,9021.8700000000008,8152.1399999999994,9950.56,8910.17,9139.3700000000008,8276.7000000000007,8235.6299999999992,7910.4100000000008,7529.6799999999994,8096.2499999999991,8779.85,8739.6380220505125]
["Gross productionDurum wheatEU-N13","Gross production","Durum wheat","EU-N13",218.04000000000056,98.699999999999818,95,98,100,98.199999999999818,111.40000000000146,101.79999999999836,114.13985655996657,170.46595006026109,137.65461822519501,101.4098846432189,185.13015797460866,162.98853713070275,177.82653109253079,73.654822409058397,110.1200000000008,304.47000000000116,266.31999999999789,306.29999999999927,175.52000000000226,186.14999999999964,174.02999999999975,292.44999999999982,480.35000000000036,389.04938526417027]
["Gross productionDurum wheatBelgium","Gross production","Durum wheat","Belgium",0,0,0,0,0,0,0,0,0,0,0,0,0,0,0,0,0,0,0,0,0,0,0,0,0,0]
["Gross productionDurum wheatBulgaria","Gross production","Durum wheat","Bulgaria",41.036666666666669,40,40,40,40,40,48.7,37.5,40.4,62.5,56.7,44.5,70.099999999999994,78.099999999999994,99.44,14,22.1,184.5,95.3,153.31,50.2,40.89,23.4,32.020000000000003,54.38,47.080000000000005]
["Gross productionDurum wheatCzech Republic","Gross production","Durum wheat","Czech Republic",0,0,0,0,0,0,0,0,0,0,0,0,0,0,0,0,0,0,0,0,0,0,0,0,0,0]
["Gross productionDurum wheatDenmark","Gross production","Durum wheat","Denmark",0,0,0,0,0,0,0,0,0,0,0,0,0,0,0,0,0,0,0,0,0,0,0,0,0,0]
["Gross productionDurum wheatGermany","Gross production","Durum wheat","Germany",72.766666666666666,46.2,58.1,37.799999999999997,46.7,33.5,60,64.599999999999994,43.4,23.8,25.8,34.700000000000003,50.1,50.8,62,38,38.700000000000003,64.900000000000006,111.75,72.599999999999994,57.4,52.7,73.599999999999994,87.3,134.6,72.314000000000021]
["Gross productionDurum wheatEstonia","Gross production","Durum wheat","Estonia",0,0,0,0,0,0,0,0,0,0,0,0,0,0,0,0,0,0,0,0,0,0,0,0,0,0]
["Gross productionDurum wheatIreland","Gross production","Durum wheat","Ireland",0,0,0,0,0,0,0,0,0,0,0,0,0,0,0,0,0,0,0,0,0,0,0,0,0,0]
["Gross productionDurum wheatGreece","Gross production","Durum wheat","Greece",971.68,1108,1700,1422,1410,1462,1468,1400,1450.34,1428.24,1401.88,1308.05,1500.16,1490.99,1144.07,917.74,1414.12,1650.79,1560.09,1406.13,1090.75,1117.58,1033.6400000000001,785.66,790.65,879.40599999999984]
["Gross productionDurum wheatSpain","Gross production","Durum wheat","Spain",894.52666666666664,789.8,1002,423,1697.3,1152.9000000000001,1364.8,726,1939.2,1899.5,2153.1999999999998,1989.2,2707.8,934.5,1643.2,1227.0999999999999,1184.8,1368.1,999.86,900.35,499.49,933.16,825.46,924.96,1029.8900000000001,970.38900000000001]
["Gross productionDurum wheatFrance","Gross production","Durum wheat","France",1738.1866666666667,890.8,1040.8,1036.9000000000001,1259.7,878.8,1551.9,1558.7,1685,1351.6,1613.7,1427.3,2085.6,2042.2,2099.8000000000002,1990.9,2101.5,2091.1999999999998,2548.86,2022.58,2379.9699999999998,1770.91,1490.22,1805.62,1638.03,2050.39]
["Gross productionDurum wheatCroatia","Gross production","Durum wheat","Croatia",6.3700000000000019,0,0,0,0,0,0,0,4.7498565599656404,4.7659500602623286,4.6146182251959029,4.6098846432177867,4.7201579746101761,4.6785371307037158,4.7265310925304211,4.954822409057031,8.9,5.2,6.32,12.28,6.05,4.79,7.46,10.01,5.6,13.124403848558837]
["Gross productionDurum wheatItaly","Gross production","Durum wheat","Italy",4198.1533333333327,3748.6320000000001,4007.4279999999999,3765.4680000000003,3899.6039999999994,3456.8999999999996,4499.3519999999999,4153.34,4310.3,3624,4267.8,3717.5,5545.7,4431,3988.7,3922.7,5113.2,3648.1,3824.46,3793.13,4160.07,3970.24,4036.06,4398.33,5049.32,4663.0016000000005]
["Gross productionDurum wheatCyprus","Gross production","Durum wheat","Cyprus",19.013333333333335,11.7,8,11,13,11.5,11.6,14,10,10.5,12.9,14.28,9.93,9.25,7.52,10.71,2.4700000000000002,14.69,18.89,23.74,22.92,15.18,4.4400000000000004,35.36,18.940000000000001,21.414400000000004]
["Gross productionDurum wheatLatvia","Gross production","Durum wheat","Latvia",0,0,0,0,0,0,0,0,0,0,0,0,0,0,0,0,0,0,0,0,0,0,0,0,0,0]
["Gross productionDurum wheatLithuania","Gross production","Durum wheat","Lithuania",0,0,0,0,0,0,0,0,0,0,0,0,0,0,0,0,0,0,0,0,0,0,0,0,0,0]
["Gross productionDurum wheatLuxembourg","Gross production","Durum wheat","Luxembourg",0,0,0,0,0,0,0,0,0,0,0,0,0,0,0,0,0,0,0,0,0,0,0,0,0,0]
["Gross productionDurum wheatHungary","Gross production","Durum wheat","Hungary",75.313333333333318,30,30,30,30,30,32.799999999999997,34.200000000000003,44.52,49.08,42.6,23.8,54,39,39.799999999999997,29.2,36.6,47.7,44.16,49.9,45.63,64.849999999999994,67.23,93.86,150.59,91.697000000000017]
["Gross productionDurum wheatMalta","Gross production","Durum wheat","Malta",0,0,0,0,0,0,0,0,0,0,0,0,0,0,0,0,0,0,0,0,0,0,0,0,0,0]
["Gross productionDurum wheatNetherlands","Gross production","Durum wheat","Netherlands",0,0,0,0,0,0,0,0,0,0,0,0,0,0,0,0,0,0,0,0,0,0,0,0,0,0]
["Gross productionDurum wheatAustria","Gross production","Durum wheat","Austria",72.826666666666668,33.1,38,36.799999999999997,41.8,50.4,66.099999999999994,98.4,43.7,46.1,49.5,63.8,88.6,62.7,76.599999999999994,53.2,91.3,66.7,78.73,78,43.68,63.14,66.86,88.48,123.99,94.723199999999991]
["Gross productionDurum wheatPoland","Gross production","Durum wheat","Poland",0,0,0,0,0,0,0,0,0,0,0,0,0,0,0,0,0,0,0,0,0,0,0,0,0,0]
["Gross productionDurum wheatPortugal","Gross production","Durum wheat","Portugal",4.669999999999999,19,43,31,44,32,28,115,172.51,102.69,327.2,113.42,234.58,1.17,7.5,2.5,6.94,20.38,15.62,3.91,4.2699999999999996,2.68,3.84,5.9,13.37,9.4142220505132332]
["Gross productionDurum wheatRomania","Gross production","Durum wheat","Romania",16.906666666666666,4,4,4,4,3.7,5.2,2.2999999999999998,3.77,9.7200000000000006,8.44,1.62,14.38,10.16,8.44,1.29,4.95,15.78,28.24,14.67,22.11,12.75,19.41,7.91,18.559999999999999,17.605581415609478]
["Gross productionDurum wheatSlovenia","Gross production","Durum wheat","Slovenia",0,0,0,0,0,0,0,0,0,0,0,0,0,0,0,0,0,0,0,0,0,0,0,0,0,0]
["Gross productionDurum wheatSlovakia","Gross production","Durum wheat","Slovakia",71.023333333333355,13,13,13,13,13,13.1,13.8,10.7,33.9,12.4,12.6,32,21.8,17.899999999999999,13.5,35.1,36.6,73.41,52.4,28.61,47.69,52.09,113.29,232.28,198.12799999999999]
["Gross productionDurum wheatFinland","Gross production","Durum wheat","Finland",0,0,0,0,0,0,0,0,0,0,0,0,0,0,0,0,0,0,0,0,0,0,0,0,0,0]
["Gross productionDurum wheatSweden","Gross production","Durum wheat","Sweden",0,0,0,0,0,0,0,0,0,0,0,0,0,0,0,0,0,0,0,0,0,0,0,0,0,0]
["Gross productionDurum wheatUnited Kingdom","Gross production","Durum wheat","United Kingdom",0,6,6,6,6,6,6,6,6,6,18.7,14,11.6,0,0,0,0,0,0,0,0,0,0,0,0,0]
["Gross productionRyeEU-28","Gross production","Rye","EU-28",8525.7982220270023,11043.573,11386.346000000001,13380.051000000001,12193.816999999999,12397.008999999998,13049.23,11463.346,10261.490000000002,11959.53,9213.35,6926.3000000000011,10014.27,7691.8700000000008,6574.6299999999992,7661.0099999999993,9288.9599999999973,9876.8399999999983,7732.3248320130078,6836.7104504987092,8712.2899765782531,10451.937329791897,9068.0961063644736,7797.0085831382821,7412.5076159549326,7685.1509125248049]
["Gross productionRyeEU-15","Gross production","Rye","EU-15",5260.0083621881358,4637.9999999999991,4967,6128.4,5658.4,5982.5999999999995,6329.1000000000013,5482.6999999999989,5421.1900000000014,6251.0000000000009,4708.4700000000012,3170.8700000000008,4830.88,3627.5700000000006,3468.72,3779.0699999999993,4920.0200000000004,5390.1799999999994,3987.8448320130078,3768.7231749991029,5129.6899242499685,6212.1646773165157,5485.5165791761583,5164.8185831382816,4677.9976159549342,4424.9358707760912]
["Gross productionRyeEU-N13","Gross production","Rye","EU-N13",3299.8965265055335,6405.5730000000012,6419.3460000000014,7251.6510000000017,6535.4169999999995,6414.4089999999987,6720.1299999999983,5980.6460000000006,4840.3,5708.53,4504.8799999999992,3755.4300000000003,5183.3900000000003,4064.3,3105.9099999999994,3881.94,4368.9399999999969,4486.6599999999989,3744.48,3067.9872754996063,3582.6000523282846,4239.7726524753816,3582.5795271883153,2632.1900000000005,2734.5099999999984,3260.2150417487137]
["Gross productionRyeBelgium","Gross production","Rye","Belgium",2.367581155513887,10.3,11.7,9.1,8.6999999999999993,7.7,7.1,4,4.8,2.9,2.8,2.7,3.2,2.2999999999999998,2.7,2.4,2.2000000000000002,2.7,2,2.38,2.6,3,1.9427434665416614,2.56,1.94,2.4067758365437082]
["Gross productionRyeBulgaria","Gross production","Rye","Bulgaria",21.8,25.3,22.3,19.399999999999999,16.100000000000001,26.9,26.6,29.3,22.8,39,18.3,11.9,17,13.6,12.7,8.5,14.8,18.899999999999999,17.5,19.84,22,29.15,28.22,11.21,15.18,14.399999999999999]
["Gross productionRyeCzech Republic","Gross production","Rye","Czech Republic",127.96333333333337,256.10000000000002,275.60000000000002,261.89999999999998,204.3,259.39999999999998,261.2,202.4,150.1,149.30000000000001,119.2,159.30000000000001,313.3,196.8,74.8,177.5,209.79,178.1,118.2,118.46,146.96,176.28,129.06,107.87,104.35,115.98839999999998]
["Gross productionRyeDenmark","Gross production","Rye","Denmark",593.93333333333328,355.7,423.1,494.6,342.9,453,538,248,262.5,332.4,229.5,168.5,146.19999999999999,132,130,135.30000000000001,151.5,238.1,250,294.3,384.4,526.79999999999995,677.8,772,577.20000000000005,692.64]
["Gross productionRyeGermany","Gross production","Rye","Germany",3688.6716068229616,2983.6,3450.6,4521.3,4213.8999999999996,4580.1000000000004,4774.8,4328.7,4154.1000000000004,5132.3,3666,2277.4,3830,2793.5,2643.7,2698.3,3744.2,4270,2848.1748320130073,2468.735082508068,3824.3221847895466,4634.0128569809613,3804.4540525410562,3437.2385831382821,3122.1376159549332,2928.5385206287456]
["Gross productionRyeEstonia","Gross production","Rye","Estonia",45.56666666666667,122.5,41.3,58.2,62.1,71.900000000000006,54.6,38.799999999999997,60.8,42.9,41.5,23.3,18.100000000000001,20.399999999999999,17.8,61,65.599999999999994,39.1,25,31,57.1,21.9,49.6,54.7,32.4,39.573999999999998]
["Gross productionRyeIreland","Gross production","Rye","Ireland",0,0,0,0,0,0,0,0,0,0,0,0,0,0,0,0,0,0,0,0,0,0,0,0,0,0]
["Gross productionRyeGreece","Gross production","Rye","Greece",28.49,41.7,42,37,32,33,42,31,22.34,30.3,25.07,26.01,16.510000000000002,17.02,35.72,36.97,36.31,40.340000000000003,42.19,36.64,27.8,34.049999999999997,47.9,22.97,23.62,32.589199999999998]
["Gross productionRyeSpain","Gross production","Rye","Spain",306.00835343141301,333.2,206.7,168.3,295.7,211.8,213.8,218,220,101.5,176.6,176.9,162.69999999999999,126.5,165,261.39999999999998,283.2,180.3,258.39999999999998,337.80142582436844,243.46885057153315,389.33663515036915,247.31842514387009,281.37,390.68,183.28]
["Gross productionRyeFrance","Gross production","Rye","France",131.53999999999996,166.3,163.19999999999999,177.2,202.8,179.2,193.3,164.9,145.80000000000001,116,139.19999999999999,112.3,170.8,147.30000000000001,121.5,116.8,123.5,129.80000000000001,151.04,124.41,160.30000000000001,143.08000000000001,128.05000000000001,123.49,96.91,112.08]
["Gross productionRyeCroatia","Gross production","Rye","Croatia",3.0400000000000005,6.2729999999999997,7.1459999999999999,5.0510000000000002,5.5170000000000003,5.0090000000000003,5.53,6.2460000000000004,7.2,10.8,9.1999999999999993,5.97,8.99,4.74,5.49,4.3600000000000003,4.0999999999999996,2.9,2.5,2.95,2.4300000000000002,2.96,2.8,3.36,5.2,3.6529645968240856]
["Gross productionRyeItaly","Gross production","Rye","Italy",13.553333333333333,22.8,20.3,19.8,8.1,0,0,12.4,10.3,8.6,9.6,6.9,7.9,7.9,8.6,9,10.8,11.7,13.94,14.38,16.079999999999998,14.31,11.53,13.18,13.17,13.173566644556754]
["Gross productionRyeCyprus","Gross production","Rye","Cyprus",0,0,0,0,0,0,0,0,0,0,0,0,0,0,0,0,0,0,0,0,0,0,0,0,0,0]
["Gross productionRyeLatvia","Gross production","Rye","Latvia",126.46666666666665,340.7,113.4,71.3,112.9,133.5,104.8,88.7,110.7,107.2,101.5,87.6,96.8,87.2,116.8,181.1,194.9,162.19999999999999,70.2,64,124.2,75.599999999999994,114.3,159.6,140.9,117.98]
["Gross productionRyeLithuania","Gross production","Rye","Lithuania",96.546666666666667,434.1,313,239.3,286.8,348.2,348.7,260.89999999999998,311.39999999999998,231.1,170.2,147.1,140.6,108.3,90,165.2,204.9,207.9,87,85,156.6,96.5,85.3,107.84,75.989999999999995,62]
["Gross productionRyeLuxembourg","Gross production","Rye","Luxembourg",5.2713580246913603,1.8,1.5,1.7,2.2999999999999998,2.7,4.0999999999999996,3.5,3.6,4.8,7.5,4.5999999999999996,7.9,5.7,6.2,7,8.6999999999999993,6.9,6.9,4.2866666666666662,5.2388888888888889,4.9651851851851854,5.8613580246913575,5.61,4.17,5.3217950661568612]
["Gross productionRyeHungary","Gross production","Rye","Hungary",93.556666666666658,113,193,171,98,153,128.80000000000001,80.3,86.5,121,95.4,67,125.1,107.3,98.7,81.099999999999994,112.5,72.5,79.400000000000006,72.5,78.420246913580257,108.05389574759946,95.94,103.95,80.78,63.706037409186337]
["Gross productionRyeMalta","Gross production","Rye","Malta",0,0,0,0,0,0,0,0,0,0,0,0,0,0,0,0,0,0,0,0,0,0,0,0,0,0]
["Gross productionRyeNetherlands","Gross production","Rye","Netherlands",6.9066666666666663,41.2,26.5,42.5,38.200000000000003,27.9,30.3,14,29,17,16.8,17.899999999999999,16.600000000000001,10.9,10.9,7.6,8,11.2,11.9,6,9,7,7,6.14,6.72,5.6844483666062828]
["Gross productionRyeAustria","Gross production","Rye","Austria",208.53666666666663,291.60000000000002,318.8,313.8,156.19999999999999,207.2,236.4,218.2,182.8,213.5,171.1,132.80000000000001,213.5,163.69999999999999,93.8,188.6,218.5,183.6,161.15,202,204.7,234.69,232.53,171.07,188.38,160.58360000000002]
["Gross productionRyePoland","Gross production","Rye","Poland",2705.3864442010058,4992.1000000000004,5300.1,6287.7,5652.5,5299.5,5663.7,5180.7,4003,4863.6000000000004,3831,3172.2,4280.7,3404.3,2621.6,3125.7,3448.5,3712.9,3270.3,2597.0172754996056,2923.8298054147026,3614.0387567277839,2992.7495271883145,2013.1,2199.58,2773.4628000000002]
["Gross productionRyePortugal","Gross production","Rye","Portugal",16.463333333333328,66.7,64,36,54,41,32.5,56,46.45,24.2,34.299999999999997,26.96,27.27,19.75,23.8,22.7,22.21,19.440000000000001,17.55,18.39,14.78,18.21,17.63,15.49,16.27,13.128]
["Gross productionRyeRomania","Gross production","Rye","Romania",24.143333333333331,40.4,51.2,42.7,20.3,29.3,26.1,21.1,21.8,28.63,20.079999999999998,17.36,55,48.96,35.72,20.58,31.45,32.96,34.28,31.38,18.239999999999998,23.81,24.36,24.26,27.65,23.893074915755964]
["Gross productionRyeSlovenia","Gross production","Rye","Slovenia",4.55,5.8,6.1,5.8,5.5,3.5,3.9,2.6,1.8,2.2999999999999998,2,1.4,3.5,4.0999999999999996,2.1,2.5,2.1,2.2999999999999998,2.5,2.84,3.42,5.01,6.74,4.66,3.98,5.0757648269491638]
["Gross productionRyeSlovakia","Gross production","Rye","Slovakia",50.469999999999992,69.3,96.2,89.3,71.400000000000006,84.2,96.2,69.599999999999994,64.2,112.7,96.5,62.3,124.3,68.599999999999994,30.2,54.4,80.3,56.9,37.6,43,49.4,86.47,53.51,41.64,48.5,40.481999999999999]
["Gross productionRyeFinland","Gross production","Rye","Finland",75.166666666666671,62.9,22.2,57.7,86.9,47.3,49.3,23.6,108.2,64.099999999999994,73,72.8,62.4,32.4,50.9,86.7,60.8,41.7,69,78.400000000000006,64.099999999999994,25.7,74.900000000000006,107.5,86.5,96.018999999999991]
["Gross productionRyeSweden","Gross production","Rye","Sweden",143.69999999999999,230,173.4,206.4,165.7,138.69999999999999,160.5,117.4,187.3,180,128.19999999999999,118.1,133.4,112.3,115.4,137.6,168.8,218.4,117.6,144,139.9,142,173.6,149.19999999999999,101.3,132.65550000000002]
["Gross productionRyeUnited Kingdom","Gross production","Rye","United Kingdom",46.336666666666666,30.2,43,43,51,53,47,43,44,23.4,28.8,27,32.5,56.3,60.5,68.7,81.3,36,38,37,33,35.01,55,57,49,46.835464233481162]
["Gross productionBarleyEU-28","Gross production","Barley","EU-28",60547.436666666654,59965.542921958746,56628.199598839754,55795.419540004499,63716.671052794998,65701.220967896254,63282.911656864984,59140.831077728748,60301.279999999992,59433.029999999992,59030.410000000011,55930.54,64551.169999999991,54828.570000000007,56232.770000000004,58200.079999999994,65713.51999999999,62336.249999999993,53110.12,51865.75,55008.160000000011,61100.889999999985,60695.420000000006,61927.569999999992,59846,58528.434428287896]
["Gross productionBarleyEU-15","Gross production","Barley","EU-15",48939.040000000001,47325.899999999994,43566.7,43418,52664.700000000004,52369.8,51555.999999999993,48723.100000000006,51364.500000000007,48083.189999999995,47989.280000000006,46600.160000000011,51898.94999999999,43420.78,46449.389999999992,47598.18,53418.720000000001,50714.61,43347.600000000006,41566.65,44377.30000000001,49881.839999999989,48774.82,50468.23,48160.460000000006,47299.901207636925]
["Gross productionBarleyEU-N13","Gross production","Barley","EU-N13",11454.643333333326,12639.642921958752,13061.499598839757,12377.419540004499,11051.971052794994,13331.420967896251,11726.911656864992,10417.731077728742,8936.7799999999843,11349.839999999997,11041.130000000005,9330.3799999999901,12652.220000000001,11407.790000000008,9783.3800000000119,10601.899999999994,12294.799999999988,11621.639999999992,9762.5199999999968,10299.099999999999,10630.86,11219.049999999996,11920.600000000006,11459.339999999989,11685.539999999994,11228.53322065097]
["Gross productionBarleyBelgium","Gross production","Barley","Belgium",384.79000000000013,390.6,346.2,356.4,382.4,372.5,374.5,387.6,333.4,368.7,342.7,270.89999999999998,304.8,301.60000000000002,367.3,374.5,428.8,452.6,373.4,339.66,363.6,390.8,399.97,434.14,345.56,374.32913453046132]
["Gross productionBarleyBulgaria","Gross production","Barley","Bulgaria",718.87666666666667,932.5,1143.2,1173,456.7,809.8,631.4,626.5,636.5,930.9,1211.4000000000001,525,1180.8,657.9,546.29999999999995,419.8,878,858.7,833.27,707.02,661.9,728.84,852.23,714.83,712.96,639.64999999999986]
["Gross productionBarleyCzech Republic","Gross production","Barley","Czech Republic",1809.5900000000001,2418.5,2419.3000000000002,2140.5,2262.3000000000002,2484.5,2093.1,2137.4,1629.4,1965.6,1792.6,2068.6999999999998,2330.6,2195.38,1897.7,1893.4,2243.9,2003,1584.46,1813.68,1616.47,1593.76,1967.05,1991.42,1845.25,1640.1973]
["Gross productionBarleyDenmark","Gross production","Barley","Denmark",3918.4999999999995,3369.4,3446.1,3898.4,3953,3887,3565,3675,3979.8,3966.2,4120.8999999999996,3775.6,3589.1,3797.3,3270.3,3104.2,3396,3393.7,2981.3,3249.8,4058.7,3949.9,3547.6,3856,3949.6,3911.9599999999996]
["Gross productionBarleyGermany","Gross production","Barley","Germany",10894.866666666667,11005.6,10902.5,11891.1,12074.1,13398.8,12512.3,13301,12105.8,13494.6,10928,10595.6,12992.9,11613.8,11966.6,10384.200000000001,11967.1,12288.1,10326.92,8733.7999999999993,10391.299999999999,10343.6,11562.8,11629.9,10730.5,10487.686]
["Gross productionBarleyEstonia","Gross production","Barley","Estonia",418.83333333333343,476.7,339.5,279.39999999999998,317.10000000000002,311.7,272.8,186.4,347.5,270,249.4,253.6,293.10000000000002,366.3,302.39999999999998,362.4,348.7,376.5,254.4,294.60000000000002,341.3,441,458.1,556.6,357.4,414.07680612765455]
["Gross productionBarleyIreland","Gross production","Barley","Ireland",1624.593333333333,958.4,909.8,1084.3,1224.5999999999999,1087.2,1073,1277.5,1309.9000000000001,1277.2,962.8,1197.7,1326.6,1024.4000000000001,1136.8499999999999,1124.53,1294.1300000000001,1227.28,1223.07,1412.05,1260.77,1662.76,1731.16,1739.24,1479.86,1467.71]
["Gross productionBarleyGreece","Gross production","Barley","Greece",366.46,440,475,384,357,350,331,320,258.14999999999998,249.09,201.16,184.33,238.1,204.11,228.99,265.23,280.45999999999998,340.53,317.86,328.18,326.43,387.92,459.62,353.89,357.57,467.67360000000002]
["Gross productionBarleySpain","Gross production","Barley","Spain",7659.3266666666677,9700.7999999999993,7415.5,5046.6000000000004,10697,8549.5,10895.3,7459,11063,6249.1,8362.2999999999993,8693.7999999999993,10639.8,4456.8999999999996,8136.4,11945.3,11269.7,7291.8,8154.39,8287.07,5956.35,10004.44,6983.11,6705.11,9289.76,5633.1477999999997]
["Gross productionBarleyFrance","Gross production","Barley","France",11146.14,8909.1,7567.1,7590.4,9404,10004,10431.200000000001,9377.4,9709.2999999999993,9799.1,10987.7,9847,11031.5,10313.4,10400.6,9475.1,12171.3,12879.6,10099.85,8774.7800000000007,11347.7,10315.42,11775.3,13027.63,10139.01,12267.45]
["Gross productionBarleyCroatia","Gross production","Barley","Croatia",210.19000000000003,160.84292195875003,138.29959883975002,135.81954000450003,117.17105279499999,141.42096789625,177.91165686500003,153.63107772875003,179.7,192.1,206.5,160.19999999999999,237.6,162.53,215.26,225.27,279.10000000000002,243.6,172.36,193.96,235.78,201.34,175.59,193.45,263.8,250.34129987965954]
["Gross productionBarleyItaly","Gross production","Barley","Italy",919.44999999999993,1634.2,1467.4,1387.1,1350.5,1179.5999999999999,1359.1,1313.3,1261.5999999999999,1125.7,1190.3,1020.8,1168.5999999999999,1214.0999999999999,1282,1225.3,1236.7,1049.2,990.73,900.08,940.23,873.21,848.68,955.13,944.91,936.43399999999997]
["Gross productionBarleyCyprus","Gross production","Barley","Cyprus",32.323333333333331,193,154,134,128,36,53,112.7,37.6,116.5,128.4,150,100.99,60.29,58.37,52.01,3.5,40.090000000000003,46.06,45.72,67.03,36.01,2.72,52.18,8.7799999999999994,25.973500000000001]
["Gross productionBarleyLatvia","Gross production","Barley","Latvia",305.63333333333333,455.5,481.1,284,371.5,359.8,321.7,232.6,261.10000000000002,231.1,262.39999999999998,246.6,283.5,365.8,307,350.5,307.10000000000002,265.39999999999998,228.4,236.7,248.6,232.6,418.8,385.1,283.2,260.22736808787351]
["Gross productionBarleyLithuania","Gross production","Barley","Lithuania",746.37333333333333,1207.9000000000001,1090.5,891.5,1176.5999999999999,1193.5,1104.3,741.6,859.6,776.2,871.1,899.8,859.8,948.3,743.8,1013.7,970.4,858.2,550,759.8,741.9,685.7,1018.5,811.52,543.05999999999995,480.33577988911685]
["Gross productionBarleyLuxembourg","Gross production","Barley","Luxembourg",41.589999999999996,68.099999999999994,59.9,62.8,72.5,68.599999999999994,63.2,67.8,53.5,53.6,51.8,55.3,52.8,52.9,50.1,44.6,52.5,54.4,43,38.450000000000003,37.9,42.49,45.96,44.38,34,40.723973106478674]
["Gross productionBarleyHungary","Gross production","Barley","Hungary",1248.4233333333334,1138,1558,1408,921,1330,1304.5999999999999,1042,900.5,1299.0999999999999,1045.9000000000001,810.2,1413.4,1190.4000000000001,1075.2,1017.8,1467.1,1063.9000000000001,943.82,987.64,996.11,1062,1274.71,1408.56,1608.16,1410.3402000000001]
["Gross productionBarleyMalta","Gross production","Barley","Malta",0,0,0,0,0,0,0,0,0,0,0,0,0,0,0,0,0,0,0,0,0,0,0,0,0,0]
["Gross productionBarleyNetherlands","Gross production","Barley","Netherlands",213.56000000000003,252.2,227.6,202.5,234.8,268.3,214.5,364.5,287.8,386.8,315.3,349.1,287.60000000000002,307.10000000000002,268.7,261.2,310.2,309.60000000000002,204,205,206,208,197,226.68,233.69,212.57499999999999]
["Gross productionBarleyAustria","Gross production","Barley","Austria",806.7299999999999,1099.5999999999999,1184.4000000000001,1065.2,1082.8,1257.8,1211.5999999999999,1152.8,854.7,1012.4,861.4,882.3,1006.7,879.6,914.1,811,967.9,835.1,777.96,859.38,662.47,734.05,845.71,840.43,859.7,746.59709999999995]
["Gross productionBarleyPoland","Gross production","Barley","Poland",3632.03,3254.7,2685.8,3278.6,3436.6,3866.1,3611.7,3401.1,2783.4,3330.5,3369.9,2831.5,3570.8,3581.2,3161,4008.1,3619.5,3983.9,3397.2,3325.9,4180.2,4180.2,3274.8,2960.7,3441.09,3770.3096999999998]
["Gross productionBarleyPortugal","Gross production","Barley","Portugal",38.419999999999995,98.5,96.2,53,70,28.8,26.2,29,36.35,12.6,20.02,13.03,26.25,26.27,105.55,80.72,99.83,72.8,30.62,21,21.15,32.950000000000003,37.909999999999997,44.4,55.5,44.745400000000004]
["Gross productionBarleyRomania","Gross production","Barley","Romania",1625.9733333333334,1552.8,2133.6,1816.3,1107.5,1891.3,1238,1018.6,867.02,1580.05,1160.3900000000001,540.85,1406,1079.1500000000001,772.93,531.41999999999996,1209.4100000000001,1182.06,1311.04,1329.69,986.36,1542.25,1712.51,1623.16,1927.38,1721.3241999999998]
["Gross productionBarleySlovenia","Gross production","Barley","Slovenia",88.706666666666663,26.4,44.3,42.1,39.4,38.799999999999997,43.4,41.5,37.76,44.49,48.14,39.729999999999997,59.73,61.24,61.62,67.900000000000006,76.790000000000006,70.790000000000006,80.12,79.39,84.73,69.3,89.74,93.17,91.65,88.266266666666681]
["Gross productionBarleySlovakia","Gross production","Barley","Slovakia",580.64666666666676,822.8,873.9,794.2,718.1,868.5,875,723.7,396.7,613.29999999999995,695,804.2,915.9,739.3,641.79999999999995,659.6,891.3,675.5,361.39,525,470.48,446.05,675.85,668.65,602.80999999999995,527.49080000000004]
["Gross productionBarleyFinland","Gross production","Barley","Finland",1668.2666666666664,1678.9,1858.1,1763.5,1859.6,2003.5,1316.2,1567.7,1984.8,1786,1739,1697.4,1724.7,2102.9,1972.1,1984.4,2128.6,2171,1340.2,1514.3,1581,1904.2,1854.8,1569,1555.4,1536.8500000000001]
["Gross productionBarleySweden","Gross production","Barley","Sweden",1649.4000000000003,1670.5,1660.9,1792.7,2113.4,2086.1999999999998,1686.9,1852.5,1634.4,1642.1,1777.9,1546.3,1691.9,1592.9,1110.5999999999999,1439,1671.6,1680.9,1232.3,1409.1,1701.7,1940.1,1574.2,1672.3,1530.4,1527.2092]
["Gross productionBarleyUnited Kingdom","Gross production","Barley","United Kingdom",6886,6050,5950,6840,7789,7828,6496,6578,6492,6660,6128,6471,5817.6,5533.5,5239.2,5078.8999999999996,6143.9,6668,5252,5494,5522,7092,6911,7370,6655,7644.81]
["Gross productionOatEU-28","Gross production","Oat","EU-28",7902.9900000000007,9709.6732098023986,9089.1510904487986,8400.230188115198,9555.7264316818,9591.5680312041986,8918.5326174984002,8622.2599712690007,8742.0056415259605,8631.8279833929155,9710.3099999999977,9059.6,9399.857173248236,7967.6102278065846,7866.2006501794967,8893.5399999999991,8948.24,8464.880000000001,7437.1,7855.16,7926.55,8370.6386291664276,7765.4799999999987,7580.9900000000007,8016.94,8427.5084337966346]
["Gross productionOatEU-15","Gross production","Oat","EU-15",5347.45,6955.4,6602.9000000000005,5806.2,6896,6734.5,6294.8999999999987,6006.1,6735.4600000000009,6195.59,7165.6699999999992,6796.5,6543.7271732482386,5491.2302278065854,5815.1106501794975,6437.75,6446.17,5972.2099999999991,4990.21,5343.1,5267.41,6021.6986291664298,5106.67,5200.3,5574.6399999999994,5771.637909742989]
["Gross productionOatEU-N13","Gross production","Oat","EU-N13",2493.9333333333334,2754.2732098023989,2486.2510904487981,2594.0301881151981,2659.7264316818,2857.0680312041986,2623.6326174984015,2616.1599712690004,2006.5456415259596,2436.2379833929153,2544.6399999999985,2263.1000000000004,2856.1299999999974,2476.3799999999992,2051.0899999999992,2455.7899999999991,2502.0699999999997,2492.6700000000019,2446.8900000000003,2512.0599999999995,2659.1400000000003,2348.9399999999978,2658.8099999999986,2380.6900000000005,2442.3000000000002,2655.8705240536456]
["Gross productionOatBelgium","Gross production","Oat","Belgium",19.153333333333332,54.4,42.2,28.3,28.4,34.9,28.5,42.6,28.9,34,36,42.1,31.3,29.2,26.7,24.5,30.8,34.799999999999997,24.8,17.7,17.600000000000001,22.7,17.649999999999999,22.21,16.399999999999999,19.386561014092813]
["Gross productionOatBulgaria","Gross production","Oat","Bulgaria",29.683333333333334,70,85,47.1,40.5,54.4,67.5,93.8,47,98.8,62.4,51.5,101.5,50.1,30.5,22.5,54.5,30.7,42.04,29.23,30.8,35.58,26.88,21.69,31.37,20.516363398103721]
["Gross productionOatCzech Republic","Gross production","Oat","Czech Republic",148.64333333333335,200,207.6,186.7,214.2,246.6,179.7,179.1,135.9,136.4,167.7,233.6,227,151.1,154.9,159.4,155.87,166,138.24,164.25,171.98,139.12,152.22999999999999,154.58000000000001,132.22,160.83317387032167]
["Gross productionOatDenmark","Gross production","Oat","Denmark",242.74954305547647,138.5,205.7,128.4,134.30000000000001,155,161,130,232.9,291.7,275.60000000000002,259.60000000000002,309.89999999999998,315,274.10000000000002,311.60000000000002,290.10000000000002,268.2,204.5,208.8,271.10000000000002,250.34862916642945,184.9,206.8,277.8,314.81343839263775]
["Gross productionOatGermany","Gross production","Oat","Germany",607.03333333333342,1730.6,1663,1420.4,1606,1599,1279.4000000000001,1339.2,1087.2,1151,1015.9,1201.5999999999999,1185.8,963.6,829.9,727.9,793.2,825.6,598.04999999999995,627.4,756.5,627.70000000000005,627.1,566.29999999999995,535.9,627.33248092816802]
["Gross productionOatEstonia","Gross production","Oat","Estonia",70.399999999999991,84.9,57.6,80,114.8,114.7,99.3,70.7,117.1,91.4,61.7,63.4,72.7,84.2,63.6,85.2,77.5,86.5,54.5,62.8,78.400000000000006,85.3,65,67.8,64.5,71.317556216930953]
["Gross productionOatIreland","Gross production","Oat","Ireland",177.44999999999996,129.19999999999999,127.7,128.6,146.1,131.69999999999999,119.1,136.4,126.6,118.7,133.6,155.1,155.19999999999999,112.8,145.22999999999999,159.1,174.32,145.66,148.08000000000001,168.14,156.51,192.51,149.69999999999999,197.71,183.33,193.23422833261293]
["Gross productionOatGreece","Gross production","Oat","Greece",93.083333333333329,93,101,85,83,81,85,114,72.459999999999994,79.69,62.4,57.98,90,77.260000000000005,122.46,131.31,110.03,87.43,88.11,98.49,119.01,114.57,79.72,83.06,81.62,76.981542205094442]
["Gross productionOatSpain","Gross production","Oat","Spain",807.39666666666687,431.1,413.9,231.4,664.3,520.6,725.6,538,953.7,665.2,880.7,880.5,1043,532.79999999999995,948.1,1309.9000000000001,1188.3,922.8,1024.6600000000001,1119.21,683.48,957.66,649.1,781.05,1115.6500000000001,1064.0273186942491]
["Gross productionOatFrance","Gross production","Oat","France",410.80999999999995,714.4,663,576.6,595,542.1,620.29999999999995,512,459.4,484.8,773,555.5,606,505.2,464.1,415.1,472,572.79999999999995,392,318.5,400.8,432.28,443.63,399.35,346.17,412.96]
["Gross productionOatCroatia","Gross production","Oat","Croatia",69.239999999999995,53.173209802400002,54.051090448800004,50.530188115199998,51.826431681799995,59.868031204200008,69.232617498400003,68.759971269000005,61.6,71.599999999999994,74.2,53.03,73.459999999999994,49.47,66.63,56.15,65.3,62.3,48.19,77.22,94.54,60.18,56.56,71.739999999999995,75.8,75.950781700254424]
["Gross productionOatItaly","Gross production","Oat","Italy",249.80999999999995,372.2,354.7,301.3,351.6,310.7,362.6,331.2,317.89999999999998,310.10000000000002,328.8,306.39999999999998,337.7,429.2,394.9,361.1,356.1,315.10000000000002,279.18,266.64999999999998,292.36,246.92,241.14,261.37,229.64,257.45505686658987]
["Gross productionOatCyprus","Gross production","Oat","Cyprus",0.51333333333333331,0.1,0.2,0.2,0.2,0.3,0.3,0.3,0.4,0.4,0.5,0.41,0.49,0.65,0.94,0.81,0.37,2.04,0.78,0.74,0.8,0.74,0.2,0.6,0.17,0.8597304952410354]
["Gross productionOatLatvia","Gross production","Oat","Latvia",146.06666666666666,73.7,88.9,73.2,101.4,116.5,103.6,66.099999999999994,79.599999999999994,82.4,79.7,78.3,107.4,122,91.6,130.19999999999999,141.5,141.4,100.6,120.9,137,134.19999999999999,155.1,160.4,146.1,181.06059635642384]
["Gross productionOatLithuania","Gross production","Oat","Lithuania",163.85333333333332,77.7,69,66.7,101.6,111.7,97.2,67.099999999999994,82.9,84.3,97.5,114.6,117.7,114.1,62.8,119.5,140.80000000000001,142.5,93.9,128.5,163.5,164.7,183.8,163.36000000000001,153.25,202.51269701292813]
["Gross productionOatLuxembourg","Gross production","Oat","Luxembourg",5.4366666666666665,17.100000000000001,12.4,12.2,13.3,13.2,11.7,12.2,9.1999999999999993,7.8,10.199999999999999,11.4,9.5,7.7,6.7,5.6,6.2,7.2,4.79,4.04,4.75,5.54,5.48,5.88,5.29,5.5366351837685919]
["Gross productionOatHungary","Gross production","Oat","Hungary",131.96666666666667,96,131,139,112,138,132.4,180.4,137.71564152596019,145.88798339291307,137.6,101.8,217.4,157.4,150.80000000000001,125.2,181.8,111.1,117.88,129.13999999999999,137.15,131.6,135.63,128.66999999999999,101.44,99.791747358983443]
["Gross productionOatMalta","Gross production","Oat","Malta",0,0,0,0,0,0,0,0,0,0,0,0,0,0,0,0,0,0,0,0,0,0,0,0,0,0]
["Gross productionOatNetherlands","Gross production","Oat","Netherlands",9.5533333333333346,30.5,27.9,15.5,10.7,10.9,10.5,13.9,13.3,13.8,12.7,15.2,10.4,9.5,9,6.9,7.2,9.6,8,8,10,10,10,8.0399999999999991,8.66,8.4245170303994001]
["Gross productionOatAustria","Gross production","Oat","Austria",94.86,190.9,171.7,161.6,152.69999999999999,196.7,164.2,152.4,117.6,128.30000000000001,116.9,128.5,138.80000000000001,128.4,131.19999999999999,98.9,108.1,109.4,97.89,109.81,93.49,86.94,105.91,96.26,94.83,97.929961553219798]
["Gross productionOatPoland","Gross production","Oat","Poland",1345.426666666667,1492.9,1242.7,1494.7,1581.2,1630,1460.1,1446.3,1070.2,1305.2,1486.6,1181.9000000000001,1430.5,1324.1,1034.7,1462.3,1262.4000000000001,1415.4,1516.5,1381.6,1467.9,1190,1458.6,1219.5999999999999,1358.08,1466.0246129430454]
["Gross productionOatPortugal","Gross production","Oat","Portugal",59.516666666666673,76.400000000000006,79.2,58,60,44,28.7,100,112.4,38.700000000000003,61.47,39.020000000000003,61.32,25.15,87.11,62.04,92.42,70.72,66.150000000000006,48.26,30.51,62.63,67.44,48.97,66.95,55.514765967127239]
["Gross productionOatRomania","Gross production","Oat","Romania",352.33333333333331,553.6,496.8,404.4,290.5,333.4,362.1,389.6,243.83,382.35,327.44,323.06,447.08,377.46,346.92,251.63,382.03,295.83,304.45999999999998,375.86,339,373.78,381.63,344.22,336.98,330.65399536166115]
["Gross productionOatSlovenia","Gross production","Oat","Slovenia",4.376666666666666,5.2,6.4,4.5,4.5,4.5999999999999996,4.7,5.6,5.3,5,5.9,3.6,5.3,7.6,6.3,5.5,5,4.3,5.17,5.82,4.3499999999999996,3.11,4.45,5.0199999999999996,4.33,4.2980622375900888]
["Gross productionOatSlovakia","Gross production","Oat","Slovakia",36.836666666666666,47,47,47,47,47,47.5,48.4,25,32.5,43.4,57.9,55.6,38.200000000000003,41.4,37.4,35,34.6,24.63,36,33.72,30.63,38.729999999999997,43.01,38.06,42.051207102160923]
["Gross productionOatFinland","Gross production","Oat","Finland",1046.866666666667,1202.3,1149.9000000000001,1097.2,1260.8,1243.4000000000001,975.1,990.1,1412.8,1287.0999999999999,1524.7,1294.5,1002.4,1073.3,1028.8,1222,1213.4000000000001,1114.7,809.7,1043.0999999999999,1073.0999999999999,1196.4000000000001,1039,979.6,1028.5,1184.5475893757882]
["Gross productionOatSweden","Gross production","Oat","Sweden",747.93333333333339,1294.8,990.6,946.7,1199.8,1274.3,1136.2,1055.0999999999999,1151.0999999999999,963.7,1180.7,1102.3,925.3,746.3,624.4,889.8,820,744.2,559.29999999999995,692,731.2,851.5,665.9,744.7,767.9,712.05900727594633]
["Gross productionOatUnited Kingdom","Gross production","Oat","United Kingdom",811.66666666666663,480,600,615,590,577,587,539,640,621,753,746.8,637.10717324823827,535.82022780658599,722.41065017949734,712,784,744,685,613,627,964,820,799,816,741.43480692329433]
["Gross productionGrain maizeEU-28","Gross production","Grain maize","EU-28",62733.636666666651,46795.086612450003,47368.45356727,49041.376707249008,55086.500138108,63926.766591086009,55023.469522510015,60684.218142480007,52569.374786535307,62802.993709975373,61957.070000000014,53572.549999999996,73382.159999999989,65006.55,57345.81,49987.439999999995,65927.940000000017,60138.154581764058,59944.250000000007,70740.81,59820.310000000005,67036.859999999986,77914.828199999989,59250.35,61343.740000000005,59626.179094945473]
["Gross productionGrain maizeEU-15","Gross production","Grain maize","EU-15",37370.643333333333,31196.399999999998,29534,30130.200000000004,35517.9,39289.599999999999,35827.300000000003,37082,38445.96,40573.299999999996,40480.220000000008,33828.320000000007,42334.919999999991,37697.25,33570.850000000006,36930.06,40993.250000000007,37252.494581764055,35835.199999999997,41766.75,39638.300000000003,38170.06,43846.248199999987,34303.570000000007,32121.82,32448.976387267678]
["Gross productionGrain maizeEU-N13","Gross production","Grain maize","EU-N13",27678.5,15598.686612450005,17834.45356727,18911.176707249004,19568.600138107999,24637.16659108601,19196.169522510012,23602.218142480007,14123.414786535308,22229.693709975378,21476.850000000006,19744.229999999989,31047.239999999998,27309.300000000003,23774.959999999992,13057.379999999997,24934.69000000001,22885.660000000003,24109.05000000001,28974.059999999998,20182.010000000002,28866.799999999988,34068.58,24946.779999999992,29221.920000000006,27177.202707677796]
["Gross productionGrain maizeBelgium","Gross production","Grain maize","Belgium",735.04333333333341,163.9,208.9,234.6,199.2,255.6,292.3,405.5,397.4,460.9,530.70000000000005,554.70000000000005,637.79999999999995,634.1,575.9,698.9,858.8,808.1,745.9,859.69,733.6,837.6,778.57,692.96,480.5,703.56468228247059]
["Gross productionGrain maizeBulgaria","Gross production","Grain maize","Bulgaria",2551.4566666666674,983,1384,1817.2,1042,1659.2,1303.4000000000001,1991.4,1097.7,872.6,1288.0999999999999,1161.0999999999999,2123,1585.7,1587.8,312.89999999999998,1368.3,1290.8,2047.41,2209.1999999999998,1717.8,2738.67,3137.48,2696.92,2218.7800000000002,2760.3313333333331]
["Gross productionGrain maizeCzech Republic","Gross production","Grain maize","Czech Republic",784.46333333333325,157.1,91.4,113.3,168.7,285.2,200.6,260.5,304,408.7,616.20000000000005,476.4,551.63,702.9,606.4,758.8,858.41,889.6,692.59,1063.74,928.15,675.38,832.24,442.71,845.77,625.89660000000003]
["Gross productionGrain maizeDenmark","Gross production","Grain maize","Denmark",67.000000000000014,0,0,0,0,0,0,0,0,0,0,0,0,0,0,0,0,28.254581764053434,45.7,55.3,75.099999999999994,75.7,72.900000000000006,53,43.8,35.699999999999996]
["Gross productionGrain maizeGermany","Gross production","Grain maize","Germany",4515.7333333333327,2656.5,2446,2394.6,2912.6,3188.4,2781.5,3256.9,3324,3504.5,3738.4,3421.6,4199.8999999999996,4082.7,3220.3,3809.3,5105.8999999999996,4527.2,4211.5,5183.6000000000004,5514.7,4387.3,5142.1000000000004,3973,4017.8,4029.2939999999994]
["Gross productionGrain maizeEstonia","Gross production","Grain maize","Estonia",0,0,0,0,0,0,0,0,0,0,0,0,0,0,0,0,0,0,0,0,0,0,0,0,0,0]
["Gross productionGrain maizeIreland","Gross production","Grain maize","Ireland",0,0,0,0,0,0,0,0,0,0,0,0,0,0,0,0,0,0,0,0,0,0,0,0,0,0]
["Gross productionGrain maizeGreece","Gross production","Grain maize","Greece",1780.0833333333337,1728,2000,1566,2110,2205,1897,1800,1850.37,1900.26,2004.51,2205.52,2210.4,2168.9299999999998,1646.63,1927.54,2472.14,2432.87,1912.15,2195.79,2009.79,2134.25,1778.14,1542.3,1552.32,1607.9925333333333]
["Gross productionGrain maizeSpain","Gross production","Grain maize","Spain",4534.0066666666662,1632.9,2343.6,2590.4,3751.1,4451.5,4349.1000000000004,3731,3991.8,4981.8999999999996,4425.3999999999996,4355,4831.1000000000004,4119.6000000000004,3355.7,3610.9,3717.6,3498.2,3312.75,4199.93,4261.41,4888.46,4776.1899999999996,4564.42,3981.76,4115.3359883876492]
["Gross productionGrain maizeFrance","Gross production","Grain maize","France",14794.5,14725,12818.2,12586.8,14320.9,16536,14887.9,15356.7,16018.4,16426.5,16439.900000000001,12044.9,16372,13687.7,12903.7,14528,16012.5,15299.9,14134.92,15914.12,15614.12,15031.14,18541.78,13738.24,12191.84,12988.8]
["Gross productionGrain maizeCroatia","Gross production","Grain maize","Croatia",1876.83,1217.2866124499997,1225.0535672699998,1237.8767072490002,1356.0001381079996,1586.566591086,1450.16952251,1571.5181424800001,1190.2,1733,1956.4,1279.6199999999999,1931.63,2206.73,1934.52,1424.6,2504.9,2182.5,2067.8200000000002,1733.66,1297.5899999999999,1874.37,2046.97,1709.15,2103,1420.7916666666665]
["Gross productionGrain maizeItaly","Gross production","Grain maize","Italy",7620.73,8029,7483.5,8454.2000000000007,9547.5,10004.700000000001,9054.6,10017.200000000001,10139.6,10553.7,10554.4,8702.2999999999993,11366.9,10509.8,9671.2000000000007,9809.2999999999993,9722.9,7877.7,8608.4500000000007,9752.59,7888.67,7899.62,9250.0499999999993,7073.9,6839.5,5927.3663400000005]
["Gross productionGrain maizeCyprus","Gross production","Grain maize","Cyprus",0,0,0,0,0,0,0,0,0,0,0,0,0,0,0,0,0,0,0,0,0,0,0,0,0,0]
["Gross productionGrain maizeLatvia","Gross production","Grain maize","Latvia",0,0,0,0,0,0,0,0,0,0,0,0,0,0,0,0,0,0,0,0,0,0,0,0,0,0]
["Gross productionGrain maizeLithuania","Gross production","Grain maize","Lithuania",92.83,8,8,8,8,8,8,8,3.5247865353037779,3.0537099753694634,8.3000000000000007,8.6999999999999993,3,4.9000000000000004,4.7,26,32,23.8,47.5,71.900000000000006,78.8,127.2,115,56.34,84.69,114.60274434444914]
["Gross productionGrain maizeLuxembourg","Gross production","Grain maize","Luxembourg",1.4066666666666665,0,0,0,0,2.2999999999999998,4.3,3.1,2,4.3,2.2999999999999998,1.9,3.6,2.1,1.9,2.1,2.2999999999999998,2.5,3.12,2.33,1.62,2.17,1.67,0.93,0.84,1.3490222480189777]
["Gross productionGrain maizeHungary","Gross production","Grain maize","Hungary",7398.7033333333338,4044,4761,4680,5989,6828,6143.3,7149.3,4984.3,7857.7,6120.9,4532.1000000000004,8332.4,9050,8281.7000000000007,4026.7,8897.1,7528.4,6984.87,7992.44,4762.71,6756.44,9315.1,6632.78,8806.89,6790.2624000000014]
["Gross productionGrain maizeMalta","Gross production","Grain maize","Malta",0,0,0,0,0,0,0,0,0,0,0,0,0,0,0,0,0,0,0,0,0,0,0,0,0,0]
["Gross productionGrain maizeNetherlands","Gross production","Grain maize","Netherlands",221.32333333333335,98.5,87.2,63.9,87,158.5,150.69999999999999,112.2,223.3,336.1,315.3,286.39999999999998,264.7,253.1,181.2,230.6,252.3,244.9,271,279,254,253,240,170.97,96.23,147.559]
["Gross productionGrain maizeAustria","Gross production","Grain maize","Austria",2050.9999999999995,1524.5,1420.6,1473.7,1735.6,1574.6,1386,1464.4,1617.5,1493,1666.6,1452.1,1653.7,1724.8,1471.7,1696.5,2147.1999999999998,1890.5,1955.99,2453.13,2351.37,1639.02,2334.39,1637.91,2179.59,2125.85]
["Gross productionGrain maizePoland","Gross production","Grain maize","Poland",4126.170000000001,289.8,189,238.8,350.1,416.5,496.4,599.4,923.3,1361.9,1962,1883.7,2344,1945.4,1260.7,1722.3,1844.4,1706.6,1994.4,2392.1,3995.9,4039.7,4468.3999999999996,3156.2,4342.91,4167.3554999999988]
["Gross productionGrain maizePortugal","Gross production","Grain maize","Portugal",857.73333333333346,638.1,726,766,854,913,1023.9,935,881.59,912.14,802.71,803.9,794.82,514.41999999999996,542.62,616.91999999999996,701.61,634.07000000000005,626.22,810.27,848.67,929.54,896.99,827.54,707.64,713.0757666666666]
["Gross productionGrain maizeRomania","Gross production","Grain maize","Romania",9730.5666666666675,7987.5,9343.2000000000007,9923.1,9607.9,12679.7,8623.4,10934.8,4897.6000000000004,9119.19,8399.7800000000007,9576.99,14541.56,10388.5,8984.73,3853.92,7849.08,7973.26,9042.0300000000007,11717.59,5953.35,11305.1,11988.55,8984.74,8901.86,9830.607296666667]
["Gross productionGrain maizeSlovenia","Gross production","Grain maize","Slovenia",322.26666666666671,238.3,311.89999999999998,296.3,296.89999999999998,355.3,333.5,308,282.39,257.55,371.37,224.22,357.62,351.17,276.11,308.26,319.89999999999998,302.60000000000002,311.12,349.03,277.36,226.63,350.73,338.71,351.97,293.47786666666667]
["Gross productionGrain maizeSlovakia","Gross production","Grain maize","Slovakia",1286.5700000000002,673.7,520.9,596.6,750,818.7,637.4,779.3,440.4,616,753.8,601.4,862.4,1074,838.3,623.9,1260.5999999999999,988.1,921.31,1444.4,1170.3499999999999,1123.31,1814.11,929.23,1566.05,1173.8772999999999]
["Gross productionGrain maizeFinland","Gross production","Grain maize","Finland",0,0,0,0,0,0,0,0,0,0,0,0,0,0,0,0,0,0,0,0,0,0,0,0,0,0]
["Gross productionGrain maizeSweden","Gross production","Grain maize","Sweden",8.5,0,0,0,0,0,0,0,0,0,0,0,0,0,0,0,0,8.3000000000000007,7.5,16,14.6,7.4,7.1,6.4,11,10.139420090283851]
["Gross productionGrain maizeUnited Kingdom","Gross production","Grain maize","United Kingdom",39.672733333333326,0,0,0,0,0,0,0,0,0,0,0,0,0,0,0,0,0,0,45,70.650000000000006,84.86,26.368199999999998,22,19,42.949634259259255]
["Gross productionSorghumEU-28","Gross production","Sorghum","EU-28",709.45666666666659,772.8,595.6,510.7,607.89999999999986,691.3,595.29999999999995,572.1,638.46718458295686,659.35142728093956,714.31999999999994,428.11,542.15,492.84999999999997,565.63,523.09,516.44999999999993,609.94333333333338,614.29999999999995,678.59,495.88,728.0200000000001,929.44999999999993,719.54000000000008,680.81000000000006,710.516439413738]
["Gross productionSorghumEU-15","Gross production","Sorghum","EU-15",644.0866666666667,749.3,574.5,494.3,591.59999999999991,674.5,574,558.1,628.20000000000005,644.91,697.26,410.42,496.38,475.34000000000003,548.1,509.4,477.75,585.77,578.63,615.52,433.26,651.15,836.81,653.31000000000006,627.80000000000007,656.96822487572069]
["Gross productionSorghumEU-N13","Gross production","Sorghum","EU-N13",68.57333333333338,23.5,21.100000000000023,16.399999999999977,16.299999999999955,16.799999999999955,21.299999999999955,14,10.267184582956816,14.441427280939592,17.059999999999945,17.689999999999998,45.769999999999982,17.509999999999934,17.529999999999973,13.690000000000055,38.699999999999932,24.173333333333403,35.669999999999959,63.07000000000005,62.620000000000005,76.870000000000118,92.639999999999986,66.230000000000018,53.009999999999991,53.548214538017305]
["Gross productionSorghumBelgium","Gross production","Sorghum","Belgium",0,0,0,0,0,0,0,0,0,0,0,0,0,0,0,0,0,0,0,0,0,0,0,0,0,0]
["Gross productionSorghumBulgaria","Gross production","Sorghum","Bulgaria",13.156666666666666,1,1,1,1,1,0.7,1.3,0.4,1.9,9,5.9,6.4,3.2,2.7,1.8,3.4,1.8,8.61,5.55,10.8,11.63,18.350000000000001,17.04,7.87,6.6645713468395078]
["Gross productionSorghumCzech Republic","Gross production","Sorghum","Czech Republic",0,0,0,0,0,0,0,0,0,0,0,0,0,0,0,0,0,0,0,0,0,0,0,0,0,0]
["Gross productionSorghumDenmark","Gross production","Sorghum","Denmark",0,0,0,0,0,0,0,0,0,0,0,0,0,0,0,0,0,0,0,0,0,0,0,0,0,0]
["Gross productionSorghumGermany","Gross production","Sorghum","Germany",0,0,0,0,0,0,0,0,0,0,0,0,0,0,0,0,0,0,0,0,0,0,0,0,0,0]
["Gross productionSorghumEstonia","Gross production","Sorghum","Estonia",0,0,0,0,0,0,0,0,0,0,0,0,0,0,0,0,0,0,0,0,0,0,0,0,0,0]
["Gross productionSorghumIreland","Gross production","Sorghum","Ireland",0,0,0,0,0,0,0,0,0,0,0,0,0,0,0,0,0,0,0,0,0,0,0,0,0,0]
["Gross productionSorghumGreece","Gross production","Sorghum","Greece",5.7266666666666666,0,0,0,0,0,0,0,0.1,0.11,0.16,0.12,0.18,0.14000000000000001,0.2,0.2,0.15,0.17,0.12,0.84,0.76,0.66,6.22,10.27,10.199999999999999,13.41167906311246]
["Gross productionSorghumSpain","Gross production","Sorghum","Spain",47.616666666666674,22.3,77.8,27.5,43.9,48.6,57.2,35,41.9,33.1,28.8,21.3,24.6,26.8,20.5,26.2,22.4,32.299999999999997,36.56,38.64,27.38,44.85,47.66,50.34,53.1,51.397196546045656]
["Gross productionSorghumFrance","Gross production","Sorghum","France",265.17666666666668,501.5,260.60000000000002,252,338.5,452.3,356.9,320.7,371,397.7,453.2,230.8,256.60000000000002,263.5,305.5,288.39999999999998,230.6,309.89999999999998,262.61,280.74,239.19,278.54000000000002,395.62,277.8,232.2,272.64]
["Gross productionSorghumCroatia","Gross production","Sorghum","Croatia",4.6666666666666669E-2,0,0,0,0,0,0,0,0,0,0,0,0,0,0,0,0,0,0,0,0,0,0,0.14000000000000001,0.2,0.2166666666666667]
["Gross productionSorghumItaly","Gross production","Sorghum","Italy",308.94000000000005,225.5,236.1,214.8,209.2,173.6,159.9,202.4,215.2,214,215.1,158.19999999999999,215,184.9,221.9,194.6,224.6,243.4,271.44,287.82,157.81,316.92,368.78,294.22000000000003,315.68,299.20100671447318]
["Gross productionSorghumCyprus","Gross production","Sorghum","Cyprus",0,0,0,0,0,0,0,0,0,0,0,0,0,0,0,0,0,0,0,0,0,0,0,0,0,0]
["Gross productionSorghumLatvia","Gross production","Sorghum","Latvia",0,0,0,0,0,0,0,0,0,0,0,0,0,0,0,0,0,0,0,0,0,0,0,0,0,0]
["Gross productionSorghumLithuania","Gross production","Sorghum","Lithuania",0,0,0,0,0,0,0,0,0,0,0,0,0,0,0,0,0,0,0,0,0,0,0,0,0,0]
["Gross productionSorghumLuxembourg","Gross production","Sorghum","Luxembourg",0,0,0,0,0,0,0,0,0,0,0,0,0,0,0,0,0,0,0,0,0,0,0,0,0,0]
["Gross productionSorghumHungary","Gross production","Sorghum","Hungary",14.14,17,13,11,11,11,9.1999999999999993,10.1,8.3871845829569409,6.7614272809394773,5.5,6.8,11,12.4,13.5,10,13.6,7.6,7.85,16.62,12.44,14.45,19.47,15.53,9.23,11.742027696118901]
["Gross productionSorghumMalta","Gross production","Sorghum","Malta",0,0,0,0,0,0,0,0,0,0,0,0,0,0,0,0,0,0,0,0,0,0,0,0,0,0]
["Gross productionSorghumNetherlands","Gross production","Sorghum","Netherlands",0,0,0,0,0,0,0,0,0,0,0,0,0,0,0,0,0,0,0,0,0,0,0,0,0,0]
["Gross productionSorghumAustria","Gross production","Sorghum","Austria",15.11,0,0,0,0,0,0,0,0,0,0,0,0,0,0,0,0,0,7.9,7.48,8.1199999999999992,10.18,18.53,20.68,16.62,20.31834255208933]
["Gross productionSorghumPoland","Gross production","Sorghum","Poland",0,0,0,0,0,0,0,0,0,0,0,0,0,0,0,0,0,0,0,0,0,0,0,0,0,0]
["Gross productionSorghumPortugal","Gross production","Sorghum","Portugal",0,0,0,0,0,0,0,0,0,0,0,0,0,0,0,0,0,0,0,0,0,0,0,0,0,0]
["Gross productionSorghumRomania","Gross production","Sorghum","Romania",39.68,5.5,7.1,4.4000000000000004,4.3,4.8,11.4,2.6,1.48,5.58,2.56,4.99,28.37,1.91,1.33,1.19,20.9,14.44,18.68,39.700000000000003,37.479999999999997,49.83,51.54,31.73,30.59,32.491576480753352]
["Gross productionSorghumSlovenia","Gross production","Sorghum","Slovenia",0.19000000000000003,0,0,0,0,0,0,0,0,0,0,0,0,0,0,0,0,0,0,0,0,0,0,0.56999999999999995,1.57,0.30909090909090908]
["Gross productionSorghumSlovakia","Gross production","Sorghum","Slovakia",2.1333333333333333,0,0,0,0,0,0,0,0,0.2,0,0,0,0,0,0.7,0.8,0.33333333333333331,0.53,1.2,1.9,0.96,3.28,1.22,3.55,2.1242814385481488]
["Gross productionSorghumFinland","Gross production","Sorghum","Finland",0,0,0,0,0,0,0,0,0,0,0,0,0,0,0,0,0,0,0,0,0,0,0,0,0,0]
["Gross productionSorghumSweden","Gross production","Sorghum","Sweden",0,0,0,0,0,0,0,0,0,0,0,0,0,0,0,0,0,0,0,0,0,0,0,0,0,0]
["Gross productionSorghumUnited Kingdom","Gross production","Sorghum","United Kingdom",0,0,0,0,0,0,0,0,0,0,0,0,0,0,0,0,0,0,0,0,0,0,0,0,0,0]
["Gross productionTriticaleEU-28","Gross production","Triticale","EU-28",12050.317777777775,4374.7222222222226,4211.5555555555547,5274.1999999999989,6418.4,6873.7999999999993,7531.8,6925.6,7442.5382323276244,8816.19,9215.5999999999985,8121.1900000000005,11176.79,10466.599999999999,8815.4700000000012,9644.8300000000017,11040.92,12074.520000000002,10769.810000000001,10172.274999999998,10257.405000000002,11558.7,13221.504999999997,12774.25333333333,11818,11543.523548476749]
["Gross productionTriticaleEU-15","Gross production","Triticale","EU-15",5699.9894444444462,2318.422222222222,2384.7555555555555,3001.3,3861.1000000000004,4393.5999999999995,4861.7,4321.4000000000005,4972.09,5283.95,5308.3199999999988,4537.62,6001,5315.91,4763.1399999999994,4479.1799999999994,5260.0700000000006,5600.74,5137.25,4867.6849999999986,5599.9950000000017,5729.4100000000008,6330.915,5770.5633333333335,5204.5300000000016,5378.6678303356084]
["Gross productionTriticaleEU-N13","Gross production","Triticale","EU-N13",6444.449999999998,2056.3000000000006,1826.7999999999993,2272.8999999999987,2557.2999999999993,2480.1999999999998,2670.1000000000004,2604.1999999999998,2470.4482323276243,3532.2400000000007,3907.2799999999997,3583.5700000000006,5175.7900000000009,5150.6899999999987,4052.3300000000017,5165.6500000000024,5780.8499999999995,6473.7800000000025,5632.5600000000013,5304.5899999999992,4657.4100000000008,5829.29,6890.5899999999974,7003.6899999999969,6613.4699999999984,6164.8557181411406]
["Gross productionTriticaleBelgium","Gross production","Triticale","Belgium",40.666666666666664,51,50.6,55.4,64.400000000000006,55.2,58.1,32.299999999999997,55.8,32.799999999999997,50.4,46.8,56.6,48.8,46.1,37.700000000000003,40.799999999999997,45.1,43.8,29.54,41.6,43.1,39.770000000000003,40.630000000000003,31.53,39.115702815112989]
["Gross productionTriticaleBulgaria","Gross production","Triticale","Bulgaria",42.160000000000004,8,8,8,8,8,7.9,12.7,12,10,23.4,18.3,27.6,22.6,25.7,12.7,20.5,17.2,29.44,26.52,26.5,38.81,60.36,38.4,49.27,56.25]
["Gross productionTriticaleCzech Republic","Gross production","Triticale","Czech Republic",203.35333333333332,59.9,56.1,63.8,52.1,79.099999999999994,79.099999999999994,108,138.5,191.8,199.9,161.9,305.39999999999998,255.2,131.4,205.5,255.57,222.7,171.2,196.92,190.37,214.21,243.89,202.65,193.2,182.72693253591439]
["Gross productionTriticaleDenmark","Gross production","Triticale","Denmark",84.100000000000009,0,0,0,0,70,142,251,244,169,121.6,145.80000000000001,159.5,151.6,156.30000000000001,149.9,185.3,229.3,177.4,138,114.6,74.400000000000006,95.9,82,56.2,45.780412864830851]
["Gross productionTriticaleGermany","Gross production","Triticale","Germany",2534.8666666666659,1147.0999999999999,1124.9000000000001,1643.2,2127.5,2620.5,2814.1,2373.9,2799.8,3418.9,3068.3,2480.4,3289.8,2675.9,2237.1,2061.5,2381.5,2514.4,2156.96,2004.3,2294.8000000000002,2609,2972.2,2598.3000000000002,2397.3000000000002,2529.4499999999998]
["Gross productionTriticaleEstonia","Gross production","Triticale","Estonia",22.966666666666672,10,10,10,10,10,10,10,9.3282323276236863,9,12.9,9.9,16,15,5.4,15.4,21.8,22.6,9,13.6,24.8,8.8000000000000007,25.2,35.1,18.899999999999999,24.406555308098916]
["Gross productionTriticaleIreland","Gross production","Triticale","Ireland",0,0,0,0,0,0,0,0,0,0,0,0,0,0,0,0,0,0,0,0,0,0,0,0,0,0]
["Gross productionTriticaleGreece","Gross production","Triticale","Greece",27.763333333333335,0,0,0,0,0,0,0,1.7,1.06,1.02,2.2400000000000002,8.24,5.16,7.9,10.08,7.32,8.25,9.6300000000000008,11.87,12.05,19.82,39.51,31.99,31.48,38.433599999999998]
["Gross productionTriticaleSpain","Gross production","Triticale","Spain",431.4666666666667,47.2,50.7,22.8,84,61.6,49.6,31,95,88.7,96.6,94.7,26.1,55.5,114.3,133.80000000000001,136.19999999999999,138.30000000000001,144.99,207.22,217.31,394.75,449.67,449.98,540.83000000000004,495.726]
["Gross productionTriticaleFrance","Gross production","Triticale","France",1972.7033333333336,761.7,808.7,850.5,1054.2,1042.8,1247.7,1215.8,1261.5999999999999,1122.0999999999999,1490.9,1282.0999999999999,1833.6,1809.4,1694.3,1476,1821,2015.5,2060.66,1987.37,2301.2600000000002,2031.99,2022.51,1863.61,1482.02,1672.3799999999999]
["Gross productionTriticaleCroatia","Gross production","Triticale","Croatia",56.760000000000012,0,0,0,0,0,0,0,0,0,0,0,0,0,7.29,9.5500000000000007,12.5,12.6,33.56,35.15,54.36,47.86,61.32,54.6,81.099999999999994,70.08]
["Gross productionTriticaleItaly","Gross production","Triticale","Italy",75.117777777777789,0,0,0,6,0,0,0,0,0,0,0,0,0,0,0,0,0,19.200000000000003,38.325000000000003,156.435,92.85,50.125000000000007,60.433333333333351,72.069999999999993,21.990000000000002]
["Gross productionTriticaleCyprus","Gross production","Triticale","Cyprus",0,0,0,0,0,0,0,0,0,0,0,0,0,0,0,0,0,0,0,0,0,0,0,0,0,0]
["Gross productionTriticaleLatvia","Gross production","Triticale","Latvia",38.366666666666667,13.6,5.6,4.9000000000000004,3.4,7.5,12.6,11.9,13.5,28.9,40.9,33,42.1,31.8,22.2,37.9,35.200000000000003,33.299999999999997,26.4,21.4,48.8,36.6,26.9,41.2,37.299999999999997,23.852612036688527]
["Gross productionTriticaleLithuania","Gross production","Triticale","Lithuania",427.93333333333322,39.299999999999997,50.6,46.6,77.599999999999994,114.1,94.9,85.1,130.9,143.80000000000001,145.30000000000001,214.2,263.39999999999998,201.1,110.4,227.6,311,426,258.39999999999998,237,434.8,453.8,395.2,468.5,329.46,273.60000000000002]
["Gross productionTriticaleLuxembourg","Gross production","Triticale","Luxembourg",25.513333333333339,13.9,11.6,14.6,18.100000000000001,15.5,21.6,17.3,19.8,16.600000000000001,23,20,23.1,18.5,19.7,17.7,21.5,25.4,25.52,22.3,23.42,25.75,30.07,27.37,22.84,25.836853550256894]
["Gross productionTriticaleHungary","Gross production","Triticale","Hungary",472.53333333333336,8,33,58,244,383,364,253.8,235.6,393.9,358.9,278.60000000000002,622.29999999999995,567.70000000000005,440.3,380.2,503.4,360.7,366.82,345.73,345.09,459.05,486.45,502.31,472.1,367.6515]
["Gross productionTriticaleMalta","Gross production","Triticale","Malta",0,0,0,0,0,0,0,0,0,0,0,0,0,0,0,0,0,0,0,0,0,0,0,0,0,0]
["Gross productionTriticaleNetherlands","Gross production","Triticale","Netherlands",8.6133333333333351,11.3,8.6999999999999993,14,19.600000000000001,16.399999999999999,19.399999999999999,10.9,36,21.3,23.8,21.1,19.3,19.899999999999999,20.5,17.2,19.100000000000001,17,14,10,12,10,9,6.84,5.85,6.1752611054081541]
["Gross productionTriticaleAustria","Gross production","Triticale","Austria",270.29000000000002,0,0,86.9,76.400000000000006,105.8,127.8,120,134.80000000000001,157,172.5,168.6,235.7,198.5,110.1,209,250.7,254.5,230.52,228.07,220.1,224.14,302.60000000000002,284.13,322.56,275.5478]
["Gross productionTriticalePoland","Gross production","Triticale","Poland",4874.0133333333324,1894.5,1631.1,2048.1,2130.3000000000002,1840.7,2058.4,2096.9,1901,2697.9,3047.7,2811.6,3723.3,3902.9,3197,4147.1000000000004,4459.6000000000004,5234,4575.8,4235.3,3349.2,4273,5246.6,5339.4,5102.4399999999996,4805.9587333333329]
["Gross productionTriticalePortugal","Gross production","Triticale","Portugal",42.413333333333334,78,85,48,56,39,17,33,40.29,16.190000000000001,25.4,11.28,16.66,8.25,40.24,25.2,41.55,35.29,25.87,23.49,17.02,46.91,47.16,38.479999999999997,41.85,33.215000000000003]
["Gross productionTriticaleRomania","Gross production","Triticale","Romania",260.48,4,4,4,4,3.7,3.4,4.0999999999999996,7.43,17.059999999999999,23.01,19.47,101,94.14,71.290000000000006,81.77,100.82,97.25,123.12,144.80000000000001,133.93,245.03,275.22000000000003,262.14,274.27,307.40600000000001]
["Gross productionTriticaleSlovenia","Gross production","Triticale","Slovenia",18.970000000000002,0.1,0.8,2.1,1.5,1.3,1.6,2.5,2.89,4.28,6.57,5.5,8.89,7.85,10.95,12.03,13.26,13.53,14.07,14.77,15.92,12.64,20.059999999999999,20.93,24.72,19.196599919558373]
["Gross productionTriticaleSlovakia","Gross production","Triticale","Slovakia",37.196666666666665,18.899999999999999,27.6,27.4,26.4,32.799999999999997,38.200000000000003,19.2,19.3,35.6,48.7,31.1,65.8,52.4,30.4,35.9,47.2,33.9,24.75,33.4,33.64,39.49,49.39,38.46,30.71,33.726785007545203]
["Gross productionTriticaleFinland","Gross production","Triticale","Finland",0,0,0,0,0,0,0,0,0,1,0.4,1.5,0,0,0,0,0,0,0,0,0,0,0,0,0,0]
["Gross productionTriticaleSweden","Gross production","Triticale","Sweden",174.6,174.22222222222223,211.55555555555557,223.9,312.89999999999998,320.8,307.39999999999998,154.19999999999999,187.3,174.5,169.4,205.1,270.2,271.5,255.9,276.10000000000002,274.10000000000002,252.7,158.69999999999999,107.2,140.4,111.7,226.4,243.8,157,149.91720000000001]
["Gross productionTriticaleUnited Kingdom","Gross production","Triticale","United Kingdom",44.666666666666664,34,33,42,42,46,57,82,96,64.8,65,58,62.2,52.9,60.7,65,81,65,70,60,49,45,46,43,43,45.099999999999994]
["Gross productionOther cerealsEU-28","Gross production","Other cereals","EU-28",3872.6255832436286,4668.4500000000016,4391.55,5211.25,5182.05,5762.0499999999993,5764.55,5293.1500000000005,4577.9409026234162,5310.6846378422351,5159.3899999999994,4979.6500000000005,5945.2400000000007,5447.4962962962973,4765.3840740740734,5663.9630365371395,5071.83,5342.24,4269.9762790981049,4458.5295495012915,5110.7503562996199,4055.0640410416727,4001.3890911012354,3455.6033303319323,3561.4236175879819,4532.8952618085314]
["Gross productionOther cerealsEU-15","Gross production","Other cereals","EU-15",931.50745241646189,1105.3,1120.9000000000001,1008.1999999999999,1197.2,1188.2000000000003,1101,1003.1999999999999,1086.48,1072.0899999999999,1171.5599999999997,1181.8,1367.75,1280.2162962962964,1203.9940740740742,1150.7300000000002,1195.2499999999998,1236.29,802.92516798699285,801.53682500089724,917.7304086279031,972.02669351705561,930.90861828955019,945.88333033193248,817.15361758798247,985.64020268177012]
["Gross productionOther cerealsEU-N13","Gross production","Other cereals","EU-N13",2965.9292734454339,3563.1500000000015,3270.65,4203.05,3984.8500000000004,4573.8499999999985,4663.55,4289.9500000000007,3491.4609026234161,4238.594637842235,3987.83,3797.8500000000004,4577.4900000000007,4167.2800000000007,3561.3899999999994,4513.233036537139,3876.58,4105.95,3467.0511111111118,3656.9927245003942,4193.0199476717171,3083.037347524617,3070.4804728116851,2509.7199999999998,2744.2699999999995,3547.2550591267614]
["Gross productionOther cerealsBelgium","Gross production","Other cereals","Belgium",15,6.2,6.5,5.3,7.6,6.8,3.6,6.2,5.0999999999999996,1.9,1.7,3.1,4.2,2.1,3.5,3.5,1.5,2.9,0,7.5,17.899999999999999,15,16.22,13.78,11.77,15.051409025513536]
["Gross productionOther cerealsBulgaria","Gross production","Other cereals","Bulgaria",7.44,26,18,102.9,68.599999999999994,72.7,4.3,6.6,3,6.3,0.6,12.8,17.2,7.6,4.3,2.5,5.2,4.3,6.1099999999999994,4.8899999999999997,8.3000000000000007,10.16,5.67,8.35,5.26,6.3942120799795061]
["Gross productionOther cerealsCzech Republic","Gross production","Other cereals","Czech Republic",15.540000000000001,9.4,13.7,12.7,15.4,9.6,10.5,12.6,12.4,9.8000000000000007,8.8000000000000007,24.7,13.3,13.5,14.7,15.143036537139187,14.51,14.5,11.34,14.73,22.68,13.180000000000001,12.49,10.02,20.950000000000003,10.072597294977411]
["Gross productionOther cerealsDenmark","Gross production","Other cereals","Denmark",28.117123611190181,0,25,30,30,0,21.5,0,0,0,0,0,0,0,0,0,31.9,47,24.1,16,31.4,28.351370833570549,32,24.6,24.1,23.788542342867522]
["Gross productionOther cerealsGermany","Gross production","Other cereals","Germany",121.99816911323389,257.60000000000002,261.10000000000002,230,279.90000000000003,272.10000000000002,225.3,237,178.7,170.1,157.1,189.6,171.6,158,149.30000000000001,122.89999999999999,124.5,132.5,114.18516798699295,119.86491749193218,205.57781521045365,136.38714301903946,117.04594745894387,112.56141686171824,96.962384045066813,122.93379333595151]
["Gross productionOther cerealsEstonia","Gross production","Other cereals","Estonia",7.3666666666666645,21,14.9,18.8,33.9,41,31.3,17.2,23.9,12.2,10.799999999999999,10.6,11.299999999999999,10.4,10.199999999999999,9.4,7.7,5.8999999999999995,7.5,9,4.9000000000000004,11.700000000000001,8.1999999999999993,8.5,5.4,7.9138608610802326]
["Gross productionOther cerealsIreland","Gross production","Other cereals","Ireland",0,0,0,0,0,0,0,0,0,0,0,0,0,0,0,0,0,0,0,0,0,0,0,0,0,0]
["Gross productionOther cerealsGreece","Gross production","Other cereals","Greece",2.7266666666666666,2,2,2,1,4,1,2,0.52,1.8800000000000001,1.85,1.73,1.95,2.2899999999999996,13.41,18.830000000000002,4.1399999999999997,4.38,4.92,8.83,3.3,3.06,1.1299999999999999,2.87,2.25,2.1488221797833811]
["Gross productionOther cerealsSpain","Gross production","Other cereals","Spain",80.738313235253585,25.1,31.8,25.5,77.800000000000011,52.6,51.7,28,80.900000000000006,51.899999999999991,71.300000000000011,67.099999999999994,141.5,141.5,105.9,96.4,95,77,68.38,59.138574175631547,54.701149428466834,72.503364849630884,78.691574856129932,98.960000000000008,91.02000000000001,90.083660135744964]
["Gross productionOther cerealsFrance","Gross production","Other cereals","France",355.63666666666671,281,259.7,241,270.10000000000002,268.60000000000002,273.5,235.1,263.59999999999997,256.59999999999997,338.40000000000003,321.7,418.1,365.8,359.9,309.89999999999998,309.39999999999998,329.7,306.33000000000004,301.96999999999997,350.44,372.53,333,406.25,343.94,420.03998583377421]
["Gross productionOther cerealsCroatia","Gross production","Other cereals","Croatia",1.45,8.75,8.75,8.75,8.75,8.75,8.75,8.75,7.9,9.8000000000000007,11.3,8.81,14.37,13.63,0.86,1.96,1.2,1.8,1.73,2.0499999999999998,2.17,2.2400000000000002,0.77,1.38,0.8,1.6157036083637706]
["Gross productionOther cerealsItaly","Gross production","Other cereals","Italy",111.62999999999998,11.6,12.8,14.3,30.7,28.2,30.5,22.3,20.2,34.799999999999997,31.4,37.6,36.1,29.2,27,42.5,48.6,53.5,75.8,73.19,63.010332877871441,116.22,134.99,126.7,91.97,108.35310679412707]
["Gross productionOther cerealsCyprus","Gross production","Other cereals","Cyprus",0,0,0,0,0,0,0,0,0,0,0,0,0,0,0,0,0,0,0,0,0,0,0,0,0,0]
["Gross productionOther cerealsLatvia","Gross production","Other cereals","Latvia",31.400000000000006,8.9,7.6999999999999993,11.9,14.1,23.3,30.900000000000002,32.200000000000003,31.299999999999997,26.7,24.5,18.5,29.799999999999997,31,22.8,28.200000000000003,21.1,24.400000000000002,20.5,29.5,26.1,34.700000000000003,44.6,25.1,33.400000000000006,52.48512638086325]
["Gross productionOther cerealsLithuania","Gross production","Other cereals","Lithuania",81.903333333333336,22.900000000000002,25.7,25.1,36.299999999999997,50.4,40.700000000000003,23,35.299999999999997,33.6,29.1,43.3,44.7,55,36.299999999999997,74.3,40.299999999999997,48,49.5,74.400000000000006,82.1,75.599999999999994,94.8,78.819999999999993,84.79,94.858947821991734]
["Gross productionOther cerealsLuxembourg","Gross production","Other cereals","Luxembourg",1.4048559670781895,2.4,3,3.6,4.9000000000000004,2.2999999999999998,2.2999999999999998,3.4,3.4,3.1,2.2999999999999998,2.2999999999999998,2.1,2,1.5,0.9,1.3,1.2000000000000002,1.1299999999999999,1.3433333333333335,1.3011111111111111,1.3448148148148149,1.5686419753086418,1.29,2.0499999999999998,1.350227751812342]
["Gross productionOther cerealsHungary","Gross production","Other cereals","Hungary",14.556584362139921,49,49,49,51,31,19.799999999999997,30.6,37.920902623414953,17.474637842233669,21.4,20.599999999999998,41.300000000000004,29.5,23.099999999999998,15.2,24.400000000000002,15.200000000000001,11.81111111111111,15.67,14.859753086419753,7.2261042524005479,16.28,12.53,45.31,13.507039936586141]
["Gross productionOther cerealsMalta","Gross production","Other cereals","Malta",0,0,0,0,0,0,0,0,0,0,0,0,0,0,0,0,0,0,0,0,0,0,0,0,0,0]
["Gross productionOther cerealsNetherlands","Gross production","Other cereals","Netherlands",0,43.7,47.1,43.5,51.9,78,72,49.6,86.6,97,83.3,97.4,100.8,82.1,75.099999999999994,80.7,99.5,94.4,0,0,0,0,0,0,0,0]
["Gross productionOther cerealsAustria","Gross production","Other cereals","Austria",63.390000000000008,331.8,335.3,299.40000000000003,265.29999999999995,314.40000000000003,303.8,282.5,269.90000000000003,321.40000000000003,334.6,307.90000000000003,347.9,350.2,343,354.5,365.7,347.8,68.67,62.56,60.14,63.43,66.599999999999994,67.59,52.6,31.544466950545697]
["Gross productionOther cerealsPoland","Gross production","Other cereals","Poland",2777.3205720279675,3410.3,3128.7,3969.4,3751.4,4334,4512,4154.6000000000004,3336.8,4118.2,3876.1,3651.8,4393.4000000000005,3998.4,3441.2999999999997,4360.1000000000004,3754.8,3984.1000000000004,3349.7,3496.2827245003946,4019.2701945852973,2919.561243272216,2875.5504728116857,2355.9,2536.8499999999995,3350.3433368668307]
["Gross productionOther cerealsPortugal","Gross production","Other cereals","Portugal",1.1198563048251409,0,0,0,0,0,0,0,9.06,3.81,5.61,3.17,3.85,1.23,2.61,0.8,1.61,1.61,1.31,1.04,0.76,1.1499999999999999,1.23,1.1299999999999999,1.0795689144754228,1.0881347006970727]
["Gross productionOther cerealsRomania","Gross production","Other cereals","Romania",5.8833333333333329,2.8,1.4,1.2,2.2999999999999998,0.4,0.3,1.3,0.35,1.47,1.66,2.38,6.6,0.43,1.8,2.33,2.85,2.21,5.88,6.29,7.17,6.26,6.95,3.78,4.4400000000000004,5.2630310750312175]
["Gross productionOther cerealsSlovenia","Gross production","Other cereals","Slovenia",3.5366666666666675,1,1,1,1,1,0.9,1.1000000000000001,1.0900000000000001,1.35,1.87,1.36,1.32,3.02,2.0299999999999998,2.2999999999999998,2.3199999999999998,2.44,2.2200000000000002,2.38,2.57,2.41,4.1100000000000003,3.97,4.07,3.0752669489876889]
["Gross productionOther cerealsSlovakia","Gross production","Other cereals","Slovakia",1.7766666666666666,3.1,1.8,2.2999999999999998,2.1,1.7,4.0999999999999996,2,1.5,1.7,1.7,3,4.2,4.8,4,1.8,2.2000000000000002,3.1,0.76,1.8,2.9,0,1.06,1.37,3,1.7259362520702035]
["Gross productionOther cerealsFinland","Gross production","Other cereals","Finland",53.503888209480088,29.8,23.6,30.1,33.6,40.400000000000006,31.1,32.9,45.199999999999996,33.9,33.299999999999997,37.6,46.900000000000006,48.5,54,47.4,38.800000000000004,46.5,46.5,57.2,53.2,64.099999999999994,74.26089183148008,38.151913470214126,43.211664628440232,129.88762666882937]
["Gross productionOther cerealsSweden","Gross production","Other cereals","Sweden",53.866666666666667,100,100,67.5,132.4,109.8,78.7,93.2,110.3,85.6,93.1,97.6,74.7,80.8,54.7,59.4,58.3,67.8,68.599999999999994,68.900000000000006,53.4,71.3,48.9,52,56.2,39.370426962123481]
["Gross productionOther cerealsUnited Kingdom","Gross production","Other cereals","United Kingdom",15.957187389229235,14.1,13,16,12,11,6,11,13,10.1,17.600000000000001,15,18.049999999999997,16.49629629629629,14.074074074074069,13,15,30,23,24,22.6,26.65,25.271562167687701,0,0,0]
["Gross productionTotal cerealsEU-28","Gross production","Total cereals","EU-28",306344.21549344884,248182.81094264836,248875.10744288113,256970.3583439927,277107.7524818728,291706.00259018637,289222.86953997734,276544.88536587777,277945.18660415523,284488.45370855171,289212.27461822523,250969.9498846432,324884.90733122278,287675.36506123352,269587.68125534616,261382.68785894618,317902.78999999998,298452.84791509743,281130.87111111113,292332.92500000005,281693.38533287798,307606.12,330975.13839746575,314409.09524680348,297017.43123354297,300642.98052656854]
["Gross productionTotal cerealsEU-15","Gross production","Total cereals","EU-15",211021.83019322713,177901.25422222223,174098.28355555554,177345.06799999997,205713.304,205228.00000000003,210041.25199999998,200471.74000000002,213837.05000000002,199741.43,211653.03000000003,187161.53,225776.94717324822,199574.68652410287,195503.56472425361,195130.38999999998,226860.50999999998,212511.30458176404,199645.34000000003,202746.17499999999,202326.01533287787,212347.11,225211.52839746571,218392.36524680353,195740.40123354297,202920.55998870061]
["Gross productionTotal cerealsEU-N13","Gross production","Total cereals","EU-N13",97517.589999999967,70281.556720426132,74776.823887325561,79625.290343992703,71394.448481872823,86478.002590186428,79181.617539977422,76073.145365877775,64108.136604155203,84747.023708551715,77559.244618225217,63808.419884643205,99107.960157974638,88100.678537130691,74084.116531092528,66252.2978589462,91042.28,85941.54333333332,81485.531111111108,89586.75,79367.370000000024,95259.00999999998,105763.61000000004,96016.729999999981,101277.03,97722.420537867889]
["Gross productionTotal cerealsBelgium","Gross production","Total cereals","Belgium",3113.4675811555135,2139.5,2090.8000000000002,2212.0000000000005,2534.7999999999997,2393.6999999999998,2535.8999999999996,2406.6999999999998,2513,2358.6000000000004,2639.4,2613.2000000000003,2950.9999999999995,2817.5,2741.7,2786.7999999999997,3307.2000000000007,3324.3,3102.7000000000003,2944.2000000000003,3011.4999999999995,3155.7999999999997,3173.1027434665421,3282.5400000000004,2333.5300000000002,2947.0098655041957]
["Gross productionTotal cerealsBulgaria","Gross production","Total cereals","Bulgaria",8772.7733333333344,5704,6455.8,6643.9000000000005,3474.9999999999995,6246.7999999999993,5841.7999999999993,5916.9000000000015,5225.7,6037,6736,3790.5000000000005,7434.7,5818.7000000000007,5557.44,3171.3,6976.9000000000005,6199.2000000000007,7078.9699999999993,7460.7400000000007,6933.2,9097.7899999999991,9476.2700000000023,8520.0400000000009,8700.4900000000016,9348.2864801582546]
["Gross productionTotal cerealsCzech Republic","Gross production","Total cereals","Czech Republic",8097.5166666666664,6405.2999999999993,6777.2,6601.7000000000007,6644.2,7004.7000000000016,6668.9000000000005,6928.3000000000011,6454.4,7337.7,6770.8999999999987,5762.4999999999991,8783.7299999999977,7659.88,6386.1999999999989,7148.643036537138,8369.5500000000011,7832.0000000000009,6877.58,8284.83,6595.5099999999993,7512.63,8779.31,8183.52,8596.4000000000015,7337.0068037012143]
["Gross productionTotal cerealsDenmark","Gross production","Total cereals","Denmark",9451.6666666666661,8198,7825.0999999999995,9149.9,9217.1999999999989,9530,9355.5,8775,9412.6,9423.2000000000007,8803.7999999999993,9050.9,8963.1999999999989,9283.1,8632.3000000000011,8220.2000000000007,9073.5,10144.954581764054,8742.9000000000015,8793.5999999999985,9460.4000000000015,9050.7000000000007,9764.4,10024.4,9130.1999999999989,9234.0623936003358]
["Gross productionTotal cerealsGermany","Gross production","Total cereals","Germany",47340.133333333331,35547.499999999993,36328.6,39863.899999999994,42135.7,45485.600000000006,44574.9,44452,45271.099999999991,49709.2,43391.500000000007,39426,51097.200000000004,45980.2,43474.80000000001,40632.200000000004,50104.9,49748.1,44038.75,41920.500000000007,45396.4,47757.100000000006,52010.499999999993,48866.9,45364.4,45425.228794892864]
["Gross productionTotal cerealsEstonia","Gross production","Total cereals","Estonia",1062.7666666666669,820.69999999999993,520.4,523.5,639.19999999999993,660.5,585.99999999999989,411.5,705.42823232762373,558.40000000000009,524.69999999999993,505.7,607.79999999999995,759.69999999999993,619,879.09999999999991,863.8,873.1,678,771.19999999999993,991.19999999999982,975.5,1221.6000000000001,1535.3,934.09999999999991,1090.3341118470978]
["Gross productionTotal cerealsIreland","Gross production","Total cereals","Ireland",2436.4499999999994,1626.3,1609.3,1795.8999999999999,2141.9,1943.4,1865.1,2011.3000000000002,2173.9,2165.1,1963.6,2146.9,2501,1939.9,2083.06,1997.04,2461.3000000000002,2063.0299999999997,2040.31,2509.4199999999996,2125.1800000000003,2400.6000000000004,2597.81,2633.55,2310.9399999999996,2343.2542283326129]
["Gross productionTotal cerealsGreece","Gross production","Total cereals","Greece",3780.6433333333339,4274.7,5318,4213,4669,4755,4419,4288,4064.4999999999995,4089.8900000000003,4078.58,4107.6999999999989,4339.25,4235.97,3630.2099999999996,3773.8099999999995,4849.8999999999996,5054.4399999999996,4362.6400000000003,4530.7,4066.7100000000005,4380.75,4067.5400000000004,3185.9899999999993,3207.68,3607.1421767813231]
["Gross productionTotal cerealsSpain","Gross production","Total cereals","Spain",20800.939999999999,17165.599999999999,14843,11251.199999999999,21654.199999999997,18572.499999999996,21778.6,17321,23739.9,17179.100000000002,20863.899999999994,20308.299999999996,23965.499999999993,13486.299999999997,18367.5,23820.200000000004,23543.800000000003,16913.399999999998,18941.320000000003,22026.01,16633.919999999998,24496.809999999998,19703.139999999996,19293.93,23405.750000000004,17154.912963763683]
["Gross productionTotal cerealsFrance","Gross production","Total cereals","France",69376.456666666665,55261.7,53039.399999999987,53142.8,62120.7,62886.8,67807.799999999988,64135.9,65582.5,60143.1,69555.699999999968,54875.3,70381.500000000029,63977.80000000001,61613.200000000004,59379.200000000004,70142,69861.799999999988,65442.91,63694.680000000008,68334.61,67242.47,72631.520000000004,72552.290000000008,54311.109999999993,66990.639985833783]
["Gross productionTotal cerealsCroatia","Gross production","Total cereals","Croatia",2993.17,2111.8567204261499,1983.6238873255497,2110.3903439927003,2085.3484818727998,2423.60259018645,2508.8175399774,2192.7453658777504,2316.6498565599654,2833.7659500602622,3084.9146182251961,2018.4498846432175,3072.19015797461,3043.5285371307036,3039.3765310925305,2539.1948224090575,3725.5,3441.7000000000003,3007.17,2827.4900000000002,2686.56,3187.89,2994.8100000000004,2796.81,3441.5,2369.6434869669938]
["Gross productionTotal cerealsItaly","Gross production","Total cereals","Italy",16861.908444292625,18139.232,17477.628000000001,18010.167999999998,18903.204000000002,18154.599999999999,18913.752,19280.440000000002,19392.400000000001,18660.2,19877.3,16461.699999999997,21770.9,20092.2,18787.300000000003,18812,20459.099999999999,15891.6,17036,17955.044999999998,17168.845332877874,16872.07,18047.215,16179.433333333332,16544.810000000001,15071.972477019746]
["Gross productionTotal cerealsCyprus","Gross production","Total cereals","Cyprus",55.986666666666657,204.79999999999998,162.19999999999999,145.19999999999999,141.19999999999999,47.8,64.899999999999991,127,48,127.4,141.80000000000001,164.69,111.40999999999998,70.19,66.83,63.53,6.3400000000000007,56.82,65.73,70.199999999999989,90.75,51.93,7.36,88.139999999999986,27.89,48.24763049524104]
["Gross productionTotal cerealsLatvia","Gross production","Total cereals","Latvia",2351.6333333333337,1230.7,896.10000000000014,689,960.8,1035.2,958.9,783.4,923.6,928,1028.5,932.4,1059.4999999999998,1314.3,1158.6999999999998,1535.2000000000003,1689.3999999999999,1663.1000000000001,1435.5,1412.0000000000002,2124.5,1948.6999999999998,2227.1999999999998,3021.4999999999995,2703.2000000000003,2621.3657028618495]
["Gross productionTotal cerealsLithuania","Gross production","Total cereals","Lithuania",4949.8233333333337,2680.5000000000005,2106.1999999999998,1914.4999999999998,2623.1,2953.3,2724.7999999999997,2056.6,2661.2247865353042,2348.3537099753698,2539.1000000000004,2631.7999999999997,2859.3999999999996,2811.1,1857.8,3017.0000000000005,3421.9000000000005,3806.6000000000004,2796.7000000000003,3225.9,4656.6000000000004,4474.8,5123.2,6066.71,5069.6699999999992,4838.9101690684865]
["Gross productionTotal cerealsLuxembourg","Gross production","Total cereals","Luxembourg",165.1,151.80000000000001,133.6,147.6,175.5,162,167.3,153.69999999999999,152.70000000000002,144.19999999999999,168.8,164.10000000000002,178.99999999999997,160.6,161.69999999999999,148.39999999999998,189.70000000000002,188.5,167.93,149.59,153.43000000000004,173.32,168.54999999999998,176.52,139.26000000000002,158.38784023982569]
["Gross productionTotal cerealsHungary","Gross production","Total cereals","Hungary",14779.450000000003,8486,11612,11130,11336,14132,12997.3,11384.8,10083.393728732332,15038.584048516086,11695.8,8758.4000000000015,16769.8,16202.9,14459.5,9642.9000000000015,16830.7,13578.500000000002,12257.64111111111,13666.37,10357.77,13597.119999999999,16605.469999999998,14135.76,16716.039999999997,13996.110952400877]
["Gross productionTotal cerealsMalta","Gross production","Total cereals","Malta",0,0,0,0,0,0,0,0,0,0,0,0,0,0,0,0,0,0,0,0,0,0,0,0,0,0]
["Gross productionTotal cerealsNetherlands","Gross production","Total cereals","Netherlands",1755.4833333333329,1512.3000000000002,1406,1548.6000000000001,1711.1000000000001,1622.6000000000001,1569.4,1416.5000000000002,1818.6999999999998,1862.7,1823.7999999999997,1917.1999999999998,1923.3,1857.3000000000002,1749.9,1622.6000000000001,2062.5,2088.7000000000003,1878.9,1683,1793,1823,1767,1706.45,1369.68,1496.310226502414]
["Gross productionTotal cerealsAustria","Gross production","Total cereals","Austria",5137.0066666666671,4456.4000000000005,4685.9000000000005,4701.9999999999991,4708.7,5008.8,4771.6000000000004,4806.5,4490.2999999999993,4833.8999999999996,4757.3999999999996,4263.5999999999995,5315.0999999999995,4898.3,4460.2,4757.7999999999993,5747.7999999999993,5144.3,4817.88,5704.2699999999995,4875.8900000000003,4590.1600000000008,5710.29,4843.8100000000004,5691.3200000000006,5044.6336710558553]
["Gross productionTotal cerealsPoland","Gross production","Total cereals","Poland",29351.483333333334,23577,21835.9,25985.3,25478,25579.5,27338.9,25930.300000000003,22520.6,26960.300000000003,26877.3,23390.899999999998,29635.200000000001,26927.700000000004,21776,27142.9,27664.100000000002,29826.800000000003,27512.000000000004,26767.399999999998,28543.900000000005,29701.7,31945.4,28002.699999999997,29808.85,31620.277683143209]
["Gross productionTotal cerealsPortugal","Gross production","Total cereals","Portugal",1071.8133333333335,1379.7,1513.4,1321,1500,1395.3,1279.3999999999999,1506,1480.85,1161.24,1362.55,1046.93,1223.04,676.59999999999991,1051.51,910.64,1162.5099999999998,958.08,850.3,973.45999999999992,991.87999999999988,1183.4100000000001,1167.1600000000001,1056.4000000000001,984.30956891447545,934.72368938500415]
["Gross productionTotal cerealsRomania","Gross production","Total cereals","Romania",19988.2,15464.7,18176.599999999999,19866.7,14184.599999999999,22099.300000000003,15446.5,17033.499999999996,10473.950000000001,18869.470000000005,14355.91,12964.149999999998,24398.039999999997,19331.21,15740.91,7787.3,16777.52,14800.529999999999,16651.3,20776.910000000003,12773.269999999999,20842.43,22025.579999999998,19236.449999999997,19885.719999999998,20193.444755915476]
["Gross productionTotal cerealsSlovenia","Gross production","Total cereals","Slovenia",615.32333333333327,419.70000000000005,525.79999999999995,507.40000000000003,485.9,543.4,557.1,478.6,493.78999999999996,496.05000000000007,610.72,398.73,583.19000000000005,576.27,493.56,531.82999999999993,579.66999999999996,532.86000000000013,568.68000000000006,607.80999999999995,576.42000000000007,457.34000000000003,649.07000000000005,624.08999999999992,645.46,582.10725150884275]
["Gross productionTotal cerealsSlovakia","Gross production","Total cereals","Slovakia",3975.0766666666659,3176.3,3725,3507.7000000000003,3341.1,3751.8999999999996,3487.7,2829.5,2201.4,3211.9999999999995,3193.5999999999995,2490.2000000000003,3793,3585.2,2928.7999999999997,2793.4000000000005,4136.8999999999996,3330.3333333333335,2556.2600000000007,3715.9000000000005,3037.69,3411.18,4708.34,3805.71,4747.71,3676.6855098003243]
["Gross productionTotal cerealsFinland","Gross production","Total cereals","Finland",3801.550637823404,3332.4000000000005,3391.2,3327.9999999999995,3700.2000000000003,3798.7000000000003,2768.6,2868.4,4089.3,3661,3939.4,3782.7999999999997,3618.7000000000003,4058.3,3789.8999999999996,4137.3,4229.0999999999995,4260.8999999999996,2989.8,3667.7999999999997,3658.4999999999995,4059.8,4131.1608918314805,3686.3519134702137,3524.1116646284404,3791.9062160446183]
["Gross productionTotal cerealsSweden","Gross production","Total cereals","Sweden",5437.0999999999995,5215.822222222223,4481.3555555555558,4791,5954.0999999999995,5986,5618.4,4931.2999999999993,5670.3000000000011,5390.7,5461.9,5352.1,5507.8,5050.6000000000004,4128.4000000000005,5057.5999999999995,5195.0000000000009,5250.2000000000007,4287,4663.8999999999987,5070.5,4992.5999999999995,5782.4999999999991,6168.7999999999993,5458.3,5681.3155543283538]
["Gross productionTotal cerealsUnited Kingdom","Gross production","Total cereals","United Kingdom",22207.719920722564,19500.3,19955,21868,24587,23533,22616,22119,23985,18959.3,22965.399999999998,21644.799999999999,22040.457173248236,21060.016524102884,20831.88472425357,19074.599999999999,24332.199999999997,21619,20946,21530,19585.25,20168.520000000004,24489.639762167688,24735,21965,23039.059905416034]
["YieldSoft wheatEU-28","Yield","Soft wheat","EU-28",5.8471920150702239,4.7579242072736614,4.9148006470909866,5.013428969601641,5.2485232323396671,5.0975943842723543,5.3990142155354732,5.3807563513095937,5.3490886249211567,5.1770095966684266,5.3471987733198789,4.9154926491009849,6.0548826146324286,5.5153020014934313,5.3623193730433689,5.0729260258911628,5.9926117512375576,5.6850798860502199,5.5229313409753127,5.5316574122347477,5.4109193686345911,5.8238327103626917,6.1297627672283221,6.2699856071808702,5.5630959122443224,5.9501518696576099]
["YieldSoft wheatEU-15","Yield","Soft wheat","EU-15",6.722535231427007,5.9533146158665344,6.043728980203352,6.0101337747751771,6.6126505498341741,6.223880703151667,6.7371217849042067,6.5957898474078567,6.7108037140532995,6.4073685670475635,6.7077878370455526,6.1570675161742718,7.2015122720996008,6.637925560841996,6.5482052496934005,6.2081679627108466,7.0201383428901352,7.0106757547153409,6.624642156689915,6.3565087490414403,6.4082208934924507,6.8216420282327777,7.1092222092265542,7.2398075285254873,6.1251423382290637,6.6946606858132949]
["YieldSoft wheatEU-N13","Yield","Soft wheat","EU-N13",4.5368828093349265,3.0316251810135619,3.3071517827823795,3.5330693858948639,2.9946246210242387,3.4123109424274114,3.381713116898295,3.3191230028489342,3.166093090509416,3.557228429845964,3.2631755615375404,2.7628781663085236,4.2453636882908681,3.7443197003146427,3.3603489143369947,3.1818461368446602,4.2479832805607929,3.6775663948677582,3.6876436662474705,4.0947210877744515,3.7723853524555473,4.2845059550665638,4.5798865004008276,4.7397985839623828,4.7071256829238388,4.7601519626470221]
["YieldSoft wheatBelgium","Yield","Soft wheat","Belgium",8.69843193932895,7.1861493123772098,7.0216855593888612,7.283118125298901,9.017603911980439,7.9321872015281754,8.0353741496598641,8.44475138121547,7.9230046948356803,8.0519337016574593,8.2517241379310349,8.5070351758793983,9.0240566037735839,8.4084112149532722,8.1880952380952383,7.8347619047619048,8.6799107142857146,9.3527186761229313,8.9802816901408455,8.4087987643864288,8.4504836480884382,9.1330625185772298,9.1050483962801287,9.3617999819641096,6.7057650387273311,8.34]
["YieldSoft wheatBulgaria","Yield","Soft wheat","Bulgaria",4.3712507450686848,2.8579778830963662,2.8445976663130779,2.9085598171196345,1.8816957293515713,2.95023520673434,2.8082796825872141,2.8413378292171698,3.0413842956537454,3.0120030007501875,3.0172899970317602,2.3960626069943753,3.8238011006289305,3.1378864790032304,3.36231884057971,2.1956762749445673,4.1660039761431422,3.2007933828494264,3.6270791387785462,3.9074769917769432,3.776815570607905,4.1980853744737088,4.2202192679968613,4.542583470169677,4.753256224136762,5.27]
["YieldSoft wheatCzech Republic","Yield","Soft wheat","Czech Republic",6.1789150952848546,4.2200510855683273,4.5732758620689653,4.5947115384615387,4.6531835205992511,4.4098122350090856,4.2142935437904194,4.6457156037365932,4.2086768342951357,4.8484618717504331,4.5552544769085772,4.0683220234423194,5.8416357738646889,5.0524134568503172,4.4866282789507359,4.8568434032059189,5.7727782624953266,5.2425117286178287,4.992382254852564,5.6921321237820495,4.3156565037160588,5.6676593641109729,6.5104552958346291,6.3559205610855365,6.4958854842743321,5.53]
["YieldSoft wheatDenmark","Yield","Soft wheat","Denmark",7.5193222191855682,6.9977397481433643,6.4944211994421197,7.5633223684210522,7.0578635014836797,7.2587719298245617,7.2470588235294118,7.007836990595611,7.5797803617571047,7.3563091482649838,7.0346860908775577,7.0772241457172962,7.1406062424969994,7.2338661930136174,6.996357278158241,6.5609756097560981,7.8638357881541827,8.0384303112313926,6.6263750654793077,6.4677376171352075,7.3686695977853773,7.2991723895051948,7.7832653677692187,7.9538266919671097,7.2066895368782165,7.49]
["YieldSoft wheatGermany","Yield","Soft wheat","Germany",7.9708240393922809,6.591320754716981,6.7749174917491759,6.8927904806346243,7.297788431797092,7.2956874308883162,7.2120897233768089,7.5511567726236919,7.2891598824443458,7.8872947277441661,6.9081002059937537,6.5028751183872266,8.177192756331765,7.4735727381930834,7.2080634245383353,6.9660244597084935,8.0916120985344548,7.8155406246111729,7.2242327506225887,7.0247146524791981,7.3404926108374378,8.0030773176048218,8.6370776711133281,8.107570697631667,7.6593628006548293,7.7]
["YieldSoft wheatEstonia","Yield","Soft wheat","Estonia",3.5101534296028896,2.0994035785288272,1.6695906432748537,1.9974093264248702,2.2069716775599129,2.1846758349705304,1.7664670658682635,1.3373676248108928,2.1306240928882438,2.2298657718120807,2.3007751937984495,2.15625,2.5076530612244894,3.084309133489461,2.4158415841584158,3.4743718592964825,3.1830855018587361,3.0149647887323945,2.7437185929648242,2.8052959501557631,3.8994368463395013,3.2753623188405796,3.9863989637305699,4.7884502062463179,2.768996960486322,3.52]
["YieldSoft wheatIreland","Yield","Soft wheat","Ireland",10.017817045787366,6.8017676767676774,7.716599190283401,8.2461103253182451,8.998833138856476,7.7156549520766768,8.0214541120381408,8.7723935389133629,9.453846153846154,9.0600706713780923,8.4440116845180135,8.2960718763058932,9.9221183800623063,8.4290664706500049,9.1530110844474919,8.4677744807121655,8.9712659257251293,8.1696460281756842,8.5988177846312013,9.8686278674596437,7.2212587983270424,8.9988448844884488,10.011869850579529,10.66278891780193,9.5369552414605412,9.61]
["YieldSoft wheatGreece","Yield","Soft wheat","Greece",2.8522688016906801,2.6208574034660992,3.2465842550422903,2.8418549346016646,2.5742574257425739,2.559867877786953,2.5858322468491961,2.9855769230769229,2.5484716157205236,2.3423877970079201,2.9269286977924773,2.5936794582392779,3.0976686283386146,2.6907442462887317,2.6099836433028414,2.5009930753126848,3.0144054178145088,2.7471528751753156,2.7704918032786883,3.1736488418644555,2.933735310404233,3.2553508069131283,3.2746523388116304,2.2796435029708086,2.3268980759230371,3.23]
["YieldSoft wheatSpain","Yield","Soft wheat","Spain",3.3076715493738731,3.0335025380710658,2.4969742813918305,1.8340649692712905,3.1946303788157415,2.4611623358480026,3.1721854304635762,2.7979115479115477,3.6039577303627914,2.4059137704156663,3.1536643026004727,3.0823007495793178,3.5789774117263309,2.2675075163159049,2.9692237023426733,3.7478955320526652,3.6997772244790985,2.7598897535667963,3.3850058570870751,3.4475471887298519,2.6392871612496625,3.8233758798369988,3.0126622804911234,2.9740103477319213,3.8400555478405778,2.66]
["YieldSoft wheatFrance","Yield","Soft wheat","France",7.253477132922006,6.6025886194029857,6.7902404167531056,6.6093718843469595,7.2786523929471034,6.8136839713264612,7.7502381097128499,7.4121712179594574,7.2637002341920374,6.7684632976099728,7.6243564599166458,6.4215586597117857,7.7850622063055051,7.1763433773402268,6.9399344891615034,6.4350825841522061,7.28576223665765,7.6553210369525253,7.2443595208348635,6.8074117566901391,7.3033704863594151,7.3982332495846013,7.4845644147290695,7.9300278547212502,5.3810868481172669,7.15]
["YieldSoft wheatCroatia","Yield","Soft wheat","Croatia",5.2400537315791569,4.1866510000000003,3.782267,3.8605160000000005,3.6904539999999999,4,4.2213760000000002,3.297596,4.7465715852989572,4.4042322300596854,4.5909598214285721,3.2205751367858504,4.9278730861464677,4.1145299145299141,4.5833095984050125,4.6406740931162522,5.4912734324499031,5.1941964285714288,4.0466022911293713,5.2331838565022419,5.3467498923805419,4.8869389962149139,4.1351073402750993,5.3346085724406658,5.4975728155339798,5.42]
["YieldSoft wheatItaly","Yield","Soft wheat","Italy",5.4470425378514786,4.6061185468451242,4.6104864481003673,4.4862032832692975,4.4147325933400605,4.2814952204308749,4.9365693012600227,4.6383620689655176,4.7317850637522776,4.4614523352527193,4.8085324732443926,4.3512904902130609,5.3162598831213481,5.4513934970139353,5.4787234042553195,4.9115245009074409,5.3349473084591281,5.0466641679160418,5.1581797536902787,5.326053394585232,5.8875128477312169,5.2903889689236472,5.294500698919232,5.4117657683693379,5.6522109165185164,5.38]
["YieldSoft wheatCyprus","Yield","Soft wheat","Cyprus","","","","","","","","","","","","","","","","","","","","","","","","","",0]
["YieldSoft wheatLatvia","Yield","Soft wheat","Latvia",4.1959940407217342,2.0005913660555885,2.1078224101479917,2.2235401459854014,2.3961126005361932,2.5909389363099145,2.5533465871438037,2.4102739726027398,2.7033523086654014,2.7080335731414866,3.3843648208469057,2.7914183551847436,2.9423190111830486,3.6099252934898614,2.7814969781496979,3.5943900267141582,3.8565861262665626,3.6275813790689537,3.2848605577689245,3.0612577386770936,4.3694665153234959,3.88572975900352,3.7474463738508681,5.0304046501229598,4.304529325819245,4.2]
["YieldSoft wheatLithuania","Yield","Soft wheat","Lithuania",4.5342011738002013,2.3717709720372837,2.0348148148148146,2.4455103607060624,2.691776883266245,3.0015974440894571,2.8670745272525027,2.6098291878933173,3.3412526997840173,3.0559341283361725,3.6335422262011337,3.578306092124814,4.0275978597578144,3.7331529093369422,2.3554392088423501,3.9218838127467568,4.2688971499380424,4.2003999999999992,3.3044822256568778,3.3919433859553618,4.7829346092503986,4.3022175606832489,4.5629943502824855,5.2382506995766658,4.3615496790639456,4.5999999999999996]
["YieldSoft wheatLuxembourg","Yield","Soft wheat","Luxembourg",5.9692159692159699,5.7738095238095237,5.0222222222222221,5.666666666666667,6.63917525773196,5.9175257731958766,6.1326530612244898,5.9487179487179489,5.5636363636363635,5.5102040816326525,5.9750000000000005,6.125,6.8376068376068382,6.0252100840336134,5.9527559055118111,5.5952380952380958,6.6575342465753424,6.5869565217391308,5.9578872234118485,5.5360230547550433,5.8579881656804735,6.3901754385964917,6.15153906866614,6.2843340234644582,5.0738595220854448,5.6]
["YieldSoft wheatHungary","Yield","Soft wheat","Hungary",4.8768526480853849,3.1253918495297808,4.7212475633528266,4.2761194029850742,3.3448275862068964,4.2887612797374901,4.1435023434171283,3.597320071833126,3.613262678288431,4.3192481960060416,3.5169591706829131,2.6457785435748615,5.1238595283181265,4.501381831149148,4.0717370892018776,3.5866412905564617,4.9868069174540919,3.8568907711311091,3.7113475461783758,4.2011660901804024,3.748650513797374,4.6411409876290763,4.7300292288500589,5.0883787354758478,5.3875566820458998,5.3000000000000007]
["YieldSoft wheatMalta","Yield","Soft wheat","Malta","","","","","","","","","","","","","","","","","","","","","","","","","",""]
["YieldSoft wheatNetherlands","Yield","Soft wheat","Netherlands",8.9210713221985465,8.7703389830508485,8.0674342105263168,8.6166912850812416,8.9611581920903962,7.7279999999999998,7.6956209619526197,8.2821011673151759,8.3591806876371635,7.9702333065164925,7.8150887573964498,8.7469040247678027,8.9140568099053166,8.6565954310980118,8.4607142857142854,7.2073602264685057,8.7297124600638973,9.2909211398277005,8.913467794404685,7.7814569536423841,8.5657894736842106,8.7254901960784306,9.183098591549296,9.0389555695935986,8.0142418758360208,8.9200000000000017]
["YieldSoft wheatAustria","Yield","Soft wheat","Austria",5.6458917973961453,4.2507552870090635,5.2506471095772209,5.1323051948051948,5.0608365019011412,5.260202020202021,5.1501816713766662,5.4771404821280134,4.5641855447680681,5.3035908596300327,5.0137581462708187,4.4167645906776336,5.9823853211009173,5.0837294332723948,4.9114253814663194,4.8490634005763678,5.7310864108999651,4.985284052019165,5.0431750481864368,5.8952321638640921,4.1908617698091382,5.3855899487611429,5.9776332541894632,5.7672337877346864,6.2919765033445385,5.44]
["YieldSoft wheatPoland","Yield","Soft wheat","Poland",4.557935272477101,3.3278291412652914,3.1817615288741172,3.6014625228519193,3.4574665376552165,3.2064107079957735,3.6242921749705466,3.5041811846689894,3.2267845622557019,3.5336886181956606,3.8538646342473699,3.4047660311958405,4.2811702081620293,3.9544655335647625,3.2447947786919156,3.9381155303030297,4.0715100965759436,4.1726621771374992,4.3932290450618723,4.1347677867800066,4.1438474870017332,4.4366902100191776,4.9720796989909353,4.5743268628678768,4.5417900556194057,4.8499999999999996]
["YieldSoft wheatPortugal","Yield","Soft wheat","Portugal",1.8323505262372173,1.6932773109243697,1.9534883720930232,1.4,1.7238095238095239,1.1995967741935485,1.0098441345365052,1.6301369863013699,2.0856227106227103,1.0192192192192191,2.0259617654000475,1.1990049751243781,1.6470754450409719,0.6662245067153042,2.3873767258382643,1.8646728971962618,2.3012189404594472,1.6747901872175597,1.3774943427278337,1.1884935654806965,1.0712607674236492,1.7600472813238772,2.0558562459406797,2.0121555915721228,2.3136865967696232,2.14]
["YieldSoft wheatRomania","Yield","Soft wheat","Romania",3.6124705938264854,2.3291111500701267,2.5434458170964267,3.0903740728797162,1.7644945838244375,2.9723665073758569,2.5671212496900573,2.783047607669793,2.2863254037876048,3.0376649981716022,1.9231238586688868,1.4287947033617272,3.4024241789599072,2.9650168060089066,2.746502008451924,1.5421964556294883,3.4032040064307765,2.4230196065607466,2.6901827078720668,3.6641198972368243,2.6528033388645849,3.4688199491365599,3.5873895746103401,3.7809841146105652,3.9342734709044986,4]
["YieldSoft wheatSlovenia","Yield","Soft wheat","Slovenia",5.1221714760224213,3.8413978494623655,4.325905292479109,4.2282608695652177,3.8948863636363633,4.158682634730539,4.831428571428571,3.712025316455696,4.2488238369053848,4.6029486527707171,4.8942065491183886,3.4537791514470353,4.533189255943193,4.7002661343978707,4.1910847880299249,4.1616729088639204,4.5269697825473036,3.9646684042861282,4.8037558685446005,5.1762723289518036,5.4371205550737196,4.3526448362720407,5.2306763285024163,5.1109664822648879,5.1865861411315954,5.25]
["YieldSoft wheatSlovakia","Yield","Soft wheat","Slovakia",5.1083648118552967,3.8472187264032218,4.8520361990950223,4.4376001831921235,4.1299421407907424,4.5721212121212123,4.1403263403263404,3.5701247337998177,3.0912254536415609,4.0367999999999995,3.8275006205013651,3.0247198417930128,4.7814569536423841,4.2786619908281631,3.820069204152249,3.8247480403135499,4.8647764449291166,4.0292538915727318,3.4569083447332427,4.4964397607519224,3.3008287219677515,4.5783584177250605,5.4675651538523988,5.5237774598097804,5.938259731238813,4.99]
["YieldSoft wheatFinland","Yield","Soft wheat","Finland",3.9457364341085257,3.6212121212121211,3.7952755905511806,3.7686196623634558,4.0826666666666664,3.7187500000000004,2.8928571428571428,2.1588785046728969,3.60066889632107,3.3810511756569848,3.2663605051664755,3.5438413361169103,3.321868365180467,3.7247791724779176,3.5556133056133055,3.907797940166748,3.5860655737704921,4.0632157581310118,3.4299242424242427,3.846882399368587,3.9027716673999118,3.8215384615384616,4.0695587135377718,4.1029776674937963,3.7662639405204463,3.82]
["YieldSoft wheatSweden","Yield","Soft wheat","Sweden",6.4731343871959623,5.7444078947368418,5.341143764892772,5.9441469013006891,6.0666467423789596,5.9738524113887275,5.6499999999999995,6.0236020334059557,5.9818045862412763,5.8825890617160059,6.2300206428782063,5.5540145985401459,5.9843711237906225,6.34510025416549,5.4619655746807334,6.2571428571428562,6.1087378640776695,6.0906417112299467,5.396217863168232,5.3642495784148387,6.2480895196506561,5.7792348374725515,6.8060333421540093,7.213200743088187,6.3203781746828103,6.56]
["YieldSoft wheatUnited Kingdom","Yield","Soft wheat","United Kingdom",7.8855303165802182,7.3307543520309482,7.3535911602209945,7.7013350559862195,8.1503797468354424,7.3769041769041772,7.5425636007827785,8.0498374864572053,8.0028763183125591,7.0788990825688076,7.9935367503381922,7.7966009369212337,7.7703286762488695,7.9611182519280206,8.0251620282119713,7.1767276700355094,8.2814152485337953,7.9301408450704223,7.6730273336771528,7.7486033519553077,6.6571285140562253,7.3814241486068113,8.5774793388429753,8.9759825327510914,7.8897421832144818,8.07]
["YieldDurum wheatEU-28","Yield","Durum wheat","EU-28",3.3525371188800652,2.3866054432559833,2.6991798073155238,2.2463125838644751,2.7465978771528476,2.2749798222325999,2.9172302162857986,2.3379441156804504,2.6080774621018197,2.2641775330335139,2.4951346660671936,2.2492914063408391,3.0197059343934831,2.5011443710391519,3.0781702120636569,2.9430182332895858,3.2605791512048099,3.1172033043984224,3.273616689521714,3.4264977703611739,3.2370248073829493,3.3841562556165332,3.3563853888917934,3.4447259601762465,3.4162411828940771,3.4502777654940311]
["YieldDurum wheatEU-15","Yield","Durum wheat","EU-15",3.3439071187871479,2.3829611652575524,2.6993681792073518,2.2404844428297528,2.7468593703838295,2.2707687447183957,2.9187488704722071,2.3343542130833557,2.6078914086821179,2.2518916364447326,2.4886973557316052,2.251473411066752,3.013885806989256,2.4854431042945464,3.0473628210974306,2.9430320796540044,3.2552211462967806,3.1185189592535294,3.2779569101871147,3.4096976188514461,3.244328276481502,3.3766065795595703,3.3420831872311907,3.418288290950851,3.3660551689765561,3.4186439946529692]
["YieldDurum wheatEU-N13","Yield","Durum wheat","EU-N13",3.7071124964579427,2.6603773584905674,2.6836158192090327,2.7374301675977861,2.7247956403269891,2.6256684491978497,2.7989949748743954,2.6649214659685563,2.6239047485049789,3.1078568835051952,3.0623941763112965,2.0772200869155983,3.4610237048908097,3.8440692719505285,6.3193507850936195,2.9414865179336465,3.830260869565306,3.0791868932038917,3.1313345091122553,3.9527680991095644,2.9277731442869745,3.7394535958215926,4.1190532544378637,4.38324340527579,4.695962459673483,4.355680533633806]
["YieldDurum wheatBelgium","Yield","Durum wheat","Belgium","","","","","","","","","","","","","","","","","","","","","","","","","",""]
["YieldDurum wheatBulgaria","Yield","Durum wheat","Bulgaria",3.425431274346133,2.1052631578947367,2.1052631578947367,2.1052631578947367,2.1052631578947367,2.1052631578947367,2.5631578947368423,2.3291925465838506,2.6754966887417218,2.7777777777777777,2.7,1.9181034482758621,3.1863636363636361,4.2677595628415297,22.599999999999998,2.5,4.42,2.933227344992051,3.2930200414651001,4.2968049327354265,2.6844919786096257,3.2120974076983502,3.6279069767441858,3.2942386831275723,4.0311341734618233,4.28]
["YieldDurum wheatCzech Republic","Yield","Durum wheat","Czech Republic","","","","","","","","","","","","","","","","","","","","","","","","","",""]
["YieldDurum wheatDenmark","Yield","Durum wheat","Denmark","","","","","","","","","","","","","","","","","","","","","","","","","",""]
["YieldDurum wheatGermany","Yield","Durum wheat","Germany",5.2224880382775112,4.8125000000000009,5.330275229357798,5.2499999999999991,5.8375000000000004,5.0757575757575761,5.1282051282051286,5.3833333333333329,5.0465116279069768,5.0638297872340425,5.375,4.7534246575342474,6.1097560975609762,4.9320388349514559,5.2991452991452999,5,5.953846153846154,5.7946428571428577,5.3062678062678064,4.7450980392156854,4.9059829059829063,6.1279069767441863,6.5132743362831853,4.6436170212765955,5.3201581027667979,5.19]
["YieldDurum wheatEstonia","Yield","Durum wheat","Estonia","","","","","","","","","","","","","","","","","","","","","","","","","",""]
["YieldDurum wheatIreland","Yield","Durum wheat","Ireland","","","","","","","","","","","","","","","","","","","","","","","","","",""]
["YieldDurum wheatGreece","Yield","Durum wheat","Greece",2.7496226984606094,1.9001886468873264,2.8571428571428572,2.3504132231404959,2.3449193414269085,2.3622556148004525,2.383116883116883,2.1212121212121211,2.1679546779473533,1.8776819520403871,1.8438511114033937,1.7991197304174404,1.9988807461692206,2.0003354038933683,2.1997538887500236,2.09917884672568,2.9269362917580826,2.7342277432712216,3.1954651591495633,3.4820712198504289,2.7223830679379022,3.0166545199341375,2.9155219586494803,2.364665161775771,2.3590225563909772,2.84]
["YieldDurum wheatSpain","Yield","Durum wheat","Spain",2.4343732140751291,1.2122793553338449,1.5462962962962963,0.65510298900418151,2.5992343032159266,1.7819165378670789,2.169448418375457,0.87787182587666268,2.2359045313040471,2.1460851881143372,2.3247678687108615,2.1782742006132283,2.8542215663539583,1.0263591433278418,2.6762214983713357,2.9683115626511851,2.2283242429941694,2.5386899239190943,2.0475927177407796,2.3815632852797251,1.2151563070186109,2.7174932292728387,2.778017096318234,2.6584657833472249,2.2947638146167559,2.19]
["YieldDurum wheatFrance","Yield","Durum wheat","France",5.0072113768832631,3.9928283281039891,4.4214103653355989,4.508260869565218,4.6363636363636367,3.2815533980582523,5.2077181208053691,4.7376899696048635,4.9866824504291216,4.4112271540469976,4.8098360655737702,4.0467819676779131,5.1281042537496928,4.8324656885944153,4.6383918709962453,4.367924528301887,4.9123422159887795,5.0573155985489722,5.0288250961823024,4.8485676615126456,5.4466541559868178,5.2707223429268728,5.1963874747192973,5.6627359969892739,4.2374534354304636,5.4099999999999993]
["YieldDurum wheatCroatia","Yield","Durum wheat","Croatia",5.2790055248618799,"","","","","","","",4.7498565599656404,4.7659500602623286,4.6146182251959029,4.6098846432177867,4.7201579746101761,4.6785371307037158,4.7265310925304211,4.954822409057031,4.9444444444444446,4.7272727272727266,3.5505617977528092,4.6870229007633579,5.4504504504504494,4.4351851851851851,5.2907801418439719,6.5424836601307188,5.0909090909090899,5.4685016035661818]
["YieldDurum wheatItaly","Yield","Durum wheat","Italy",3.2402159035946205,2.8895822991277216,2.8535211267605631,2.5215007392804338,2.6224710759141248,2.2564857074225317,3.0012887388769562,2.670353720572578,2.5917262942697374,2.1776228818651604,2.4622396584549704,2.201267171956419,3.1294509339202077,2.9149398065916716,2.9702137165835127,2.725611450806003,3.2223342576254095,2.8909580790870906,3.042360409523734,3.1744595736846066,3.3012760486930017,3.124967532211981,3.1346578023548419,3.309827146372482,3.6491963459759478,3.37]
["YieldDurum wheatCyprus","Yield","Durum wheat","Cyprus",2.1355297641332833,2.34,2.4242424242424243,2.9729729729729728,2.8260869565217392,2.1698113207547172,2,2.1212121212121211,1.6129032258064515,1.9444444444444444,2.1864406779661016,1.9751037344398339,1.3328859060402685,1.7585551330798479,1.3951762523191094,2.0245746691871456,0.49498997995991983,2.5503472222222223,2.4125159642401024,2.2417374881964114,2.6807017543859648,2.1936416184971099,0.72312703583061899,2.9540517961570592,1.6850533807829182,2.39]
["YieldDurum wheatLatvia","Yield","Durum wheat","Latvia","","","","","","","","","","","","","","","","","","","","","","","","","",""]
["YieldDurum wheatLithuania","Yield","Durum wheat","Lithuania","","","","","","","","","","","","","","","","","","","","","","","","","",""]
["YieldDurum wheatLuxembourg","Yield","Durum wheat","Luxembourg","","","","","","","","","","","","","","","","","","","","","","","","","",""]
["YieldDurum wheatHungary","Yield","Durum wheat","Hungary",4.6759105960264895,3.3333333333333335,3.3333333333333335,3.3333333333333335,3.3333333333333335,3.3333333333333335,3.6444444444444439,3.4545454545454546,3.0081081081081082,3.5565217391304347,3.9444444444444442,2.1441441441441444,4.5,4.333333333333333,4.1030927835051543,3.6962025316455693,4.3058823529411763,3.6412213740458017,3.2686898593634344,4.0834697217675942,3.7371007371007372,4.4509265614275906,4.6365517241379317,4.8758441558441561,4.971607791350281,4.7]
["YieldDurum wheatMalta","Yield","Durum wheat","Malta","","","","","","","","","","","","","","","","","","","","","","","","","",""]
["YieldDurum wheatNetherlands","Yield","Durum wheat","Netherlands","","","","","","","","","","","","","","","","","","","","","","","","","",""]
["YieldDurum wheatAustria","Yield","Durum wheat","Austria",4.6122018154950393,3.5591397849462365,4.1304347826086962,3.8736842105263154,3.8348623853211006,4.0975609756097562,3.9580838323353293,4.92,2.7834394904458604,3.8416666666666668,3.9285714285714288,3.8203592814371259,5.0056497175141246,4.0451612903225804,4.8176100628930811,3.4545454545454546,5.1005586592178771,3.9467455621301779,4.4988571428571431,5.0913838120104442,3.0652631578947367,5.1125506072874494,4.7621082621082627,4.6373165618448642,5.3329032258064517,4.1399999999999997]
["YieldDurum wheatPoland","Yield","Durum wheat","Poland","","","","","","","","","","","","","","","","","","","","","","","","","",""]
["YieldDurum wheatPortugal","Yield","Durum wheat","Portugal",1.7360594795539031,1.5833333333333333,2.0476190476190474,1.24,1.6296296296296295,1.103448275862069,1.037037037037037,1.5333333333333334,1.242062063503492,0.7689830762318407,1.7374681393372982,0.78676470588235292,1.5428834517232308,0.55980861244019142,2.3006134969325154,1.7985611510791368,2.3445945945945947,1.8476881233000906,1.7127192982456141,1.362369337979094,1.1509433962264151,1.887323943661972,2.3414634146341462,2.1691176470588234,2.3875000000000002,2.2308583058088232]
["YieldDurum wheatRomania","Yield","Durum wheat","Romania",3.7130307467057095,2.8571428571428572,2.8571428571428572,2.8571428571428572,2.8571428571428572,2.6428571428571432,1.5757575757575759,1.9166666666666665,1.6391304347826088,3.1868852459016397,2.7672131147540981,1.2558139534883721,3.5594059405940595,2.7912087912087911,2.3774647887323943,0.73714285714285721,2.9819277108433737,1.9197080291970801,2.2573940847322143,3.1346153846153846,2.4759238521836506,3,4.8891687657430731,2.8453237410071943,3.4117647058823524,3.7064381927598902]
["YieldDurum wheatSlovenia","Yield","Durum wheat","Slovenia","","","","","","","","","","","","","","","","","","","","","","","","","",""]
["YieldDurum wheatSlovakia","Yield","Durum wheat","Slovakia",5.0550415183867159,4.8148148148148149,4.8148148148148149,4.8148148148148149,4.8148148148148149,4.8148148148148149,4.8518518518518512,3.1363636363636362,2.6097560975609757,3.7252747252747254,3.875,2.52,4.5714285714285712,4.1923076923076925,4.3658536585365857,3.8571428571428572,5.1617647058823533,4.6923076923076925,3.5844726562499996,4.4786324786324787,2.7377990430622012,4.6617790811339193,5.3261758691206547,5.2766651141127161,5.7029216793518298,4.6399999999999997]
["YieldDurum wheatFinland","Yield","Durum wheat","Finland","","","","","","","","","","","","","","","","","","","","","","","","","",""]
["YieldDurum wheatSweden","Yield","Durum wheat","Sweden","","","","","","","","","","","","","","","","","","","","","","","","","",""]
["YieldDurum wheatUnited Kingdom","Yield","Durum wheat","United Kingdom","",5,6,6,6,6,6,6,"","","","","","","","","","","","","","","","","",""]
["YieldRyeEU-28","Yield","Rye","EU-28",3.9333217541878076,2.6828537299886577,2.7055830121353091,3.1169095191172058,2.9336438959009929,3.0336800148979832,3.1189556212155041,3.0676527745590794,2.7902681096367208,3.3467928572827792,3.1596608972094677,2.6741645045712872,3.6234486601489304,3.0973391104059793,2.8018401561447916,2.9735905447629398,3.3781475932094898,3.5467218236270015,3.3701538897325842,3.0622615119601706,3.6792121027509643,3.938839813090067,4.1773755540756898,3.9699523279087039,3.8809964318723553,3.7828932634312316]
["YieldRyeEU-15","Yield","Rye","EU-15",4.9096712981870274,"","","","","","","",4.3690030060524014,5.1333639917222369,4.4022495231684067,3.7207613146994287,5.1730237937164025,4.3988674120243507,4.2008429007411712,3.7854674399735542,4.6280371370250872,4.8715102985169052,4.0611335243696089,3.8785676733710259,4.6490579988609584,5.189613207970412,5.2152551670036535,4.8776904344212024,4.7329968924347279,4.7433723983464517]
["YieldRyeEU-N13","Yield","Rye","EU-N13",2.9952704915697606,37.880384387936139,67.857780126849917,66.164698905109503,43.803063002680965,42.116933683519356,44.53366467859508,40.963328767123294,1.9863589916159519,2.423273662717397,2.4398576666648624,2.1609383900982233,2.832639298751833,2.4502628532844599,2.0422600965268733,2.4599756660160708,2.5903369440837634,2.6733201851862889,2.8531545260591287,2.4331918529765537,2.833003156124235,2.9108936428561885,3.2017545412115123,2.9080473738869128,2.9672298360406688,2.9673747217120257]
["YieldRyeBelgium","Yield","Rye","Belgium",4.4671342556865801,2.7430093209054596E-2,4.3333333333333328E-2,3.4919416730621641E-2,2.5014376078205863E-2,2.0500532481363153E-2,1.9744160177975527E-2,1.198681450404555E-2,4.3636363636363642,3.6249999999999996,4,4.5000000000000009,4.5714285714285721,4.5999999999999996,4.5000000000000009,3.4285714285714288,4.4000000000000004,5.4,1.5384615384615383,5.1739130434782608,5.2,5.6603773584905657,4.9813935039529778,4.5714285714285712,3.2881355932203391,4.5410864840447331]
["YieldRyeBulgaria","Yield","Rye","Bulgaria",1.8951028687337006,3.0119047619047619,2.4777777777777779,2.0860215053763436,1.65979381443299,2.7731958762886597,2.7142857142857144,3.7564102564102564,1.2258064516129032,2,1.3969465648854962,1.2142857142857142,2,1.5454545454545452,1.716216216216216,1.6666666666666667,2,1.89,1.6218721037998147,1.9262135922330095,1.746031746031746,1.8855109961190166,1.9542936288088641,1.7793650793650795,2.0321285140562249,2.4]
["YieldRyeCzech Republic","Yield","Rye","Czech Republic",4.9419412976313097,0.26760710553814004,0.26861598440545809,0.24430970149253728,0.17612068965517241,0.21279737489745693,0.2225820195994887,0.27959662936869734,3.4191343963553531,3.7231920199501247,3.3767705382436266,3.8019093078758952,5.2922297297297298,4.1961620469083156,3.3244444444444445,4.7333333333333334,4.8338709677419356,4.6259740259740258,3.9074380165289258,4.7402961184473789,4.8089005235602098,4.7008000000000001,5.1336515513126493,4.9076433121019107,4.9809069212410497,5.22]
["YieldRyeDenmark","Yield","Rye","Denmark",6.0750085236958746,"","","","","","","",5.1980198019801982,5.0903522205206739,4.9568034557235423,5.1215805471124618,4.6265822784810124,4.8351648351648349,4.7272727272727275,4.4653465346534658,5.2422145328719729,5.3747178329571108,4.7984644913627639,5.109375,5.95046439628483,6.0412844036697244,6.3643192488262903,6.3278688524590168,5.7951807228915673,6.24]
["YieldRyeGermany","Yield","Rye","Germany",5.7474580313941743,25.284745762711864,28.376644736842106,33.392171344165433,29.75918079096045,33.309818181818187,34.277099784637471,42.107976653696497,4.9295122819508723,6.1317801672640382,5.0329489291598026,4.2872740963855422,6.1289806369019049,5.0874157712620649,4.9057339023937647,4.0219108660008951,5.0810150631021846,5.6978916466506542,4.6150175000100289,4.0885342184397331,5.4761003377445103,5.9845255837808331,6.1310353543617735,5.6674694544393072,5.5633282137436391,5.54]
["YieldRyeEstonia","Yield","Rye","Estonia",3.2470308788598579,0.52870090634441091,0.17817083692838651,0.23620129870129872,0.26235741444866922,0.29050505050505054,0.22042793702058944,0.16126350789692434,2.1038062283737022,2.0526315789473686,2.3184357541899443,1.5328947368421053,2.2345679012345681,2.7567567567567566,2.4383561643835616,3.6309523809523809,3.0654205607476634,2.5555555555555554,1.9841269841269842,2.3308270676691727,3.3786982248520712,1.9043478260869564,3.220779220779221,3.825174825174825,2.6129032258064515,2.82]
["YieldRyeIreland","Yield","Rye","Ireland","",0,0,0,0,0,0,0,"","","","","","","","","","","","","","","","","",""]
["YieldRyeGreece","Yield","Rye","Greece",1.8020240354206194,0.17521008403361346,0.19534883720930232,0.1574468085106383,0.15238095238095239,0.13306451612903225,0.34454470877768661,0.21232876712328766,1.9012765957446809,1.5037220843672459,1.6536939313984169,1.7044560943643514,1.7306079664570233,1.6540330417881439,2.05997693194925,2.0324354040681691,1.7825233186057929,1.9862136878385035,2.5158020274299342,2.0841865756541527,1.8005181347150261,2.1564281190626979,2.0461341307133702,1.4611959287531806,1.4836683417085428,2.06]
["YieldRyeSpain","Yield","Rye","Spain",1.975668412083279,0.14603786816269285,8.5689412154879366E-2,6.7841019026120608E-2,0.16596508952124375,8.8011635154789117E-2,0.10602529134639227,0.13021922226868168,2.007299270072993,0.99412340842311464,1.7296767874632712,1.6364477335800187,1.7938257993384783,1.3977900552486189,1.5551366635249766,2.3401969561324973,2.5399103139013453,1.3679817905918057,1.907011070110701,2.553298759065521,1.4476108920933082,2.4090294638533987,1.7729248861347464,1.9189115460683352,2.4976345735839409,1.58]
["YieldRyeFrance","Yield","Rye","France",4.8425573690023294,4.470430107526882,4.5459610027855151,4.8152173913043477,5.7613636363636358,5.365269461077844,5.5228571428571431,5.2183544303797467,4.6139240506329111,4.084507042253521,4.8671328671328666,4.0250896057347667,5.053254437869823,4.7516129032258068,4.5676691729323302,4.2472727272727271,4.7868217054263562,5.1713147410358564,5.0958164642375161,4.4962052764727138,5.0808240887480194,4.9168384879725089,4.8967495219885286,4.7061737804878048,3.97172131147541,4.67]
["YieldRyeCroatia","Yield","Rye","Croatia",2.6206896551724146,1.5789076264787313E-2,1.6167420814479638E-2,1.1566292649416075E-2,1.3300385728061716E-2,1.2143030303030303E-2,1.2890442890442892E-2,1.9002129601460301E-2,2.6666666666666665,3.6,2.8749999999999996,2.0168918918918917,3.1324041811846688,2.5621621621621622,2.7313432835820901,2.5202312138728327,2.9285714285714284,2.9,2.5,2.4583333333333335,2.8588235294117648,2.9019607843137254,2.0437956204379559,3.0825688073394493,3.7142857142857149,3.0441371640200714]
["YieldRyeItaly","Yield","Rye","Italy",3.1014492753623197,0.23030303030303031,0.22834645669291337,0.19662363455809334,7.1999999999999995E-2,0,0,0.10535259133389975,2.9428571428571431,2.8666666666666667,2.8235294117647061,2.5555555555555554,2.7241379310344831,2.925925925925926,3.0714285714285716,3,2.2978723404255321,2.5434782608695654,3.0909090909090908,2.964948453608248,3.2224448897795588,2.9627329192546585,3.0026041666666665,3.2068126520681264,3.1582733812949639,3.1591286917402286]
["YieldRyeCyprus","Yield","Rye","Cyprus","",0,0,0,0,0,0,0,"","","","","","","","","","","","","","","","","",""]
["YieldRyeLatvia","Yield","Rye","Latvia",3.6445725264169071,0.19382182273296167,6.2651933701657461E-2,3.8382859603789836E-2,5.7164556962025319E-2,6.5601965601965601E-2,5.1272015655577298E-2,4.8049837486457206E-2,2.0200729927007299,1.9211469534050181,2.3995271867612296,1.9819004524886876,2.1463414634146338,2.2188295165394405,2.7289719626168227,3.1495652173913045,3.3033898305084746,2.7491525423728813,2.1337386018237083,2.3529411764705883,3.4214876033057853,2.6713780918727914,3.5718749999999999,4.2788203753351208,3.9357541899441344,3.47]
["YieldRyeLithuania","Yield","Rye","Lithuania",2.2976360463271464,"","","","","","","",2.3395942900075131,2.0763701707097932,2.2815013404825737,2.459866220735786,2.5333333333333332,2.1277013752455796,1.7612524461839529,2.36676217765043,2.7577388963660838,2.5291970802919708,1.7575757575757576,2.0238095238095237,2.8014311270125223,1.9534412955465588,2.2506596306068603,2.7822497420020644,2.3836260978670012,2.48]
["YieldRyeLuxembourg","Yield","Rye","Luxembourg",5.9228741850464717,"","","","","","","",5.1428571428571432,6.8571428571428577,6.8181818181818175,6.5714285714285712,7.1818181818181817,6.333333333333333,5.6363636363636358,5.3846153846153841,6.6923076923076916,6.2727272727272725,6.2727272727272725,5.1031746031746028,5.136165577342048,5.9109347442680784,6.7371931318291463,6.2333333333333334,4.6333333333333329,5.9795450181537761]
["YieldRyeHungary","Yield","Rye","Hungary",2.705620039487731,"","","","","","","",2.0069605568445477,2.3818897637795278,1.962962962962963,1.4565217391304348,2.7555066079295152,2.5669856459330145,2.5372750642673525,2.0376884422110555,2.580275229357798,1.8125,2.1693989071038251,2.2212009803921569,2.2430707841163908,3.0719108633967749,2.8553571428571427,2.7565632458233891,3.0254681647940078,2.8657686643808518]
["YieldRyeMalta","Yield","Rye","Malta","","","","","","","","","","","","","","","","","","","","","","","","","",""]
["YieldRyeNetherlands","Yield","Rye","Netherlands",3.6802841918294846,"","","","","","","",4.833333333333333,4.7222222222222223,4.666666666666667,5.1142857142857139,4.882352941176471,4.3600000000000003,4.541666666666667,2.7142857142857144,3.8095238095238093,4.8695652173913047,4.9583333333333339,3,4.5,3.5,3.5,3.7668711656441718,4.1739130434782608,3.7896322444041886]
["YieldRyeAustria","Yield","Rye","Austria",4.5892752347417831,"","","","","","","",3.4819047619047621,4.169921875,3.632696390658174,3.3200000000000003,4.6717724288840259,3.8247663551401869,3.486988847583643,4.0385438972162735,4.1071428571428568,3.7855670103092782,3.5262582056892779,4.3970396168915977,4.2188788128606758,4.1826768846907862,4.8202736318407959,4.3243174924165819,5.0490485124631466,4.66]
["YieldRyePoland","Yield","Rye","Poland",2.9568078293485542,2.5048168590065232,2.6580240722166502,3.1517293233082704,2.8319138276553106,2.6537305958938409,2.8346846846846847,2.5916458229114556,1.9383110594615536,2.4290066423612848,2.4552970582580276,2.1443926181301967,2.7624548270521427,2.4053557549636122,1.9890743550834598,2.3747910651876611,2.4693877551020407,2.6602421723866159,2.9558026030368763,2.3986490029552097,2.7813328522827496,2.9062401210294992,3.2087201624164403,2.7755411553839791,2.8904570422350124,2.91]
["YieldRyePortugal","Yield","Rye","Portugal",0.86045296167247354,"","","","","","","",1.0396150402864817,0.64413095554964062,1.0238805970149254,0.88830313014827011,0.95283018867924518,0.77847851793456835,1.0136286201022147,1.0216021602160217,1.0417448405253285,0.94552529182879386,0.85861056751467713,0.93255578093306302,0.7575602255253715,0.86467236467236475,0.89085396664982308,0.8558011049723756,0.89889502762430928,0.8]
["YieldRyeRomania","Yield","Rye","Romania",2.4199799532241899,2.865045032267215E-2,3.3540779561087454E-2,2.6306062099556434E-2,1.255954958856648E-2,1.7595484025942829E-2,1.6017183185026082E-2,1.2480776055838165E-2,1.5493958777540868,2.3257514216084481,1.6365118174409128,1.355191256830601,2.5102692834322227,2.3709443099273608,2.0719257540603251,1.7022332506203472,2.4155145929339477,2.1237113402061856,2.3543956043956045,2.5408906882591094,2.1038062283737022,2.2169459962756051,2.3952802359882006,2.5323590814196244,2.7161100196463654,2.5663882831102001]
["YieldRyeSlovenia","Yield","Rye","Slovenia",3.6891891891891881,2.0536847353154462E-3,2.0606158876862995E-3,1.9000545119087554E-3,1.7761438689451255E-3,1.1104117279783147E-3,1.2426555868520666E-3,7.3915040914818045E-4,2.5714285714285716,3.2857142857142856,3.3333333333333335,2.3333333333333335,3.1818181818181817,3.1060606060606055,2.7272727272727275,3.0487804878048781,2.9577464788732395,2.584269662921348,3.125,3.5061728395061724,3.8,3.36241610738255,4.1097560975609762,3.7580645161290325,4.1030927835051552,4.115484994823646]
["YieldRyeSlovakia","Yield","Rye","Slovakia",3.5089223638470441,2.4537991751269039E-2,3.2496925966462628E-2,2.9254287571284805E-2,2.3057576771396724E-2,2.6713333570221171E-2,3.0652171142350977E-2,1.9786487875658981E-2,2.0252365930599372,2.8897435897435897,2.5261780104712042,2.4624505928853755,3.8128834355828216,2.8,2.359375,2.6280193236714977,3.1003861003861006,2.8168316831683167,2.2117647058823531,3.2089552238805967,3.1424936386768447,3.8619919606967397,3.6675805346127484,3.5958549222797926,3.7772585669781931,3.8999999999999995]
["YieldRyeFinland","Yield","Rye","Finland",3.2214285714285724,2.2568325695743092E-2,7.5900549766144245E-3,1.9126581506418841E-2,2.8399658027593096E-2,1.5186618822931089E-2,1.5910205767691633E-2,6.7828722129867867E-3,2.4314606741573033,2.2103448275862068,2.3934426229508197,2.3713355048859937,2.0129032258064514,2.2657342657342654,2.3242009132420094,2.7093750000000001,2.5546218487394956,2.5426829268292686,2.7380952380952381,2.914498141263941,3.0966183574879227,2.089430894308943,3.1603375527426163,3.4235668789808917,3.37890625,3.01]
["YieldRyeSweden","Yield","Rye","Sweden",6.1105598866052446,6.1994609164420638,4.8983050847457505,5.7653631284916642,4.5149863760218203,3.7085561497326109,4.0326633165828962,3.0732984293193866,5.4289855072463773,5.2785923753665687,5.3195020746887955,4.9208333333333334,5.5123966942148765,5.272300469483568,4.9956709956709959,5.57085020242915,6.1381818181818186,5.9672131147540979,4.8715824357912174,5.76,6.3590909090909093,5.6754596322941646,6.4511334076551465,6.340841478963025,6.117149758454107,6.15]
["YieldRyeUnited Kingdom","Yield","Rye","United Kingdom",3.6285565126598796,"","","","","","","",6.1111111111111107,4.875,5.76,6.279069767441861,5.7017543859649118,9.2295081967213122,8.6428571428571423,10.904761904761905,15.634615384615383,7.2,6.333333333333333,5.2857142857142856,5.5,5.5483359746434235,5.5,2.5909090909090908,1.8846153846153846,1.8013640089800447]
["YieldBarleyEU-28","Yield","Barley","EU-28",4.8925178881420424,3.747085364455975,3.6165966701083172,3.6595888773540093,4.1366728964736543,4.0488319478885115,4.111393941684657,4.0536399990033116,4.2462340998456449,4.1219237992726132,4.1140302580886177,3.9834268820673446,4.6735096806142993,3.9546127292372009,4.0694566967597199,4.2188400670374211,4.5160175682984427,4.4612792203098461,4.3405656861527202,4.3583418625014074,4.4000790296945294,4.9395372262679311,4.8812896584447873,5.0688217985078587,4.856648291051564,4.7672176744147761]
["YieldBarleyEU-15","Yield","Barley","EU-15",5.1652809754065583,4.1802900752570391,3.9876526259908096,3.9515813424345843,4.6061748371015003,4.4183484071274295,4.5374216714778566,4.4874650014736233,4.8091894660263712,4.4756776832271878,4.5622000039928183,4.4179813118136044,5.0227382703623409,4.2580371213361872,4.5228712284162729,4.6628676557026321,4.8618295370047608,4.8565164389294226,4.7298541793057698,4.640973823334023,4.7193275559350916,5.1944666600019991,5.121673131566844,5.3608509255148062,5.0767899308483733,4.959322414049093]
["YieldBarleyEU-N13","Yield","Barley","EU-N13",4.0190320807457027,2.6995960309816764,2.7599752959519193,2.9062734036227145,2.7843075072629437,3.0475972794912352,2.9101334508277201,2.7914892422808837,2.5384036379852417,3.0879380988915899,2.8830499755853651,2.6711881292997042,3.6363850615346571,3.1108562920462841,2.7571554182777409,2.9553487801614535,3.4498742928975434,3.2921187261694986,3.1788556468734135,3.4984663149777995,3.431169149732761,4.0547656566240695,4.0949063577778739,4.0880515709225014,4.1202994263228545,4.0984535608464281]
["YieldBarleyBelgium","Yield","Barley","Belgium",8.1253607376645327,5.9003021148036252,5.9896193771626303,6.6368715083798877,7.5722772277227719,7.4055666003976146,6.9869402985074629,7.3688212927756656,6.9458333333333329,7.0903846153846155,7.45,6.6073170731707309,7.815384615384616,7.5400000000000009,7.4959183673469392,7.6428571428571432,7.7963636363636368,8.3970315398886832,9.1452363458241486,7.6950611690077029,8.0620842572062088,8.3736875937433037,8.5063802637175669,8.9735427862753188,6.2375451263537904,7.9616263990881517]
["YieldBarleyBulgaria","Yield","Barley","Bulgaria",3.818260684819943,2.5759668508287294,2.9312820512820514,2.9606259464916711,1.7531669865642994,2.7799519395811876,2.4722004698512134,2.5718390804597702,2.8064373897707231,3.1858316221765914,3.1157407407407409,1.9401330376940131,3.5890577507598782,2.4863945578231288,2.9418416801292406,2.2461209202782237,3.9425235743152225,3.3218568665377179,3.3966655796510681,3.950053075590815,3.4582027168234064,3.6910766737567102,3.9693991616208666,4.0624573766765177,4.4343823858688891,4.7381481481481469]
["YieldBarleyCzech Republic","Yield","Barley","Czech Republic",5.095235860567267,3.7907523510971788,3.7742589703588147,3.8223214285714286,3.7455298013245035,3.8430007733952047,3.6231608101090527,3.9370049732915824,3.2937133616333134,3.9701070490809935,3.6726080721163692,3.7612727272727269,4.9692963752665245,4.20974113135187,3.5934482105661805,3.7966713454982957,4.6515339966832512,4.4041336851363235,4.0738950453809171,4.8652824722356351,4.2279444458975233,4.5667784177197053,5.6118053178135341,5.4417816641617707,5.6649679182144714,5.0050267004363613]
["YieldBarleyDenmark","Yield","Barley","Denmark",5.798885161799527,4.7489781536293165,4.923,5.4219749652294853,5.1740837696335076,5.3986111111111112,5.1967930029154523,5.0480769230769234,5.4435781698810013,5.3323474052164563,4.9980594299575491,5.3184955627553174,5.1486156935877201,5.3854772372713091,4.8156383448682076,4.9155977830562154,4.7344207444583857,5.7229342327150086,5.1830667593880388,5.3911745189117459,5.6105888858169752,5.730306107645438,5.869622766379881,6.1109350237717912,5.5872117696986843,5.873813813813813]
["YieldBarleyGermany","Yield","Barley","Germany",6.8085824393292365,5.0007270083605961,5.2681807199806716,5.6390667235737668,5.4673519289983696,5.8921723834652591,5.7374816581071162,6.0174629026420554,5.855000967305088,6.390093758878681,5.5463634979444754,5.1072977923455127,6.5637282141955033,5.9655845490034931,5.9085567570236508,5.4171839949919143,6.1003721262170565,6.5435326694712179,6.2918382765091518,5.4651148238533258,6.1934080343306706,6.586602139582272,7.3475249412213248,7.1709828585522262,6.6856697819314643,6.5964438014969486]
["YieldBarleyEstonia","Yield","Barley","Estonia",3.2193184729695115,2.185694635488308,1.5580541532813217,1.4981233243967826,2.1425675675675677,1.8811104405552204,1.6354916067146283,1.2111760883690708,2.1047849788007271,2.0104244229337302,1.919938414164742,1.9299847792998477,2.3060582218725414,2.5437500000000002,2.1325811001410435,2.6666666666666665,2.5583272193690387,2.6778093883357044,2.4274809160305346,2.4902789518174138,3.1311926605504588,3.3132982719759583,3.6414944356120831,4.2359208523592082,2.6395864106351548,3.181127831966617]
["YieldBarleyIreland","Yield","Barley","Ireland",7.9737251116600936,5.3008849557522115,5.3612256923983503,6.0711086226203808,6.7508269018743103,5.7281348788198105,5.6266386995280548,6.653645833333333,7.1854086670323642,7.0175824175824175,5.4704545454545448,6.5405198776758411,7.2227364294658898,6.2300066897768049,6.808300395256917,6.7116084750820644,6.9145650780081223,6.3395836561805874,6.9969679633867266,7.8177942642010851,6.5402811640815477,7.5769423558897246,8.0268929382853447,8.5765570294393214,7.8212568046086348,8.0202732240437165]
["YieldBarleyGreece","Yield","Barley","Greece",2.5276008736636397,2.6315789473684212,2.9302899444787172,2.8872180451127818,2.3440577806959944,2.4154589371980677,2.4072727272727272,2.6890756302521011,2.6525893958076447,1.9227325357005016,1.9125308994105341,1.8394371819179725,2.6505621729934319,2.4012941176470588,2.357076685537828,2.3494552218974225,2.4171334999569076,2.6699858867806174,2.837782340862423,3.2291646167470236,2.8521625163827,3.0762886597938146,2.5172243824963032,2.2963467652975145,2.310779371849554,3.04]
["YieldBarleySpain","Yield","Barley","Spain",2.8458275484966444,2.7396424637803944,2.0950699251306681,1.4191788526434197,2.9945131851520075,2.3218456357612296,3.0819472731387192,2.3899391220762576,3.3749237339841365,2.0885331372614555,2.6962115105594067,2.7946253495772924,3.347112117780294,1.4177243375640169,2.5446925627071995,3.7000681452112496,3.23201124207749,2.4111500562132138,2.8258808362876482,3.0685123746611964,2.2133596423753943,3.5931874667777666,2.501015361142648,2.5799799915348798,3.6151849473663726,2.1841525338296304]
["YieldBarleyFrance","Yield","Barley","France",6.3288747735862989,5.5539554890592857,5.4612442263279455,5.5566617862371883,6.220811007475028,6.0185296594874265,6.5199074942183888,6.249933351106371,6.3302255835180592,5.7472727272727271,6.6896194824961954,5.5996588001137333,6.7653011161535632,6.4362206689965049,6.2379895639656935,5.5765405214525341,6.7644639582059689,6.8366686129837042,6.3841077602826752,5.6810136088774952,6.7372989532805727,6.306810956224016,6.6538020353617258,7.1210637076717038,5.336321052631579,6.3826482830385016]
["YieldBarleyCroatia","Yield","Barley","Croatia",4.0509443659257371,3.4331650000000007,2.976121,3.1761180000000002,2.8385319999999998,3.2138389999999997,3.35798,2.8054450000000002,3.2378378378378376,3.1337683523654158,3.3741830065359477,2.4646153846153847,3.5179153094462539,3.2286452125546283,3.6386071670047331,3.8181355932203394,4.2610687022900766,4.0872483221476505,3.2817974105102818,4.0140728476821197,4.1430328589000176,3.7423791821561343,3.8039428076256501,4.4267734553775737,4.7360861759425497,4.6968348945527119]
["YieldBarleyItaly","Yield","Barley","Italy",3.8693047918303223,3.8442719360150552,3.7385987261146498,3.6359108781127127,3.7576516416249306,3.3069806560134567,3.808069487251331,3.7182899207248017,3.6706430026185624,3.3794656259381566,3.4722870478413066,3.2960929932192444,3.804036458333333,3.7952485151609876,3.8766253401874811,3.5546852335364085,3.7419062027231469,3.4198174706649285,3.6221482889733845,3.6434585492227982,3.8200544427741439,3.6802377038816538,3.6469425465171241,3.9321943186496497,4.1336453913119557,3.8]
["YieldBarleyCyprus","Yield","Barley","Cyprus",1.5384737426622239,3.015625,2.5666666666666669,2.3508771929824563,2.3272727272727272,0.96,1,2.1673076923076922,0.83555555555555561,2.3207171314741033,2.5029239766081872,2.3073373327180433,1.7278015397775874,1.1479436405178978,1.1934164792475976,1.5288065843621397,0.11408083441981748,1.786541889483066,1.9072463768115944,1.8317307692307692,2.3233968804159444,1.5303867403314915,0.14361140443505807,2.5379377431906618,0.6996015936254979,1.81]
["YieldBarleyLatvia","Yield","Barley","Latvia",3.2746428571428572,1.6545586632764258,1.8052532833020638,1.396950319724545,2.0823991031390134,1.8498714652956298,1.8552479815455594,1.5790902919212491,1.9355077835433656,1.7735993860322332,1.9167275383491598,1.8597285067873304,2.2270227808326788,2.4599865501008744,1.9909208819714659,2.412250516173434,2.3407012195121957,2.5372848948374762,2.2749003984063743,2.4681960375391028,2.8806488991888761,2.7559241706161135,3.5431472081218276,3.8781470292044316,2.9999999999999996,3.1619364287712459]
["YieldBarleyLithuania","Yield","Barley","Lithuania",3.5598092209856915,2.056,1.7591547023713503,1.6372819100091827,2.4833262980160402,2.3727634194831015,2.3856124432922878,1.7606837606837609,2.433748584371461,2.3135618479880775,2.3865753424657536,2.9185857930587087,2.9394871794871795,2.714081282198054,1.9400104329681795,2.6578395385422131,2.9184962406015038,3.0937274693583277,2.3727351164797237,3.0067273446774831,3.4141739530602848,3.2761586239847111,3.8146067415730336,4.0094861660079051,3.1613691931540338,3.4309698563508348]
["YieldBarleyLuxembourg","Yield","Barley","Luxembourg",5.5232403718459482,4.9708029197080288,4.4044117647058822,4.9448818897637796,5.6640625,5.4444444444444438,5.1382113821138207,5.2968749999999991,5.0952380952380949,4.6206896551724137,5.395833333333333,5.3173076923076916,5.9325842696629207,5.3434343434343434,5.2736842105263158,4.8478260869565224,5.4123711340206189,5.787234042553191,5.2058111380145276,4.8425692695214106,5.3081232492997197,5.4896640826873382,5.5240384615384617,5.7561608300907912,4.9275362318840576,5.3396817884368888]
["YieldBarleyHungary","Yield","Barley","Hungary",4.3570423108691347,2.6526806526806528,3.6832151300236409,3.5826972010178118,2.8338461538461539,3.5945945945945947,3.5364597451883979,3.1225651783038657,2.7733292269787495,3.5349659863945577,2.8229419703103917,2.3773474178403755,4.2688009664753848,3.7563900284001268,3.6746411483253589,3.1657853810264385,4.4511529126213585,3.3163965087281797,3.3575951618641051,3.7804401913875596,3.6165631920996262,4.0534351145038165,4.4237723407947254,4.7584878889226712,5.1449595290654901,4.8229950071814516]
["YieldBarleyMalta","Yield","Barley","Malta","","","","","","","","","","","","","","","","","","","","","","","","","",""]
["YieldBarleyNetherlands","Yield","Barley","Netherlands",6.9031354379915966,6.2892768079800492,5.2082379862700225,5.6882022471910112,6.6140845070422536,6.3880952380952385,5.4030226700251882,6.2521440823327623,6.0974576271186436,5.8253012048192767,5.5413005272407734,6.3588342440801462,6.0803382663847785,6.1420000000000003,6.0791855203619907,5.678260869565217,6.1792828685258963,6.9573033707865175,6.1261261261261266,6.0294117647058822,6.8666666666666663,6.9333333333333336,7.0357142857142856,6.9088692471807374,6.8151064450277046,7.0389072847682117]
["YieldBarleyAustria","Yield","Barley","Austria",5.5132124470363104,4.1447418017338853,4.6869806094182831,4.6494980357922309,4.1710323574730346,4.8265541059094392,4.5617469879518069,4.7265272652726527,3.8190348525469169,4.6547126436781605,4.2877053260328521,4.1559114460668862,5.2624150548876107,4.5884194053208143,4.4287790697674421,4.1955509570615623,5.206562668101129,4.6011019283746561,4.6063118005802597,5.6062365451105753,4.3994554389693183,5.1486988847583639,5.7992868408420764,5.5375238848257222,6.1219112725201166,5.3789416426512959]
["YieldBarleyPoland","Yield","Barley","Poland",4.2143882109497381,2.7872741286289284,2.6025193798449613,3.1296296296296298,3.0417773057178263,3.1128019323671499,3.1748417721518987,3.0709706546275393,2.5395985401459855,3.1091299477221805,3.2072903778433424,2.7863609525683919,3.5218463359305656,3.2173209954182016,2.5897099786990005,3.2522719896137615,2.9997513674788663,3.4433016421780467,3.4860954335556693,3.2670923379174854,3.6017577115285198,5.0978048780487804,4.0514660398366944,3.5275825092338855,3.7154780543108572,3.9081501560021974]
["YieldBarleyPortugal","Yield","Barley","Portugal",1.9910174468820174,1.599025974025974,1.8150943396226416,1.0392156862745099,1.5217391304347827,0.87804878048780499,1,1.1599999999999999,1.6697289848415251,1.0705182667799491,1.7859054415700266,1.1320590790616853,1.6509433962264151,0.76499708794408838,2.3901721014492754,1.9940711462450593,2.3173166202414115,1.7816935878609887,1.5143422354104847,1.2627781118460615,1.153217011995638,1.7927094668117523,2.2079207920792077,2.0973075106282475,2.621634388285309,2.17]
["YieldBarleyRomania","Yield","Barley","Romania",3.3157415337765266,2.437293988384869,2.7179617834394905,3.1223998624720641,2.1488164532402019,3.0188347964884277,2.3936581593194122,2.4515042117930204,2.1051328121206234,2.9881046938235185,2.0048895953557486,1.6410777680007282,3.3118978635196572,2.2269800652111109,2.3305593245891751,1.460707512162942,3.0693348222216588,2.2841297752700429,2.5416618200147334,3.1696264689757099,2.3250047143126533,3.1113195747342091,3.3188178294573643,3.4649589070338354,3.8015384615384615,3.7407080146036158]
["YieldBarleySlovenia","Yield","Barley","Slovenia",4.7837497753010956,2.901098901098901,3.4881889763779528,3.3149606299212602,3.1519999999999997,3.5925925925925921,3.9816513761467887,3.8073394495412844,3.2636127917026792,3.514218009478673,3.8853914447134783,2.8810732414793327,3.898825065274151,3.9637540453074438,3.6161971830985915,3.6643281165677282,3.9932397295891837,3.5236436037829768,4.2776294714361986,4.5417620137299775,4.7150806900389544,4.0034662045060658,4.8560606060606055,4.6330183988065645,4.7784150156412935,4.76]
["YieldBarleySlovakia","Yield","Barley","Slovakia",4.353543936818955,3.3257881972514145,3.6718487394957982,3.3998287671232879,3.1816570669029689,3.5799670239076669,3.4598655595096877,2.9099316445516692,1.970690511674118,3.1211195928753179,3.5441101478837327,2.9818316648127552,4.0961538461538458,3.5888349514563105,3.4654427645788335,3.142448785135779,4.1825434068512433,3.4324186991869916,2.717013758364033,3.8688282977155493,3.179133725251706,3.6772464962901896,4.8681841100626659,4.7764126009000636,5.2486721811057899,4.3587076516278307]
["YieldBarleyFinland","Yield","Barley","Finland",3.5820211852275978,3.6585312704292878,3.6801346801346799,3.4163115071677641,3.4278341013824885,3.4377144818119425,2.2771626297577856,2.6982788296041309,3.5525326651154461,3.2638888888888888,3.3301417081577935,3.1984171848501979,3.0547290116896919,3.5354741089441832,3.4941530829199148,3.6073441192510454,3.4712981082844094,3.6141168636590644,3.2108289410637281,3.5053240740740739,3.5039893617021276,3.8515372168284792,3.7327430066411753,3.474313551815766,3.58800461361015,3.5]
["YieldBarleySweden","Yield","Barley","Sweden",4.8658694882586655,3.9773809523809525,3.5114164904862579,3.9539038376709312,4.5100298762270592,4.3201490991923794,3.7907865168539328,3.8433609958506225,3.9990212870075852,4.1624841571609634,4.3543962772471225,4.2469101895083767,4.31937707429155,4.286598493003229,3.6187683284457477,4.4842630102835779,4.1852779168753127,4.6459369817578775,3.9714460665828737,4.3625386996904023,4.6116531165311656,5.003868771278241,4.7834938770549096,5.2451149515415736,4.8032138597702598,4.8034509655909918]
["YieldBarleyUnited Kingdom","Yield","Barley","United Kingdom",6.2543142597638512,5.1842330762639248,5.371005596678101,5.7334450963956414,6.1398391928109728,5.7601177336276672,5.1760956175298807,5.5840407470288627,5.7553191489361701,5.3498272953650892,5.5658492279745682,6.0139405204460967,5.774865991661704,5.901141089900821,5.9441797140912183,5.656420536808108,5.9533914728682165,5.833770778652668,5.7024972855591747,5.6639175257731962,5.5109780439121758,5.8466611706512781,6.3990740740740737,6.6939146230699365,5.9313725490196081,6.3919816053511713]
["YieldOatEU-28","Yield","Oat","EU-28",3.0446312766946528,2.9032008013350263,2.6742544195663309,2.7603000692931987,3.0397807324178356,2.9678627842530214,2.8726492636750303,2.7007085501093502,2.8358490184169982,2.7947223258754494,2.9727687832952796,2.8141650793227484,3.1478790440946818,2.7586409946245714,2.6481751660705739,2.9252506907899618,2.9699023888169571,2.9047376662712803,2.7593153932630123,2.914986547917247,2.9734672288578121,3.1395860072787922,3.0505379850016294,3.0004709886804402,3.1124440458581315,3.1168972835143829]
["YieldOatEU-15","Yield","Oat","EU-15",3.2806374629090729,3.4927186903685845,3.1905774341628415,3.0789055042952596,3.5584911502141501,3.3647264551586309,3.2451283637488393,3.0409093210470357,3.4646715088166911,3.1229661068209773,3.454267175719711,3.2711652307840398,3.4534093142755866,3.0609034765001946,3.0665886104264652,3.3876832566803836,3.3579048809709855,3.2037518842569987,3.0661059021590868,3.2239204020925225,3.2343575384690957,3.4797851631723162,3.2472783924710678,3.2387304908884813,3.3667961129867066,3.3004299690120127]
["YieldOatEU-N13","Yield","Oat","EU-N13",2.6440912769514022,2.0355706251526331,1.8704012714802076,2.2411967852550641,2.2060375934878032,2.3222346365152906,2.2523606890668315,2.1488111634665632,1.7622352011003668,2.205264345670694,2.1348017684223057,1.9824188270055842,2.617343866808175,2.2630895811176845,1.9095128255552303,2.1543417376047809,2.2886019267297923,2.3738960667915334,2.2916748616223197,2.4214493647702962,2.5638172737615466,2.510409541723662,2.7325618441742607,2.5850652594088652,2.6546739130434784,2.7808415429958826]
["YieldOatBelgium","Yield","Oat","Belgium",5.4880611270296082,4.7304347826086959,4.3958333333333339,4.4920634920634921,5.2592592592592586,5.629032258064516,4.9137931034482758,5.5324675324675328,5.4528301886792452,5,5.5384615384615383,6.0142857142857142,5.4912280701754383,5.1228070175438596,5.0377358490566042,4.8039215686274517,5.9230769230769234,6.2142857142857144,5.0612244897959178,5.0284090909090908,6.0689655172413799,6.0372340425531918,5.8059210526315788,5.6370558375634516,4.4686648501362392,5.5548885427200041]
["YieldOatBulgaria","Yield","Oat","Bulgaria",1.9023712881862849,1.3539651837524178,1.60075329566855,1.319327731092437,1.1440677966101696,1.3236009732360097,1.4270613107822412,1.6514084507042255,1.1576354679802956,1.925925925925926,1.5219512195121951,1.3696808510638296,2.36046511627907,1.6372549019607843,1.8597560975609757,1.0273972602739727,2.1887550200803214,1.5349999999999999,1.726488706365503,1.9763353617308994,1.8554216867469879,1.9888205701509221,1.8052384150436533,1.9575812274368232,2.0476501305483028,2.0516363398103721]
["YieldOatCzech Republic","Yield","Oat","Czech Republic",3.4770370370370371,2.8571428571428572,2.6961038961038959,3.1116666666666664,3.2454545454545451,3.177835051546392,3.1143847487001728,3.3166666666666664,2.9090251155295554,3.0708691300605766,2.910471704299507,3.1561083268338259,4.1121522731107438,3.1272346637549671,2.8493599278740795,2.8655702776483123,3.4246271025071406,3.5650368673491304,2.6442234123947972,3.6306366047745358,3.3874335237344884,3.1937557392102844,3.599668952471033,3.6457547169811324,3.5192973116848547,3.6494933939260648]
["YieldOatDenmark","Yield","Oat","Denmark",5.1393692954582182,4.9113475177304968,5.1425000000000001,4.9384615384615387,5.0871212121212128,5.166666666666667,5.193548387096774,5,5.2454954954954962,4.853577371048253,4.9927536231884062,5.2444444444444445,4.9983870967741932,4.5520231213872835,3.9495677233429394,4.7572519083969471,3.8939597315436245,4.8499095840867996,4.8117647058823527,5.0071942446043165,5.3577075098814229,4.5026731864465726,5.1077348066298338,5.4421052631578952,5.231638418079096,5.4278179033213405]
["YieldOatGermany","Yield","Oat","Germany",4.7797900262467197,4.8259899609592853,4.2434294462873181,4.5937904269081509,5.3196422656508782,5.1184379001280416,4.8443771298750473,5.0007468259895447,4.5873417721518992,4.9335619374196309,4.3582153582153582,4.5880106911034746,5.2054433713784016,4.5907575035731298,4.5176918889493738,4.0939257592800899,4.4189415041782736,5.0774907749077496,4.2285936505691852,4.375174337517433,5.2028885832187068,4.7733840304182511,5.0654281098546043,4.505171042163882,4.6398268398268394,4.8405284022235193]
["YieldOatEstonia","Yield","Oat","Estonia",2.3891402714932122,2.3781512605042017,1.5955678670360112,2.0779220779220777,2.342857142857143,2.1084558823529411,1.6278688524590164,1.159016393442623,2.1969981238273921,1.9002079002079002,1.7528409090909089,1.736986301369863,2.0536723163841808,2.4985163204747773,1.9509202453987731,2.7047619047619049,2.2660818713450293,2.3961218836565097,1.7927631578947369,2.211267605633803,2.4654088050314469,2.4511494252873565,2.3809523809523809,2.778688524590164,2.2013651877133107,2.4202790571356658]
["YieldOatIreland","Yield","Oat","Ireland",7.5693160813308653,6.3960396039603955,6.1100478468899526,6.4623115577889445,6.99043062200957,6.3932038834951443,6.1391752577319592,6.7524752475247531,7.5357142857142847,7.0654761904761907,7.1063829787234036,7.378686964795433,7.7755511022044077,6.7102914931588344,7.1296023564064797,7.4800188058298067,7.6089044085552153,7.1366976972072509,7.512937595129376,7.8570093457943928,6.6065850569860691,7.220930232558139,8.0397422126745433,8.4383269312846778,7.8987505385609653,8.0514261805255387]
["YieldOatGreece","Yield","Oat","Greece",1.1057216392793505,2.1478060046189378,2.5249999999999999,2.028639618138425,1.8949771689497719,1.8493150684931507,1.9274376417233559,2.2983870967741935,1.6925951880401773,1.3317179144385025,1.4082599864590384,1.377851711026616,2.112676056338028,2.0109318063508588,1.9996734160679293,2.0578279266572639,1.5932522444251376,1.4177071509648127,1.5947511312217195,1.2368454100213488,1.7404211757823926,1.4850291639662991,1.0008788449466415,0.86511821685241119,0.85242819843342044,0.80879956088563176]
["YieldOatSpain","Yield","Oat","Spain",1.7719667873733498,1.3685714285714285,1.1927953890489913,0.63086150490730641,1.6976744186046511,1.302151075537769,1.7560503388189739,1.2718676122931443,2.2071279796343437,1.491814308140839,1.9347539543057999,1.774128551279468,2.221039182282794,1.1792828685258963,1.8079710144927537,2.4649981181783969,2.3507418397626112,1.644626626269827,2.0039113683922323,2.2016957154660268,1.5577891737891738,2.1546111098611829,1.5085525704192619,1.6146403985694497,2.2271130275082847,1.9395321157386967]
["YieldOatFrance","Yield","Oat","France",4.6469967195807085,4.177777777777778,4.1308411214953269,4.03781512605042,4.4436146377893948,4.2651455546813537,4.7351145038167939,4.5030782761653469,4.4558680892337534,4.1224489795918373,5.0555918901242638,4.0695970695970693,4.8057097541633622,4.5472547254725475,4.3373831775700937,3.8903467666354263,4.7011952191235054,4.904109589041096,4.5317919075144513,4.1149870801033588,4.8353239232718064,4.6144321093082832,4.4725274725274726,4.6582293246238189,4.0346153846153845,4.6399999999999997]
["YieldOatCroatia","Yield","Oat","Croatia",2.983625395001436,2.3874680000000001,2.294111,2.4257439999999999,2.4265810000000001,2.5794290000000002,2.589413,2.3554550000000001,2.3692307692307693,2.7432950191570877,3.0285714285714285,2.0960474308300396,3.1312872975277064,2.3345917885795187,2.6748293857888394,2.0075080443332141,3.2814070351758793,2.9808612440191387,2.4994813278008294,3.0473559589581689,3.3160294633461942,2.7783933518005539,2.6742316784869979,3.0579710144927534,3.093877551020408,3.1646159041772677]
["YieldOatItaly","Yield","Oat","Italy",2.3615251299826689,2.5901183020180936,2.4597780859916782,2.2384843982169391,2.4639103013314649,2.0576158940397349,2.3839579224194609,2.3323943661971831,2.2594171997157071,2.2165832737669766,2.1789264413518885,2.0646900269541777,2.3035470668485676,2.4553775743707091,2.4527950310559006,2.3372168284789647,2.4126016260162606,2.3532486930545184,2.4448725807864089,2.4320503465888361,2.4361303224731272,2.3547587259202745,2.3291799478412054,2.3987701908957417,2.494731124388919,2.4047735556378655]
["YieldOatCyprus","Yield","Oat","Cyprus",1.7701149425287352,1,1,1,1,1,1,1,1.3333333333333335,1,1.25,0.8039215686274509,0.98,0.14874141876430205,0.19105691056910568,0.19058823529411767,0.12211221122112212,0.69152542372881354,0.8571428571428571,2,1.9047619047619049,2.3870967741935485,0.86956521739130432,1.875,0.70833333333333337,1.953932943729626]
["YieldOatLatvia","Yield","Oat","Latvia",2.3893129770992361,1.5195876288659795,1.6462962962962964,1.6052631578947369,1.8917910447761195,1.9712351945854483,1.7353433835845895,1.400423728813559,1.7494505494505492,1.4927536231884058,1.6921443736730362,1.5850202429149798,1.8941798941798942,2.103448275862069,1.4562798092209857,2.0865384615384612,2.1374622356495467,2.3333333333333335,1.7742504409171074,2.0844827586206898,2.2909698996655519,2.1821138211382114,2.3715596330275228,2.7048903878583475,2.3526570048309177,2.5287792787210037]
["YieldOatLithuania","Yield","Oat","Lithuania",2.2925100270497158,1.7986111111111112,1.2660550458715596,1.4071729957805907,1.9689922480620154,1.9910873440285204,1.9596774193548387,1.3105468749999998,1.8713318284424381,1.7599164926931106,1.7727272727272727,2.3775933609958502,2.229166666666667,1.9144295302013421,1.0590219224283306,1.9367909238249594,2.0705882352941178,2.2335423197492164,1.624567474048443,2.0332278481012658,2.3093220338983054,2.2377717391304346,2.4216073781291172,2.5465315666406858,2.1886603827477864,2.5314087126616016]
["YieldOatLuxembourg","Yield","Oat","Luxembourg",4.7970588235294107,4.5000000000000009,3.5428571428571431,4.3571428571428568,5.1153846153846159,5.2799999999999994,5.0869565217391308,4.88,4.8421052631578947,4.5882352941176467,5.0999999999999996,5.1818181818181817,5,4.5294117647058822,4.4666666666666668,4,4.7692307692307692,5.1428571428571432,4.2017543859649127,3.6071428571428568,5.1630434782608692,4.9026548672566372,4.6440677966101704,4.9411764705882355,4.8532110091743119,4.8852663386193456]
["YieldOatHungary","Yield","Oat","Hungary",2.6842497796460778,1.8113207547169812,2.3392857142857144,2.6226415094339623,2.3333333333333335,2.6538461538461537,2.5609284332688587,2.5444287729196051,2.362189391525904,2.4073924652295884,2.1567398119122259,1.4883040935672514,3.1235632183908049,2.5224358974358978,2.5430016863406411,2.0866666666666669,2.9705882352941178,2.1283524904214559,2.320472440944882,2.4120283899887931,2.587735849056604,2.5688073394495414,2.6662079811283665,2.8347653668208852,2.8510399100618327,2.7627837031833735]
["YieldOatMalta","Yield","Oat","Malta","","","","","","","","","","","","","","","","","","","","","","","","","",""]
["YieldOatNetherlands","Yield","Oat","Netherlands",5.1826401446654629,5.865384615384615,5.0727272727272723,5.3448275862068968,5.6315789473684212,5.45,5,5.5600000000000005,5.541666666666667,5.3076923076923075,5.08,6.08,5.2,5.5882352941176476,5.2941176470588234,4.0588235294117654,4.8,5.9999999999999991,4.7058823529411766,8,5,5,5,5.2549019607843128,5.8513513513513518,5.6163446869329334]
["YieldOatAustria","Yield","Oat","Austria",4.0671716449907098,3.6086956521739131,3.4757085020242915,3.9607843137254903,3.6706730769230766,4.2668112798264639,4.0543209876543207,4.2929577464788737,3.5636363636363635,4.0859872611464976,3.6417445482866042,3.73546511627907,4.5808580858085808,4.2516556291390728,3.7272727272727266,3.180064308681672,4.0639097744360901,3.9637681159420288,3.6828442437923252,4.3871354374750302,3.7667203867848507,3.75226586102719,4.5454935622317594,4.0961702127659576,4.2127943136383825,4.2193003685144248]
["YieldOatPoland","Yield","Oat","Poland",2.8481670959319763,2.3264765466729003,2.0105160977188157,2.5104131676184078,2.5311349447734912,2.6054987212276215,2.601282736504543,2.5271710641272063,1.8921499292786421,2.4580037664783427,2.4563780568407134,2.2431201366483204,2.7525495478160473,2.4556750741839757,1.9193099610461881,2.5099553724682457,2.2927715219760261,2.694460308395203,2.6268837692707434,2.5294763822775534,2.8569482288828341,2.7431996311664362,3.0476389469285414,2.6472758845235509,2.8420634090195667,2.9882279106054734]
["YieldOatPortugal","Yield","Oat","Portugal",1.334354682011808,0.83043478260869574,1.056,0.79452054794520544,0.84507042253521125,0.57894736842105265,0.59791666666666665,1.2048192771084338,1.3218863930377514,0.63090968373002931,1.075967092595834,0.72125693160813309,1.0989247311827957,0.4686917629519195,1.6230668902552636,1.346938775510204,1.6733659243164949,1.2099230111206158,1.071255060728745,0.92187201528175733,0.74197470817120637,1.2478581390715282,1.3343886030866641,1.2115289460663037,1.575294117647059,1.3090017912550636]
["YieldOatRomania","Yield","Oat","Romania",1.9785485652247157,1.5187928669410151,1.4869799461239148,1.692758476349937,1.2419837537409149,1.5216795983569147,1.5874616396317407,1.5697018533440774,1.0495437327823691,1.7429457081642887,1.3675242231874374,1.3335810113519091,2.154498578381765,1.7570989665766688,1.7626257494157098,1.2056441952949069,1.9063373253493012,1.4592314901593253,1.678575366633587,2.0283864004317325,1.7425722216510744,2.0511441584810406,2.12429724464236,1.9972149695387296,2.2244372565845931,2.1828227842729149]
["YieldOatSlovenia","Yield","Oat","Slovenia",3.2339901477832504,2.166666666666667,2.4615384615384617,2.3684210526315792,2.3684210526315792,2.5555555555555554,2.6111111111111112,2.3333333333333335,2.3043478260869565,2.2222222222222223,3.072916666666667,1.7910447761194033,2.704081632653061,4.1081081081081079,2.3076923076923075,2.2267206477732793,2.1459227467811157,2.2751322751322753,2.9209039548022599,3.1630434782608696,3.1751824817518242,2.5916666666666668,3.2720588235294117,3.3245033112582778,3.255639097744361,3.1759080573325775]
["YieldOatSlovakia","Yield","Oat","Slovakia",2.4107766143106457,2.35,2.35,2.35,2.35,2.35,2.4234693877551017,2.0166666666666666,1.0683760683760684,1.7955801104972375,2.0865384615384612,1.8983606557377048,2.188976377952756,1.8910891089108912,1.9903846153846152,1.7980769230769229,2.0588235294117645,2.0352941176470587,1.6686991869918699,2.3684210526315792,2.1382371591629679,2.203597122302158,2.519843851659076,2.7084382871536521,2.5891156462585037,2.6397493472794054]
["YieldOatFinland","Yield","Oat","Finland",3.4033376679670577,3.6181161600962981,3.4583458646616543,3.3319161858487703,3.3675213675213675,3.3678223185265441,2.5899070385126164,2.4513493438970042,3.534650988241181,3.0449491365034302,3.3837106080781179,3.0423031727379555,2.696073157611619,3.1029199190517494,2.9095022624434388,3.3803596127247579,3.2539554840439799,3.2536485697606539,2.9094502335609054,3.3844905905256324,3.4196940726577432,3.4748765611385419,3.4099113882507384,3.4848808253290642,3.3798882681564244,3.5191550486505885]
["YieldOatSweden","Yield","Oat","Sweden",4.2691070986890933,4.0211180124223604,2.904985337243402,3.4053956834532375,4.2246478873239433,4.0453968253968249,3.6475120385232747,3.4514229636898919,3.9583906464924343,3.5482326951399115,4.1039277024678489,4.0098217533648599,4.1142730102267668,3.8728593668915412,3.1743772241992882,4.372481572481572,3.6853932584269664,3.9989253089736705,3.5340578794388979,3.9407744874715265,3.8222686879247254,4.3664427465258191,4.1730901798583693,4.6134308016354861,4.4420662925898071,4.4792036690944599]
["YieldOatUnited Kingdom","Yield","Oat","United Kingdom",5.9535452322738376,5.2344601962922575,5.5299539170506913,5.5156950672645744,6.1394380853277841,5.7815631262525056,5.9775967413441951,5.8586956521739131,5.8715596330275233,5.5298308103294751,6,6.1515650741350898,5.9100850950671457,5.9272149093648885,5.9457666681440111,5.5193798449612403,5.8074074074074078,5.7674418604651159,5.524193548387097,5.6238532110091741,5.139344262295082,5.4463276836158192,5.9854014598540148,6.0992366412213741,5.7872340425531918,5.7033446686407254]
["YieldGrain maizeEU-28","Yield","Grain maize","EU-28",6.5700381179061278,5.0833227360761546,5.2398378249073767,5.49945166345882,5.7994873447660007,6.7586458417409423,5.9068085817135376,6.52348162678389,5.4037365435388516,6.3419576957030754,6.3852269202190222,5.2880711649489722,7.0211278251601179,6.9828561300613892,6.4836867115978842,5.8278011660862665,7.1698835904262257,6.945811374174518,7.1918888827567669,7.6127844672564668,6.0752619701946076,6.8581942584485862,8.1031544495947614,6.4018097836363141,7.1466963980935523,7.039898355316919]
["YieldGrain maizeEU-15","Yield","Grain maize","EU-15",9.2065421082626706,7.9440794499618024,7.7057948704568586,7.92587136656583,8.554201488403459,9.1083086053412465,8.6822488791954449,9.0787122046762132,9.1460693937267301,8.9376770538243626,9.1669448287887612,7.6388451064252596,9.1997235840200258,8.9078151103633587,8.6642724595638807,9.4863702683818971,9.5738804889555276,9.2947896728113921,9.2221144220351583,10.283096445075818,9.3694496512306813,8.8669632382832919,10.442442144872997,9.1525488396416232,9.3468134758748302,9.6198511333503678]
["YieldGrain maizeEU-N13","Yield","Grain maize","EU-N13",5.0650705299275645,2.955074652692661,3.4248544641460428,3.6964749057514252,3.6601369550472351,4.7886421862755046,3.6995663941630026,4.5232931812167605,2.5563723262741216,4.1448585830154521,4.0619692470637201,3.4624603454353169,5.3073475262655858,5.3784721675148486,4.7836941649899378,2.7873880604980319,5.0748960991911813,4.9213298066791413,5.418750379282522,5.5392530225515584,3.5936947444332663,5.2773329238239368,6.2897543071935482,4.5297906222139082,5.6776319496390979,5.3323938086480389]
["YieldGrain maizeBelgium","Yield","Grain maize","Belgium",11.70264819826992,8.85945945945946,8.0038314176245215,8.8863636363636367,8.9729729729729719,10.83050847457627,10.365248226950355,12.104477611940299,11.100558659217878,11.352216748768472,11.196202531645572,10.52561669829222,12.2183908045977,11.677716390423575,10.1929203539823,12.008591065292094,11.927777777777777,12.11544227886057,10.68624641833811,11.935165903095934,10.916666666666666,11.2929755966024,12.391691866942544,11.865753424657536,9.2261904761904763,11.201475597555657]
["YieldGrain maizeBulgaria","Yield","Grain maize","Bulgaria",5.8721672420406614,1.8603330809992431,2.8061638280616386,3.8232695139911637,2.1808287986605275,3.5781755445331034,2.7319220289247537,4.0849230769230775,1.9047371160853723,2.4712546020957236,4.2371710526315782,2.7998553170966964,5.5401878914405014,5.3086709072648146,4.5326862689123608,1.4594216417910446,4.1551776495596719,4.7075127644055437,6.2512518319491948,5.5310199789695051,3.6799485861182517,6.394279710483306,7.6823702252693442,5.4085512594256384,5.4526196795438908,6.6998333333333324]
["YieldGrain maizeCzech Republic","Yield","Grain maize","Czech Republic",8.3435793802736971,5.2366666666666664,3.0466666666666669,4.1962962962962962,5.6233333333333331,6.9223300970873778,6.0972644376899696,6.6116751269035534,6.427061310782241,6.6025848142164785,8.7317557035567539,5.5764953763314988,6.1346752669039146,7.1724489795918362,6.7527839643652561,6.7931960608773494,7.543145869947276,8.4482431149097827,6.7059450038729667,8.7905131807288654,7.7780105589541604,6.969865841073271,8.4277468354430383,5.5359509816181065,9.7878717741002195,7.4725000000000001]
["YieldGrain maizeDenmark","Yield","Grain maize","Denmark",6.3009404388714731,"","","","","","","","","","","","","","","","",5.6509163528106869,4.810526315789474,5.216981132075472,5.8217054263565888,5.9140625,7.2178217821782189,5.8888888888888893,7.6842105263157885,7]
["YieldGrain maizeGermany","Yield","Grain maize","Germany",9.4484586413725733,8.0232558139534884,7.0816444701795023,7.3657336204244839,7.8274657350174675,8.6570730382840075,8.1568914956011724,8.7858106285405988,9.2128603104212861,8.8385876418663312,9.376473539001756,7.3836858006042299,9.0965995235001085,9.2139471902505061,8.0306733167082296,9.447668650793652,9.8096061479346783,9.750592289468015,9.0261257206541075,10.624308259889323,10.480235651843405,8.827565392354126,10.683773114481612,8.7222832052689352,9.6512130674994001,10.268333333333333]
["YieldGrain maizeEstonia","Yield","Grain maize","Estonia","","","","","","","","","","","","","","","","","","","","","","","","","",""]
["YieldGrain maizeIreland","Yield","Grain maize","Ireland","","","","","","","","","","","","","","","","","","","","","","","","","",""]
["YieldGrain maizeGreece","Yield","Grain maize","Greece",10.764028863984521,8.7272727272727266,10.106114199090449,9.7874999999999996,9.9340866290018823,10.400943396226415,8.8150557620817853,8.5714285714285712,8.88533013205282,9.0320832739198629,8.8903623541934618,8.8567986507107861,8.7920130464182016,8.9840526882611211,9.1923742533355668,10.126825680361458,10.296293211162016,10.341196973561166,10.56144711405689,12.072740268308776,10.925740690405002,11.661931042019562,11.128676930779823,10.143373890167707,10.124046174916845,10.573333333333332]
["YieldGrain maizeSpain","Yield","Grain maize","Spain",11.26899911352659,6.1735349716446128,6.8566413107080155,7.2458741258741259,8.531043893563794,9.1519325657894743,9.4730995425833147,9.4695431472081211,9.2168090510274769,9.7207804878048769,9.5149430230058041,9.1472379752152904,10.068987077949146,9.872034507548527,9.7436120789779324,10.002493074792245,10.001614205004035,10.0638665132336,10.543108112408898,11.373909982126417,10.920532007585463,11.052362649785213,11.411277027834188,11.460904936473661,11.144648454993284,11.918146505611494]
["YieldGrain maizeFrance","Yield","Grain maize","France",8.5386382349998833,8.0482072584171416,7.7993306966839064,7.7191217956580402,8.3860748375007308,9.0657894736842106,8.4542305508233948,8.9522560335781733,9.0766092475068003,8.5715403882279269,8.9791359440712224,7.1504303947758974,8.9906644700713887,8.2540553578966414,8.5818701782388942,9.4910825112693544,9.1057719647426776,9.1081676390046429,8.8325032961951599,9.9668192721283138,9.0851603593539085,8.1698526494295667,10.033050696131641,8.3795814552086316,8.1893681905503986,9.02]
["YieldGrain maizeCroatia","Yield","Grain maize","Croatia",6.9951795852952516,4.4800949999999995,4.55307,4.9004830000000004,5.2191589999999994,5.8801579999999998,5.2473550000000007,5.5584100000000003,4.0704514363885096,5.6652500817260547,6.3767926988265975,4.19933053294828,6.3053043904031334,6.9182995266012473,6.5311276164753549,4.9370992895512034,7.9748487742757082,7.3509599191647021,6.9677528052026831,5.6817094353226496,4.3374448455675889,6.4998786281513325,8.1045650710694073,6.474788801757775,8.4120000000000008,5.6831666666666658]
["YieldGrain maizeItaly","Yield","Grain maize","Italy",9.1250563775479687,8.5917602996254683,8.2245301681503467,8.969973474801062,9.3355822821941921,9.6273094688221708,9.3317530660620438,9.745305963615138,9.533283189168861,9.5138375552150016,9.4913669064748198,7.481344566712516,9.4977439839572195,9.3879410451094234,8.7285198555956693,9.31203721283463,9.8062531517902158,8.6048061168760235,9.2855524873797304,9.8032729210015788,8.0780187597280246,8.6989681866734205,10.632852462785216,9.7253117395548347,10.351429479515081,8.9670000000000005]
["YieldGrain maizeCyprus","Yield","Grain maize","Cyprus","","","","","","","","","","","","","","","","","","","","","","","","","",""]
["YieldGrain maizeLatvia","Yield","Grain maize","Latvia","","","","","","","","","","","","","","","","","","","","","","","","","",""]
["YieldGrain maizeLithuania","Yield","Grain maize","Lithuania",6.5743626062322935,4,4,4,4,4,4,4,2.8942528735632185,2.7581896551724139,2.8620689655172415,3.2222222222222219,2.1428571428571428,3.0625,2.35,4.8148148148148149,4.2105263157894735,4.3272727272727272,6.6901408450704229,7.4895833333333339,6.108527131782945,7.395348837209303,6.0526315789473681,4.8112724167378307,6.9078303425774878,7.6401829562966093]
["YieldGrain maizeLuxembourg","Yield","Grain maize","Luxembourg",7.5357142857142847,"","","",0,4.5999999999999996,8.6,6.2,6.666666666666667,8.6,7.6666666666666661,6.333333333333333,9,10.5,6.333333333333333,7.0000000000000009,5.7499999999999991,6.25,8.2105263157894743,7.7666666666666675,8.1,9.0416666666666661,7.5909090909090908,6.6428571428571423,6.4615384615384608,7.2269049001016663]
["YieldGrain maizeHungary","Yield","Grain maize","Hungary",6.2899167998549093,3.607493309545049,3.9543189368770766,4.5304937076476284,5.6875593542260212,6.4475920679886682,6.0081173594132027,6.4130785791173306,4.1790056175064976,6.2456879421349658,5.0762149610217282,3.959203284703416,7.0014284513906393,7.55741127348643,6.8162139917695477,3.7325732295142751,7.4652626279577117,6.394631784591863,6.4744862489919637,6.4965982523877255,3.9979434058877352,5.4372973016473392,7.8184855046918802,5.7871096646977209,8.6090539404484936,6.48]
["YieldGrain maizeMalta","Yield","Grain maize","Malta","","","","","","","","","","","","","","","","","","","","","","","","","",""]
["YieldGrain maizeNetherlands","Yield","Grain maize","Netherlands",12.116240875912411,9.1203703703703702,7.5172413793103452,7.1,7.9816513761467887,12.480314960629922,11,7.0125000000000002,11,12.356617647058824,13.303797468354432,11.689795918367347,11.816964285714286,12.227053140096618,9.1515151515151505,11.948186528497409,11.416289592760181,13.026595744680851,11.291666666666666,12.130434782608695,12.095238095238095,12.047619047619047,13.333333333333334,10.820886075949366,7.8427057864710683,11.996666666666666]
["YieldGrain maizeAustria","Yield","Grain maize","Austria",10.029503333387664,8.9729252501471457,7.9142061281337046,8.4988465974625136,9.6906756002233383,9.7801242236024848,9.6116504854368934,9.6026229508196721,9.8567946374162094,8.710618436406067,9.6782810685249707,8.379111367570685,9.2540570789031911,10.315789473684211,9.2385436283741367,9.9268578115857231,11.062339000515198,10.591036414565826,9.7245202346624247,11.299539382772917,10.702639963586709,8.1171751188589543,10.791373890532544,8.6785884597043399,11.163072983354674,10.166666666666666]
["YieldGrain maizePoland","Yield","Grain maize","Poland",6.5842788070276255,5.3174311926605506,3.75,4.9543568464730292,5.0519480519480524,5.4020752269779511,5.8262910798122061,5.7523992322456809,6.0623768877216015,6.0690730837789664,6.1562598054596798,5.2868369351669937,5.6934661161039593,5.7335691128794579,4.160726072607261,6.5736641221374041,5.8146279949558641,6.226194819408974,5.9676840215439864,7.1770177017701764,7.3481059212945947,6.5761028813283415,6.5876455845496089,4.7086379233179176,7.293982297912363,6.6499999999999995]
["YieldGrain maizePortugal","Yield","Grain maize","Portugal",8.3613322502030911,3.7513227513227516,4.101694915254237,4.3276836158192094,4.6162162162162161,4.9112426035502956,5.2969477496120012,5.7012195121951219,5.7809180327868859,5.8927579300988437,5.7287325149871542,5.6836821266968327,5.7868219876228615,4.6803748521517603,5.2886939571150098,5.8409392160575644,6.3276515151515156,6.6934445265491398,6.929512006196747,8.1043208641728341,8.3040117416829737,8.3150550138652815,8.3332404310665176,8.4520477989990805,8.0276800907543944,8.4688333333333325]
["YieldGrain maizeRomania","Yield","Grain maize","Romania",3.8016609647243591,2.6054408454839026,3.1317288999128512,3.1915283674257044,2.9319194385108331,4.1615084183924642,2.7560484515324872,3.6287250282073402,1.6061075110842931,3.0662840196098213,2.9019796165140788,2.9932022327930543,4.4412694437402838,3.95213385173744,3.564576919414733,1.5260692407905314,3.2146753821202143,3.4082645475957412,4.3088678894623236,4.5245503479059996,2.1797880753965351,4.488145524995236,4.7695499610114735,3.4459014255744296,3.4876156745363227,4.0463333333333331]
["YieldGrain maizeSlovenia","Yield","Grain maize","Slovenia",8.3894481082957331,4.0185497470489047,6.3137651821862342,6.3311965811965818,6.3036093418259016,7.48,7.3135964912280702,6.9369369369369371,5.8818996042491145,5.4141265503468574,8.1566000439270816,5.0797462618939733,7.7743478260869567,8.2881755959405243,6.9304718875502003,7.5350769982889272,7.3203661327231115,7.8373478373478385,8.5402141092506181,8.6844986315003734,7.080929282614246,5.4139990444338268,9.1502739368640764,8.9748277689454152,9.5358981305879187,7.64]
["YieldGrain maizeSlovakia","Yield","Grain maize","Slovakia",6.2256399503201774,4.6143835616438356,4.137410643367752,4.894175553732568,5.7515337423312882,5.9455337690631813,5.3925549915397628,6.0177606177606178,2.665859564164649,4.4930707512764405,5.4425992779783394,4.0066622251832111,5.8666666666666663,7.0426229508196725,5.4683626875407692,3.966306420851875,8.1750972762645908,7.1086330935251798,5.530403985833483,7.1504950495049506,5.5116793821230097,5.0704613162408592,8.3912761922383083,4.8538967822816552,8.5324724855617298,6.0699999999999994]
["YieldGrain maizeFinland","Yield","Grain maize","Finland","","","","","","","","","","","","","","","","","","","","","","","","","",""]
["YieldGrain maizeSweden","Yield","Grain maize","Sweden",5.9302325581395348,"","","","","","","","","","","","","","","","",6.384615384615385,5.5970149253731343,7.6190476190476186,6.083333333333333,5.8267716535433074,7.4736842105263159,4.8120300751879697,6.4705882352941178,6.220503122873529]
["YieldGrain maizeUnited Kingdom","Yield","Grain maize","United Kingdom",6.0847750511247432,"","","","","","","","","","","","","","","","","","",7.5,7.5000000000000009,7.5030946065428816,5.13,5.5,3.8,6.1356620370370365]
["YieldSorghumEU-28","Yield","Sorghum","EU-28",5.1935531099777918,5.4499294781382224,4.8660130718954244,5.1533804238143288,5.3891843971631195,5.8092436974789914,5.0406435224386108,5.8676923076923071,5.8521281813286619,5.4218520457276504,5.7830310880829003,3.8094856736074032,5.0853578463558753,5.066824303485145,5.3680364430103449,5.3057105183081443,5.3501502123692113,5.2663040349968346,5.3914340881165526,5.81332990662212,4.1660085692682518,5.0118408371196477,5.8904239812408896,5.181765807287916,5.4165804757737295,5.666904126764539]
["YieldSorghumEU-15","Yield","Sorghum","EU-15",5.8576408888349958,5.9610182975338093,5.3541472506989747,5.7610722610722611,5.9757575757575747,6.2338262476894641,5.4304635761589406,6.1873614190687363,6.1228070175438605,5.8204873646209379,6.1633518960487939,4.1896692527562278,5.5442868312297549,5.2756936736958941,5.5013550135501363,5.6330863651443099,5.7895055744062036,5.5418164616840118,5.981908404838209,6.4805222152031998,4.9061261465292718,5.7405448294102088,6.5994479495268132,5.7697606641349468,6.0827439201627751,6.1983981967706452]
["YieldSorghumEU-N13","Yield","Sorghum","EU-N13",2.3553927181131233,1.459627329192547,1.3973509933774855,1.2330827067669159,1.1811594202898521,1.5555555555555518,1.7177419354838666,1.9178082191780792,1.5795668589164367,1.335932218403294,1.6419634263715035,1.2267683772538127,2.679742388758779,2.4421199442119894,3.0540069686411129,1.677696078431377,2.7623126338329733,2.3886693017127825,2.0726321905868663,2.899770114942533,2.0384114583333344,2.4150172792962641,2.9893514036786062,2.5840811548966052,2.3580960854092532,2.7616407703980044]
["YieldSorghumBelgium","Yield","Sorghum","Belgium","","","","","","","","","","","","","","","","","","","","","","","","","",""]
["YieldSorghumBulgaria","Yield","Sorghum","Bulgaria",2.4140672782874617,2,2,2,2,2,1.4,1.8571428571428574,0.66666666666666674,1.2666666666666666,2.0930232558139537,1.6857142857142857,2.1333333333333333,2,2.2500000000000004,1.125,1.8888888888888888,2.5714285714285716,2.4322033898305082,1.954225352112676,2.0377358490566038,2.6797235023041477,2.7347242921013417,2.4985337243401755,2.3422619047619051,2.6446711693807572]
["YieldSorghumCzech Republic","Yield","Sorghum","Czech Republic","","","","","","","","","","","","","","","","","","","","","","","","","",""]
["YieldSorghumDenmark","Yield","Sorghum","Denmark","","","","","","","","","","","","","","","","","","","","","","","","","",""]
["YieldSorghumGermany","Yield","Sorghum","Germany","","","","","","","","","","","","","","","","","","","","","","","","","",""]
["YieldSorghumEstonia","Yield","Sorghum","Estonia","","","","","","","","","","","","","","","","","","","","","","","","","",""]
["YieldSorghumIreland","Yield","Sorghum","Ireland","","","","","","","","","","","","","","","","","","","","","","","","","",""]
["YieldSorghumGreece","Yield","Sorghum","Greece",3.5132924335378326,"","","","","","","",0.33333333333333337,0.54999999999999993,0.48484848484848486,2,1.3846153846153846,0.70000000000000007,1.5384615384615385,1.5384615384615385,1.25,0.56666666666666676,3,3.8181818181818179,5.4285714285714279,3.3,3.3989071038251364,3.5909090909090908,3.5664335664335662,4.6568330080251599]
["YieldSorghumSpain","Yield","Sorghum","Spain",5.6980454726765046,4.5510204081632653,3.795121951219512,4.296875,4.7204301075268811,4.764705882352942,4.5396825396825404,5,4.7613636363636358,3.8941176470588239,3.7894736842105265,3.328125,3.416666666666667,3.8285714285714287,3.7962962962962958,3.6901408450704225,3.2941176470588234,4.3066666666666666,5.1204481792717091,4.5566037735849054,3.5420439844760669,5,6.5377229080932784,6.007159904534606,5.9263392857142856,6.1924333188006813]
["YieldSorghumFrance","Yield","Sorghum","France",5.28170229717169,6.1233211233211229,5.4978902953586504,5.6,6.2685185185185182,6.671091445427729,5.5765624999999996,6.2030947775628622,6.224832214765101,5.8744460856720826,6.3741209563994374,3.7836065573770492,5.3458333333333341,5.146484375,5.5144404332129966,5.8617886178861784,6.2324324324324323,5.3431034482758619,5.5112277019937048,6.4627071823204423,5.6747330960854097,5.4349268292682931,6.2826742893441327,5.1731843575418992,5.084300416028027,5.68]
["YieldSorghumCroatia","Yield","Sorghum","Croatia",4.666666666666667,"","","","","","","","","","","","","","","","","","","","","","",4.666666666666667,4,4.3333333333333339]
["YieldSorghumItaly","Yield","Sorghum","Italy",6.6248749106504663,5.7969151670951158,5.9923857868020303,6.2441860465116283,5.859943977591036,5.7483443708609272,5.4948453608247423,6.4253968253968257,6.3480825958702063,6.2209302325581399,6.3079178885630496,5.1868852459016388,6.2865497076023384,5.8512658227848098,5.7338501291989665,5.723529411764706,5.818652849740932,6.1002506265664165,6.6643751534495461,6.8971962616822431,4.2536388140161723,6.2056001566477388,7.1042188403005202,6.4849019175666749,7.2636907501150487,6.8248404816257562]
["YieldSorghumCyprus","Yield","Sorghum","Cyprus","","","","","","","","","","","","","","","","","","","","","","","","","",""]
["YieldSorghumLatvia","Yield","Sorghum","Latvia","","","","","","","","","","","","","","","","","","","","","","","","","",""]
["YieldSorghumLithuania","Yield","Sorghum","Lithuania","","","","","","","","","","","","","","","","","","","","","","","","","",""]
["YieldSorghumLuxembourg","Yield","Sorghum","Luxembourg","","","","","","","","","","","","","","","","","","","","","","","","","",""]
["YieldSorghumHungary","Yield","Sorghum","Hungary",3.0149253731343282,1.7,1.8571428571428572,1.5714285714285714,1.8333333333333333,2.2000000000000002,2.0444444444444443,2.0612244897959182,1.9969487102278429,2.2538090936464923,1.6666666666666667,1.7,2.0370370370370368,3.0243902439024395,3.5526315789473686,2.1276595744680851,3.4871794871794872,2.7142857142857144,2.4841772151898733,3.1181988742964353,2.8081264108352144,2.7110694183864914,4.2510917030567681,3.390829694323144,1.8798370672097759,2.9136545151659803]
["YieldSorghumMalta","Yield","Sorghum","Malta","","","","","","","","","","","","","","","","","","","","","","","","","",""]
["YieldSorghumNetherlands","Yield","Sorghum","Netherlands","","","","","","","","","","","","","",0,"","","","","","","","","","","",""]
["YieldSorghumAustria","Yield","Sorghum","Austria",6.4757142857142851,"","","","","","","","","","","","","","","","","",6.752136752136753,6.7387387387387383,6.8235294117647056,5.2474226804123711,6.6178571428571438,7.0821917808219181,7.3539823008849572,6.8411927784812558]
["YieldSorghumPoland","Yield","Sorghum","Poland","","","","","","","","","","","","","","","","","","","","","","","","","",""]
["YieldSorghumPortugal","Yield","Sorghum","Portugal","","","","","","","","","","","","","","","","","","","","","","","","","",""]
["YieldSorghumRomania","Yield","Sorghum","Romania",2.2747945729027328,0.98214285714285721,0.93421052631578949,0.75862068965517249,0.58904109589041098,0.90566037735849059,1.5405405405405406,1.5294117647058825,0.92499999999999993,0.89855072463768115,0.91756272401433692,0.72109826589595383,3.2684331797235027,1.2993197278911564,1.7972972972972974,1.1226415094339621,2.6092384519350809,2.3594771241830066,1.8171206225680934,3.0351681957186547,1.8749374687343672,2.2994923857868019,2.7342175066312997,2.352112676056338,2.3386850152905199,2.7258033960363552]
["YieldSorghumSlovenia","Yield","Sorghum","Slovenia",6.3333333333333339,"","","","","","","","","","","","","","",0,"","","","","","","",6.333333333333333,14.272727272727273,10.303030303030303]
["YieldSorghumSlovakia","Yield","Sorghum","Slovakia",2.6229508196721318,"","","","","","","",0,2,"","","","","",1.7499999999999998,2.666666666666667,0.66666666666666663,2.3043478260869565,2.4,1.9,1.9591836734693877,3.8588235294117648,1.967741935483871,3.6597938144329896,2.5289064744620822]
["YieldSorghumFinland","Yield","Sorghum","Finland","","","","","","","","","","","","","","","","","","","","","","","","","",""]
["YieldSorghumSweden","Yield","Sorghum","Sweden","","","","","","","","","","","","","","","","","","","","","","","","","",""]
["YieldSorghumUnited Kingdom","Yield","Sorghum","United Kingdom","","","","","","","","","","","","","","","","","","","","","","","","","",""]
["YieldTriticaleEU-28","Yield","Triticale","EU-28",4.1772405133498678,3.4717262298406664,3.4569117258110098,3.8388529005022196,3.9570900123304553,4.0670966215016859,4.3014277555682474,4.1570228091236503,3.9996443638905985,4.25319368595743,4.0860339010104676,3.5262300918769642,4.5109355009262604,4.0289315051619417,3.6101898985596881,3.8196741437759409,4.1225459080420297,4.1842168186212856,3.9370391627155463,3.8758906458373024,4.0539257145567236,4.2040808903760825,4.4773027942142578,4.099003631649615,4.0035774054325062,4.1866682437959932]
["YieldTriticaleEU-15","Yield","Triticale","EU-15",4.9337758779268128,4.4185672235986697,4.528590116892433,4.7369002525252535,5.1598289456100499,5.126122972815307,5.3964923964923974,5.301030421982337,5.1592147178151544,5.4768444619498737,5.2622229271580947,4.5881353704284162,5.80333829758428,5.1888860690301417,5.0646378938190466,4.8203135929748289,5.3605808917197457,5.4760503338971604,4.9401859812095514,4.732662148892107,4.8334987657304653,5.0716207842790126,5.2346847653827595,4.9154730953099817,4.5921243029575791,4.8534734665231394]
["YieldTriticaleEU-N13","Yield","Triticale","EU-N13",3.7310176599206049,2.7961653521892869,2.6410293479832272,3.0702417938673494,2.9269772233031919,2.9774309723889556,3.1409245971062236,3.0608838740009405,2.7539079807903795,3.1877696153637896,3.1342740027113094,2.7270354389729778,3.5852110968725133,3.2736465443821592,2.6991061437629909,3.2370081651324423,3.406652012752442,3.4749967793189351,3.3218291834255336,3.3237404211858621,3.3954551419447978,3.5989936407976786,3.9519554482418444,3.6055589018105803,3.6367720648886421,3.738541975828467]
["YieldTriticaleBelgium","Yield","Triticale","Belgium",6.8926553672316384,5.795454545454545,5.6853932584269664,5.8936170212765955,7.1555555555555559,6.4186046511627914,6.0520833333333339,6.5918367346938762,6.4883720930232558,5.8571428571428568,6.6315789473684212,6.4109589041095889,6.9876543209876552,6.5066666666666659,6.4027777777777777,5.7121212121212128,6.6885245901639347,7.274193548387097,6.083333333333333,6.1670146137787052,6.9333333333333336,7.0655737704918042,6.9649737302977242,7.320720720720721,5.2637729549248746,6.629780138154743]
["YieldTriticaleBulgaria","Yield","Triticale","Bulgaria",2.9732016925246825,1.6,1.6,1.6,1.6,1.6,1.6458333333333335,1.6493506493506491,1.5189873417721518,2.3255813953488373,2.2941176470588234,1.5378151260504203,2.905263157894737,2.4301075268817205,2.6770833333333335,1.9538461538461538,4.4565217391304355,2.8666666666666667,2.6739327883742052,3.0873108265424913,2.4537037037037037,2.8266569555717407,3.1919619249074564,3.0212431156569628,3.0602484472049687,3.75]
["YieldTriticaleCzech Republic","Yield","Triticale","Czech Republic",4.5557463968336931,3.5235294117647058,3.74,3.9874999999999998,3.7214285714285715,5.3087248322147644,3.8965517241379306,4.1538461538461542,3.7432432432432434,3.8747474747474748,3.7645951035781544,3.5195652173913046,4.8630573248407645,3.9382716049382718,3.204878048780488,4.1017964071856285,4.4216262975778546,4.2018867924528296,3.7322868977545238,4.5237767057201923,4.3070135746606333,4.5751815463477152,5.0286597938144331,4.7248775938447194,4.878787878787878,5.0393528002182677]
["YieldTriticaleDenmark","Yield","Triticale","Denmark",5.6316964285714306,"","","","",5.384615384615385,5.0714285714285712,4.6481481481481479,4.477064220183486,4.8703170028818441,4.8446215139442224,5.2071428571428573,4.7611940298507465,4.8434504792332262,4.9462025316455698,4.6552795031055902,5.2792022792022797,5.1528089887640451,4.86027397260274,5.1685393258426968,5.209090909090909,5.5939849624060152,6.1870967741935488,5.125,5.5643564356435649,5.7225516081038563]
["YieldTriticaleGermany","Yield","Triticale","Germany",6.3658128243763583,5.2498855835240272,5.4055742431523308,5.6936936936936933,5.8415705656232841,5.9856098675194147,6.0066168623265739,6.1420439844760679,5.6052052052052055,6.4084348641049678,5.4742194469223913,4.9627851140456185,6.4836420969649202,5.565515806988353,5.5291646070192781,5.4107611548556429,5.9716649949849545,6.2687609075043627,5.4260414570336089,5.227699530516432,6.1787829833064087,6.5734441924918121,7.1071257771401237,6.4698705179282872,6.0522595304216109,6.3]
["YieldTriticaleEstonia","Yield","Triticale","Estonia",3.9371428571428573,2.5,2.5,2.5,2.5,2.5,2.5,2.5,2.3320580819059216,2.1428571428571428,2.4339622641509435,1.375,2.4615384615384617,2.4193548387096775,2.16,3.5,3.6949152542372881,2.8250000000000002,2.25,3.0222222222222221,4.4285714285714288,2.75,4.064516129032258,4.943661971830986,3.3157894736842102,4.1839809099598142]
["YieldTriticaleIreland","Yield","Triticale","Ireland","","","","","","","","","","","","","","","","","","","","","","","","","",""]
["YieldTriticaleGreece","Yield","Triticale","Greece",1.9727617243012794,"","","","","","","",0.85,0.72602739726027399,0.92727272727272725,1.947826086956522,2.0446650124069476,2.2532751091703056,3.237704918032787,2.4585365853658541,2.3536977491961415,2.0024271844660193,2.4629156010230182,2.799528301886792,2.3084291187739465,2.7150684931506852,2.3309734513274334,1.6934886183165694,1.7518085698386201,2.04]
["YieldTriticaleSpain","Yield","Triticale","Spain",2.3381080544065318,1.3409090909090908,1.5552147239263805,0.76254180602006694,2.522522522522523,1.8554216867469879,2.0080971659919031,1.1071428571428572,2.553763440860215,2.3653333333333335,2.6983240223463687,2.2819277108433735,1.1106382978723406,1.4230769230769231,2.54,2.8227848101265827,2.5036764705882351,2.2709359605911335,2.1974840860866931,2.5482046237088047,1.7263266603114078,2.7738739371793972,2.2979865085854456,2.0869121602819778,2.4145274342604583,2.31]
["YieldTriticaleFrance","Yield","Triticale","France",5.3071032076977573,4.6672794117647065,4.6264302059496565,4.5873786407766985,5.1274319066147864,4.7856815052776502,5.2712294043092527,5.0448132780082986,5.1683736173699302,4.6598837209302317,5.5075729589951985,4.419510513615994,5.5868372943327236,5.4352658455992797,5.1218258766626361,4.5527452190006175,5.3074905275429902,5.6694796061884674,5.3761022697625878,5.0813581856766632,5.5346689434570342,5.2776219417173138,5.2193806451612899,5.4394501036163563,4.3302264426588755,5.13]
["YieldTriticaleCroatia","Yield","Triticale","Croatia",3.7907390917186121,"","","","","","","","","","","","","",4.5849056603773581,3.523985239852399,3.90625,4.064516129032258,3.0930875576036869,3.5326633165829149,4.1687116564417179,3.396735273243435,3.6370106761565837,3.9083750894774516,4.0959595959595951,4.38]
["YieldTriticaleItaly","Yield","Triticale","Italy",1.6618296529968453,"","","",4,"","","","","","","","","","","","","",1.5000000000000002,1.5,1.5,1.5,1.5,1.5,5.18116462976276,1.5000000000000002]
["YieldTriticaleCyprus","Yield","Triticale","Cyprus","","","","","","","","","","","","","","","","","","","","","","","","","",0]
["YieldTriticaleLatvia","Yield","Triticale","Latvia",3.3556851311953357,2,1.8064516129032255,1.8148148148148149,2,2.6785714285714288,2.3773584905660377,2.0517241379310347,2.2881355932203387,2.2230769230769232,2.6387096774193548,1.7277486910994764,2.4619883040935671,2.3909774436090223,1.9646017699115041,3.0564516129032255,2.5507246376811596,2.5419847328244272,2.3157894736842102,2.2765957446808507,3.6969696969696968,2.5957446808510638,2.7171717171717171,4,3.4537037037037033,3.507737064218901]
["YieldTriticaleLithuania","Yield","Triticale","Lithuania",3.5544603798659931,2.4873417721518982,1.84,2.0711111111111111,2.2756598240469206,2.8103448275862069,2.5718157181571817,1.891111111111111,2.5767716535433074,2.3729372937293731,2.5946428571428575,2.7286624203821654,3.1394517282479137,2.6742021276595742,1.6906584992343034,2.8273291925465838,3.1670061099796332,3.130051432770022,2.3793738489871084,2.5105932203389827,3.6507136859781699,3.1318150448585231,3.2905911740216487,3.8407935727168385,3.2824549168078105,3.4200000000000004]
["YieldTriticaleLuxembourg","Yield","Triticale","Luxembourg",5.4867383512544823,5.1481481481481479,4.833333333333333,5.0344827586206895,6.0333333333333341,5,6.3529411764705888,6.1785714285714288,5.5,5.3548387096774199,5.75,5.4054054054054053,6.416666666666667,5.4411764705882355,5.6285714285714281,5.0571428571428569,5.9722222222222223,6.1951219512195124,5.3389121338912133,5.1382488479262678,4.9409282700421944,5.6469298245614041,6.2776617954070986,5.9500000000000011,4.9544468546637743,5.5563125914530964]
["YieldTriticaleHungary","Yield","Triticale","Hungary",3.9905416056750367,0.34782608695652173,0.7857142857142857,0.90625,2.2592592592592591,3.088709677419355,2.8151585460170145,2.740820734341253,2.8249400479616305,3.293478260869565,2.7251328777524679,2.0043165467625901,3.9586513994910941,3.6159235668789811,3.3155120481927707,2.915644171779141,3.836890243902439,2.8763955342902707,3.0655189704161794,3.4353139904610495,3.0988685344827585,3.8902542372881359,3.9497401753816175,3.9471161401854471,4.1383239831697054,3.93]
["YieldTriticaleMalta","Yield","Triticale","Malta","","","","","","","","","","","","","","","","","","","","","","","","","",""]
["YieldTriticaleNetherlands","Yield","Triticale","Netherlands",4.8208955223880601,5.9473684210526319,5.4374999999999991,5.3846153846153841,5.9393939393939403,5.6551724137931032,4.4090909090909083,6.0555555555555554,5.454545454545455,5.3250000000000002,5.4090909090909092,5.552631578947369,5.3611111111111116,5.3783783783783781,5.6944444444444446,4.4102564102564106,5.96875,6.2962962962962958,5.1851851851851851,5,6,5,4.5,5.0294117647058822,5.6249999999999991,5.1460509211734617]
["YieldTriticaleAustria","Yield","Triticale","Austria",5.4047190561887613,"","",4.5025906735751295,4.3409090909090908,4.8310502283105023,4.9534883720930232,5.0847457627118642,4.9018181818181823,5.0320512820512819,4.5877659574468082,4.142506142506142,5.4686774941995351,5.0253164556962027,4.6652542372881349,5.3727506426735223,5.4146868250539955,5.0296442687747032,4.8225941422594145,5.0026321561745988,5.0308571428571431,4.9808888888888889,5.8986354775828467,5.2881072026800675,5.8764802331936599,4.99]
["YieldTriticalePoland","Yield","Triticale","Poland",3.76253531709476,2.8844397076735691,2.7824974411463659,3.322680077871512,3.058578607322326,2.921282336137121,3.2390243902439027,3.1766399030449932,2.7340716237595286,3.218298938327568,3.2288378006144716,2.8526785714285712,3.5185220185220185,3.2673922143156133,2.6768818554801976,3.2908268528804951,3.3442819647544058,3.5726962457337885,3.440709827806602,3.3367210273379029,3.3768905021173623,3.6313418883317752,4.0173047473200612,3.5215670755836959,3.635459416324669,3.71]
["YieldTriticalePortugal","Yield","Triticale","Portugal",1.7095257288727663,1.4800759013282732,1.7,1.0909090909090908,1.3333333333333333,0.88636363636363635,0.73913043478260865,1.2222222222222223,1.6907259756609316,0.86025504782146656,1.4888628370457211,0.8392857142857143,1.396479463537301,0.40263543191800882,2.0925637025481021,1.5819209039548023,2.0528656126482212,1.4796645702306079,1.0563495304205799,1.1464128843338215,0.81787602114368096,1.5430921052631579,1.5615894039735099,1.6929168499780025,1.9465116279069767,1.7500000000000002]
["YieldTriticaleRomania","Yield","Triticale","Romania",3.4800267201068804,3.0769230769230766,3.0769230769230766,3.0769230769230766,3.0769230769230766,2.8461538461538463,1.7894736842105263,2.4117647058823528,2.3003095975232197,3.2007504690431516,2.1977077363896846,1.7275953859804791,3.6161833154314356,2.777810563588079,2.5551971326164877,2.4846551200243088,3.1714375589808115,2.52204356846473,3.0014627011214041,3.4632862951447021,2.786145204909507,3.3616408286459047,3.5868630261957515,3.4984652342186036,2.8983409066892105,3.5600000000000005]
["YieldTriticaleSlovenia","Yield","Triticale","Slovenia",4.6043689320388355,1,1.142857142857143,3.0000000000000004,2.1428571428571428,2.166666666666667,3.2,4.166666666666667,3.4404761904761907,3.4796747967479678,3.9578313253012052,3.0219780219780219,4.1933962264150946,3.9447236180904519,3.8153310104529612,3.8932038834951457,4.0925925925925926,3.9794117647058824,4.0431034482758621,4.4089552238805965,4.3736263736263732,3.6217765042979941,4.7423167848699759,4.661469933184855,4.6729678638941392,4.659368912514168]
["YieldTriticaleSlovakia","Yield","Triticale","Slovakia",3.3540727382025852,3.375,4,3.5584415584415581,3.1428571428571423,3.3814432989690721,3.2931034482758625,2.6301369863013697,2.2183908045977012,2.9666666666666668,2.5904255319148937,2.2700729927007299,3.5760869565217392,3.0465116279069768,2.4918032786885247,2.8492063492063493,3.445255474452555,2.9999999999999996,2.5178026449643949,3.1809523809523808,3.1004608294930875,3.3522920203735147,3.7992307692307694,3.6146616541353382,3.5667828106852499,3.6859874325186013]
["YieldTriticaleFinland","Yield","Triticale","Finland","","","","","","","","","",1.6666666666666667,1,3,"","","","","","","","","","","","","",""]
["YieldTriticaleSweden","Yield","Triticale","Sweden",5.7009142359599476,4.9777777777777779,4.9777777777777779,5.0201793721973091,5.0713128038897883,4.8240601503759404,4.6017964071856285,4.7300613496932513,4.6019656019656017,4.4065656565656566,5.5359477124183005,4.6193693693693696,5.2061657032755297,5.4191616766467066,4.6697080291970803,5.1511194029850751,5.6053169734151336,4.7499999999999991,4.4193817878028403,4.4666666666666668,5.9240506329113929,4.8756001745962463,5.9313597065758445,5.8075273939971419,5.2315894701766075,5.42]
["YieldTriticaleUnited Kingdom","Yield","Triticale","United Kingdom",4.0606060606060606,5.0746268656716413,5.7894736842105265,6.0869565217391299,5.915492957746479,5.6097560975609762,5.7,6.3076923076923075,6.1538461538461542,4.6618705035971217,4.6762589928057556,3.9726027397260273,4.0921052631578947,3.9185185185185185,4.3049645390070923,3.6312849162011176,4.4021739130434785,4.0625,4.117647058823529,4,3.7692307692307692,3.75,4.5999999999999996,4.7777777777777777,3.9090909090909092,4.0999999999999996]
["YieldOther cerealsEU-28","Yield","Other cereals","EU-28",2.8289203420841593,2.7755350772889429,2.5493730407523509,2.8047631862217437,2.8757214206437296,2.8682612374931544,2.978787722199256,2.8311670945656831,2.3213611951522126,2.8485408913386259,2.9478177865296922,2.6189871660089583,3.0893547219751798,2.8408293038010828,2.3183159799227009,2.8542291775859345,2.6787095661093852,2.943177519291583,2.793640535912437,2.6824501117545161,2.9099517164341635,2.7923541086278081,2.9856520812149281,2.6650286177686251,2.7095126442678397,2.8656040888541829]
["YieldOther cerealsEU-15","Yield","Other cereals","EU-15",3.2870497757366923,4.3345098039215681,4.2700952380952391,3.8881604319321252,4.2125263898662908,4.0387491502379342,4.0241228070175445,3.8718641451177147,4.2830449008554421,4.3807052670289703,4.5416343619165751,4.0269874263127408,4.6747898010800455,4.5210166906674312,4.1187536743092297,4.0212818003913906,4.2414833215046119,4.1187699893390199,3.0388926595479324,3.0959214434110196,3.3319287317247195,3.3037195983795842,3.3056815636409196,3.2646190142502465,2.9308111064263263,2.9799959284185005]
["YieldOther cerealsEU-N13","Yield","Other cereals","EU-N13",2.7359472375161462,2.4969516468114938,2.2400178069995205,2.629042346906862,2.6254117802081969,2.6674345366536407,2.8066622532498795,2.6637379695746675,2.0317816135155722,2.6170261014322653,2.6723059568525662,2.362001548987001,2.8050962233206787,2.5497268077118171,2.019825225455969,2.6575775462747999,2.405444741445105,2.7102576514334746,2.7423850127700122,2.6061621029641988,2.8314656465209502,2.6624254092105621,2.9005176579182685,2.4924968467886899,2.649932406334492,2.8353618556230988]
["YieldOther cerealsBelgium","Yield","Other cereals","Belgium",4.4291338582677167,4.4285714285714288,4.333333333333333,4.416666666666667,4.75,5.6666666666666661,3.6,4.7692307692307692,2.5499999999999998,3.1666666666666665,3.4,6.2,5.25,4.2,5.8333333333333339,5,2.5,5.8,"",3.6585365853658538,5.9666666666666659,4.166666666666667,4.2349869451697124,4.5328947368421053,3.34375,4.4443136886358872]
["YieldOther cerealsBulgaria","Yield","Other cereals","Bulgaria",1.641176470588235,1.368421052631579,1.5,1.2338129496402876,0.7282377919320594,0.92376111817026685,0.64179104477611937,0.92957746478873238,0.40540540540540537,1,0.37499999999999994,0.93430656934306577,2.0235294117647058,1.8536585365853659,1.4827586206896552,1.1363636363636362,1.4857142857142858,1.1944444444444444,1.4342723004694835,1.0842572062084257,1.8043478260869568,1.9206049149338373,1.5283018867924529,1.4080944350758853,1.6913183279742765,1.5507385804315703]
["YieldOther cerealsCzech Republic","Yield","Other cereals","Czech Republic",1.6940406976744187,2.35,2.2833333333333332,2.1166666666666667,2.2000000000000002,2.0869565217391304,1.9090909090909092,1.9090909090909092,1.229753883656648,1.0557378606789922,1.0255843659169515,1.7536639564724081,1.317123268131722,1.165546302086294,1.0043100903347699,1.2717324619059351,1.0840043164273263,1.1753580113482842,1.3094688221709005,1.6700680272108843,1.9123102866779089,1.3206412825651304,1.4728773584905659,1.4692082111436948,2.3123620309050774,1.5812554623198445]
["YieldOther cerealsDenmark","Yield","Other cereals","Denmark",3.8693289373197501,0,6.25,6,5.1724137931034484,0,5.375,"","","","","","","","","",3.4673913043478262,4.0517241379310347,4.82,3.1372549019607847,3.9746835443037969,3.8312663288608859,3.9506172839506175,4.1000000000000005,3.7076923076923078,3.9647570571445869]
["YieldOther cerealsGermany","Yield","Other cereals","Germany",3.7009781349233561,4.4337349397590362,4.1444444444444448,4.1818181818181817,4.8848167539267022,4.6433447098976108,4.6645962732919264,4.7305389221556888,4.570332480818414,4.6859504132231411,4.4504249291784701,4.2321428571428568,5.0470588235294116,4.4382022471910112,4.3911764705882357,4.124161073825503,4.5272727272727273,4.8713235294117645,3.3816246610584026,3.3593587179386688,3.9969230379938998,3.8562881780709448,3.7304189562256664,3.5013790091960808,3.3345422603991337,3.6894923030537825]
["YieldOther cerealsEstonia","Yield","Other cereals","Estonia",1.9385964912280695,2.3076923076923079,1.5520833333333335,2.088888888888889,2.3379310344827586,1.8981481481481479,1.4976076555023923,1.075,1.8968253968253967,1.7428571428571427,1.6875,1.8596491228070178,2.132075471698113,2,2.04,2.35,2.0810810810810811,2.1851851851851847,1.8292682926829269,2.1951219512195124,1.6896551724137934,2.7209302325581399,2.1578947368421053,2.4285714285714284,1.3170731707317076,2.3050080177903594]
["YieldOther cerealsIreland","Yield","Other cereals","Ireland","",0,0,0,0,0,0,0,"","","","","","","","","","","","","","","","","",""]
["YieldOther cerealsGreece","Yield","Other cereals","Greece",1.5318352059925093,2,2,2,2,10,1.6666666666666667,2,0.42975206611570249,1.342857142857143,1.3703703703703702,1.2536231884057969,1.4233576642335766,1.8319999999999996,1.9985096870342773,1.9696652719665273,1.5681818181818183,2.056338028169014,2.963855421686747,3.3831417624521074,1.7010309278350515,1.4101382488479264,0.3951048951048951,2.3333333333333335,2.0642201834862384,1.9016125484808679]
["YieldOther cerealsSpain","Yield","Other cereals","Spain",1.6367307877455581,1.0865800865800865,1.1236749116607774,0.61445783132530118,1.6413502109704641,1.0019047619047619,1.065979381443299,0.7567567567567568,2.1515957446808511,1.4297520661157024,1.7139423076923079,1.3806584362139913,2.5449640287769788,2.5449640287769788,1.9219600725952815,1.8432122370936903,1.9076305220883532,1.5909090909090911,1.3722657033915311,1.7342690374085508,1.4378642625549856,1.543792665010594,1.6359113015510889,1.6855731561914493,1.7199546485260773,1.5343835826221248]
["YieldOther cerealsFrance","Yield","Other cereals","France",3.6063750676041102,3.9633286318758811,3.9468085106382977,3.8132911392405067,4.0800604229607256,3.8647482014388492,4.0518518518518523,3.8540983606557377,3.7928057553956829,3.4350736278447123,4.1018181818181825,3.3164948453608245,4.0240615976900864,3.9248927038626609,3.8124999999999996,3.2247658688865766,3.4647256438969758,3.6111719605695507,3.6581084308574159,3.3754750726581708,3.7926406926406924,3.7602705157969112,3.956749049429658,3.8924020312350289,3.1513652189847901,3.4714048416014398]
["YieldOther cerealsCroatia","Yield","Other cereals","Croatia",2.0138888888888884,3.5,3.5,3.5,3.5,3.5,3.5,3.5,3.16,4.0833333333333339,4.0357142857142865,3.2271062271062272,4.620578778135048,2.9694989106753815,3.9090909090909092,2.76056338028169,2.9999999999999996,2.25,2.5441176470588234,2.6973684210526314,2.9726027397260273,3.2463768115942035,2.75,1.8648648648648647,0.88888888888888895,1.7952262315153007]
["YieldOther cerealsItaly","Yield","Other cereals","Italy",3.3075555555555551,4,3.8787878787878793,3.8648648648648649,3.1010101010101008,2.6857142857142855,3.5057471264367819,3.2794117647058827,3.4237288135593218,5.3538461538461535,4.3013698630136989,5.0133333333333336,4.8783783783783781,4.2941176470588234,3.3333333333333335,4.0094339622641515,3.9512195121951219,2.8010471204188478,3.3436259373621522,3.1932809773123907,3.4960421422898889,3.2682789651293587,3.618064861967301,3.4280303030303032,3.2011834319526624,3.210462423529691]
["YieldOther cerealsCyprus","Yield","Other cereals","Cyprus","","","","","","","","","","","","","","","","","","","","","","","","","",""]
["YieldOther cerealsLatvia","Yield","Other cereals","Latvia",1.6325823223570195,1.4126984126984128,1.425925925925926,1.7246376811594204,2.0434782608695654,2.0086206896551726,1.6263157894736844,1.4570135746606334,1.5048076923076921,1.1814159292035398,1.2436548223350254,1.2012987012987013,1.4466019417475726,1.3963963963963961,0.89411764705882357,1.4314720812182744,1.2126436781609198,1.3707865168539326,1.404109589041096,1.6120218579234973,1.6415094339622645,1.7350000000000001,2.0552995391705067,1.5687500000000001,1.3974895397489544,1.3457724713041859]
["YieldOther cerealsLithuania","Yield","Other cereals","Lithuania",1.4525301489713878,1.506578947368421,1.3455497382198953,1.4764705882352942,1.8615384615384614,1.8129496402877698,1.6818181818181817,0.85820895522388074,1.2697841726618704,1.183098591549296,0.98979591836734704,1.4150326797385619,1.1983914209115283,1.102204408817635,0.62586206896551722,1.4889779559118237,1.0633245382585752,1.2467532467532467,1.2500000000000002,1.4390715667311413,1.4479717813051145,1.4651162790697674,1.5566502463054188,1.4623376623376623,1.4479166666666667,1.6769407393398659]
["YieldOther cerealsLuxembourg","Yield","Other cereals","Luxembourg",4.2571392941763309,4.8,4.2857142857142856,5.1428571428571432,5.4444444444444446,5.7499999999999991,5.7499999999999991,5.666666666666667,4.8571428571428577,5.166666666666667,5.7499999999999991,5.7499999999999991,7.0000000000000009,6.666666666666667,4.9999999999999991,4.5,6.5,6.0000000000000009,4.1851851851851842,3.6306306306306313,4.1971326164874556,4.3381123058542412,4.2395729062395722,5.16,4.8809523809523805,4.0915992479161885]
["YieldOther cerealsHungary","Yield","Other cereals","Hungary",1.3899203514438516,"","","","",1.1071428571428572,1.7678571428571428,1.0812720848056538,1.2811115751153701,1.2662781045096863,1.1888888888888889,0.77443609022556381,1.5703422053231941,1.4460784313725492,1.228723404255319,0.94214876033057848,1.7304964539007095,1.0629370629370631,1.0054861899356791,1.1764264264264266,1.1850932900113229,1.001513345386863,1.5714285714285716,1.4706572769953052,3.3414454277286136,1.9747134410213656]
["YieldOther cerealsMalta","Yield","Other cereals","Malta","","","","","","","","","","","","","","","","","","","","","","","","","",""]
["YieldOther cerealsNetherlands","Yield","Other cereals","Netherlands","",11.500000000000002,9.0576923076923084,8.6999999999999993,9.2678571428571423,14.444444444444443,12.413793103448276,8.2666666666666675,12.027777777777777,12.597402597402597,12.432835820895521,13.718309859154932,14.823529411764707,11.246575342465754,10.013333333333332,11.208333333333334,13.092105263157896,12.421052631578949,"","","","","","","",""]
["YieldOther cerealsAustria","Yield","Other cereals","Austria",4.0052653748946927,7.0296610169491522,7.1645299145299148,8.0053475935828882,7.3085399449035808,7.7058823529411775,7.6331658291457298,7.4933687002652514,7.6458923512747878,9.5088757396449726,9.4787535410764878,8.2768817204301079,9.5315068493150683,9.7821229050279328,8.4275184275184269,9.5040214477211808,9.5732984293193706,8.8498727735368963,3.8862478777589131,4.204301075268817,4.0690121786197562,3.9594257178526844,3.9928057553956831,3.8556759840273815,3.7814521926671461,2.1724839497621002]
["YieldOther cerealsPoland","Yield","Other cereals","Poland",2.8631944909466842,2.4918164547712993,2.229212682579266,2.6999047748605634,2.7394479334014896,2.8205128205128203,2.879387364390555,2.7758401817331464,2.0801695654884358,2.6988662428730583,2.7670616790405478,2.4493929841035618,2.903191700257715,2.6491751142913933,2.1105795768169271,2.7463466868228772,2.4759643916913947,2.8066924973582248,2.8537229510989945,2.7000407170440917,2.9426519386362484,2.7719400366535445,3.0516055060240435,2.604067646733724,2.7741508649913609,2.9720771686844634]
["YieldOther cerealsPortugal","Yield","Other cereals","Portugal",1.1969960502881551,"","","","","","","",1.3206997084548104,0.63184079601990051,1.0767754318618044,0.72209567198177682,1.096866096866097,0.46946564885496178,1.6211180124223601,1.3333333333333335,1.6770833333333335,1.2105263157894737,1.0650406504065042,0.92035398230088505,0.74509803921568629,1.2499999999999998,1.3369565217391304,1.21505376344086,1.1284692485805814,1.1630893475384387]
["YieldOther cerealsRomania","Yield","Other cereals","Romania",1.7991845056065232,"","",0.74999999999999989,1.5333333333333332,0.28571428571428575,0.15,0.72222222222222221,0.31249999999999994,0.9932432432432432,0.90710382513661192,0.58048780487804885,1.9075144508670518,0.22631578947368422,1.0285714285714287,0.95102040816326527,1.5659340659340659,2.0849056603773581,1.3363636363636362,1.8832335329341319,1.2645502645502646,1.6517150395778364,2.0262390670553936,1.4594594594594594,1.8893617021276596,2.0885043948536577]
["YieldOther cerealsSlovenia","Yield","Other cereals","Slovenia",1.3498727735368963,1.6666666666666667,1.6666666666666667,1.6666666666666667,1.6666666666666667,1.6666666666666667,1.5,1.375,1.1847826086956521,1.2735849056603774,1.272108843537415,0.98550724637681175,1.3469387755102042,1.8527607361963192,1.8288288288288286,1.4838709677419353,1.681159420289855,1.5541401273885349,1.3788819875776397,1.4337349397590362,1.2238095238095237,1.2956989247311828,1.5166051660516606,1.3016393442622953,1.0911528150134049,1.1737660110640036]
["YieldOther cerealsSlovakia","Yield","Other cereals","Slovakia",1.349367088607595,1.8235294117647061,1.2857142857142858,1.5333333333333332,1.2352941176470589,1.3076923076923077,2.0499999999999998,1.1111111111111112,1,1.2142857142857144,1,1.1111111111111109,1.4482758620689655,1.3333333333333333,0.83333333333333337,0.8571428571428571,1.4666666666666668,1.1071428571428572,0.96202531645569622,1,1.45,"",1.1521739130434783,1.1810344827586208,1.6042780748663101,1.2069484280211213]
["YieldOther cerealsFinland","Yield","Other cereals","Finland",2.5888978165877461,2.8380952380952382,2.4329896907216497,2.8130841121495331,3.1698113207547172,3.1317829457364343,2.356060606060606,2.5114503816793894,3.1172413793103444,2.848739495798319,2.6639999999999997,2.9147286821705429,2.5628415300546452,2.7873563218390802,2.6732673267326734,2.2788461538461537,1.7798165137614681,1.86,2.3969072164948457,2.611872146118722,2.2832618025751077,3.009389671361502,2.8236080544289006,2.7447419762743976,2.4834290016344958,2.79328229395332]
["YieldOther cerealsSweden","Yield","Other cereals","Sweden",3.3305853256389115,4,4,2.5,3.8941176470588239,3.6599999999999997,2.914814814814815,2.8242424242424242,3.4685534591194966,3.2301886792452827,3.5807692307692305,3.4982078853046592,3.6439024390243904,3.4529914529914532,2.7213930348258706,3.1764705882352944,3.0846560846560847,3.4769230769230766,2.9852045256744995,3.035242290748899,2.9832402234636874,3.7232375979112273,3.1609566903684549,3.5446489434219495,3.7095709570957096,3.5246577405661128]
["YieldOther cerealsUnited Kingdom","Yield","Other cereals","United Kingdom",4.1575024679914643,4.40625,4.4827586206896557,5,4.615384615384615,4.5833333333333339,2.7272727272727271,5.5,6.5,4.208333333333333,5.3333333333333339,3.9473684210526319,5.0138888888888884,4.8518518518518503,4.6913580246913567,5.6521739130434785,5.3571428571428577,4.2857142857142856,3.8333333333333335,4,4.1972327978456683,4.1705790297339593,4.1226039425265419,"","",""]
["YieldTotal cerealsEU-28","Yield","Total cereals","EU-28",5.3268129789036847,4.1049267591956546,4.1380398837368686,4.2598973057508784,4.549749229458234,4.5985480751363168,4.6455594241651452,4.6509649473191246,4.5200713058251027,4.6108438621084833,4.6950501890964071,4.2402260781582974,5.2969124581574656,4.8121578038026076,4.6788722301510886,4.5390549178484232,5.2245894731444649,5.0551795730196316,5.0237909220561798,5.1525284203171831,4.8851612638278548,5.3411740764432514,5.7133557806580795,5.4894645665297839,5.231448213946682,5.3496403989441568]
["YieldTotal cerealsEU-15","Yield","Total cereals","EU-15",6.0602281305163617,5.2538390917313915,5.2025265091078143,5.2036583366303937,5.8005421534821755,5.6066508317692243,5.8625968882981541,5.7145793225869292,5.7290492578040757,5.4649730132294945,5.6479771511706875,5.134838618521318,6.0803285105834428,5.5252195286495951,5.5850390166926385,5.5842211797040724,6.0500750190547858,5.9826325556070623,5.8181789039245135,5.8735324220760896,5.7978689023443284,6.0835554116733652,6.401772783306793,6.3008820171850308,5.6987531972305465,5.9307676973932066]
["YieldTotal cerealsEU-N13","Yield","Total cereals","EU-N13",4.2990033989064118,3.1027608757533192,3.3138127991434114,3.6096246801192398,3.3308472883630933,3.7770201754592816,3.5352669659474119,3.6594596371437547,2.6527931600855394,3.3695990428801981,3.2148549889068687,2.8061817516990195,4.0949624503499713,3.7235702947232099,3.276141855564688,2.9260672646310963,3.8989802263613109,3.654342306026892,3.7644880501068152,4.0323132382508877,3.486154846275991,4.1989515295080118,4.6488436308269021,4.2458225732276764,4.5157641710333412,4.4451938522149197]
["YieldTotal cerealsBelgium","Yield","Total cereals","Belgium",9.2005543178354401,3.1210795040116701,3.624826629680999,3.9032998058937713,3.9544461778471134,3.5467476663209356,3.7386112339672701,3.9152432080689761,8.0082855321861039,8.2066805845511475,8.4677574590952851,8.4816617981174947,9.2653061224489779,8.7364341085271313,8.328371810449573,8.437178322736905,9.1007154650522857,9.638445926355466,9.2060054001127511,8.9844369850472994,8.8107080163838507,9.3730137515221692,9.51226915122772,9.6079028245280256,6.9272991747313428,8.7153541891056818]
["YieldTotal cerealsBulgaria","Yield","Total cereals","Bulgaria",4.6448411087618746,2.5238938053097346,2.8049183176920405,3.0124234867377013,1.8684804817722331,2.9456311595227991,2.7090521239102201,3.0743531123350318,2.6128500000000003,2.8972500839852184,3.160067554888347,2.3649238832043924,4.0753713753220415,3.3839488223320746,3.599611373793639,2.0773614568321759,4.0901043498651664,3.4048442906574397,4.0259163420251944,4.2465365131766184,3.6623527547409016,4.5562761673911734,4.860423248943416,4.6727141102141108,4.8180005869877025,5.5131207703811071]
["YieldTotal cerealsCzech Republic","Yield","Total cereals","Czech Republic",5.7666542435888619,2.563145258103241,2.5996164173379364,2.5657598134473378,2.4773303504847126,2.4757713922171569,2.3989711860138856,3.0657551219080492,3.9115205139082478,4.5196797043424688,4.3345688733539474,3.9473774343587946,5.4576990468616007,4.7532609370152032,4.1688099745414187,4.5344065268968654,5.3699153086102926,5.0797768841613715,4.70149365963701,5.599749915511997,4.534773072612639,5.3162673195861698,6.2281394985882725,5.8881445932236316,6.3253938470821112,5.4249745304456471]
["YieldTotal cerealsDenmark","Yield","Total cereals","Denmark",6.5001604694878736,6.0288277687895269,5.9389040680024285,6.7377761413843889,6.2693511086926943,6.5678842177808407,6.5468859342197341,6.0684647302904562,6.2763219310528759,6.1273164705117376,5.7627806506513055,6.0965243163141585,6.0131490674896009,6.1538614517732846,5.7783653524332292,5.6757577849892984,6.036122937732836,6.7963787644965867,5.8898544866612781,5.8958095876634253,6.3259110665329334,6.3137077084059996,6.7672049345068963,6.8924642464246419,6.2326438664755273,6.5207699975992774]
["YieldTotal cerealsGermany","Yield","Total cereals","Germany",7.2749519768464372,6.2586932408401834,6.4476430498367172,6.8721383257481712,6.9762247719333104,7.2105513458672839,7.1382656737929366,7.4217784753063736,6.4529192086207852,7.0553536959236967,6.2515667996945643,5.7645407491885257,7.3553959319984461,6.7232343909928343,6.4867429611614282,6.1829054886863375,7.1187912025460331,7.200998769631612,6.6771106879256701,6.4488116298746272,6.954851163574526,7.3093499854599999,8.0404569767801366,7.4881089805800443,7.1723757507830621,7.2244927165635007]
["YieldTotal cerealsEstonia","Yield","Total cereals","Estonia",3.2062550281576834,1.4951721625068315,0.97526236881559214,1.0009560229445507,1.2832764505119454,1.213931262635545,1.0331452750352608,0.75978581979320525,2.1196761788690615,2.0372126960963155,2.0243055555555554,1.9213525835866261,2.330521472392638,2.6949272791770129,2.2099250267761512,3.0095857583019514,2.7945648657392432,2.7603540942143536,2.4627678895750091,2.5966329966329962,3.4120481927710835,3.1356477017036326,3.6695704415740464,4.3815639269406397,2.6582242458736478,3.2608935654882809]
["YieldTotal cerealsIreland","Yield","Total cereals","Ireland",8.0841333392319914,0.58885509450358464,0.60115801270078439,0.66993695676502407,0.77216193806553945,0.67832460732984301,0.63614038677990381,0.70011835143414103,7.8451822446770114,7.6316531547409232,6.600336134453781,7.1596745147735605,8.1638648604537298,7.0166745035627729,7.5786218438477766,7.3132896326949135,7.6738167986531147,6.9120179582537595,7.492050086292366,8.4726180025660067,6.7575439600623239,7.8269374979622448,8.4923504413206938,9.0329274566969655,8.2433473639152446,8.4289720443619167]
["YieldTotal cerealsGreece","Yield","Total cereals","Greece",3.9932155054043599,2.7410708560436037,3.5023709167544781,2.9498669654110068,3.1485602535572186,3.1485895907826777,3.2364142375860556,3.0769230769230771,3.4071571676460479,3.0204197684036393,3.1784197442351614,3.2594326522515358,3.5056997665155887,3.4590359379720894,3.4596492900028579,3.6907677261613685,4.3739684887401813,4.0982056708261378,4.3056334136038847,4.8639276857507854,4.2685707088201026,4.5779210600566396,4.0215336549869498,3.4333268675373931,3.4466722540992407,4.0049987528937923]
["YieldTotal cerealsSpain","Yield","Total cereals","Spain",3.3985372790165593,2.020504490506962,1.7076818647246288,1.254971947397187,2.612906339744673,2.0299145299145294,2.5857950227963524,2.1281222739614942,3.5488833079199922,2.7217002804226942,3.1537426688433388,3.1202734885150178,3.6982654856331578,2.0815082341683255,2.9634559535333982,3.8778693061570024,3.5433516442170219,2.8406785354383604,3.200801665517568,3.5484728975154574,2.7502856283078732,3.979416427870587,3.1765322310212287,3.1699131531993334,3.8249626994334243,2.847378251557092]
["YieldTotal cerealsFrance","Yield","Total cereals","France",7.2852797908744185,6.5251741646003065,6.5584380255218111,6.4703347010336891,7.0995085714285713,6.9027485072005623,7.428712285545255,7.2724685338473734,7.2427635865663884,6.7446171443951011,7.4714753746173219,6.1432617602937558,7.5443777468110227,6.9860013103297662,6.822487238259753,6.5451098398421568,7.2716905628298036,7.4662605535962365,7.0990382445848379,6.9401571199755949,7.2920974704008614,7.1135728416219699,7.5855135701924707,7.5896597680179427,5.6832066820001623,7.0553596614885503]
["YieldTotal cerealsCroatia","Yield","Total cereals","Croatia",5.6200266621603863,2.3475598260421853,2.1350121549522165,2.2703097113928732,2.3491046612279054,2.6705553899564261,2.5693658012996363,2.692858957540853,4.1192209398292414,4.8523389555826411,5.3307665771992339,3.6115333690765929,5.4187070657094143,5.5927682190608117,5.4212623628220085,4.560990843528268,6.640819964349375,6.1174902239601865,5.4714615818489483,5.2312488436632751,4.5834001535443134,5.4574074708117895,6.0454802373935168,5.7119720611061178,6.6406174626145686,5.308935783503963]
["YieldTotal cerealsItaly","Yield","Total cereals","Italy",5.2687560930199124,4.7354835880090604,4.5663538411696463,4.5599471749858971,4.7684836975770128,4.6015952210284485,4.9103161086649498,4.9054001931584468,4.9556373300623546,4.7656042496679953,4.8887823114193649,4.1907537995468545,5.3768584835761928,5.3179291726218842,5.2551888111888125,5.0834999729773553,5.3639295265062135,4.9424937019873729,5.2824478607884595,5.6594281013304579,5.1086604112826191,5.1038399641837273,5.6277137250091993,5.2386583499483033,5.5443958901630666,4.9850740145331267]
["YieldTotal cerealsCyprus","Yield","Total cereals","Cyprus",1.8888888888888886,0.54891450013401222,0.51443070091975895,0.45051194539249151,0.35801217038539546,0.12341853860056802,0.14198206081820169,0.37989829494466049,0.93203883495145634,2.2749999999999999,2.4618055555555558,2.2637800687285217,1.677861445783132,1.1293644408688657,1.1285038838230328,1.4584481175390265,0.16382428940568478,1.8240770465489566,1.9984797810884773,1.9543429844097995,2.3995240613432043,1.6882314694408322,0.29079415250888974,2.6831050228310498,1.1606325426550148,1.8650031115284513]
["YieldTotal cerealsLatvia","Yield","Total cereals","Latvia",3.7408664298213061,0.54364343139853344,0.40119090257879664,0.30956552994563513,0.40629228687415431,0.42161853948600986,0.3910206744688659,0.35377528901734101,2.1990476190476196,2.0915032679738559,2.4783132530120477,2.1759626604434072,2.4261506755209519,2.802943058221369,2.2639703008987886,2.9415596857635569,3.1043733921352445,3.0752588757396455,2.7755220417633413,2.7380259840992833,3.767511970207484,3.3737880886426588,3.4865372573575448,4.5130694548170274,3.8283529245149421,3.7103548518922143]
["YieldTotal cerealsLithuania","Yield","Total cereals","Lithuania",3.8893728588041783,2.5793879907621249,2.1210473313192346,2.141498881431767,2.824181739879414,2.9383145955626309,2.9136013686911886,2.3373110580747811,2.7132711411754959,2.5062281839332812,2.7659041394335517,3.0439509599814936,3.2548662492885598,2.9401736220060664,1.9293799979229413,3.0070766470646872,3.3482387475538165,3.4495695514272771,2.7635375494071144,3.0298675683291068,4.0153487971026989,3.6878193505851331,3.9751707014276847,4.5644561815336449,3.8530355079953793,4.0953340218369565]
["YieldTotal cerealsLuxembourg","Yield","Total cereals","Luxembourg",5.8031634446397184,5.2164948453608249,4.5753424657534243,5.197183098591549,5.9897610921501707,5.6250000000000009,5.8292682926829276,5.6925925925925913,5.3205574912891995,5.1499999999999986,5.7414965986394568,5.678200692041524,6.4157706093189955,5.6749116607773846,5.5951557093425608,5.2070175438596484,6.09967845659164,6.2006578947368434,5.6088844355377425,5.1959013546370265,5.5091561938958726,5.9621603027175798,5.9306826178747363,6.028688524590164,4.9985642498205323,5.5008511312743353]
["YieldTotal cerealsHungary","Yield","Total cereals","Hungary",5.3553647436238103,3.261337432744043,4.1966028189374773,4.2303306727480043,4.1845699520118123,4.9309141660851363,4.691149931422796,4.785540142917192,3.6528741228562285,4.8842429517752803,3.9617234604701577,3.0376304928380682,5.591983727366701,5.5284905145352798,5.0987340879438614,3.490474064600201,5.7923047802594905,4.7159031709095958,4.7278851477952015,5.1092862670619601,3.7623164295340041,4.8353223993968788,5.8991960552352323,5.2081336099065263,6.5025498990543396,5.6123855466582491]
["YieldTotal cerealsMalta","Yield","Total cereals","Malta","","","","","","","","","","","","","","","","","","","","","","","","","",""]
["YieldTotal cerealsNetherlands","Yield","Total cereals","Netherlands",8.7979452054794507,8.4110122358175747,7.4312896405919666,8.1291338582677177,8.6071428571428577,8.0128395061728401,7.6556097560975616,7.5586979722518688,8.0331272084805647,7.8994910941475833,7.8274678111587983,8.5019955654101995,8.6324057450628366,8.3775372124492584,7.9831204379562042,7.3024302430243022,8.4806743421052637,9.1449211908931716,8.626721763085401,7.901408450704225,8.5789473684210531,8.6809523809523803,9.108247422680412,8.7241820040899789,7.7043536955788054,8.7096055093272078]
["YieldTotal cerealsAustria","Yield","Total cereals","Austria",6.4821363976681008,5.7405642148653877,6.0903301273719794,6.2203995237465275,6.0228958812995641,6.3386484434320423,6.1150839420735625,6.3763597771292115,5.4099999999999993,5.8649599611744723,5.8444717444717433,5.2643536239041842,6.5151998038734975,6.1520974629490075,5.742500321874596,5.8651380670611433,6.8336701937938402,6.1601005867560783,5.9348115299334818,7.0660365672381324,6.0083423698738176,5.8546465651386459,7.0574080482499522,6.204365257265823,7.256374949000409,6.5063503379883088]
["YieldTotal cerealsPoland","Yield","Total cereals","Poland",3.9176228505327795,2.8204852138960668,2.6987220684200119,3.1768423883808503,3.0453855440408315,2.9525595890806251,3.173075360670389,3.0424625709860607,2.5552101297994008,3.056688699674607,3.2406496419011792,2.865408173265386,3.5376442921774847,3.2330827970415914,2.5981959623920199,3.249479229019514,3.2171673120980588,3.4751829239875107,3.6021786948779728,3.4303546026579177,3.704931012551433,3.9710809546092656,4.2679225116900463,3.7277289669861551,3.9945232317087065,4.0617240059837592]
["YieldTotal cerealsPortugal","Yield","Total cereals","Portugal",4.1603353690094194,2.2025862068965516,2.5607445008460239,2.1834710743801651,2.5817555938037864,2.2662010719506251,2.9116977696859352,2.8961538461538461,2.6400377950509872,2.4508558282855999,2.7530712034268165,2.4373283046980494,2.7762291732873288,1.8331075589271197,3.0093872527975725,3.1862841147655701,3.4192476249301449,3.0632093870895543,3.0782319081924481,3.8507120253164553,3.8476279141937235,4.1534816790678084,4.2583093144587538,4.3834024896265564,4.2196752025484798,4.2889912433160857]
["YieldTotal cerealsRomania","Yield","Total cereals","Romania",3.6750716142721087,1.9910007338457381,2.2575420729056694,2.4697845572421335,1.9076091341886547,2.7715586435236284,2.0500212348038436,2.4167163247353929,1.8525636036902875,2.9981235382346969,2.3777510931495955,2.3393729744555833,3.8948622001992277,3.2977945566765494,3.0808831876489955,1.5205293823612107,3.2258382074147569,2.8085989388430503,3.3115036433639857,3.9862226553956308,2.3523647460299046,3.8526603177889345,4.0553426927502869,3.52615592738151,3.6403930786523429,3.9309418354727854]
["YieldTotal cerealsSlovenia","Yield","Total cereals","Slovenia",6.2009808861567395,0.14310107566183827,0.17170773762482935,0.16097491024871483,0.15210060990497704,0.16737076968377579,0.17232526199873796,0.13264040316474571,4.8127680311890835,4.7328499189008681,6.1502517623363548,4.0141951072183639,5.8394913387403617,6.0871448188444077,5.1177934467026125,5.3284240056106595,5.4685849056603777,5.2768865121806305,6.0006331117442233,6.3979999999999997,5.7792259875676768,4.6209962614933824,6.4991488935616308,6.3064874696847211,6.5211153768438068,5.9162585413989346]
["YieldTotal cerealsSlovakia","Yield","Total cereals","Slovakia",5.2062736024099001,0.87143871478222146,0.98099115659515734,0.90482902221612316,0.85662729187733444,0.94304765332724727,0.87753243224202659,0.66389766942471429,2.6260288679470354,3.7752703338034781,3.893684467203121,3.1111944027986005,4.6295618210667646,4.4820602575321908,3.9578378378378374,3.5607393244104539,5.1756536969848614,4.3363715277777777,3.7354200458842963,5.0086264995282388,3.8267217596150211,4.4937754416472355,6.0437718217293082,5.0796305441731961,6.3099199914941115,5.0578956553682994]
["YieldTotal cerealsFinland","Yield","Total cereals","Finland",3.6137557950094155,0.9036301396608053,0.87834897743519602,0.83751840879555373,0.90251069783233517,0.90353077955723271,0.65863534068903828,0.62423667893203394,3.5044134030336789,3.1669550173010381,3.3093077956989245,3.1737561875996305,2.9632328856862102,3.4175157894736845,3.2884164859002158,3.541299323803818,3.3797650443538716,3.5418952618453861,3.1421965317919081,3.5186108979278581,3.5303483547235355,3.6913984360792873,3.6918327898404653,3.6147792836538675,3.5382647235225311,3.526698489624831]
["YieldTotal cerealsSweden","Yield","Total cereals","Sweden",5.4093500343239169,4.5628748335423177,3.8344789557247845,4.3546627885838953,4.8820104952443426,4.6912225705329158,4.3617731542582092,4.2259833747536213,4.6951229610002487,4.6276075199587945,4.8950528768596522,4.6690220710110788,4.9339783212398096,4.9848006316620612,4.2923684757745892,5.1508300234239739,4.8204509603785848,5.0849394673123491,4.5123940845218673,4.7229367088607574,5.1077868439609144,5.1237158896152541,5.6489586182642331,6.0519370947013167,5.4399130937431481,5.6082955463153281]
["YieldTotal cerealsUnited Kingdom","Yield","Total cereals","United Kingdom",7.1051027844472694,6.4408442330558868,6.5730096511742806,6.8914660279843698,7.3385267430754544,6.7133565356307408,6.6314801782782089,7.0622605363984672,7.1644064758946175,6.2918726977068324,7.0780373543734187,7.0829542851533098,7.0428046567337388,7.2165358339111414,7.2759892159734454,6.614168313741807,7.4328567937438894,7.0305691056910566,6.9518752074344503,6.9857235561323812,6.2179255887151088,6.6321781250308307,7.6908176009470575,7.9816069699903194,7.0220588235294121,7.2701356596453248]

{"sheet":"precos_ue","index":4,"n_rows":3191,"n_cols":34,"rows_kept":2250,"cut":true,"hidden":true,"merged":[],"bounds":{"rows_first":1000,"rows_last":250,"rows_between":1000,"halvings":1}}
["com","tipo","período","EU","BE","BG","CZ","DK","DE","EE","IE","EL","ES","FR","HR","IT","CY","LV","LT","LU","HU","MT","NL","AT","PL","PT","RO","SI","SK","FI","SE","UK","escolha1","escolha2"]
["Bread Wheat 2017/07","Bread Wheat ","2017/07",166.3554,183.0625,144.64831250000003,161.78110000000001,null,168.15769,171.39,null,166.5625,185.69436250000001,165.65514999999999,142.00965000000002,173.42667,null,166.54400000000001,153.16460000000001,null,140.68553333333335,null,null,167.5,169.88390000000001,190.26791666666668,139.754425,169.87100000000001,152.76770000000002,153.39940000000001,null,180.17015000000001,{"$f":"+INDEX(D2:AF2,1,aux_pr_ue!$P$2)","v":190.26791666666668},{"$f":"+INDEX(D2:AF2,1,aux_pr_ue!$Q$2)","v":153.39940000000001}]
["Bread Wheat 2017/06","Bread Wheat ","2017/06",164.47400000000002,179.5,150.09841249999999,163.4958,null,170.62568000000002,165.18130000000002,null,176,179.95083750000001,160.96023333333335,142.88615000000001,172.26536666666664,null,159.87630000000001,161.297,null,147.7508,null,null,156.10000000000002,173.01520000000002,187,150.54192499999999,173.0523,143.3563,153.20000000000002,null,176.94275999999999,{"$f":"+INDEX(D3:AF3,1,aux_pr_ue!$P$2)","v":187},{"$f":"+INDEX(D3:AF3,1,aux_pr_ue!$Q$2)","v":153.20000000000002}]
["Bread Wheat 2017/05","Bread Wheat ","2017/05",164.6919,179.35480000000001,148.44184999999999,158.45090000000002,null,167.81263333333334,156.83420000000001,null,165,177.63217500000002,163.4853,146.02940000000001,173.32115555555555,null,158.68050000000002,161.41130000000001,null,145.35876666666667,null,null,152.38614999999999,168.86143333333334,null,155.832975,172.57580000000002,142.71350000000001,153,null,181.70608000000001,{"$f":"+INDEX(D4:AF4,1,aux_pr_ue!$P$2)","v":0},{"$f":"+INDEX(D4:AF4,1,aux_pr_ue!$Q$2)","v":153}]
["Bread Wheat 2017/04","Bread Wheat ","2017/04",163.0283,177,149.95689999999999,154.32990000000001,null,166.05099000000001,157.21299999999999,null,162.33330000000001,167.73241250000001,162.92464999999999,147.14840000000001,173.30812222222224,null,161.47913333333335,160.41330000000002,null,145.08015,null,null,149.42500000000001,164.22853333333333,null,162.46095,165.55100000000002,140.3313,153.26220000000001,null,184.02382000000003,{"$f":"+INDEX(D5:AF5,1,aux_pr_ue!$P$2)","v":0},{"$f":"+INDEX(D5:AF5,1,aux_pr_ue!$Q$2)","v":153.26220000000001}]
["Bread Wheat 2017/03","Bread Wheat ","2017/03",163.81200000000001,179.54840000000002,155.11847500000002,148.5164,null,167.24454,156.3974,null,162.25810000000001,167.23466250000001,171.50234999999998,151.33744999999999,174.88027777777779,null,165.31829999999999,162.291,null,145.844425,null,null,149.72579999999999,160.79936000000004,null,159.435925,161.5061,138.8177,154.2235,null,179.81189999999998,{"$f":"+INDEX(D6:AF6,1,aux_pr_ue!$P$2)","v":0},{"$f":"+INDEX(D6:AF6,1,aux_pr_ue!$Q$2)","v":154.2235}]
["Bread Wheat 2017/02","Bread Wheat ","2017/02",162.6396,180.42860000000002,150.50241250000002,145.82550000000001,null,165.31292000000002,160.40960000000001,null,162.5,167.14998750000001,174.535675,150.49375000000003,173.99722222222223,null,164.08083333333335,161.53790000000001,null,140.911675,null,null,148.7679,157.41152000000002,null,156.86680000000001,163.25110000000001,132.62960000000001,154.33000000000001,null,181.94387999999998,{"$f":"+INDEX(D7:AF7,1,aux_pr_ue!$P$2)","v":0},{"$f":"+INDEX(D7:AF7,1,aux_pr_ue!$Q$2)","v":154.33000000000001}]
["Bread Wheat 2017/01","Bread Wheat ","2017/01",159.7397,179.74190000000002,148.098725,141.5573,null,164.18334000000002,154.70320000000001,null,153,165.99313749999999,174.40155000000001,141.87350000000001,171.16730000000001,null,159.84080000000003,154.93130000000002,null,138.14817500000001,null,null,148.15,153.05338000000003,null,150.024225,173.00290000000001,131.38060000000002,154.3355,null,177.57766000000001,{"$f":"+INDEX(D8:AF8,1,aux_pr_ue!$P$2)","v":0},{"$f":"+INDEX(D8:AF8,1,aux_pr_ue!$Q$2)","v":154.3355}]
["Bread Wheat 2016/12","Bread Wheat ","2016/12",155.31450000000001,179.35480000000001,144.95757499999999,138.5684,null,160.95686000000001,147.6865,null,160,165.0891125,166.90165000000002,134.88294999999999,170.88727272727272,null,152.9744,152.50320000000002,null,130.46542500000004,null,null,147.19999999999999,148.583,null,148.77625,156.26840000000001,124.85,154.3629,null,174.38316000000003,{"$f":"+INDEX(D9:AF9,1,aux_pr_ue!$P$2)","v":0},{"$f":"+INDEX(D9:AF9,1,aux_pr_ue!$Q$2)","v":154.3629}]
["Bread Wheat 2016/11","Bread Wheat ","2016/11",154.13580000000002,176.5333,137.63547499999999,139.34560000000002,null,159.69977,148.15870000000001,null,154.64705000000001,163.55125000000001,168.50310000000002,128.99765000000002,167.36606363636363,null,149.07499999999999,150.62470000000002,null,131.3982,null,null,144.13330000000002,145.12789999999998,null,146.06184999999999,155.87,127.33170000000001,152.17670000000001,null,169.55902000000003,{"$f":"+INDEX(D10:AF10,1,aux_pr_ue!$P$2)","v":0},{"$f":"+INDEX(D10:AF10,1,aux_pr_ue!$Q$2)","v":152.17670000000001}]
["Bread Wheat 2016/10","Bread Wheat ","2016/10",148.66820000000001,170.48390000000001,130.5222875,139.01,null,156.49754000000001,140.37900000000002,null,152.5,158.59677500000001,161.431375,131.26949999999999,158.7304,null,143.93216666666669,145.15900000000002,null,131.0437,null,null,133.04165,146.09119999999999,null,138.60002500000002,161.37350000000001,128.94999999999999,146.09550000000002,null,160.44494,{"$f":"+INDEX(D11:AF11,1,aux_pr_ue!$P$2)","v":0},{"$f":"+INDEX(D11:AF11,1,aux_pr_ue!$Q$2)","v":146.09550000000002}]
["Bread Wheat 2016/09","Bread Wheat ","2016/09",147.7587,167.7,132.00121250000001,139.8064,null,153.99804,146.14170000000001,null,155,157.80666250000002,158.7749,126.87295,154.15454545454548,null,141.327,148.40970000000002,null,129.86585000000002,null,null,135.01665,145.35833333333335,170,136.45212500000002,149.67270000000002,128.96469999999999,143.124,null,161.94693999999998,{"$f":"+INDEX(D12:AF12,1,aux_pr_ue!$P$2)","v":170},{"$f":"+INDEX(D12:AF12,1,aux_pr_ue!$Q$2)","v":143.124}]
["Bread Wheat 2016/08","Bread Wheat ","2016/08",148.1891,171.70590000000001,130.27203750000001,137.50409999999999,null,155.12345999999999,147.75970000000001,null,150,159.34921250000002,163.27610000000001,122.9691,154.09666666666669,null,147.14879999999999,139.57480000000001,null,128.654325,null,null,132.71775000000002,143.74096666666665,178.33333333333334,138.15245000000002,154.02160000000001,130.39520000000002,141.18610000000001,null,165.75798,{"$f":"+INDEX(D13:AF13,1,aux_pr_ue!$P$2)","v":178.33333333333334},{"$f":"+INDEX(D13:AF13,1,aux_pr_ue!$Q$2)","v":141.18610000000001}]
["Bread Wheat 2016/07","Bread Wheat ","2016/07",148.18170000000001,166.25,129.67905000000002,144.28720000000001,null,148.31394444444447,145.61000000000001,null,160,161.37798181818184,157.88377500000001,126.84645,153.28757500000003,null,151.47693333333333,147.4332,null,128.74317500000001,null,null,139.3065,144.44550000000001,176.25,136.81687499999998,152.8887,132.00030000000001,137.76609999999999,null,172.13714000000002,{"$f":"+INDEX(D14:AF14,1,aux_pr_ue!$P$2)","v":176.25},{"$f":"+INDEX(D14:AF14,1,aux_pr_ue!$Q$2)","v":137.76609999999999}]
["Bread Wheat 2016/06","Bread Wheat ","2016/06",152.54400000000001,165.4333,139.57021428571429,147.1515,null,150.24473333333333,138.93430000000001,null,172.5,166.39594545454545,157.76027500000001,136.46485000000001,159.96208000000001,null,146.17656666666667,147.22329999999999,null,138.65530000000001,null,null,145.86670000000001,147.0711,null,149.57015000000001,168.00130000000001,140.77330000000001,136.33000000000001,null,166.10336000000001,{"$f":"+INDEX(D15:AF15,1,aux_pr_ue!$P$2)","v":0},{"$f":"+INDEX(D15:AF15,1,aux_pr_ue!$Q$2)","v":136.33000000000001}]
["Bread Wheat 2016/05","Bread Wheat ","2016/05",151.97460000000001,156.74190000000002,136.55942857142855,145.68219999999999,null,147.92123333333333,133.4332,null,173.33333333333334,167.48134545454548,148.545625,137.88204999999999,164.38519000000002,null,145.3913,143.2432,null,139.116275,null,null,145.54170000000002,145.20396666666667,null,148.36882500000002,159.03550000000001,139.81900000000002,136.6542,null,163.34354000000002,{"$f":"+INDEX(D16:AF16,1,aux_pr_ue!$P$2)","v":0},{"$f":"+INDEX(D16:AF16,1,aux_pr_ue!$Q$2)","v":136.6542}]
["Bread Wheat 2016/04","Bread Wheat ","2016/04",151.28149999999999,155.4333,135.1292,143.55590000000001,null,146.72036000000003,136.79770000000002,null,170.833325,168.35217272727272,145.1241,141.94150000000002,161.75934000000001,null,140.29949999999999,143.274,null,141.90205000000003,null,null,146.9667,150.49876666666668,null,146.26577499999999,156.47929999999999,145.45600000000002,137,null,154.41469999999998,{"$f":"+INDEX(D17:AF17,1,aux_pr_ue!$P$2)","v":0},{"$f":"+INDEX(D17:AF17,1,aux_pr_ue!$Q$2)","v":137}]
["Bread Wheat 2016/03","Bread Wheat ","2016/03",152.00990000000002,153.07589999999999,138.79310000000001,147.37050000000002,null,144.68621999999999,146.20235000000002,null,176.47057999999998,168.3284090909091,144.47720000000001,147.97444999999999,164.04278181818182,null,140.57776666666669,138.4281,null,146.25655,null,null,148.4194,152.38763333333333,null,147.66002499999999,162.9323,148.7919,137.33250000000001,null,149.26954000000001,{"$f":"+INDEX(D18:AF18,1,aux_pr_ue!$P$2)","v":0},{"$f":"+INDEX(D18:AF18,1,aux_pr_ue!$Q$2)","v":137.33250000000001}]
["Bread Wheat 2016/02","Bread Wheat ","2016/02",156.22630000000001,155.27590000000001,146.46592857142858,149.3348,null,147.14221000000003,141.36835000000002,null,171.81819999999999,175.1158090909091,146.09822,153.59595000000002,170.52989999999997,null,133.88509999999999,136.5076,null,151.63840000000002,null,null,147.13794999999999,149.00826666666669,null,150.96235000000001,179.2079,156.4248,144.77000000000001,null,150.98833999999999,{"$f":"+INDEX(D19:AF19,1,aux_pr_ue!$P$2)","v":0},{"$f":"+INDEX(D19:AF19,1,aux_pr_ue!$Q$2)","v":144.77000000000001}]
["Bread Wheat 2016/01","Bread Wheat ","2016/01",164.06130000000002,168.67740000000001,152.74194285714287,153.72685000000001,null,158.28239000000002,146.32580000000002,null,200,181.37094545454545,152.90940000000003,152.49365,176.57788181818182,null,147.65610000000001,150.4606,null,155.59425000000002,null,null,158,154.8201,null,161.30062500000003,188.76610000000002,156.99550000000002,160.06450000000001,null,159.20304000000002,{"$f":"+INDEX(D20:AF20,1,aux_pr_ue!$P$2)","v":0},{"$f":"+INDEX(D20:AF20,1,aux_pr_ue!$Q$2)","v":160.06450000000001}]
["Bread Wheat 2015/12","Bread Wheat ","2015/12",172.149,175.83870000000002,152.5181,157.33275,null,168.45744999999999,152.37820000000002,null,185,185.71468181818184,163.9778,152.62975,179.11588181818183,null,158.32723333333334,160.89230000000001,null,156.70535000000001,null,null,162.36360000000002,160.12926666666667,null,159.88097500000001,191.04940000000002,155.3126,163,null,174.59970000000001,{"$f":"+INDEX(D21:AF21,1,aux_pr_ue!$P$2)","v":0},{"$f":"+INDEX(D21:AF21,1,aux_pr_ue!$Q$2)","v":163}]
["Bread Wheat 2015/11","Bread Wheat ","2015/11",172.0187,179.78790000000001,149.62348571428569,157.60130000000001,null,172.83602999999999,153.53220000000002,null,177.5,187.18000909090907,169.00594000000001,151.131,179.61656363636365,null,158.93103333333332,157.31910000000002,null,155.82245,null,null,164.18890000000002,159.52810000000002,189.5,165.95577500000002,186.42180000000002,155.69,163.5455,null,179.17142000000004,{"$f":"+INDEX(D22:AF22,1,aux_pr_ue!$P$2)","v":189.5},{"$f":"+INDEX(D22:AF22,1,aux_pr_ue!$Q$2)","v":163.5455}]
["Bread Wheat 2015/10","Bread Wheat ","2015/10",166.17610000000002,177.87100000000001,146.4956,155.2647,null,168.81227777777778,152.94060000000002,null,160,183.78915454545452,163.75046,151.6225,176.22185833333336,null,150.85509999999999,154.83190000000002,null,152.44985000000003,null,null,162.41129999999998,157.61786000000001,null,151.47210000000001,188.75480000000002,150.04940000000002,162.87100000000001,null,177.46716000000001,{"$f":"+INDEX(D23:AF23,1,aux_pr_ue!$P$2)","v":0},{"$f":"+INDEX(D23:AF23,1,aux_pr_ue!$Q$2)","v":162.87100000000001}]
["Bread Wheat 2015/09","Bread Wheat ","2015/09",163.73269999999999,171.6,146.47517142857143,158.82075000000003,null,164.73665,147.7697,null,160,181.69303636363637,153.64263333333335,156.5642,174.21832727272729,null,146.233025,150.96770000000001,null,152.72840000000002,null,null,160.05435,156.57660000000001,188,156.3947,185.00200000000001,149.8057,160.38730000000001,null,177.47923999999998,{"$f":"+INDEX(D24:AF24,1,aux_pr_ue!$P$2)","v":188},{"$f":"+INDEX(D24:AF24,1,aux_pr_ue!$Q$2)","v":160.38730000000001}]
["Bread Wheat 2015/08","Bread Wheat ","2015/08",167.94830000000002,175.2105,150.1288857142857,161.2955,null,170.80149,166.5616,null,160,187.67448181818182,159.26324,153.41545000000002,176.94208181818183,null,163.42675,158.4939,null,155.55635000000001,null,null,163.07260000000002,157.71487999999999,199,162.86577500000001,183.07810000000001,150.7655,165.52710000000002,null,184.36340000000001,{"$f":"+INDEX(D25:AF25,1,aux_pr_ue!$P$2)","v":199},{"$f":"+INDEX(D25:AF25,1,aux_pr_ue!$Q$2)","v":165.52710000000002}]
["Bread Wheat 2015/07","Bread Wheat ","2015/07",176.80160000000001,193.82760000000002,152.97327142857142,164.40730000000002,null,180.59574444444445,180.1465,null,152.9032,193.57731818181819,175.73517999999999,156.84875,183.05114166666667,null,188.2029,165.36520000000002,null,153.76275000000001,null,null,169.35,170.04861999999997,192.20415,167.06325000000001,172.59870000000001,150.1148,164.20189999999999,null,206.86398,{"$f":"+INDEX(D26:AF26,1,aux_pr_ue!$P$2)","v":192.20415},{"$f":"+INDEX(D26:AF26,1,aux_pr_ue!$Q$2)","v":164.20189999999999}]
["Bread Wheat 2015/06","Bread Wheat ","2015/06",174.35510000000002,180.36670000000001,160.43550000000002,164.303,null,175.08545555555554,168.80030000000002,null,150,187.52767000000003,173.01300000000003,159.91185000000002,179.89999999999998,null,183.22346666666667,168.59570000000002,null,157.93340000000001,null,null,169.48330000000001,161.46008,null,173.04836666666668,186.89600000000002,158.56800000000001,161.03200000000001,null,202.32710000000003,{"$f":"+INDEX(D27:AF27,1,aux_pr_ue!$P$2)","v":0},{"$f":"+INDEX(D27:AF27,1,aux_pr_ue!$Q$2)","v":161.03200000000001}]
["Bread Wheat 2015/05","Bread Wheat ","2015/05",173.7105,176.5806,159.82240000000002,167.78874999999999,null,169.59016666666668,180.08710000000002,null,null,183.89775000000003,168.44052000000002,166.16075000000001,181.43743000000001,null,190.52256666666668,169.24550000000002,null,164.743775,null,null,166.93550000000002,166.18178000000003,null,171.031025,189.52970000000002,157.78810000000001,161.7097,null,194.26104000000001,{"$f":"+INDEX(D28:AF28,1,aux_pr_ue!$P$2)","v":0},{"$f":"+INDEX(D28:AF28,1,aux_pr_ue!$Q$2)","v":161.7097}]
["Bread Wheat 2015/04","Bread Wheat ","2015/04",181.33430000000001,189.13330000000002,166.11884285714288,168.06485000000001,null,177.76939999999999,177.91230000000002,null,null,189.92332222222228,179.24795999999998,174.01035000000002,185.03396000000001,null,189.6096,180.79300000000001,null,175.061575,null,null,170.5667,178.08952000000002,null,181.22245000000001,198.96,162.5377,166.6,null,213.46226000000001,{"$f":"+INDEX(D29:AF29,1,aux_pr_ue!$P$2)","v":0},{"$f":"+INDEX(D29:AF29,1,aux_pr_ue!$Q$2)","v":166.6}]
["Bread Wheat 2015/03","Bread Wheat ","2015/03",182.76180000000002,190.22580000000002,167.88067142857145,168.3175,null,179.08602222222223,178.6968,null,null,186.80287777777778,187.14060000000003,164.80145000000002,186.22022727272727,null,195.79396666666671,183.8023,null,179.34190000000001,null,null,172.8065,174.94272000000001,null,188.51582500000004,198.48680000000002,160.72060000000002,169.6694,null,225.02780000000001,{"$f":"+INDEX(D30:AF30,1,aux_pr_ue!$P$2)","v":0},{"$f":"+INDEX(D30:AF30,1,aux_pr_ue!$Q$2)","v":169.6694}]
["Bread Wheat 2015/02","Bread Wheat ","2015/02",184.5549,190.57140000000001,169.75190000000001,168.16310000000001,null,181.22322,177.61540000000002,null,null,189.38591111111111,186.85430000000002,167.39410000000001,188.16949166666669,null,196.53213333333335,186.55070000000001,null,182.31390000000002,null,null,177.32140000000001,176.55691999999999,null,185.75442500000003,194.46040000000002,158.12790000000001,171.1875,null,233.0728,{"$f":"+INDEX(D31:AF31,1,aux_pr_ue!$P$2)","v":0},{"$f":"+INDEX(D31:AF31,1,aux_pr_ue!$Q$2)","v":171.1875}]
["Bread Wheat 2015/01","Bread Wheat ","2015/01",183.81220000000002,198.26885000000001,163.60560000000004,161.27109999999999,null,188.08106000000004,184.6721,null,150,194.00857777777779,195.59258,168.52855,192.45936363636363,null,199.63103333333333,191.6019,null,167.545625,null,null,168.17644999999999,171.69424000000001,null,180.19797500000004,195.59630000000001,148.55770000000001,171.37900000000002,null,236.59156666666669,{"$f":"+INDEX(D32:AF32,1,aux_pr_ue!$P$2)","v":0},{"$f":"+INDEX(D32:AF32,1,aux_pr_ue!$Q$2)","v":171.37900000000002}]
["Bread Wheat 2014/12","Bread Wheat ","2014/12",176.61250000000001,196.08330000000001,152.81261428571429,154.13685000000001,null,182.21800999999999,173.90030000000002,null,150,188.14987000000002,191.60294000000005,176.1901,188.36743333333334,null,190.40046666666669,179.77120000000002,null,165.14695,null,null,166.5,166.31174000000004,null,170.86175,186.06610000000001,144.20740000000001,163.6129,182.58765,225.38497500000003,{"$f":"+INDEX(D33:AF33,1,aux_pr_ue!$P$2)","v":0},{"$f":"+INDEX(D33:AF33,1,aux_pr_ue!$Q$2)","v":163.6129}]
["Bread Wheat 2014/11","Bread Wheat ","2014/11",170.10210000000001,184.66670000000002,148.75168571428571,150.06085000000002,171.94130000000001,169.94666999999998,163.2543,null,151.66670000000002,181.94577000000001,182.09742,164.29435000000001,182.72770000000003,null,171.2758666666667,162.45050000000001,null,158.90800000000002,null,null,161.4521,157.26596000000001,null,166.5737,183.20330000000001,151.1823,154.0667,171.44965000000002,215.637,{"$f":"+INDEX(D34:AF34,1,aux_pr_ue!$P$2)","v":0},{"$f":"+INDEX(D34:AF34,1,aux_pr_ue!$Q$2)","v":154.0667}]
["Bread Wheat 2014/10","Bread Wheat ","2014/10",164.53570000000002,173.32259999999999,147.72318571428573,150.22695000000002,174.57740000000001,157.73862000000003,156.5384,null,160,174.40942000000001,169.90961999999999,167.89815000000002,176.97413333333336,null,158.39680000000001,140.28200000000001,null,159.30312499999999,null,null,156.60415,155.41789999999997,190.66670000000002,163.88727499999999,181.34810000000002,147.35320000000002,152.46770000000001,158.81110000000001,198.64178000000001,{"$f":"+INDEX(D35:AF35,1,aux_pr_ue!$P$2)","v":190.66670000000002},{"$f":"+INDEX(D35:AF35,1,aux_pr_ue!$Q$2)","v":152.46770000000001}]
["Bread Wheat 2014/09","Bread Wheat ","2014/09",165.34380000000002,171.2963,148.82472857142858,153.18615,179.8484,158.62520000000001,156.06800000000001,null,154.33335,175.85964000000004,164.96,164.16030000000001,180.85291666666663,null,155.46323333333336,134.64170000000001,null,156.57757500000002,null,null,156.54165,158.12805999999998,200,163.06877500000002,178.9503,151.73400000000001,153.88330000000002,155.002025,200.06350000000003,{"$f":"+INDEX(D36:AF36,1,aux_pr_ue!$P$2)","v":200},{"$f":"+INDEX(D36:AF36,1,aux_pr_ue!$Q$2)","v":153.88330000000002}]
["Bread Wheat 2014/08","Bread Wheat ","2014/08",166.2235,null,146.029675,154.3175,182.68680000000001,167.1095,160.601,null,150,179.47074000000001,174.91290000000001,159.57474999999999,183.83493076923074,null,164.17806666666669,145.64580000000001,null,152.06959999999998,null,null,157.85485,158.34157999999999,215,159.04975000000002,184.65770000000001,149.38130000000001,158.17740000000001,null,200.65821666666668,{"$f":"+INDEX(D37:AF37,1,aux_pr_ue!$P$2)","v":215},{"$f":"+INDEX(D37:AF37,1,aux_pr_ue!$Q$2)","v":158.17740000000001}]
["Bread Wheat 2014/07","Bread Wheat ","2014/07",177.63220000000001,192.69570000000002,153.47251249999999,165.35464999999999,196.7998,176.07595000000001,176.3229,null,145,192.03897999999998,175.29765000000003,151.30110000000002,185.79926153846156,null,192.10993333333332,176.2722,null,150.64805000000001,null,null,165.79410000000001,175.62083999999999,210,162.229625,171.5223,156.6155,163.989,null,263.08779999999996,{"$f":"+INDEX(D38:AF38,1,aux_pr_ue!$P$2)","v":210},{"$f":"+INDEX(D38:AF38,1,aux_pr_ue!$Q$2)","v":163.989}]
["Bread Wheat 2014/06","Bread Wheat ","2014/06",188.0077,193.5667,171.99634285714288,177.82525000000001,201.72240000000002,182.71077,182.80225000000002,null,170,198.81600000000003,185.69752499999998,173.45695000000001,195.85536666666667,null,196.30516666666668,186.40530000000001,null,169.55323333333334,null,null,176,185.60578000000001,null,178.58510000000001,202.03370000000001,172.4177,168.40300000000002,196.42604999999998,258.7721285714286,{"$f":"+INDEX(D39:AF39,1,aux_pr_ue!$P$2)","v":0},{"$f":"+INDEX(D39:AF39,1,aux_pr_ue!$Q$2)","v":168.40300000000002}]
["Bread Wheat 2014/05","Bread Wheat ","2014/05",197.05880000000002,201.93550000000002,174.32021428571429,183.27280000000002,208.52340000000001,194.58790000000002,186.49290000000002,null,200,203.07967999999997,196.73748000000001,190.31575000000001,209.87482500000002,null,200.34770000000003,193.43200000000002,null,182.61840000000001,null,null,185,189.36014,null,190.75344999999999,208.39580000000001,171.14520000000002,170.56450000000001,204.7296,247.6845166666667,{"$f":"+INDEX(D40:AF40,1,aux_pr_ue!$P$2)","v":0},{"$f":"+INDEX(D40:AF40,1,aux_pr_ue!$Q$2)","v":170.56450000000001}]
["Bread Wheat 2014/04","Bread Wheat ","2014/04",200.66220000000001,210.3,176.05752857142858,178.8963,211.72300000000001,198.74539999999999,191.52770000000001,null,194.66670000000002,202.57068000000001,208.72666000000004,187.0949,212.84232499999999,null,232.72510000000003,191.60930000000002,null,183.22384285714287,null,null,182.75,188.03258,null,190.929125,204.99030000000002,171.22970000000001,171.26670000000001,204.30392499999999,250.61783333333332,{"$f":"+INDEX(D41:AF41,1,aux_pr_ue!$P$2)","v":0},{"$f":"+INDEX(D41:AF41,1,aux_pr_ue!$Q$2)","v":171.26670000000001}]
["Bread Wheat 2014/03","Bread Wheat ","2014/03",196.1748,210,179.72185000000002,174.45600000000002,212.38220000000001,196.93030000000002,189.99810000000002,null,190,199.46258000000006,207.56496000000001,177.66625000000002,212.68999166666666,null,209.59563333333335,182.3742,null,178.38322500000001,null,null,179.51315,183.19488000000001,null,180.16766666666669,201.53,173.3997,171.09620000000001,206.33275000000003,245.655,{"$f":"+INDEX(D42:AF42,1,aux_pr_ue!$P$2)","v":0},{"$f":"+INDEX(D42:AF42,1,aux_pr_ue!$Q$2)","v":171.09620000000001}]
["Bread Wheat 2014/02","Bread Wheat ","2014/02",191.50980000000001,197.8571,177.66622857142858,171.55725000000001,206.65990000000002,187.40586999999999,172.9939,null,188.21430000000001,196.85831999999999,194.71038000000001,182.18655000000001,202.66486363636366,null,195.80970000000002,175.21800000000002,null,174.05625000000001,null,null,180.31580000000002,181.69444000000001,null,184.93802500000001,202.0386,173.38570000000001,169.25,203.54415000000003,225.80193333333332,{"$f":"+INDEX(D43:AF43,1,aux_pr_ue!$P$2)","v":0},{"$f":"+INDEX(D43:AF43,1,aux_pr_ue!$Q$2)","v":169.25}]
["Bread Wheat 2014/01","Bread Wheat ","2014/01",193.001,201.25810000000001,177.07257500000003,171.32275000000001,205.36490000000001,191.16334000000001,182.97450000000001,null,180,201.11528000000001,195.52000000000004,181.68135000000001,208.29544166666668,null,191.06976666666671,177.6422,null,177.18617499999999,null,null,181.8125,184.04141999999999,null,187.00217499999999,203.11540000000002,178.0265,173.85480000000001,206.20377500000001,224.71238333333335,{"$f":"+INDEX(D44:AF44,1,aux_pr_ue!$P$2)","v":0},{"$f":"+INDEX(D44:AF44,1,aux_pr_ue!$Q$2)","v":173.85480000000001}]
["Bread Wheat 2013/12","Bread Wheat ","2013/12",192.30620000000002,208.94,179.52001250000001,169.34399999999999,208.36870000000002,197.54611000000003,187.23420000000002,null,179.03225,200.73129000000003,205.34998000000002,171.50704999999999,211.45640769230769,null,183.47277500000001,185.1908,null,168.46960000000001,null,null,180.34719999999999,185.42314000000002,null,174.40912500000002,189.9442,155.19740000000002,179.8629,206.61885000000001,224.85195000000004,{"$f":"+INDEX(D45:AF45,1,aux_pr_ue!$P$2)","v":0},{"$f":"+INDEX(D45:AF45,1,aux_pr_ue!$Q$2)","v":179.8629}]
["Bread Wheat 2013/11","Bread Wheat ","2013/11",190.52870000000001,205.08750000000001,177.29065555555553,165.21690000000001,206.291,194.26833000000002,192.26230000000001,null,170.66665,202.02966000000001,201.55825000000002,156.86545000000001,201.75013333333334,null,191.22529999999998,180.78140000000002,null,160.653175,null,null,179.39743333333334,179.57380000000003,null,167.09197500000002,185.02670000000001,157.41830000000002,178.99170000000001,204.52820000000003,219.88778333333335,{"$f":"+INDEX(D46:AF46,1,aux_pr_ue!$P$2)","v":0},{"$f":"+INDEX(D46:AF46,1,aux_pr_ue!$Q$2)","v":178.99170000000001}]
["Bread Wheat 2013/10","Bread Wheat ","2013/10",184.08610000000002,198.65430000000001,151.60982666666669,172.76190000000003,208.6208,187.50862000000001,180.5771,null,155.3125,193.62043,197.02838000000003,149.14580000000001,196.38319230769233,null,180.76440000000002,170.7961,null,152.823025,null,null,175,174.50276000000002,null,161.94655,188.52790000000002,156.35160000000002,173.10480000000001,199.53444999999999,211.79665,{"$f":"+INDEX(D47:AF47,1,aux_pr_ue!$P$2)","v":0},{"$f":"+INDEX(D47:AF47,1,aux_pr_ue!$Q$2)","v":173.10480000000001}]
["Bread Wheat 2013/09","Bread Wheat ","2013/09",177.2714,188.0333,148.9189375,174.04784999999998,204.97040000000001,180.11565000000002,174.9923,null,158.17950000000002,189.09754000000001,186.55166000000003,145.2919,194.39950000000002,null,167.68875,162.14940000000001,null,147.316675,null,null,175,168.68437999999998,230,157.61610000000002,194.10770000000002,148.83100000000002,171.42500000000001,191.744325,202.58033333333336,{"$f":"+INDEX(D48:AF48,1,aux_pr_ue!$P$2)","v":230},{"$f":"+INDEX(D48:AF48,1,aux_pr_ue!$Q$2)","v":171.42500000000001}]
["Bread Wheat 2013/08","Bread Wheat ","2013/08",173.5428,189.47060000000002,144.45863750000001,177.83355,205.37800000000001,177.93042,171.02770000000001,null,170,185.33203333333333,185.27846,146.77780000000001,194.24443846153846,null,172.37566666666669,160.01670000000001,null,147.8407,null,null,173.625,161.01375999999999,231.69355000000002,161.25517500000001,198.99770000000001,154.44840000000002,175.2619,null,203.69001666666668,{"$f":"+INDEX(D49:AF49,1,aux_pr_ue!$P$2)","v":231.69355000000002},{"$f":"+INDEX(D49:AF49,1,aux_pr_ue!$Q$2)","v":175.2619}]
["Bread Wheat 2013/07","Bread Wheat ","2013/07",192.65120000000002,219.52940000000001,156.34396250000003,209.63405,229.88740000000001,194.87316250000001,195.91130000000001,null,177.39245,208.43062,188.47580000000002,null,198.52278461538464,null,202.04953333333333,197.40350000000001,null,158.00352500000002,null,null,176.75,197.36966000000001,225,165.32577500000002,200.0035,191.79650000000001,195.4581,null,219.63291666666669,{"$f":"+INDEX(D50:AF50,1,aux_pr_ue!$P$2)","v":225},{"$f":"+INDEX(D50:AF50,1,aux_pr_ue!$Q$2)","v":195.4581}]
["Bread Wheat 2013/06","Bread Wheat ","2013/06",222.48690000000002,230.83330000000001,217.70412857142861,227.15136666666669,246.06830000000002,220.09566000000004,220.4563,null,196.8297,235.94752000000003,206.66697500000001,null,250.13735882352944,null,215.02124999999998,209.97570000000002,null,196.807275,null,null,null,213.92454000000004,null,214.38400000000001,233.83500000000001,224.92270000000002,209.9873,247.08275000000003,223.3798166666667,{"$f":"+INDEX(D51:AF51,1,aux_pr_ue!$P$2)","v":0},{"$f":"+INDEX(D51:AF51,1,aux_pr_ue!$Q$2)","v":209.9873}]
["Bread Wheat 2013/05","Bread Wheat ","2013/05",238.15720000000002,251,219.76464285714289,231.54245,258.54040000000003,239.78954285714283,227.12130000000002,null,232.5,244.066295,238.11407777777777,null,250.77609999999996,null,225.21833333333333,222.01660000000001,null,211.069975,null,null,230,223.11551,null,236.49220000000003,238.71120000000002,227.61670000000001,213.5865,248.5463,251.37378333333336,{"$f":"+INDEX(D52:AF52,1,aux_pr_ue!$P$2)","v":0},{"$f":"+INDEX(D52:AF52,1,aux_pr_ue!$Q$2)","v":213.5865}]
["Bread Wheat 2013/04","Bread Wheat ","2013/04",241.59800000000001,259.5333,218.953475,233.62925000000001,262.7226,251.06566666666666,232.0009,null,232.5,250.55046999999999,246.35957500000001,null,252.64060000000001,null,235.38146666666668,235.10850000000002,null,219.028175,null,null,230,238.54772000000003,null,232.29513333333338,236.3767,229.30100000000002,214.9667,250.08187500000003,262.82030000000003,{"$f":"+INDEX(D53:AF53,1,aux_pr_ue!$P$2)","v":0},{"$f":"+INDEX(D53:AF53,1,aux_pr_ue!$Q$2)","v":214.9667}]
["Bread Wheat 2013/03","Bread Wheat ","2013/03",243.2253,254.5806,226.91344285714285,242.39305000000002,262.74979999999999,246.28741111111108,240.71970000000002,null,232.5,251.38825000000003,242.45485000000002,null,245.63543999999996,null,240.19356666666667,237.25800000000001,null,217.49520000000001,null,null,230,240.09674000000001,null,247.75333333333333,248.95650000000001,234.30420000000001,220.3065,253.91095000000001,271.36368333333331,{"$f":"+INDEX(D54:AF54,1,aux_pr_ue!$P$2)","v":0},{"$f":"+INDEX(D54:AF54,1,aux_pr_ue!$Q$2)","v":220.3065}]
["Bread Wheat 2013/02","Bread Wheat ","2013/02",251.05090000000001,255.32140000000001,238.95177142857145,251.19730000000001,262.63940000000002,257.01,231.2739,null,232.5,260.79724999999996,243.72307500000002,null,255.02336,null,243.23843333333335,241.75330000000002,null,231.5335,null,null,245,247.64866000000001,null,256.69896666666665,259.4461,237.65180000000001,227.2946,256.43259999999998,274.87849999999997,{"$f":"+INDEX(D55:AF55,1,aux_pr_ue!$P$2)","v":0},{"$f":"+INDEX(D55:AF55,1,aux_pr_ue!$Q$2)","v":227.2946}]
["Bread Wheat 2013/01","Bread Wheat ","2013/01",254.85070000000002,266.4828,244.17745714285715,246.95890000000003,264.06389999999999,260.60612222222227,233.2732,null,232.5,268.13193999999999,251.09052500000001,null,265.38345000000004,null,239.4203,236.1705,null,230.57069999999999,null,null,250,252.39040000000006,null,256.55673333333334,261.1481,234.43970000000002,229.8065,260.59235000000001,296.26949999999999,{"$f":"+INDEX(D56:AF56,1,aux_pr_ue!$P$2)","v":0},{"$f":"+INDEX(D56:AF56,1,aux_pr_ue!$Q$2)","v":229.8065}]
["Bread Wheat 2012/12","Bread Wheat ","2012/12",257.98230000000001,274.73079999999999,242.29011428571428,247.96050000000002,null,271.87236999999999,237.45870000000002,null,232.5,274.33500000000004,262.18830000000003,null,271.39140000000003,null,242.11060000000001,234.75380000000001,null,236.51765,null,null,250,252.59536000000003,null,244.01423333333332,266.31610000000001,228.05040000000002,236.89520000000002,265.37877500000002,318.89954999999998,{"$f":"+INDEX(D57:AF57,1,aux_pr_ue!$P$2)","v":0},{"$f":"+INDEX(D57:AF57,1,aux_pr_ue!$Q$2)","v":236.89520000000002}]
["Bread Wheat 2012/11","Bread Wheat ","2012/11",254.08670000000001,276.40000000000003,229.15019999999998,252.31190000000001,null,266.55922222222227,238.56200000000001,null,232.5,267.45716000000004,269.27265,null,264.40953999999999,null,241.10843333333332,229.10850000000002,null,235.55895000000001,null,null,249.30555000000001,235.74488000000002,null,238.23363333333336,253.0583,226.59470000000002,235.86670000000001,268.101225,312.88222499999995,{"$f":"+INDEX(D58:AF58,1,aux_pr_ue!$P$2)","v":0},{"$f":"+INDEX(D58:AF58,1,aux_pr_ue!$Q$2)","v":235.86670000000001}]
["Bread Wheat 2012/10","Bread Wheat ","2012/10",246.4573,265.64519999999999,224.42525714285716,238.46165000000002,null,253.90785999999997,229.13030000000001,null,236.37094999999999,259.4148800000001,259.60887500000001,null,257.41761000000002,null,219.18425000000002,214.0634,null,230.415175,null,null,240,228.99248000000003,null,228.96373333333335,253.14290000000003,225.9648,230.42740000000001,250.22990000000001,301.15458333333333,{"$f":"+INDEX(D59:AF59,1,aux_pr_ue!$P$2)","v":0},{"$f":"+INDEX(D59:AF59,1,aux_pr_ue!$Q$2)","v":230.42740000000001}]
["Bread Wheat 2012/09","Bread Wheat ","2012/09",244.8065,267,223.36497142857147,237.23990000000001,null,254.41889999999998,217.3707,null,231.30435,260.95909999999998,259.83477500000004,null,259.60976999999997,null,224.11876666666669,205.71710000000002,null,230.48407500000002,null,null,240,226.65025999999997,240,229.7595666666667,246.53900000000002,221.0103,229.86670000000001,247.3212,307.69970000000001,{"$f":"+INDEX(D60:AF60,1,aux_pr_ue!$P$2)","v":240},{"$f":"+INDEX(D60:AF60,1,aux_pr_ue!$Q$2)","v":229.86670000000001}]
["Bread Wheat 2012/08","Bread Wheat ","2012/08",238.441,267,222.96380000000002,228.48565000000002,null,248.59571111111114,222.64840000000001,null,220,258.25045,261.02974999999998,null,253.50799090909086,null,213.83473333333336,205.2122,null,232.4907,null,null,243.75,223.61726000000004,232.09676666666667,221.28380000000001,228.90450000000001,214.0284,221.0806,null,308.9169,{"$f":"+INDEX(D61:AF61,1,aux_pr_ue!$P$2)","v":232.09676666666667},{"$f":"+INDEX(D61:AF61,1,aux_pr_ue!$Q$2)","v":221.0806}]
["Bread Wheat 2012/07","Bread Wheat ","2012/07",228.18690000000001,260.72000000000003,201.92568571428569,209.45860000000002,null,232.41705555555552,220.14680000000001,null,175.96775000000002,243.03291000000004,253.93602000000001,null,233.15753636363641,null,206.76965000000001,196.16750000000002,null,209.15697500000002,null,null,218,220.90536000000003,233.55246666666667,186.38070000000002,203.8306,208.69320000000002,197.1352,null,312.09935000000007,{"$f":"+INDEX(D62:AF62,1,aux_pr_ue!$P$2)","v":233.55246666666667},{"$f":"+INDEX(D62:AF62,1,aux_pr_ue!$Q$2)","v":197.1352}]
["Bread Wheat 2012/06","Bread Wheat ","2012/06",211.29350000000002,230.8,186.74244285714286,197.33515,null,216.71503999999999,208.393,null,177.05880000000002,223.18378000000001,219.13300000000001,null,221.87907272727273,null,206.63875000000002,198.26340000000002,null,195.20479999999998,null,null,197.5,217.34108000000001,null,185.08619999999999,221.27500000000001,202.8203,187.45830000000001,226.66935000000001,228.352,{"$f":"+INDEX(D63:AF63,1,aux_pr_ue!$P$2)","v":0},{"$f":"+INDEX(D63:AF63,1,aux_pr_ue!$Q$2)","v":187.45830000000001}]
["Bread Wheat 2012/05","Bread Wheat ","2012/05",214.23820000000001,229.06450000000001,187.08385714285714,202.71605,240.06790000000001,222.54583000000002,194.53320000000002,null,null,230.42562000000004,215.73994999999999,null,224.33136363636368,null,202.13106666666667,197.6645,null,189.97287499999999,null,null,201.05555000000001,222.74614000000003,null,186.13890000000001,222.4316,190.04650000000001,188.5403,225.84107499999999,224.911025,{"$f":"+INDEX(D64:AF64,1,aux_pr_ue!$P$2)","v":0},{"$f":"+INDEX(D64:AF64,1,aux_pr_ue!$Q$2)","v":188.5403}]
["Bread Wheat 2012/04","Bread Wheat ","2012/04",211.28210000000001,225.83330000000001,184.17747142857144,191.89359999999999,231.6138,220.47986,190.41390000000001,null,null,232.96319000000003,214.10696000000002,null,219.93919090909091,null,202.760975,188.12300000000002,null,189.26375000000002,null,null,195.05835000000002,214.35090000000005,null,185.66596666666669,219.1207,181.87530000000001,188.95,219.56504999999999,220.36849999999998,{"$f":"+INDEX(D65:AF65,1,aux_pr_ue!$P$2)","v":0},{"$f":"+INDEX(D65:AF65,1,aux_pr_ue!$Q$2)","v":188.95}]
["Bread Wheat 2012/03","Bread Wheat ","2012/03",206.12020000000001,216.98390000000001,196.94462857142858,183.74005,219.17490000000001,204.98629999999997,187.40100000000001,null,null,223.68603000000002,214.949375,null,213.43273636363637,null,200.89977500000001,187.46520000000001,null,185.0016,null,null,186.90625,198.46318000000002,null,187.36663333333334,213.87030000000001,178.58320000000001,184.72580000000002,217.5,210.94141666666667,{"$f":"+INDEX(D66:AF66,1,aux_pr_ue!$P$2)","v":0},{"$f":"+INDEX(D66:AF66,1,aux_pr_ue!$Q$2)","v":184.72580000000002}]
["Bread Wheat 2012/02","Bread Wheat ","2012/02",202.06880000000001,217.17240000000001,171.8340285714286,176.27315000000002,217.8254,201.03575555555557,193.57590000000002,null,null,218.84640999999996,212.194175,null,215.30904545454544,null,204.02560000000003,187.73670000000001,null,186.58865,null,null,190.86365000000001,197.08232000000001,null,182.73213333333334,209.9383,177.6559,180.86,218.71395000000001,210.246375,{"$f":"+INDEX(D67:AF67,1,aux_pr_ue!$P$2)","v":0},{"$f":"+INDEX(D67:AF67,1,aux_pr_ue!$Q$2)","v":180.86}]
["Bread Wheat 2012/01","Bread Wheat ","2012/01",193.46620000000001,209.2903,157.45183749999998,171.87549999999999,210.85160000000002,193.38932,177.7268,null,200,212.20622000000003,204.07941666666667,null,208.67259166666668,null,198.43906666666666,175.8561,null,165.81770000000003,null,null,183.46770000000001,185.46610000000001,null,177.12746666666669,193.04480000000001,166.4855,168.95740000000001,213.4067,203.07815000000002,{"$f":"+INDEX(D68:AF68,1,aux_pr_ue!$P$2)","v":0},{"$f":"+INDEX(D68:AF68,1,aux_pr_ue!$Q$2)","v":168.95740000000001}]
["Bread Wheat 2011/12","Bread Wheat ","2011/12",186.69730000000001,196.77420000000001,157.10095000000004,174.3219,205.52520000000001,183.24375000000001,177.85580000000002,null,200,206.55387000000002,190.08616666666668,null,199.80777499999999,null,190.61540000000002,168.7714,null,164.29935,null,null,172.53230000000002,178.51907999999997,null,172.47912500000001,200.2165,165.25740000000002,163.6335,207.7287,187.06490000000002,{"$f":"+INDEX(D69:AF69,1,aux_pr_ue!$P$2)","v":0},{"$f":"+INDEX(D69:AF69,1,aux_pr_ue!$Q$2)","v":163.6335}]
["Bread Wheat 2011/11","Bread Wheat ","2011/11",188.4188,201.83330000000001,156.84725714285713,168.7901,208.87520000000001,186.51273333333333,179.89930000000001,null,201.33330000000001,208.91217,184.72703999999999,null,202.429,null,190.77035000000001,179.08620000000002,null,156.765625,null,null,178.5,177.95536000000001,null,172.29115000000002,216.816,168.42400000000001,170.47499999999999,207.74555000000001,188.949375,{"$f":"+INDEX(D70:AF70,1,aux_pr_ue!$P$2)","v":0},{"$f":"+INDEX(D70:AF70,1,aux_pr_ue!$Q$2)","v":170.47499999999999}]
["Bread Wheat 2011/10","Bread Wheat ","2011/10",192.22970000000001,203.3871,162.06078571428571,190.23065000000003,213.2921,191.34860000000003,188.52610000000001,null,220,206.62392000000006,187.00360000000001,null,208.52702500000001,null,196.6953,179.12610000000001,null,162.95592500000001,null,null,183.73685,184.67090000000002,null,171.646525,216.43550000000002,183.5703,175.73390000000001,209.54220000000001,195.12210000000002,{"$f":"+INDEX(D71:AF71,1,aux_pr_ue!$P$2)","v":0},{"$f":"+INDEX(D71:AF71,1,aux_pr_ue!$Q$2)","v":175.73390000000001}]
["Bread Wheat 2011/09","Bread Wheat ","2011/09",199.8398,218.9333,167.17796250000004,200.91765000000001,214.96690000000001,204.27921111111107,191.3409,null,206.66665,213.21194,201.26426000000001,null,219.66030000000003,null,194.80487500000004,187.94750000000002,null,176.033075,null,null,188.68335000000002,190.05434,250,175.64022499999999,218.96430000000001,205.05530000000002,183.66670000000002,208.1936,205.85875000000001,{"$f":"+INDEX(D72:AF72,1,aux_pr_ue!$P$2)","v":250},{"$f":"+INDEX(D72:AF72,1,aux_pr_ue!$Q$2)","v":183.66670000000002}]
["Bread Wheat 2011/08","Bread Wheat ","2011/08",194.86160000000001,213.03495000000001,160.84498571428574,210.53060000000002,null,204.93266,184.05770000000001,null,197.5,209.77759,201.54313999999999,null,217.77999999999997,null,189.7764,183.46130000000002,null,180.71537499999999,null,null,191.75,196.93863999999999,214.35485,164.4451,218.87480000000002,194.6635,176.81650000000002,null,209.5813,{"$f":"+INDEX(D73:AF73,1,aux_pr_ue!$P$2)","v":214.35485},{"$f":"+INDEX(D73:AF73,1,aux_pr_ue!$Q$2)","v":176.81650000000002}]
["Bread Wheat 2011/07","Bread Wheat ","2011/07",207.696,221.03230000000002,170.90365,229.64905000000002,null,204.70302000000001,187.40730000000002,null,210,212.63739000000001,196.97568000000001,null,218.13255384615383,null,227.40646666666669,222.34520000000001,null,185.93357500000002,null,null,null,233.93652000000003,188.5,187.184425,221.1781,212.4342,171.6129,null,217.88830000000002,{"$f":"+INDEX(D74:AF74,1,aux_pr_ue!$P$2)","v":188.5},{"$f":"+INDEX(D74:AF74,1,aux_pr_ue!$Q$2)","v":171.6129}]
["Bread Wheat 2011/06","Bread Wheat ","2011/06",240.74110000000002,241.8,236.6831,244.16800000000001,258.35579999999999,247.76673,232.03130000000002,null,214.375,240.02937000000003,219.97490000000002,null,253.51894545454542,null,237.71883333333335,243.6524,null,221.09469999999999,null,null,null,258.78196000000003,null,246.30160000000001,257.3947,266.41730000000001,202.23330000000001,240.98255,248.29884000000001,{"$f":"+INDEX(D75:AF75,1,aux_pr_ue!$P$2)","v":0},{"$f":"+INDEX(D75:AF75,1,aux_pr_ue!$Q$2)","v":202.23330000000001}]
["Bread Wheat 2011/05","Bread Wheat ","2011/05",250.1773,255.77420000000001,237.27137142857143,239.40365000000003,270.84360000000004,257.08257000000003,233.69230000000002,null,240,247.06181999999998,245.37602000000001,null,262.92820909090909,null,243.9195666666667,232.1388,null,240.27596666666668,null,null,null,258.66872000000001,null,246.00167500000003,276.31030000000004,270.52030000000002,202.75810000000001,243.60742500000001,253.2025166666667,{"$f":"+INDEX(D76:AF76,1,aux_pr_ue!$P$2)","v":0},{"$f":"+INDEX(D76:AF76,1,aux_pr_ue!$Q$2)","v":202.75810000000001}]
["Bread Wheat 2011/04","Bread Wheat ","2011/04",248.20940000000002,252.31880000000001,229.88251250000002,242.50710000000004,268.12440000000004,250.93712999999997,null,null,240,243.61507999999998,250.82528333333335,null,262.20716666666664,null,236.37233333333333,234.19810000000001,null,265.2817,null,null,250,245.37482,275,239.81324999999998,301.65230000000003,257.02170000000001,198.01670000000001,243.69090000000003,264.68594999999999,{"$f":"+INDEX(D77:AF77,1,aux_pr_ue!$P$2)","v":275},{"$f":"+INDEX(D77:AF77,1,aux_pr_ue!$Q$2)","v":198.01670000000001}]
["Bread Wheat 2011/03","Bread Wheat ","2011/03",247.27890000000002,243.61290000000002,236.7058857142857,244.82990000000001,260.36189999999999,242.94185000000002,226.06890000000001,null,282.5,241.81203000000005,233.58614000000003,null,265.84828333333337,null,239.56716666666668,238.06780000000001,null,280.64470000000006,null,null,254.52940000000001,234.84297999999998,245,243.17175,306.51030000000003,268.6739,196.47580000000002,245.697225,262.11750000000001,{"$f":"+INDEX(D78:AF78,1,aux_pr_ue!$P$2)","v":245},{"$f":"+INDEX(D78:AF78,1,aux_pr_ue!$Q$2)","v":196.47580000000002}]
["Bread Wheat 2011/02","Bread Wheat ","2011/02",256.69499999999999,267.75,228.99359999999999,242.83235000000002,267.59320000000002,263.81263000000001,237.96620000000001,null,267.61900000000003,243.65048000000002,264.71388333333334,null,285.27463333333333,null,231.55610000000001,239.59720000000002,null,264.39779999999996,null,null,266.05354999999997,245.88433999999998,null,229.664625,286.64210000000003,244.76140000000001,223.55360000000002,260.46992500000005,275.10170000000005,{"$f":"+INDEX(D79:AF79,1,aux_pr_ue!$P$2)","v":0},{"$f":"+INDEX(D79:AF79,1,aux_pr_ue!$Q$2)","v":223.55360000000002}]
["Bread Wheat 2011/01","Bread Wheat ","2011/01",241.94680000000002,262.24445000000003,202.73858571428576,215.25569999999999,257.91160000000002,258.96302222222221,210.12210000000002,null,237.05880000000002,240.02600999999999,258.1625166666667,null,276.84219166666668,null,223.44513333333336,227.58240000000001,null,224.50722500000001,null,null,254.05110000000002,234.16696000000002,null,217.82380000000001,252.5497,240.11680000000001,214.8629,251.30540000000002,265.24130000000002,{"$f":"+INDEX(D80:AF80,1,aux_pr_ue!$P$2)","v":0},{"$f":"+INDEX(D80:AF80,1,aux_pr_ue!$Q$2)","v":214.8629}]
["Bread Wheat 2010/12","Bread Wheat ","2010/12",220.2467,236.8843,189.6639142857143,197.67570000000001,241.18740000000003,230.48703999999998,187.9545,null,230,220.25832,241.77473333333333,null,243.33763333333332,null,196.77787499999999,198.12530000000001,null,202.720675,null,null,224.22915,205.4812,null,191.39952499999998,227.21350000000001,205.36710000000002,195.4974,236.92865,250.01270000000002,{"$f":"+INDEX(D81:AF81,1,aux_pr_ue!$P$2)","v":0},{"$f":"+INDEX(D81:AF81,1,aux_pr_ue!$Q$2)","v":195.4974}]
["Bread Wheat 2010/11","Bread Wheat ","2010/11",205.48660000000001,219.0667,184.214,198.73775000000001,232.20310000000001,213.19383999999999,176.51340000000002,null,208.83335,206.52280000000002,219.33409999999998,null,220.75229166666668,null,178.51147500000002,186.69800000000001,null,200.31602500000002,null,null,205.28334999999998,194.25134,null,182.40615,227.22500000000002,198.07600000000002,181.911,215.60092500000002,222.09801666666669,{"$f":"+INDEX(D82:AF82,1,aux_pr_ue!$P$2)","v":0},{"$f":"+INDEX(D82:AF82,1,aux_pr_ue!$Q$2)","v":181.911}]
["Bread Wheat 2010/10","Bread Wheat ","2010/10",200.99880000000002,212.96770000000001,179.34368571428575,199.50135,235.35260000000002,207.17329000000001,183.9366,null,204.16665,201.71285000000003,214.14066666666665,null,214.61724166666667,null,179.76116666666667,185.1884,null,197.80052500000002,null,null,205.48385000000002,190.51954000000001,160,177.12542500000001,209.51230000000001,188.83710000000002,181.95160000000001,212.58745000000002,213.54385000000002,{"$f":"+INDEX(D83:AF83,1,aux_pr_ue!$P$2)","v":160},{"$f":"+INDEX(D83:AF83,1,aux_pr_ue!$Q$2)","v":181.95160000000001}]
["Bread Wheat 2010/09","Bread Wheat ","2010/09",198.86280000000002,227.4,160.21452857142859,188.39744999999999,238.67690000000002,221.53608000000003,187.51310000000001,null,197.83335,192.76067000000003,227.36766000000003,null,212.37030000000004,null,177.24426666666668,176.35500000000002,null,179.88130000000001,null,null,198.74164999999999,187.71734000000001,169.38505000000004,166.146075,205.84300000000002,171.64830000000001,205.23600000000002,223.88647500000002,226.38005000000001,{"$f":"+INDEX(D84:AF84,1,aux_pr_ue!$P$2)","v":169.38505000000004},{"$f":"+INDEX(D84:AF84,1,aux_pr_ue!$Q$2)","v":205.23600000000002}]
["Bread Wheat 2010/08","Bread Wheat ","2010/08",175.1686,202.5882,146.6515,160.79820000000001,213.03550000000001,197.07187000000005,175.29820000000001,null,163.70370000000003,182.88135,215.39589999999998,null,190.244325,null,170.21223333333333,163.7533,null,158.13640000000001,null,null,183.01365000000001,165.70600000000002,161.98984999999999,150.91822500000001,154.1403,146.64160000000001,149.17060000000001,null,212.50139999999999,{"$f":"+INDEX(D85:AF85,1,aux_pr_ue!$P$2)","v":161.98984999999999},{"$f":"+INDEX(D85:AF85,1,aux_pr_ue!$Q$2)","v":149.17060000000001}]
["Bread Wheat 2010/07","Bread Wheat ","2010/07",141.3391,159.98390000000001,103.02221428571428,127.8518,168.1301,150.06206,123.8288,null,115.83330000000001,154.99967999999998,163.65608571428569,null,154.54376923076924,null,135.2295,128.78110000000001,null,124.7021,null,null,159,136.20965999999999,165.66666666666666,102.98253333333334,126.93130000000001,111.5826,124.2158,null,159.2499,{"$f":"+INDEX(D86:AF86,1,aux_pr_ue!$P$2)","v":165.66666666666666},{"$f":"+INDEX(D86:AF86,1,aux_pr_ue!$Q$2)","v":124.2158}]
["Bread Wheat 2010/06","Bread Wheat ","2010/06",131.45340000000002,135.08700000000002,105.18161428571429,115.41570000000002,142.28390000000002,132.3335625,115.518,null,107.66665,147.63127,134.24168333333333,null,148.4923,null,127.12406666666668,120.77390000000001,null,107.08425,null,null,null,127.42214000000001,168.65,112.02426666666668,143.18800000000002,107.3117,114.9783,139.82760000000002,150.18219999999999,{"$f":"+INDEX(D87:AF87,1,aux_pr_ue!$P$2)","v":168.65},{"$f":"+INDEX(D87:AF87,1,aux_pr_ue!$Q$2)","v":114.9783}]
["Bread Wheat 2010/05","Bread Wheat ","2010/05",129.46360000000001,132.8065,107.1461,111.26644999999999,138.49880000000002,126.42550000000001,111.02460000000001,null,116.875,147.49894,131.95535000000001,null,143.66148181818181,null,121.52672500000001,115.4141,null,103.12390000000001,null,null,null,116.60157999999998,160.9547666666667,115.00133333333333,140.34130000000002,110.6474,110.7548,135.42642499999999,145.19277500000001,{"$f":"+INDEX(D88:AF88,1,aux_pr_ue!$P$2)","v":160.9547666666667},{"$f":"+INDEX(D88:AF88,1,aux_pr_ue!$Q$2)","v":110.7548}]
["Bread Wheat 2010/04","Bread Wheat ","2010/04",125.2223,126.9333,107.82332857142858,113.46340000000001,131.7775,118.5444,109.80420000000001,null,118.19565,143.95849000000001,125.56368571428573,null,136.65887272727272,null,119.01685000000001,111.2056,null,106.11790000000001,null,null,null,118.53716000000001,154.96376666666666,113.83723333333334,135.72669999999999,111.52,107.96740000000001,126.54877500000001,133.75336666666669,{"$f":"+INDEX(D89:AF89,1,aux_pr_ue!$P$2)","v":154.96376666666666},{"$f":"+INDEX(D89:AF89,1,aux_pr_ue!$Q$2)","v":107.96740000000001}]
["Bread Wheat 2010/03","Bread Wheat ","2010/03",123.1678,120.1935,108.93037142857143,113.68725000000001,128.70240000000001,116.30891999999999,111.29910000000001,null,114.62905000000001,138.91254999999998,116.40680000000002,null,133.89863636363637,null,120.191925,112.8472,null,108.27796666666667,null,null,119.02080000000001,119.52874,146.12900000000002,118.78020000000002,146.0181,111.0535,107.7903,124.7946,129.02706666666668,{"$f":"+INDEX(D90:AF90,1,aux_pr_ue!$P$2)","v":146.12900000000002},{"$f":"+INDEX(D90:AF90,1,aux_pr_ue!$Q$2)","v":107.7903}]
["Bread Wheat 2010/02","Bread Wheat ","2010/02",124.5558,123.03570000000001,113.03111428571428,111.95580000000001,130.93030000000002,119.45965000000001,112.65830000000001,null,119.57145,142.45025000000001,116.62387142857143,null,137.74710000000002,null,108.30352500000001,112.0716,null,106.32337500000001,null,null,122.5,121.45238000000002,146.94640000000001,120.0168,146.27540000000002,109.34140000000001,111.07140000000001,122.83324999999999,134.18115,{"$f":"+INDEX(D91:AF91,1,aux_pr_ue!$P$2)","v":146.94640000000001},{"$f":"+INDEX(D91:AF91,1,aux_pr_ue!$Q$2)","v":111.07140000000001}]
["Bread Wheat 2010/01","Bread Wheat ","2010/01",126.77130000000001,127.56,108.63930000000001,108.98605000000001,131.67529999999999,121.44511,108.85420000000001,null,118.4355,148.75672,121.67848333333335,null,139.39536666666666,null,116.9547,111.1447,null,108.76353333333334,null,null,127.3125,122.37428,150.92473333333334,113.49246666666666,141.8897,106.56060000000001,111.91130000000001,120.75860000000002,140.64044999999999,{"$f":"+INDEX(D92:AF92,1,aux_pr_ue!$P$2)","v":150.92473333333334},{"$f":"+INDEX(D92:AF92,1,aux_pr_ue!$Q$2)","v":111.91130000000001}]
["Bread Wheat 2009/12","Bread Wheat ","2009/12",125.5052,129.68885,104.85798333333334,107.85850000000001,131.6344,119.65784000000001,104.5899,null,108.16670000000001,148.50677000000002,124.54293333333334,null,138.57645833333333,null,110.57135000000001,104.92360000000001,null,106.21757500000001,null,null,128.1935,116.18894,155.38706666666667,105.66178333333335,140.8468,105.54480000000001,113.3035,120.30960000000002,137.81263333333334,{"$f":"+INDEX(D93:AF93,1,aux_pr_ue!$P$2)","v":155.38706666666667},{"$f":"+INDEX(D93:AF93,1,aux_pr_ue!$Q$2)","v":113.3035}]
["Bread Wheat 2009/11","Bread Wheat ","2009/11",123.48860000000001,131.4,100.19103333333334,108.64375000000001,129.54080000000002,117.63987,102.29400000000001,null,108.4,146.97656000000001,125.41111666666667,null,137.9244416666667,null,113.04036666666667,101.1966,null,105.15865000000001,null,null,125.86670000000001,111.01586000000002,158.08700000000002,104.40136666666666,140.1403,102.87570000000001,116.84230000000001,120.08885000000001,135.24475000000004,{"$f":"+INDEX(D94:AF94,1,aux_pr_ue!$P$2)","v":158.08700000000002},{"$f":"+INDEX(D94:AF94,1,aux_pr_ue!$Q$2)","v":116.84230000000001}]
["Bread Wheat 2009/10","Bread Wheat ","2009/10",120.12620000000001,126.25810000000001,93.642066666666679,106.34425000000002,130.74110000000002,112.94661000000001,103.9586,null,110.72915,140.77828,121.74026666666667,null,132.58081666666666,null,106.83513333333333,97.827800000000011,null,105.68414999999999,null,null,122.875,109.83938000000001,150.70830000000001,102.50756666666666,141.30450000000002,104.4413,114.94550000000001,120.3665,135.36283333333336,{"$f":"+INDEX(D95:AF95,1,aux_pr_ue!$P$2)","v":150.70830000000001},{"$f":"+INDEX(D95:AF95,1,aux_pr_ue!$Q$2)","v":114.94550000000001}]
["Bread Wheat 2009/09","Bread Wheat ","2009/09",120.0669,122.1,97.595700000000008,110.22565,127.64490000000001,111.90461999999999,107.2868,null,112.5,139.69414,114.32334,null,130.40547500000002,null,107.13157500000001,102.17490000000001,null,107.12380000000002,null,null,128.65,115.07534000000001,140.4,105.60266666666666,146.15,103.217,114.61030000000001,121.403325,135.04534285714286,{"$f":"+INDEX(D96:AF96,1,aux_pr_ue!$P$2)","v":140.4},{"$f":"+INDEX(D96:AF96,1,aux_pr_ue!$Q$2)","v":114.61030000000001}]
["Bread Wheat 2009/08","Bread Wheat ","2009/08",122.00150000000001,123.6842,100.55006666666668,115.92240000000001,129.1063,114.81032999999999,112.58170000000001,null,112.5,143.66744999999997,122.27481666666667,null,136.7659909090909,null,107.89285000000001,106.95700000000001,null,109.18552500000001,null,null,137.48080000000002,116.33466000000001,148.467725,103.83916666666669,143.83100000000002,107.1468,118.3871,null,128.42918,{"$f":"+INDEX(D97:AF97,1,aux_pr_ue!$P$2)","v":148.467725},{"$f":"+INDEX(D97:AF97,1,aux_pr_ue!$Q$2)","v":118.3871}]
["Bread Wheat 2009/07","Bread Wheat ","2009/07",131.5428,136.31030000000001,102.82343333333334,123.03720000000001,135.50890000000001,126.35393333333334,107.92330000000001,null,112.0968,144.39962000000003,131.33562500000002,null,142.46257499999999,null,139.39680000000001,123.348,null,117.82057499999999,null,null,143,127.76490000000001,157.398675,98.047366666666676,136.54420000000002,119.5652,129.8167,null,184.12956000000003,{"$f":"+INDEX(D98:AF98,1,aux_pr_ue!$P$2)","v":157.398675},{"$f":"+INDEX(D98:AF98,1,aux_pr_ue!$Q$2)","v":129.8167}]
["Bread Wheat 2009/06","Bread Wheat ","2009/06",139.55170000000001,146.30000000000001,114.51690000000001,122.00030000000001,142.78050000000002,139.69086666666669,137.78290000000001,null,137,154.15348,139.23184285714285,null,151.57990833333332,null,130.87709999999998,130.00720000000001,null,128.70455000000001,null,null,151.25,122.76388000000001,168.88886666666667,120.02333333333333,143.30430000000001,128.297,null,null,184.97204000000002,{"$f":"+INDEX(D99:AF99,1,aux_pr_ue!$P$2)","v":168.88886666666667},{"$f":"+INDEX(D99:AF99,1,aux_pr_ue!$Q$2)","v":0}]
["Bread Wheat 2009/05","Bread Wheat ","2009/05",136.11680000000001,142.54835000000003,102.17743333333333,115.38849999999999,139.5772,133.06174444444443,116.51400000000001,null,132.17740000000001,149.95206000000002,143.60111666666666,null,147.08218333333332,null,133.3639,122.56950000000001,null,125.91815000000001,null,null,136.5,118.97391999999999,170.17740000000001,118.97746666666667,142.30160000000001,123.1426,null,156.35130000000001,187.33670000000001,{"$f":"+INDEX(D100:AF100,1,aux_pr_ue!$P$2)","v":170.17740000000001},{"$f":"+INDEX(D100:AF100,1,aux_pr_ue!$Q$2)","v":0}]
["Bread Wheat 2009/04","Bread Wheat ","2009/04",131.06059999999999,130.75,101.25153333333333,117.75435,134.24120000000002,125.17219,121.22380000000001,null,132.5,141.28870000000003,133.36028333333334,null,137.79904166666665,null,151.03586666666669,123.64460000000001,null,112.48310000000001,null,null,135.83330000000001,119.15335999999999,165.16666666666666,121.02186666666667,142.27030000000002,130.5547,null,153.00767500000001,181.26750000000001,{"$f":"+INDEX(D101:AF101,1,aux_pr_ue!$P$2)","v":165.16666666666666},{"$f":"+INDEX(D101:AF101,1,aux_pr_ue!$Q$2)","v":0}]
["Bread Wheat 2009/03","Bread Wheat ","2009/03",134.84990000000002,134.06450000000001,108.9123,126.83045,148.3229,129.33809000000002,132.5658,null,141.53225,140.62698,132.66525000000001,null,142.30369166666665,null,155.51866666666669,132.9898,null,115.83785,null,null,147.0968,120.35328000000001,163.33870000000002,122.58333333333333,149.82550000000001,134.30260000000001,null,161.83522500000001,null,{"$f":"+INDEX(D102:AF102,1,aux_pr_ue!$P$2)","v":163.33870000000002},{"$f":"+INDEX(D102:AF102,1,aux_pr_ue!$Q$2)","v":0}]
["Bread Wheat 2009/02","Bread Wheat ","2009/02",138.63290000000001,142.9821,103.02078333333334,110.12880000000001,149.72970000000001,138.22895555555556,138.44390000000001,null,142.5,147.29671000000002,139.78479999999999,null,153.31601666666668,null,138.81,130.1087,null,113.5462,null,null,161.17860000000002,116.17308,173.8571,116.70743333333333,161.09640000000002,132.05250000000001,null,168.901825,null,{"$f":"+INDEX(D103:AF103,1,aux_pr_ue!$P$2)","v":173.8571},{"$f":"+INDEX(D103:AF103,1,aux_pr_ue!$Q$2)","v":0}]
["Bread Wheat 2009/01","Bread Wheat ","2009/01",135.77430000000001,142.04170000000002,95.20386666666667,114.51935,149.54070000000002,132.36425,112.13300000000001,null,133.46775000000002,144.08293999999998,145.30926000000002,null,148.84213636363637,null,141.47020000000001,110.2012,null,122.2959,null,null,166.29170000000002,116.32,172.53230000000002,116.49906666666668,170.70260000000002,145.0248,null,168.91885000000002,null,{"$f":"+INDEX(D104:AF104,1,aux_pr_ue!$P$2)","v":172.53230000000002},{"$f":"+INDEX(D104:AF104,1,aux_pr_ue!$Q$2)","v":0}]
["Bread Wheat 2008/12","Bread Wheat ","2008/12",134.0556,130.37365,96.507783333333336,127.12615,142.9487,130.02255555555556,145.72980000000001,null,127.5,142.14929000000004,124.87731666666667,null,148.81025384615384,null,142.08700000000002,118.65820000000001,null,124.3253,null,null,125.16130000000001,119.80612000000001,158.5,133.28286666666668,184.64450000000002,154.79689999999999,null,158.20529999999999,null,{"$f":"+INDEX(D105:AF105,1,aux_pr_ue!$P$2)","v":158.5},{"$f":"+INDEX(D105:AF105,1,aux_pr_ue!$Q$2)","v":0}]
["Bread Wheat 2008/11","Bread Wheat ","2008/11",145.0942,143.5667,110.5401,139.3554,155.28200000000001,140.44531000000001,149.5813,null,137.41665,153.44479000000001,135.12081666666668,null,158.11236923076925,null,144.58777500000002,135.44470000000001,null,122.84207500000001,null,null,174.0667,125.81376,174.16670000000002,139.40450000000001,182.81630000000001,155.35939999999999,171.14160000000001,173.66432500000002,null,{"$f":"+INDEX(D106:AF106,1,aux_pr_ue!$P$2)","v":174.16670000000002},{"$f":"+INDEX(D106:AF106,1,aux_pr_ue!$Q$2)","v":171.14160000000001}]
["Bread Wheat 2008/10","Bread Wheat ","2008/10",157.42700000000002,151.43549999999999,130.13400000000001,151.54225,170.96270000000001,151.53061000000002,154.25409999999999,null,157.41935000000001,166.88711000000004,146.14641666666668,null,170.21210000000002,null,152.52685000000002,147.89330000000001,null,134.82712500000002,null,null,185.5968,135.91522000000003,175.36830000000003,140.01930000000002,199.69650000000001,161.2286,174.76130000000001,195.61450000000002,183.39790000000002,{"$f":"+INDEX(D107:AF107,1,aux_pr_ue!$P$2)","v":175.36830000000003},{"$f":"+INDEX(D107:AF107,1,aux_pr_ue!$Q$2)","v":174.76130000000001}]
["Bread Wheat 2008/09","Bread Wheat ","2008/09",172.3022,170.0667,140.5364166666667,169.08920000000001,188.17870000000002,167.79087777777778,173.05540000000002,null,162.25,180.78140999999999,165.92335000000003,null,188.68447692307689,null,160.24934999999999,155.3485,null,153.85717500000001,null,null,199.6739,160.3723,210.12819999999999,147.67213333333333,206.12030000000001,165.5677,187.065,209.9579,null,{"$f":"+INDEX(D108:AF108,1,aux_pr_ue!$P$2)","v":210.12819999999999},{"$f":"+INDEX(D108:AF108,1,aux_pr_ue!$Q$2)","v":187.065}]
["Bread Wheat 2008/08","Bread Wheat ","2008/08",179.09120000000001,189.27270000000001,134.90586666666664,185.58345000000003,null,178.29266666666666,164.1516,null,171.45160000000001,190.05423000000002,187.50311666666667,null,194.7334166666667,null,158.61857500000002,158.08940000000001,null,165.05930000000001,null,null,206.2097,180.90822000000003,220,139.89073333333332,198.5181,189.59040000000002,182.614,205.27072500000003,null,{"$f":"+INDEX(D109:AF109,1,aux_pr_ue!$P$2)","v":220},{"$f":"+INDEX(D109:AF109,1,aux_pr_ue!$Q$2)","v":182.614}]
["Bread Wheat 2008/07","Bread Wheat ","2008/07",199.45830000000001,213.34780000000001,138.94121666666669,236.08940000000001,239.2328,199.57219999999998,186.77380000000002,null,192.5,215.20151999999999,187.34693333333334,null,201.14544166666667,null,232.28964999999999,203.9803,null,170.90632500000001,null,null,210,239.51116000000002,219.30269999999999,140.8896,197.95940000000002,246.74810000000002,193.25,null,235.52866666666668,{"$f":"+INDEX(D110:AF110,1,aux_pr_ue!$P$2)","v":219.30269999999999},{"$f":"+INDEX(D110:AF110,1,aux_pr_ue!$Q$2)","v":193.25}]
["Bread Wheat 2008/06","Bread Wheat ","2008/06",215.44330000000002,205.36664999999999,182.11076666666668,246.13640000000001,246.88250000000002,205.88958749999998,204.51730000000001,null,236.66670000000002,224.62368999999998,200.5471,null,219.01820000000004,null,206.64725000000001,213.94130000000001,null,194.60720000000001,null,null,null,244.09818000000004,220.5,223.56793333333334,224.03470000000002,264.96520000000004,192,209.79570000000001,234.72970000000001,{"$f":"+INDEX(D111:AF111,1,aux_pr_ue!$P$2)","v":220.5},{"$f":"+INDEX(D111:AF111,1,aux_pr_ue!$Q$2)","v":192}]
["Bread Wheat 2008/05","Bread Wheat ","2008/05",228.14450000000002,216.90655000000001,232.6881166666667,247.81945000000002,247.30870000000002,193.00032222222228,223.69080000000002,null,240,227.07725000000005,207.39425,null,228.18860000000001,null,229.65636666666668,226.11190000000002,null,234.74560000000002,null,null,241.16670000000002,261.30473999999998,270.85485000000006,243.49396666666667,220.72580000000002,261.82220000000001,194.96770000000001,220.02347499999999,210.11770000000001,{"$f":"+INDEX(D112:AF112,1,aux_pr_ue!$P$2)","v":270.85485000000006},{"$f":"+INDEX(D112:AF112,1,aux_pr_ue!$Q$2)","v":194.96770000000001}]
["Bread Wheat 2008/04","Bread Wheat ","2008/04",250.45910000000001,246.17395000000002,258.13540000000006,253.00710000000004,259.30240000000003,244.03981111111111,215.21,null,240,243.86482999999998,224.73631666666668,null,256.19684444444442,null,249.36510000000001,255.33530000000002,null,241.71589999999998,null,null,259.18330000000003,273.84769999999997,291.16665,242.45353333333333,251.94370000000001,247.01090000000002,214.9083,254.436725,266.90378333333337,{"$f":"+INDEX(D113:AF113,1,aux_pr_ue!$P$2)","v":291.16665},{"$f":"+INDEX(D113:AF113,1,aux_pr_ue!$Q$2)","v":214.9083}]
["Bread Wheat 2008/03","Bread Wheat ","2008/03",261.83690000000001,271.96770000000004,258.41531666666668,246.69580000000002,273.86,267.18470000000002,216.08,null,240,248.77268000000004,276.45355000000001,null,270.28278888888894,null,231.18412500000002,253.852,null,249.93047500000003,null,null,273.9375,260.43642000000006,318.40320000000003,235.67033333333333,243.7313,239.28460000000001,231.28740000000002,277.93827500000003,272.58763333333337,{"$f":"+INDEX(D114:AF114,1,aux_pr_ue!$P$2)","v":318.40320000000003},{"$f":"+INDEX(D114:AF114,1,aux_pr_ue!$Q$2)","v":231.28740000000002}]
["Bread Wheat 2008/02","Bread Wheat ","2008/02",255.11060000000001,259.17240000000004,248.73559999999998,240.67465000000001,272.24810000000002,262.34044000000006,215.4213,null,237.67240000000001,249.91413000000003,273.1226666666667,null,262.13028888888886,null,223.20632500000002,231.739,null,243.52417500000001,null,null,261.94830000000002,248.6601,303.84480000000002,245.18953333333332,268.67169999999999,235.20070000000001,225.0155,260.90199999999999,267.35373333333337,{"$f":"+INDEX(D115:AF115,1,aux_pr_ue!$P$2)","v":303.84480000000002},{"$f":"+INDEX(D115:AF115,1,aux_pr_ue!$Q$2)","v":225.0155}]
["Bread Wheat 2008/01","Bread Wheat ","2008/01",250.09270000000001,257.77565000000004,248.87590000000003,230.64595000000003,261.71140000000003,256.68576999999999,217.6396,null,239.19355000000002,257.79925000000003,250.50488571428573,null,265.83485555555558,null,227.87036666666668,218.02790000000002,null,229.94003333333333,null,null,256.77590000000004,235.78244000000004,299.5,221.56196666666668,236.27270000000001,229.33880000000002,215.04520000000002,247.82997499999999,269.22113333333328,{"$f":"+INDEX(D116:AF116,1,aux_pr_ue!$P$2)","v":299.5},{"$f":"+INDEX(D116:AF116,1,aux_pr_ue!$Q$2)","v":215.04520000000002}]
["Bread Wheat 2007/12","Bread Wheat ","2007/12",247.36940000000001,247.9693,245.47961666666671,233.25103333333334,258.58890000000002,243.02576250000001,202.1234,null,236.97915,248.37476000000001,259.37798571428573,null,254.01393333333331,null,231.59213333333335,216.57940000000002,null,234.68879999999999,null,null,245.2895,227.08858000000001,300.57690000000002,225.36519999999999,258.11540000000002,234.84580000000003,207.78710000000001,250.102475,313.44173333333333,{"$f":"+INDEX(D117:AF117,1,aux_pr_ue!$P$2)","v":300.57690000000002},{"$f":"+INDEX(D117:AF117,1,aux_pr_ue!$Q$2)","v":207.78710000000001}]
["Bread Wheat 2007/11","Bread Wheat ","2007/11",237.64750000000001,236.36670000000001,243.78044285714284,225.02176666666665,239.46220000000002,235.31302500000004,197.40950000000001,null,236.16665,242.465,225.69234285714288,null,251.24444444444447,null,234.79726666666667,214.48360000000002,null,221.20842500000001,null,null,244.23330000000001,222.37289999999999,null,223.7450666666667,225.6977,227.4426,216.48,239.71074999999999,273.22120000000001,{"$f":"+INDEX(D118:AF118,1,aux_pr_ue!$P$2)","v":0},{"$f":"+INDEX(D118:AF118,1,aux_pr_ue!$Q$2)","v":216.48}]
["Bread Wheat 2007/10","Bread Wheat ","2007/10",243.18090000000001,251.45160000000001,232.07120000000006,215.60856666666669,245.43530000000001,251.26533636363638,210.18290000000002,null,229.3871,259.57141000000001,249.33595,null,265.18585555555558,null,211.56815,221.10430000000002,null,225.06420000000003,null,null,256.35480000000001,226.30992000000001,190,216.52526666666668,260.45580000000001,207.90390000000002,224.79350000000002,258.16702500000002,281.08816666666667,{"$f":"+INDEX(D119:AF119,1,aux_pr_ue!$P$2)","v":190},{"$f":"+INDEX(D119:AF119,1,aux_pr_ue!$Q$2)","v":224.79350000000002}]
["Bread Wheat 2007/09","Bread Wheat ","2007/09",236.94850000000002,271.9667,205.40372857142856,195.04769999999999,213.2895,254.14741818181821,204.53290000000001,null,208.38335000000001,251.84135999999998,271.28284285714284,null,262.8888,null,200.79066666666665,204.40990000000002,null,223.07567499999999,null,null,255.8,218.86792,183.66670000000002,204.37453333333335,231.501,186.91890000000001,215.44,263.75102500000003,280.48043333333334,{"$f":"+INDEX(D120:AF120,1,aux_pr_ue!$P$2)","v":183.66670000000002},{"$f":"+INDEX(D120:AF120,1,aux_pr_ue!$Q$2)","v":215.44}]
["Bread Wheat 2007/08","Bread Wheat ","2007/08",205.49340000000001,237.66670000000002,195.95778571428568,169.27166666666668,null,222.96876363636363,176.9545,null,210.3261,206.21181000000001,234.23397142857144,null,219.10930000000002,null,183.86045000000001,163.3579,null,193.58025000000001,null,null,216.58330000000001,175.40232,200.87120000000002,191.18899999999999,205.39100000000002,164.35410000000002,174.17870000000002,null,262.04088333333334,{"$f":"+INDEX(D121:AF121,1,aux_pr_ue!$P$2)","v":200.87120000000002},{"$f":"+INDEX(D121:AF121,1,aux_pr_ue!$Q$2)","v":174.17870000000002}]
["Bread Wheat 2007/07","Bread Wheat ","2007/07",179.5231,183.79170000000002,168.31658333333334,147.48586666666665,153.19890000000001,177.11544444444442,146.0198,null,161.16,189.66161000000002,193.39411428571429,null,189.59806666666668,null,null,145.577,null,165.28507500000001,null,null,184.05,153.24106,182.26813333333334,175.63506666666669,171.24970000000002,145.3417,132.33000000000001,null,219.22846666666669,{"$f":"+INDEX(D122:AF122,1,aux_pr_ue!$P$2)","v":182.26813333333334},{"$f":"+INDEX(D122:AF122,1,aux_pr_ue!$Q$2)","v":132.33000000000001}]
["Bread Wheat 2007/06","Bread Wheat ","2007/06",164.0564,163.9,146.9256,146.09236666666666,148.9941,159.39739,131.65800000000002,null,156.2353,183.74287000000001,173.24465000000001,null,172.4072875,null,null,140.1849,null,136.86337500000002,null,null,null,159.53990000000002,203,164.84866666666667,146.55070000000001,147.4829,125.8233,null,182.16213333333334,{"$f":"+INDEX(D123:AF123,1,aux_pr_ue!$P$2)","v":203},{"$f":"+INDEX(D123:AF123,1,aux_pr_ue!$Q$2)","v":125.8233}]
["Bread Wheat 2007/05","Bread Wheat ","2007/05",158.25030000000001,157.6935,145.5389857142857,146.52363333333335,143.19560000000001,156.69254999999998,null,null,168.47825,180.95129000000003,152.01704000000001,null,168.82130000000001,null,150.38364999999999,144.59520000000001,null,131.202,null,null,152,166.32203999999999,null,152.7491,165.1181,147.00970000000001,127.12225000000001,146.21102500000001,164.16383333333337,{"$f":"+INDEX(D124:AF124,1,aux_pr_ue!$P$2)","v":0},{"$f":"+INDEX(D124:AF124,1,aux_pr_ue!$Q$2)","v":127.12225000000001}]
["Bread Wheat 2007/04","Bread Wheat ","2007/04",157.2253,157.375,145.61814285714286,148.04996666666668,138.22190000000001,153.66239999999999,155.97920000000002,null,167.98075,174.53043,153.89582000000001,null,165.67830000000001,null,144.19295,151.37900000000002,null,131.45986666666667,null,null,152.95650000000001,166.56862000000001,null,144.07233333333332,168.04,150.1105,126.18815000000001,144.20037500000001,162.89503333333334,{"$f":"+INDEX(D125:AF125,1,aux_pr_ue!$P$2)","v":0},{"$f":"+INDEX(D125:AF125,1,aux_pr_ue!$Q$2)","v":126.18815000000001}]
["Bread Wheat 2007/03","Bread Wheat ","2007/03",156.56880000000001,154.4194,148.42064285714287,148.99713333333335,140.08420000000001,153.06652500000001,147.2251,null,162.5,173.1902,149.5445666666667,null,168.54122500000003,null,147.7594,151.07980000000001,null,129.48196666666669,null,null,155.35480000000001,167.06290000000001,180,154.78613333333334,156.2741,148.7561,126.75,140.57510000000002,159.59843333333336,{"$f":"+INDEX(D126:AF126,1,aux_pr_ue!$P$2)","v":180},{"$f":"+INDEX(D126:AF126,1,aux_pr_ue!$Q$2)","v":126.75}]
["Bread Wheat 2007/02","Bread Wheat ","2007/02",156.6574,153.25,146.6882285714286,146.38866666666669,140.8587,153.4635375,null,null,158.5,173.42600000000002,146.97069999999999,null,172.04277777777779,null,149.20480000000001,149.85670000000002,null,128.03255000000001,null,null,156,166.95699999999999,178.75,155.21873333333335,165.96250000000001,145.45490000000001,129.04250000000002,140.82107500000001,158.19578333333334,{"$f":"+INDEX(D127:AF127,1,aux_pr_ue!$P$2)","v":178.75},{"$f":"+INDEX(D127:AF127,1,aux_pr_ue!$Q$2)","v":129.04250000000002}]
["Bread Wheat 2007/01","Bread Wheat ","2007/01",156.1079,153.92740000000001,145.72039999999998,140.04243333333332,140.73650000000001,152.03920909090908,129.10150000000002,null,158.1875,171.62478000000002,148.95098333333337,null,171.48408888888889,null,138.59165000000002,147.01670000000001,null,131.20066666666668,null,null,153,161.11301999999998,181.20835,147.71593333333337,165.36500000000001,137.91650000000001,128.6866,142.0223,162.499,{"$f":"+INDEX(D128:AF128,1,aux_pr_ue!$P$2)","v":181.20835},{"$f":"+INDEX(D128:AF128,1,aux_pr_ue!$Q$2)","v":128.6866}]
["Bread Wheat 2006/12","Bread Wheat ","2006/12",155.47329999999999,153.83390000000003,null,135.41930000000002,139.7671,151.21729999999999,135.99680000000001,null,154.25,170.00447000000003,148.173,null,170.30464444444445,null,134.77772500000003,137.29300000000001,null,113.41366666666666,null,null,151.88890000000001,158.60028000000003,180.92590000000001,null,154.23410000000001,130.5591,126.4371,144.46395000000001,162.7523166666667,{"$f":"+INDEX(D129:AF129,1,aux_pr_ue!$P$2)","v":180.92590000000001},{"$f":"+INDEX(D129:AF129,1,aux_pr_ue!$Q$2)","v":126.4371}]
["Bread Wheat 2006/11","Bread Wheat ","2006/11",153.1378,157.38550000000001,null,131.173,140.8186,153.12403999999998,126.7115,null,142.15,165.25767000000002,154.96991428571431,null,170.69245555555554,null,128.03582500000002,135.7748,null,112.0415,null,null,135.18180000000001,150.59554,185.53450000000001,null,151.9427,127.57040000000001,127.9115,149.08724999999998,162.26103333333333,{"$f":"+INDEX(D130:AF130,1,aux_pr_ue!$P$2)","v":185.53450000000001},{"$f":"+INDEX(D130:AF130,1,aux_pr_ue!$Q$2)","v":127.9115}]
["Bread Wheat 2006/10","Bread Wheat ","2006/10",146.53200000000001,153.67740000000001,null,125.85813333333334,140.8442,146.15364,119.01090000000001,null,122.4355,154.97132000000002,156.11127499999998,null,160.19196666666667,null,122.04610000000001,131.6884,null,111.18833333333335,null,null,130.35000000000002,144.34326000000001,164.86,null,136.61530000000002,114.54740000000001,125.40955,143.46135000000001,162.94123333333334,{"$f":"+INDEX(D131:AF131,1,aux_pr_ue!$P$2)","v":164.86},{"$f":"+INDEX(D131:AF131,1,aux_pr_ue!$Q$2)","v":125.40955}]
["Bread Wheat 2006/09","Bread Wheat ","2006/09",134.55680000000001,141.6,null,116.34253333333334,null,138.61822000000001,121.32700000000001,null,111.4058,139.00493,136.556375,null,143.26786666666669,null,116.17802500000001,121.23010000000001,null,103.54246666666667,null,null,127.75,137.68552,151.07973333333334,null,129.2474,105.1097,118.58770000000001,129.037475,150.85468333333333,{"$f":"+INDEX(D132:AF132,1,aux_pr_ue!$P$2)","v":151.07973333333334},{"$f":"+INDEX(D132:AF132,1,aux_pr_ue!$Q$2)","v":118.58770000000001}]
["Bread Wheat 2006/08","Bread Wheat ","2006/08",121.3203,130.61360000000002,null,104.40333333333335,120.62580000000001,121.97243999999998,110.32350000000001,null,105.82353333333333,134.2927,124.6247625,null,130.05222222222221,null,103.31484,101.50710000000001,null,94.862333333333325,null,null,135,113.54470000000001,137.92202500000002,null,119.0514,97.263900000000007,114.56490000000001,123.85592500000001,128.37901666666667,{"$f":"+INDEX(D133:AF133,1,aux_pr_ue!$P$2)","v":137.92202500000002},{"$f":"+INDEX(D133:AF133,1,aux_pr_ue!$Q$2)","v":114.56490000000001}]
["Bread Wheat 2006/07","Bread Wheat ","2006/07",119.26220000000001,126,null,101.59780000000001,120.6481,115.2085,108.5531,null,111,133.11939000000001,115.69810000000001,null,124.08994444444446,null,97.697249999999997,104.32050000000001,null,87.490033333333329,null,null,null,106.9663,135.62035,null,119.3202,92.747100000000003,106,null,131.53476666666666,{"$f":"+INDEX(D134:AF134,1,aux_pr_ue!$P$2)","v":135.62035},{"$f":"+INDEX(D134:AF134,1,aux_pr_ue!$Q$2)","v":106}]
["Bread Wheat 2006/06","Bread Wheat ","2006/06",122.4496,126.2333,null,102.36000000000001,119.4478,125.35396,99.37230000000001,null,123.28890000000001,133.87936999999999,117.66922500000001,null,137.28175000000002,null,102.00865000000002,103.5421,null,93.227500000000006,null,null,109.5,106.70642000000001,144.35730000000001,null,121.2115,98.966300000000004,106,110.15950000000001,133.07020000000003,{"$f":"+INDEX(D135:AF135,1,aux_pr_ue!$P$2)","v":144.35730000000001},{"$f":"+INDEX(D135:AF135,1,aux_pr_ue!$Q$2)","v":106}]
["Bread Wheat 2006/05","Bread Wheat ","2006/05",120.47810000000001,125.1935,null,102.25943333333335,118.01450000000001,122.49385454545454,106.78330000000001,null,123.25,131.24948000000001,117.7304625,null,136.50372857142855,null,105.49702500000001,102.08080000000001,null,91.807100000000005,null,null,106.3891,106.81790000000001,143.91246666666666,null,122.65820000000001,98.557299999999998,106,108.41575,127.69270000000002,{"$f":"+INDEX(D136:AF136,1,aux_pr_ue!$P$2)","v":143.91246666666666},{"$f":"+INDEX(D136:AF136,1,aux_pr_ue!$Q$2)","v":106}]
["Bread Wheat 2006/04","Bread Wheat ","2006/04",116.2911,119.41670000000001,null,100.48869999999999,117.08450000000001,115.12271000000001,106.9714,null,122.5,131.98761000000002,113.25716250000001,null,131.52119999999999,null,107.66973333333334,102.7321,null,95.308499999999995,null,null,105.33335,102.83453999999999,141.32085000000001,null,124.86020000000001,96.463999999999999,106,107.80187500000001,119.35846666666669,{"$f":"+INDEX(D137:AF137,1,aux_pr_ue!$P$2)","v":141.32085000000001},{"$f":"+INDEX(D137:AF137,1,aux_pr_ue!$Q$2)","v":106}]
["Bread Wheat 2006/03","Bread Wheat ","2006/03",115.93640000000001,114.37100000000001,null,99.605133333333342,116.60470000000001,110.47883636363636,105.05080000000001,null,122.5,136.85345000000001,110.11308749999999,null,128.16200000000001,null,107.2276,100.7569,null,93.814599999999999,null,null,104.5,103.00688,140.77956666666668,null,122.46170000000001,96.451999999999998,106,109.02170000000001,118.07835,{"$f":"+INDEX(D138:AF138,1,aux_pr_ue!$P$2)","v":140.77956666666668},{"$f":"+INDEX(D138:AF138,1,aux_pr_ue!$Q$2)","v":106}]
["Bread Wheat 2006/02","Bread Wheat ","2006/02",115.7826,114.3095,null,100.32396666666666,116.176,109.55426363636366,102.40860000000001,null,122.5,138.38560000000001,109.6551,null,129.18427500000001,null,110.26824999999999,99.103500000000011,null,95.359100000000012,null,null,104.16075000000001,102.89630000000002,140.75895,null,122.5386,96.528400000000005,106,110.0796,117.97978333333334,{"$f":"+INDEX(D139:AF139,1,aux_pr_ue!$P$2)","v":140.75895},{"$f":"+INDEX(D139:AF139,1,aux_pr_ue!$Q$2)","v":106}]
["Bread Wheat 2006/01","Bread Wheat ","2006/01",115.992,112.6362,null,99.825600000000009,115.26430000000001,107.42504545454544,108.28263333333332,null,121.91935000000001,140.37382000000002,107.79815000000001,null,129.81,null,112.0621,99.602400000000003,null,89.831333333333347,null,null,102,99.519440000000003,140.79840000000002,null,122.39960000000001,95.32350000000001,106,110.03305,117.21438333333334,{"$f":"+INDEX(D140:AF140,1,aux_pr_ue!$P$2)","v":140.79840000000002},{"$f":"+INDEX(D140:AF140,1,aux_pr_ue!$Q$2)","v":106}]
["Bread Wheat 2005/12","Bread Wheat ","2005/12",112.94380000000001,112.64315000000001,null,99.430199999999999,115.39550000000001,107.55757272727273,105.77633333333334,null,122.08330000000001,139.99379999999999,108.18230000000001,null,127.60835555555556,null,102.380875,98.929500000000004,null,88.460533333333345,null,null,101.5,95.729040000000012,140.08335,null,123.22460000000001,93.860799999999998,106,108.65952499999999,119.90339999999999,{"$f":"+INDEX(D141:AF141,1,aux_pr_ue!$P$2)","v":140.08335},{"$f":"+INDEX(D141:AF141,1,aux_pr_ue!$Q$2)","v":106}]
["Bread Wheat 2005/11","Bread Wheat ","2005/11",113.1601,112.25,null,98.652933333333337,114.56870000000001,106.20045454545453,97.889700000000005,null,125.06666666666666,141.27460000000002,108.41628750000001,null,124.8548111111111,null,106.70416666666667,96.767900000000012,null,83.663233333333338,null,null,101.43335,91.868560000000002,139.5326,null,120.3122,88.2517,105.5,107.224075,119.25710000000002,{"$f":"+INDEX(D142:AF142,1,aux_pr_ue!$P$2)","v":139.5326},{"$f":"+INDEX(D142:AF142,1,aux_pr_ue!$Q$2)","v":105.5}]
["Bread Wheat 2005/10","Bread Wheat ","2005/10",112.7111,109.5806,null,97.246533333333332,113.91030000000001,106.27258000000002,98.962050000000005,null,126.25806666666666,139.88123000000002,107.74462500000001,null,123.50604000000001,null,99.089500000000001,94.29,null,83.657266666666672,null,null,100.29840000000002,92.965440000000001,135.90323333333333,null,119.00190000000001,87.256399999999999,105.6829,109.04955000000001,120.09121666666665,{"$f":"+INDEX(D143:AF143,1,aux_pr_ue!$P$2)","v":135.90323333333333},{"$f":"+INDEX(D143:AF143,1,aux_pr_ue!$Q$2)","v":105.6829}]
["Bread Wheat 2005/09","Bread Wheat ","2005/09",112.2731,109.7,null,96.940933333333319,113.92070000000001,104.25332,97.299300000000002,null,125.34783333333333,138.03496000000001,107.26249,null,122.61454545454545,null,88.18844,91.835999999999999,null,82.719566666666665,null,null,98.491650000000007,91.871800000000007,135.25276666666667,null,114.79660000000001,88.47420000000001,106.18835,109.85962499999999,120.95175,{"$f":"+INDEX(D144:AF144,1,aux_pr_ue!$P$2)","v":135.25276666666667},{"$f":"+INDEX(D144:AF144,1,aux_pr_ue!$Q$2)","v":106.18835}]
["Bread Wheat 2005/08","Bread Wheat ","2005/08",111.41200000000001,110,null,91.89576666666666,null,102.67351818181818,93.694500000000005,null,122.33333333333333,140.11428000000001,107.42837142857142,null,121.99256363636364,null,89.681350000000009,85.527600000000007,null,78.951666666666668,null,null,97.3125,89.393580000000014,131.80916666666667,null,118.27590000000001,84.229200000000006,106.16499999999999,109.77275,117.89564999999999,{"$f":"+INDEX(D145:AF145,1,aux_pr_ue!$P$2)","v":131.80916666666667},{"$f":"+INDEX(D145:AF145,1,aux_pr_ue!$Q$2)","v":106.16499999999999}]
["Bread Wheat 2005/07","Bread Wheat ","2005/07",117.1203,116,null,90.453333333333333,null,104.45288181818181,105.4542,null,120.73116666666668,141.98337000000001,105.9375,null,121.60430000000001,null,null,92.53240000000001,null,83.129533333333342,null,null,null,93.35802000000001,132.12094999999999,null,126.34700000000001,82.735799999999998,115.67,null,132.66033333333334,{"$f":"+INDEX(D146:AF146,1,aux_pr_ue!$P$2)","v":132.12094999999999},{"$f":"+INDEX(D146:AF146,1,aux_pr_ue!$Q$2)","v":115.67}]
["Bread Wheat 2005/06","Bread Wheat ","2005/06",113.19900000000001,113.08330000000001,null,89.751366666666684,113.43980000000001,106.57735454545455,97.06580000000001,null,116,151.75414000000001,107.80695555555555,null,124.67395,null,null,93.19680000000001,null,90.690999999999988,null,null,100.25,93.616240000000005,134.34375,null,124.1297,85.536600000000007,114.73700000000001,107.76200000000001,130.99645000000001,{"$f":"+INDEX(D147:AF147,1,aux_pr_ue!$P$2)","v":134.34375},{"$f":"+INDEX(D147:AF147,1,aux_pr_ue!$Q$2)","v":114.73700000000001}]
["Bread Wheat 2005/05","Bread Wheat ","2005/05",115.07260000000001,107.66130000000001,null,87.961933333333334,111.49260000000001,105.35152727272727,104.0411,null,116,147.89453000000003,104.09945999999999,null,120.675875,null,null,90.334900000000005,null,86.969499999999996,null,null,100.25,95.810520000000011,135.03625,null,129.83880000000002,98.84790000000001,114,107.73654999999999,134.02395000000001,{"$f":"+INDEX(D148:AF148,1,aux_pr_ue!$P$2)","v":135.03625},{"$f":"+INDEX(D148:AF148,1,aux_pr_ue!$Q$2)","v":114}]
["Bread Wheat 2005/04","Bread Wheat ","2005/04",114.22510000000001,106.25,null,92.04046666666666,113.2004,104.02709,108.0558,null,116,145.56688000000003,102.35301666666668,null,123.44582,null,86.183900000000008,92.967100000000002,null,88.550366666666662,null,null,100.25,95.133679999999998,135.75835000000001,null,132.1611,96.110500000000002,112,107.989,137.31955000000002,{"$f":"+INDEX(D149:AF149,1,aux_pr_ue!$P$2)","v":135.75835000000001},{"$f":"+INDEX(D149:AF149,1,aux_pr_ue!$Q$2)","v":112}]
["Bread Wheat 2005/03","Bread Wheat ","2005/03",115.94670000000001,108.67740000000001,null,92.259433333333348,114.1341,103.79769000000002,112.19330000000001,null,114.60866666666668,142.63678999999999,104.92906250000001,null,123.63806666666667,null,null,93.957400000000007,null,89.716566666666679,null,null,100.6129,100.58866,137.53340000000003,null,124.0116,101.4509,114.5806,110.82340000000002,134.60195000000002,{"$f":"+INDEX(D150:AF150,1,aux_pr_ue!$P$2)","v":137.53340000000003},{"$f":"+INDEX(D150:AF150,1,aux_pr_ue!$Q$2)","v":114.5806}]
["Bread Wheat 2005/02","Bread Wheat ","2005/02",115.8917,108,null,95.302500000000009,114.2047,103.25237000000001,116.31920000000001,null,114,140.90533000000002,108.23072000000002,null,124.21222222222221,null,106.3,95.945999999999998,null,93.25736666666667,null,null,101.5,104.49248,139.55655000000002,null,124.19030000000001,101.81400000000001,116,110.71689999999998,131.39630000000002,{"$f":"+INDEX(D151:AF151,1,aux_pr_ue!$P$2)","v":139.55655000000002},{"$f":"+INDEX(D151:AF151,1,aux_pr_ue!$Q$2)","v":116}]
["Bread Wheat 2005/01","Bread Wheat ","2005/01",115.95410000000001,107.9615,null,94.821033333333332,114.2419,102.96937272727273,142.40860000000001,null,114.41130000000001,140.96611000000001,105.82755,null,127.0994888888889,null,105.93633333333334,95.821300000000008,null,95.758500000000012,null,null,101.5,103.67514000000001,142.72580000000002,null,119.9098,100.6512,116,110.7637,133.96185,{"$f":"+INDEX(D152:AF152,1,aux_pr_ue!$P$2)","v":142.72580000000002},{"$f":"+INDEX(D152:AF152,1,aux_pr_ue!$Q$2)","v":116}]
["Bread Wheat 2004/12","Bread Wheat ","2004/12",116.45050000000001,108.29310000000001,null,100.72525,115.5605,92.98745454545454,131.1429,null,115.75,140.95678000000001,105.33425555555557,null,128.15481111111114,null,100.01637500000001,95.5167,null,91.985300000000009,null,null,101.5,102.9239,145.32954999999998,null,123.41600000000001,100.1408,116.11290000000001,110.96299999999999,140.07384999999999,{"$f":"+INDEX(D153:AF153,1,aux_pr_ue!$P$2)","v":145.32954999999998},{"$f":"+INDEX(D153:AF153,1,aux_pr_ue!$Q$2)","v":116.11290000000001}]
["Bread Wheat 2004/11","Bread Wheat ","2004/11",115.69290000000001,109.66670000000001,null,100.06152500000002,115.715,102.9676,114.88905,null,116,138.98192999999998,107.25177499999999,null,128.31263333333334,null,104.36666666666667,95.9666,null,91.807774999999992,null,null,101.5,100.74987999999999,145.00415000000001,null,120.8151,103.68820000000001,115.9833,111.53740000000002,136.23943333333332,{"$f":"+INDEX(D154:AF154,1,aux_pr_ue!$P$2)","v":145.00415000000001},{"$f":"+INDEX(D154:AF154,1,aux_pr_ue!$Q$2)","v":115.9833}]
["Bread Wheat 2004/10","Bread Wheat ","2004/10",114.8579,108.48390000000001,null,102.49102499999999,115.6344,102.5080181818182,111.03120000000001,null,117.09676666666667,140.00009000000003,107.62345000000001,null,125.35134000000002,null,102.975775,93.205300000000008,null,92.110900000000001,null,null,101.5,100.84638000000001,142.3691,null,125.42670000000001,98.305800000000005,115.25,111.17580000000001,136.0642,{"$f":"+INDEX(D155:AF155,1,aux_pr_ue!$P$2)","v":142.3691},{"$f":"+INDEX(D155:AF155,1,aux_pr_ue!$Q$2)","v":115.25}]
["Bread Wheat 2004/09","Bread Wheat ","2004/09",114.94760000000001,109.2333,null,105.744225,null,102.59064000000001,106.72253333333333,null,125.72415000000001,141.43380000000002,106.72540000000001,null,124.4362888888889,null,110.48905000000002,93.301100000000005,null,92.563175000000001,null,null,101.5,98.641300000000001,139.16666666666666,null,129.59820000000002,96.93310000000001,113.2667,111.4629,135.39594,{"$f":"+INDEX(D156:AF156,1,aux_pr_ue!$P$2)","v":139.16666666666666},{"$f":"+INDEX(D156:AF156,1,aux_pr_ue!$Q$2)","v":113.2667}]
["Bread Wheat 2004/08","Bread Wheat ","2004/08",115.88180000000001,110,null,112.33785,null,103.04996363636364,109.28366666666666,null,135,139.05506000000003,108.2988,null,125.24473333333334,null,99.349500000000006,74.864900000000006,null,92.571850000000012,null,null,101.67500000000001,102.15492000000002,136.95805999999999,null,128.1293,98.167100000000005,108.6,110.69929999999999,130.34404000000001,{"$f":"+INDEX(D157:AF157,1,aux_pr_ue!$P$2)","v":136.95805999999999},{"$f":"+INDEX(D157:AF157,1,aux_pr_ue!$Q$2)","v":108.6}]
["Bread Wheat 2004/07","Bread Wheat ","2004/07",130.6431,142.66670000000002,null,125.189025,null,122.30926666666666,139.7748,null,141,139.43733,110.77237777777778,null,128.50364999999999,null,156.8965,100.72760000000001,null,95.754000000000019,null,null,null,145.59072,140.34356,null,151.023,136.892,128.5,null,138.593075,{"$f":"+INDEX(D158:AF158,1,aux_pr_ue!$P$2)","v":140.34356},{"$f":"+INDEX(D158:AF158,1,aux_pr_ue!$Q$2)","v":128.5}]
["Bread Wheat 2004/06","Bread Wheat ","2004/06",144.29300000000001,139.4,null,128.14144999999999,134.50490000000002,130.19637142857144,null,null,151.75,160.2824,130.01543333333333,null,163.58677500000002,null,149.78879999999998,135.20250000000001,null,129.33095,null,null,null,151.00785999999999,164.214,null,166.7611,142.58750000000001,128.5,120.69710000000001,131.77902499999999,{"$f":"+INDEX(D159:AF159,1,aux_pr_ue!$P$2)","v":164.214},{"$f":"+INDEX(D159:AF159,1,aux_pr_ue!$Q$2)","v":128.5}]
["Bread Wheat 2004/05","Bread Wheat ","2004/05",157.02070000000001,150.2097,null,138.35419999999999,146.3246,150.85538888888891,null,null,154.22915,177.42925,138.94453333333334,null,175.64605,null,191.04456666666667,130.03550000000001,null,141.17810000000003,null,null,163.88460000000001,149.62330000000003,175.06565000000001,null,166.2946,146.42100000000002,128.5,135.00220000000002,148.18110000000001,{"$f":"+INDEX(D160:AF160,1,aux_pr_ue!$P$2)","v":175.06565000000001},{"$f":"+INDEX(D160:AF160,1,aux_pr_ue!$Q$2)","v":128.5}]
["Bread Wheat 2004/04","Bread Wheat ","2004/04",164.011,154.4333,null,null,151.7842,158.14918,null,null,157,173.67633999999998,148.75938333333332,null,182.92627142857143,null,null,124.44970000000001,null,151.56730000000002,null,null,167.6,146.81263999999999,180.82165000000001,null,null,150.428,128.5,139.51600000000002,159.478825,{"$f":"+INDEX(D161:AF161,1,aux_pr_ue!$P$2)","v":180.82165000000001},{"$f":"+INDEX(D161:AF161,1,aux_pr_ue!$Q$2)","v":128.5}]
["Bread Wheat 2004/03","Bread Wheat ","2004/03",163.9408,154.16130000000001,null,null,152.26340000000002,159.87151,null,null,158.15325000000001,173.22499000000005,149.92193333333333,null,181.2242,null,null,null,null,null,null,null,169.66130000000001,null,180.02680000000001,null,null,null,129.23680000000002,139.6191,156.26439999999999,{"$f":"+INDEX(D162:AF162,1,aux_pr_ue!$P$2)","v":180.02680000000001},{"$f":"+INDEX(D162:AF162,1,aux_pr_ue!$Q$2)","v":129.23680000000002}]
["Bread Wheat 2004/02","Bread Wheat ","2004/02",167.5248,156.20690000000002,null,null,154.8511,164.83810909090909,null,null,157.46550000000002,178.16466000000003,152.92698571428573,null,186.93695000000002,null,null,null,null,null,null,null,169.43100000000001,null,183.16725000000002,null,null,null,130.8621,139.56855000000002,161.83212500000002,{"$f":"+INDEX(D163:AF163,1,aux_pr_ue!$P$2)","v":183.16725000000002},{"$f":"+INDEX(D163:AF163,1,aux_pr_ue!$Q$2)","v":130.8621}]
["Bread Wheat 2004/01","Bread Wheat ","2004/01",168.27930000000001,159.25875000000002,null,null,155.1404,164.09277272727272,null,null,158.08330000000001,177.37844000000001,158.01427142857145,null,188.19968750000001,null,null,null,null,null,null,null,166.45830000000001,null,186.25595000000001,null,null,null,130.77420000000001,139.39455000000001,173.37265000000002,{"$f":"+INDEX(D164:AF164,1,aux_pr_ue!$P$2)","v":186.25595000000001},{"$f":"+INDEX(D164:AF164,1,aux_pr_ue!$Q$2)","v":130.77420000000001}]
["Bread Wheat 2003/12","Bread Wheat ","2003/12",169.4503,159.36965000000001,null,null,153.18049999999999,161.7647,null,null,152.44120000000001,174.33534000000003,159.67531428571428,null,186.60762499999998,null,null,null,null,null,null,null,163,null,187.87210000000002,null,null,null,129.03229999999999,139.45075000000003,172.91653333333338,{"$f":"+INDEX(D165:AF165,1,aux_pr_ue!$P$2)","v":187.87210000000002},{"$f":"+INDEX(D165:AF165,1,aux_pr_ue!$Q$2)","v":129.03229999999999}]
["Bread Wheat 2003/11","Bread Wheat ","2003/11",161.8614,153.11664999999999,null,null,150.22929999999999,152.79330999999999,null,null,146.4,168.34053,157.6234,null,179.84280000000001,null,null,null,null,null,null,null,139.90834999999998,null,182.85735,null,null,null,127,136.8708,156.16376666666667,{"$f":"+INDEX(D166:AF166,1,aux_pr_ue!$P$2)","v":182.85735},{"$f":"+INDEX(D166:AF166,1,aux_pr_ue!$Q$2)","v":127}]
["Bread Wheat 2003/10","Bread Wheat ","2003/10",146.4075,137.85480000000001,null,null,132.60400000000001,137.50444545454545,null,null,143.5,159.51132999999999,136.0603857142857,null,159.64857999999998,null,null,null,null,null,null,null,136.88335000000001,null,162.21625,null,null,null,126.73390000000001,127.69284999999999,140.79852,{"$f":"+INDEX(D167:AF167,1,aux_pr_ue!$P$2)","v":162.21625},{"$f":"+INDEX(D167:AF167,1,aux_pr_ue!$Q$2)","v":126.73390000000001}]
["Bread Wheat 2003/09","Bread Wheat ","2003/09",142.68899999999999,133.5667,null,null,null,133.36455000000001,null,null,155,150.44323000000003,131.15091428571429,null,156.28244000000001,null,null,null,null,null,null,null,120.71740000000001,null,146.02180000000001,null,null,null,124,125.70590000000001,137.81258000000003,{"$f":"+INDEX(D168:AF168,1,aux_pr_ue!$P$2)","v":146.02180000000001},{"$f":"+INDEX(D168:AF168,1,aux_pr_ue!$Q$2)","v":124}]
["Bread Wheat 2003/08","Bread Wheat ","2003/08",132.72570000000002,124.96,null,null,null,125.25375,null,null,151.11110000000002,140.19913000000003,124.57258000000002,null,142.7038,null,null,null,null,null,null,null,114.5,null,135.73367500000001,null,null,null,124,119.1876,133.12932000000001,{"$f":"+INDEX(D169:AF169,1,aux_pr_ue!$P$2)","v":135.73367500000001},{"$f":"+INDEX(D169:AF169,1,aux_pr_ue!$Q$2)","v":124}]
["Bread Wheat 2003/07","Bread Wheat ","2003/07",129.0061,112,null,null,null,115.58961000000002,null,null,137.46665000000002,135.66557,118.84634000000001,null,134.65954000000002,null,null,null,null,null,null,null,109.875,null,127.38127500000002,null,null,null,128.12,108.80850000000001,135.44925000000003,{"$f":"+INDEX(D170:AF170,1,aux_pr_ue!$P$2)","v":127.38127500000002},{"$f":"+INDEX(D170:AF170,1,aux_pr_ue!$Q$2)","v":128.12}]
["Bread Wheat 2003/06","Bread Wheat ","2003/06",125.3545,112.06670000000001,null,null,119.57690000000001,117.31602222222222,null,null,122,138.74854999999999,110.21025000000002,null,129.64545555555554,null,null,null,null,null,null,null,109.5,null,129.37953333333334,null,null,null,128.1317,109.82855000000001,135.89200000000002,{"$f":"+INDEX(D171:AF171,1,aux_pr_ue!$P$2)","v":129.37953333333334},{"$f":"+INDEX(D171:AF171,1,aux_pr_ue!$Q$2)","v":128.1317}]
["Bread Wheat 2003/05","Bread Wheat ","2003/05",124.23830000000001,112.9516,null,null,115.78630000000001,116.04636666666667,null,null,null,139.20265000000001,109.452325,null,129.5414777777778,null,null,null,null,null,null,null,109.5,null,137.05350000000001,null,null,null,128.12,110.36595,131.76242000000002,{"$f":"+INDEX(D172:AF172,1,aux_pr_ue!$P$2)","v":137.05350000000001},{"$f":"+INDEX(D172:AF172,1,aux_pr_ue!$Q$2)","v":128.12}]
["Bread Wheat 2003/04","Bread Wheat ","2003/04",122.01190000000001,112.2,null,null,114.47150000000001,113.34353999999999,null,null,127.91300000000001,136.37813,109.29873333333335,null,129.25034444444444,null,null,null,null,null,null,null,120.5,null,138,null,null,null,128.084,114.58080000000001,124.99152500000001,{"$f":"+INDEX(D173:AF173,1,aux_pr_ue!$P$2)","v":138},{"$f":"+INDEX(D173:AF173,1,aux_pr_ue!$Q$2)","v":128.084}]
["Bread Wheat 2003/03","Bread Wheat ","2003/03",122.90150000000001,111.129,null,null,115.79220000000001,114.3949875,null,null,127.26920000000001,135.62932000000001,105.49214999999998,null,130.76105454545456,null,null,null,null,null,null,null,120.75,null,138.37900000000002,null,null,null,128.6532,116.49635000000001,120.70746000000001,{"$f":"+INDEX(D174:AF174,1,aux_pr_ue!$P$2)","v":138.37900000000002},{"$f":"+INDEX(D174:AF174,1,aux_pr_ue!$Q$2)","v":128.6532}]
["Bread Wheat 2003/02","Bread Wheat ","2003/02",123.9971,112.21430000000001,null,null,117.0707,116.61736000000001,null,null,128.69230000000002,136.03088,107.2752875,null,132.99819090909091,null,null,null,null,null,null,null,120.78570000000001,null,144.625,null,null,null,131,120.27705,116.64430000000002,{"$f":"+INDEX(D175:AF175,1,aux_pr_ue!$P$2)","v":144.625},{"$f":"+INDEX(D175:AF175,1,aux_pr_ue!$Q$2)","v":131}]
["Bread Wheat 2003/01","Bread Wheat ","2003/01",126.40440000000001,113.1592,null,null,116.42750000000001,117.3339888888889,null,null,126,138.27681999999999,108.31341666666667,null,134.06140909090911,null,null,null,null,null,null,null,120.15,null,147.12385,null,null,null,131,120.53810000000001,115.11002500000001,{"$f":"+INDEX(D176:AF176,1,aux_pr_ue!$P$2)","v":147.12385},{"$f":"+INDEX(D176:AF176,1,aux_pr_ue!$Q$2)","v":131}]
["Bread Wheat 2002/12","Bread Wheat ","2002/12",129.1224,113.57225,null,null,117.9697,116.55416666666666,null,null,124.036675,138.14443999999997,111.21508571428572,null,134.04103636363638,null,null,null,null,null,null,null,120.21970000000002,null,146.19999999999999,null,null,null,131,122.5596,119.06200000000001,{"$f":"+INDEX(D177:AF177,1,aux_pr_ue!$P$2)","v":146.19999999999999},{"$f":"+INDEX(D177:AF177,1,aux_pr_ue!$Q$2)","v":131}]
["Bread Wheat 2002/11","Bread Wheat ","2002/11",126.42700000000001,114.48330000000001,null,null,119.63480000000001,117.04845000000003,null,null,123.59167500000001,138.61556999999999,112.42863750000001,null,134.71151818181818,null,null,null,null,null,null,null,118.35,null,149.0087,null,null,null,131,123.80825000000002,123.65830000000001,{"$f":"+INDEX(D178:AF178,1,aux_pr_ue!$P$2)","v":149.0087},{"$f":"+INDEX(D178:AF178,1,aux_pr_ue!$Q$2)","v":131}]
["Bread Wheat 2002/10","Bread Wheat ","2002/10",127.5052,115.6855,null,null,121.13160000000001,117.52421000000001,null,null,123.525875,138.21332999999998,114.7449625,null,132.8812090909091,null,null,null,null,null,null,null,116.77085,null,153.84550000000002,null,null,null,130.32900000000001,125.84540000000001,128.40010000000001,{"$f":"+INDEX(D179:AF179,1,aux_pr_ue!$P$2)","v":153.84550000000002},{"$f":"+INDEX(D179:AF179,1,aux_pr_ue!$Q$2)","v":130.32900000000001}]
["Bread Wheat 2002/09","Bread Wheat ","2002/09",125.6178,116.15555000000001,null,null,121.1768,115.28167000000001,null,null,120.87,136.27757000000003,116.61697777777779,null,129.40420909090912,null,null,null,null,null,null,null,117.825,null,136.29248000000001,null,null,null,128.77000000000001,125.89920000000001,126.524,{"$f":"+INDEX(D180:AF180,1,aux_pr_ue!$P$2)","v":136.29248000000001},{"$f":"+INDEX(D180:AF180,1,aux_pr_ue!$Q$2)","v":128.77000000000001}]
["Bread Wheat 2002/08","Bread Wheat ","2002/08",121.60770000000001,115.85,null,null,null,109.23766000000001,null,null,116.60416000000001,135.80704,111.7456090909091,null,123.68820000000001,null,null,null,null,null,null,null,113.87175000000001,null,134.67930000000001,null,null,null,128.30170000000001,124.04,113.896325,{"$f":"+INDEX(D181:AF181,1,aux_pr_ue!$P$2)","v":134.67930000000001},{"$f":"+INDEX(D181:AF181,1,aux_pr_ue!$Q$2)","v":128.30170000000001}]
["Bread Wheat 2002/07","Bread Wheat ","2002/07",122.4128,114.72223333333334,null,null,null,112.03713999999999,null,null,114.33333333333333,136.52716000000001,105.67427499999999,null,123.87424999999999,null,null,null,null,null,null,null,114.075,null,134.48078000000001,null,null,null,null,null,116.27867500000001,{"$f":"+INDEX(D182:AF182,1,aux_pr_ue!$P$2)","v":134.48078000000001},{"$f":"+INDEX(D182:AF182,1,aux_pr_ue!$Q$2)","v":0}]
["Bread Wheat 2002/06","Bread Wheat ","2002/06",126.74890000000001,115.46663333333333,null,null,118.4004,117.58597,null,null,120.60256666666668,144.16763999999998,107.76112222222223,null,141.07546000000002,null,null,null,null,null,null,null,118.5,null,152.79665,null,null,null,133.78584999999998,null,114.76370000000001,{"$f":"+INDEX(D183:AF183,1,aux_pr_ue!$P$2)","v":152.79665},{"$f":"+INDEX(D183:AF183,1,aux_pr_ue!$Q$2)","v":133.78584999999998}]
["Bread Wheat 2002/05","Bread Wheat ","2002/05",133.00310000000002,117.9028,null,null,120.2595,118.35742999999999,null,null,141.7037,155.19558000000001,108.90131111111113,null,145.0209777777778,null,null,null,null,null,null,null,118.49080000000001,null,155.2398,null,null,null,135.13900000000001,null,127.02523333333333,{"$f":"+INDEX(D184:AF184,1,aux_pr_ue!$P$2)","v":155.2398},{"$f":"+INDEX(D184:AF184,1,aux_pr_ue!$Q$2)","v":135.13900000000001}]
["Bread Wheat 2002/04","Bread Wheat ","2002/04",135.41480000000001,120.23866666666667,null,null,121.34480000000001,120.50616666666666,null,null,149.125,158.32375999999999,112.34598750000001,null,141.85706999999999,null,null,null,null,null,null,null,118.6375,null,156.60335000000001,null,null,null,135.17465000000001,129.10235,133.163825,{"$f":"+INDEX(D185:AF185,1,aux_pr_ue!$P$2)","v":156.60335000000001},{"$f":"+INDEX(D185:AF185,1,aux_pr_ue!$Q$2)","v":135.17465000000001}]
["Bread Wheat 2002/03","Bread Wheat ","2002/03",136.12649999999999,121.1613,null,null,126.95100000000001,121.27551000000001,null,null,148.10415,159.18972999999997,115.40039999999999,null,147.74031111111111,null,null,null,null,null,null,null,119.8734,null,157.01240000000001,null,null,null,134.69385,130.44765000000001,146.59520000000001,{"$f":"+INDEX(D186:AF186,1,aux_pr_ue!$P$2)","v":157.01240000000001},{"$f":"+INDEX(D186:AF186,1,aux_pr_ue!$Q$2)","v":134.69385}]
["Bread Wheat 2002/02","Bread Wheat ","2002/02",139.59450000000001,126.12696666666666,null,null,130.7824,122.85025454545456,null,null,154.01785000000001,160.80175000000003,120.78843000000002,null,155.54696000000004,null,null,null,null,null,null,null,121.325,null,158.4393,null,null,null,135.26785000000001,130.02440000000001,152.40886666666668,{"$f":"+INDEX(D187:AF187,1,aux_pr_ue!$P$2)","v":158.4393},{"$f":"+INDEX(D187:AF187,1,aux_pr_ue!$Q$2)","v":135.26785000000001}]
["Bread Wheat 2002/01","Bread Wheat ","2002/01",141.03480000000002,127.84046666666667,null,null,131.85330000000002,122.14989000000003,null,null,161.52070000000003,162.36597999999998,123.53145000000001,null,154.19728181818184,null,null,null,null,null,null,null,120.81325000000001,null,159.22775000000001,null,null,null,135.31895,130.61099999999999,153.91714999999999,{"$f":"+INDEX(D188:AF188,1,aux_pr_ue!$P$2)","v":159.22775000000001},{"$f":"+INDEX(D188:AF188,1,aux_pr_ue!$Q$2)","v":135.31895}]
["Bread Wheat 2001/12","Bread Wheat ","2001/12",144.93270000000001,128.11266666666668,null,null,131.678,125.29970000000003,null,null,151.15,162.41296000000003,124.43509999999999,null,149.24439000000001,null,null,null,null,null,null,null,119.1738,null,159.10669999999999,null,null,null,135.39999999999998,127.82595000000001,152.59822500000001,{"$f":"+INDEX(D189:AF189,1,aux_pr_ue!$P$2)","v":159.10669999999999},{"$f":"+INDEX(D189:AF189,1,aux_pr_ue!$Q$2)","v":135.39999999999998}]
["Bread Wheat 2001/11","Bread Wheat ","2001/11",139.27940000000001,126.32646666666666,null,null,129.9418,120.02587999999999,null,null,152.33640000000003,160.42420999999999,124.77464444444445,null,149.09430000000003,null,null,null,null,null,null,null,118.63840000000002,null,155.92500000000001,null,null,null,135.42725000000002,126.8212,154.10073333333332,{"$f":"+INDEX(D190:AF190,1,aux_pr_ue!$P$2)","v":155.92500000000001},{"$f":"+INDEX(D190:AF190,1,aux_pr_ue!$Q$2)","v":135.42725000000002}]
["Bread Wheat 2001/10","Bread Wheat ","2001/10",138.31480000000002,123.11776666666667,null,null,129.43870000000001,120.31788999999999,null,null,152.04345000000001,158.81071000000003,121.01032500000001,null,148.58211818181817,null,null,null,null,null,null,null,118.63840000000002,null,152.40775000000002,null,null,null,133.6053,123.77870000000001,150.53200000000001,{"$f":"+INDEX(D191:AF191,1,aux_pr_ue!$P$2)","v":152.40775000000002},{"$f":"+INDEX(D191:AF191,1,aux_pr_ue!$Q$2)","v":133.6053}]
["Bread Wheat 2001/09","Bread Wheat ","2001/09",139.26330000000002,125.61320000000001,null,null,131.73590000000002,121.23196363636363,null,null,159.90940000000001,158.41514000000001,122.81377500000002,null,150.02415833333333,null,null,null,null,null,null,null,118.63840000000002,null,146.845,null,null,null,132.21705000000003,123.04040000000001,157.06054285714285,{"$f":"+INDEX(D192:AF192,1,aux_pr_ue!$P$2)","v":146.845},{"$f":"+INDEX(D192:AF192,1,aux_pr_ue!$Q$2)","v":132.21705000000003}]
["Bread Wheat 2001/08","Bread Wheat ","2001/08",138.9041,126.21706666666667,null,null,null,120.12801999999999,null,null,152.15620000000001,157.36784000000003,123.89685000000001,null,151.50565999999998,null,null,null,null,null,null,null,118.89490000000001,null,141.18058000000002,null,null,null,132.05435,125.39970000000001,152.29452000000001,{"$f":"+INDEX(D193:AF193,1,aux_pr_ue!$P$2)","v":141.18058000000002},{"$f":"+INDEX(D193:AF193,1,aux_pr_ue!$Q$2)","v":132.05435}]
["Bread Wheat 2001/07","Bread Wheat ","2001/07",141.39850000000001,128.90466666666669,null,null,null,122.29811818181817,null,null,144.13173333333336,153.93542000000005,123.48570000000001,null,151.58969000000002,null,null,null,null,null,null,null,121.727,null,139.9614,null,null,null,133.20480000000001,null,149.069625,{"$f":"+INDEX(D194:AF194,1,aux_pr_ue!$P$2)","v":139.9614},{"$f":"+INDEX(D194:AF194,1,aux_pr_ue!$Q$2)","v":133.20480000000001}]
["Bread Wheat 2001/06","Bread Wheat ","2001/06",139.25,128.90466666666669,null,null,132.79859999999999,124.80497,null,null,140.00977500000002,151.60021,121.99174285714287,null,154.33611111111111,null,null,null,null,null,null,null,137.17000000000002,null,151.87569999999999,null,null,null,133.77670000000001,125.97325000000001,150.51903333333334,{"$f":"+INDEX(D195:AF195,1,aux_pr_ue!$P$2)","v":151.87569999999999},{"$f":"+INDEX(D195:AF195,1,aux_pr_ue!$Q$2)","v":133.77670000000001}]
["Bread Wheat 2001/05","Bread Wheat ","2001/05",140.62890000000002,128.64250000000001,null,null,132.6926,125.83343636363635,null,null,151.51585,151.71567000000002,122.95543333333333,null,158.23770000000002,null,null,null,null,null,null,null,140.20555000000002,null,153.31040000000002,null,null,null,133.7311,128.00919999999999,155.27235000000002,{"$f":"+INDEX(D196:AF196,1,aux_pr_ue!$P$2)","v":153.31040000000002},{"$f":"+INDEX(D196:AF196,1,aux_pr_ue!$Q$2)","v":133.7311}]
["Bread Wheat 2001/04","Bread Wheat ","2001/04",138.13050000000001,124.70359999999999,null,null,132.6498,125.48471818181817,null,null,150.08449999999999,147.62191999999996,121.7628,null,158.49744999999999,null,null,null,null,null,null,null,141.42234999999999,null,152.89985000000001,null,null,null,133.44589999999999,126.35160000000002,143.61180000000002,{"$f":"+INDEX(D197:AF197,1,aux_pr_ue!$P$2)","v":152.89985000000001},{"$f":"+INDEX(D197:AF197,1,aux_pr_ue!$Q$2)","v":133.44589999999999}]
["Bread Wheat 2001/03","Bread Wheat ","2001/03",138.197,124.27996666666668,null,null,132.63930000000002,128.30666363636365,null,null,152.4152,147.42570000000001,121.30925999999999,null,162.20416250000002,null,null,null,null,null,null,null,143.41165000000001,null,153.22755000000001,null,null,null,133.90470000000002,125.86270000000002,136.94782000000001,{"$f":"+INDEX(D198:AF198,1,aux_pr_ue!$P$2)","v":153.22755000000001},{"$f":"+INDEX(D198:AF198,1,aux_pr_ue!$Q$2)","v":133.90470000000002}]
["Bread Wheat 2001/02","Bread Wheat ","2001/02",139.471,126.11583333333334,null,null,131.3167,130.1470181818182,null,null,151.13720000000001,148.85419000000002,121.72688000000002,null,165.17206250000001,null,null,null,null,null,null,null,143.48345,null,153.57990000000001,null,null,null,131.92245,127.54215000000001,134.82350000000002,{"$f":"+INDEX(D199:AF199,1,aux_pr_ue!$P$2)","v":153.57990000000001},{"$f":"+INDEX(D199:AF199,1,aux_pr_ue!$Q$2)","v":131.92245}]
["Bread Wheat 2001/01","Bread Wheat ","2001/01",140.33170000000001,128.25156666666666,null,null,130.13060000000002,130.20597272727275,null,null,150.15895,147.92856,122.6806625,null,166.06287777777777,null,null,null,null,null,null,null,140.87979999999999,null,156.85453333333336,null,null,null,131.66595000000001,125.87225000000001,133.8982,{"$f":"+INDEX(D200:AF200,1,aux_pr_ue!$P$2)","v":156.85453333333336},{"$f":"+INDEX(D200:AF200,1,aux_pr_ue!$Q$2)","v":131.66595000000001}]
["Bread Wheat 2000/12","Bread Wheat ","2000/12",139.32730000000001,128.46716666666669,null,null,128.74620000000002,129.57705454545456,null,null,146.77330000000001,146.32533000000001,118.40744285714287,null,164.83091111111111,null,null,null,null,null,null,null,139.16845000000001,null,151.34359999999998,null,null,null,131.66595000000001,128.33869999999999,135.75485,{"$f":"+INDEX(D201:AF201,1,aux_pr_ue!$P$2)","v":151.34359999999998},{"$f":"+INDEX(D201:AF201,1,aux_pr_ue!$Q$2)","v":131.66595000000001}]
["Bread Wheat 2000/11","Bread Wheat ","2000/11",136.99600000000001,125.2808,null,null,127.4217,127.81967,null,null,141.99779999999998,144.93719000000004,115.09291666666667,null,162.05126666666666,null,null,null,null,null,null,null,139.34190000000001,null,144.91800000000001,null,null,null,132.7003,126.62315000000001,127.35571999999999,{"$f":"+INDEX(D202:AF202,1,aux_pr_ue!$P$2)","v":144.91800000000001},{"$f":"+INDEX(D202:AF202,1,aux_pr_ue!$Q$2)","v":132.7003}]
["Bread Wheat 2000/10","Bread Wheat ","2000/10",134.63820000000001,124.35993333333333,null,null,126.9598,126.79712727272728,null,null,137.29375000000002,140.71566000000001,112.01233333333334,null,153.77590000000001,null,null,null,null,null,null,null,137.79575,null,142.84570000000002,null,null,null,132.7003,127.34855000000002,134.26409999999998,{"$f":"+INDEX(D203:AF203,1,aux_pr_ue!$P$2)","v":142.84570000000002},{"$f":"+INDEX(D203:AF203,1,aux_pr_ue!$Q$2)","v":132.7003}]
["Bread Wheat 2000/09","Bread Wheat ","2000/09",132.1352,124.11893333333335,null,null,124.3845,125.0990909090909,null,null,136.67262500000001,134.68126999999998,111.101,null,152.96943636363636,null,null,null,null,null,null,null,125.9294,null,126.91746000000001,null,null,null,132.63300000000001,127.04735000000001,131.42616000000004,{"$f":"+INDEX(D204:AF204,1,aux_pr_ue!$P$2)","v":126.91746000000001},{"$f":"+INDEX(D204:AF204,1,aux_pr_ue!$Q$2)","v":132.63300000000001}]
["Bread Wheat 2000/08","Bread Wheat ","2000/08",127.84500000000001,122.7073,null,null,null,122.03792000000001,null,null,133.76355000000001,132.45854000000003,107.94908333333332,null,142.78077272727273,null,null,null,null,null,null,null,121.60590000000001,null,127.61742000000001,null,null,null,132.3639,null,128.95975000000001,{"$f":"+INDEX(D205:AF205,1,aux_pr_ue!$P$2)","v":127.61742000000001},{"$f":"+INDEX(D205:AF205,1,aux_pr_ue!$Q$2)","v":132.3639}]
["Bread Wheat 2000/07","Bread Wheat ","2000/07",130.4014,131.3836,null,null,null,118.04783749999999,null,null,130.56287499999999,132.04608000000002,111.07654285714285,null,140.11883333333336,null,null,null,null,null,null,null,119.18340000000001,null,130.56058000000002,null,null,null,142.11879999999999,null,159.10910000000001,{"$f":"+INDEX(D206:AF206,1,aux_pr_ue!$P$2)","v":130.56058000000002},{"$f":"+INDEX(D206:AF206,1,aux_pr_ue!$Q$2)","v":142.11879999999999}]
["Bread Wheat 2000/06","Bread Wheat ","2000/06",135.99530000000001,131.3836,null,null,137.0607,132.05363333333332,null,null,125.85920000000002,142.77334999999999,120.40358571428571,null,145.85292727272727,null,null,null,null,null,null,null,131.71950000000001,null,155.74130000000002,null,null,null,142.70750000000001,138.48065000000003,151.84546666666665,{"$f":"+INDEX(D207:AF207,1,aux_pr_ue!$P$2)","v":155.74130000000002},{"$f":"+INDEX(D207:AF207,1,aux_pr_ue!$Q$2)","v":142.70750000000001}]
["Bread Wheat 2000/05","Bread Wheat ","2000/05",146.47470000000001,135.15363333333335,null,null,140.42520000000002,141.3025090909091,null,null,163.5917,155.08499,127.72922857142859,null,159.95222222222225,null,null,null,null,null,null,null,131.39890000000003,null,156.31080000000003,null,null,null,143.19800000000001,141.34989999999999,157.55564999999999,{"$f":"+INDEX(D208:AF208,1,aux_pr_ue!$P$2)","v":156.31080000000003},{"$f":"+INDEX(D208:AF208,1,aux_pr_ue!$Q$2)","v":143.19800000000001}]
["Bread Wheat 2000/04","Bread Wheat ","2000/04",146.2236,134.27373333333333,null,null,140.22239999999999,138.55957272727275,null,null,164.03743333333333,155.82737,129.78024285714287,null,156.46178181818183,null,null,null,null,null,null,null,129.2441,null,154.35625000000002,null,null,null,143.24860000000001,141.74225000000001,160.2902,{"$f":"+INDEX(D209:AF209,1,aux_pr_ue!$P$2)","v":154.35625000000002},{"$f":"+INDEX(D209:AF209,1,aux_pr_ue!$Q$2)","v":143.24860000000001}]
["Bread Wheat 2000/03","Bread Wheat ","2000/03",142.82650000000001,129.95750000000001,null,null,136.47880000000001,135.05278181818184,null,null,160.66963333333334,154.00060999999999,126.29171428571429,null,152.87830909090908,null,null,null,null,null,null,null,128.64305000000002,null,155.82605000000001,null,null,null,142.9271,140.13550000000001,147.39216666666667,{"$f":"+INDEX(D210:AF210,1,aux_pr_ue!$P$2)","v":155.82605000000001},{"$f":"+INDEX(D210:AF210,1,aux_pr_ue!$Q$2)","v":142.9271}]
["Bread Wheat 2000/02","Bread Wheat ","2000/02",141.1748,128.50680000000003,null,null,135.30270000000002,132.21887272727275,null,null,154.4126,152.92987999999997,124.75211428571428,null,151.815225,null,null,null,null,null,null,null,128.08584999999999,null,152.5675,null,null,null,141.6018,138.27800000000002,142.40733333333333,{"$f":"+INDEX(D211:AF211,1,aux_pr_ue!$P$2)","v":152.5675},{"$f":"+INDEX(D211:AF211,1,aux_pr_ue!$Q$2)","v":141.6018}]
["Bread Wheat 2000/01","Bread Wheat ","2000/01",null,null,null,null,null,null,null,null,null,null,null,null,null,null,null,null,null,null,null,null,null,null,null,null,null,null,null,null,null,{"$f":"+INDEX(D212:AF212,1,aux_pr_ue!$P$2)","v":0},{"$f":"+INDEX(D212:AF212,1,aux_pr_ue!$Q$2)","v":0}]
["Bread Wheat 1999/12","Bread Wheat ","1999/12",null,null,null,null,null,null,null,null,null,null,null,null,null,null,null,null,null,null,null,null,null,null,null,null,null,null,null,null,null,{"$f":"+INDEX(D213:AF213,1,aux_pr_ue!$P$2)","v":0},{"$f":"+INDEX(D213:AF213,1,aux_pr_ue!$Q$2)","v":0}]
["Bread Wheat 1999/11","Bread Wheat ","1999/11",135.23750000000001,126.5904,null,null,127.7514,126.25018181818182,null,null,133.67568,146.65136999999999,122.46471428571429,null,144.39970769230769,null,null,null,null,null,null,null,124.99730000000001,null,140.91039999999998,null,null,null,141.376,135.28055000000001,null,{"$f":"+INDEX(D214:AF214,1,aux_pr_ue!$P$2)","v":140.91039999999998},{"$f":"+INDEX(D214:AF214,1,aux_pr_ue!$Q$2)","v":141.376}]
["Bread Wheat 1999/10","Bread Wheat ","1999/10",134.1481,124.09336666666668,null,null,128.7167,125.13517272727276,null,null,132.91425000000001,144.48577,120.57584285714286,null,141.59106923076925,null,null,null,null,null,null,null,125.15555000000001,null,144.60520000000002,null,null,null,141.13679999999999,134.19260000000003,143.57713333333334,{"$f":"+INDEX(D215:AF215,1,aux_pr_ue!$P$2)","v":144.60520000000002},{"$f":"+INDEX(D215:AF215,1,aux_pr_ue!$Q$2)","v":141.13679999999999}]
["Bread Wheat 1999/09","Bread Wheat ","1999/09",132.6053,123.36183333333334,null,null,127.81,123.2098,null,null,132.54022000000001,143.13591000000002,118.38503750000001,null,138.86827692307693,null,null,null,null,null,null,null,124.57335,null,138.83199999999999,null,null,null,140.94150000000002,134.41945000000001,142.19329999999999,{"$f":"+INDEX(D216:AF216,1,aux_pr_ue!$P$2)","v":138.83199999999999},{"$f":"+INDEX(D216:AF216,1,aux_pr_ue!$Q$2)","v":140.94150000000002}]
["Bread Wheat 1999/08","Bread Wheat ","1999/08",128.66840000000002,121.55924999999999,null,null,null,118.87425,null,null,130.28702000000001,143.97433000000001,117.60486666666668,null,135.04458461538462,null,null,null,null,null,null,124.97900000000001,123.36200000000001,null,137.16925000000003,null,null,null,null,null,null,{"$f":"+INDEX(D217:AF217,1,aux_pr_ue!$P$2)","v":137.16925000000003},{"$f":"+INDEX(D217:AF217,1,aux_pr_ue!$Q$2)","v":0}]
["Bread Wheat 1999/07","Bread Wheat ","1999/07",136.85740000000001,null,null,null,null,115.9355,null,null,130.75700000000001,144.8776,116.08633333333334,null,133.61175,null,null,null,null,null,null,56.455999999999996,null,null,136.75357500000001,null,null,null,144.137,136.72250000000003,143.858,{"$f":"+INDEX(D218:AF218,1,aux_pr_ue!$P$2)","v":136.75357500000001},{"$f":"+INDEX(D218:AF218,1,aux_pr_ue!$Q$2)","v":144.137}]
["Bread Wheat 1999/06","Bread Wheat ","1999/06",137.10670000000002,127.09059999999999,null,null,129.18340000000001,132.96938888888889,null,null,null,148.06055000000001,122.37760000000002,null,152.13121000000001,null,null,null,null,null,null,60.541000000000004,131.17400000000001,null,145.89800000000002,null,null,null,144.642,135.27485000000001,135.74299999999999,{"$f":"+INDEX(D219:AF219,1,aux_pr_ue!$P$2)","v":145.89800000000002},{"$f":"+INDEX(D219:AF219,1,aux_pr_ue!$Q$2)","v":144.642}]
["Bread Wheat 1999/05","Bread Wheat ","1999/05",139.12810000000002,126.63906666666666,null,null,128.9288,131.66937777777778,null,null,149.48283333333333,147.61804999999998,120.19998333333335,null,152.9443,null,null,null,null,null,null,60.541000000000004,131.17400000000001,null,142.27769999999998,null,null,null,144.642,132.78065000000001,140.74233333333333,{"$f":"+INDEX(D220:AF220,1,aux_pr_ue!$P$2)","v":142.27769999999998},{"$f":"+INDEX(D220:AF220,1,aux_pr_ue!$Q$2)","v":144.642}]
["Bread Wheat 1999/04","Bread Wheat ","1999/04",134.5317,123.83933333333334,null,null,126.5793,129.05474444444448,null,null,152.66430000000003,143.71571,119.13638333333336,null,145.07100000000003,null,null,null,null,null,null,58.516666666666673,131.17400000000001,null,140.91000000000003,null,null,null,144.30500000000001,131.89415,136.96381666666667,{"$f":"+INDEX(D221:AF221,1,aux_pr_ue!$P$2)","v":140.91000000000003},{"$f":"+INDEX(D221:AF221,1,aux_pr_ue!$Q$2)","v":144.30500000000001}]
["Bread Wheat 1999/03","Bread Wheat ","1999/03",131.51750000000001,118.98899999999999,null,null,123.7715,125.99728999999999,null,null,155.26310000000001,143.47179,112.97461666666669,null,138.97566923076923,null,null,null,null,null,null,55.828100000000006,131.17400000000001,null,138.51994999999999,null,null,null,144.30500000000001,130.75510000000003,129.16749999999999,{"$f":"+INDEX(D222:AF222,1,aux_pr_ue!$P$2)","v":138.51994999999999},{"$f":"+INDEX(D222:AF222,1,aux_pr_ue!$Q$2)","v":144.30500000000001}]
["Bread Wheat 1999/02","Bread Wheat ","1999/02",133.70510000000002,118.98899999999999,null,null,123.73220000000001,125.22020000000002,null,null,156.04616666666666,144.11924000000002,111.94176250000001,null,141.18997500000003,null,null,null,null,null,null,null,129.46120000000002,null,138.45165000000003,null,null,null,144.30500000000001,131.54245000000003,134.14950000000002,{"$f":"+INDEX(D223:AF223,1,aux_pr_ue!$P$2)","v":138.45165000000003},{"$f":"+INDEX(D223:AF223,1,aux_pr_ue!$Q$2)","v":144.30500000000001}]
["Bread Wheat 1999/01","Bread Wheat ","1999/01",133.3784,119.91476666666667,null,null,123.07900000000001,124.67544000000001,null,null,155.40922500000002,143.45693999999997,112.73154285714286,null,143.26138461538463,null,null,null,null,null,null,57.14,131.25265000000002,null,138.21805000000001,null,null,null,144.24890000000002,127.4804,138.557875,{"$f":"+INDEX(D224:AF224,1,aux_pr_ue!$P$2)","v":138.21805000000001},{"$f":"+INDEX(D224:AF224,1,aux_pr_ue!$Q$2)","v":144.24890000000002}]
["Bread Wheat 1998/12","Bread Wheat ","1998/12",130.46380000000002,120.48180000000001,null,null,120.3609,122.27224000000001,null,null,135.89258000000001,141.06533999999999,113.9041,null,136.56473846153847,null,null,null,null,null,null,56.659666666666674,127.08690000000001,null,136.59595000000002,null,null,null,142.6859,125.0488,139.4324,{"$f":"+INDEX(D225:AF225,1,aux_pr_ue!$P$2)","v":136.59595000000002},{"$f":"+INDEX(D225:AF225,1,aux_pr_ue!$Q$2)","v":142.6859}]
["Bread Wheat 1998/11","Bread Wheat ","1998/11",132.17010000000002,121.74193333333335,null,null,120.33500000000001,121.65353,null,null,135.27194,141.02006,116.11878571428574,null,138.49286666666669,null,null,null,null,null,null,null,126.10795000000002,null,135.428,null,null,null,142.47130000000001,124.62485000000001,140.72660000000002,{"$f":"+INDEX(D226:AF226,1,aux_pr_ue!$P$2)","v":135.428},{"$f":"+INDEX(D226:AF226,1,aux_pr_ue!$Q$2)","v":142.47130000000001}]
["Bread Wheat 1998/10","Bread Wheat ","1998/10",129.13200000000001,120.40643333333334,null,null,119.31070000000001,119.36021000000002,null,null,135.67099999999999,139.96166000000002,115.77908571428573,null,133.34440000000004,null,null,null,null,null,null,null,124.82760000000002,null,133.5598,null,null,null,142.333,123.40025,130.51558333333332,{"$f":"+INDEX(D227:AF227,1,aux_pr_ue!$P$2)","v":133.5598},{"$f":"+INDEX(D227:AF227,1,aux_pr_ue!$Q$2)","v":142.333}]
["Bread Wheat 1998/09","Bread Wheat ","1998/09",127.53670000000001,118.45346666666667,null,null,119.012,117.05833999999997,null,null,136.25389999999999,141.25290000000001,112.01238750000002,null,129.76664166666666,null,null,null,null,null,null,null,123.95480000000001,null,128.52500000000001,null,null,null,142.40520000000001,124.27105,137.71233333333336,{"$f":"+INDEX(D228:AF228,1,aux_pr_ue!$P$2)","v":128.52500000000001},{"$f":"+INDEX(D228:AF228,1,aux_pr_ue!$Q$2)","v":142.40520000000001}]
["Bread Wheat 1998/08","Bread Wheat ","1998/08",126.8005,115.96395000000001,null,null,null,115.96108999999998,null,null,133.4136,144.18249,112.499325,null,125.43400000000001,null,null,null,null,null,null,null,121.45699999999999,null,127.30830000000002,null,null,null,142.66500000000002,126.60214999999999,131.32427999999999,{"$f":"+INDEX(D229:AF229,1,aux_pr_ue!$P$2)","v":127.30830000000002},{"$f":"+INDEX(D229:AF229,1,aux_pr_ue!$Q$2)","v":142.66500000000002}]
["Bread Wheat 1998/07","Bread Wheat ","1998/07",133.46010000000001,124.59700000000002,null,null,null,123.58033000000003,null,null,141.45806666666667,147.66766000000001,111.47474,null,125.37910833333332,null,null,null,null,null,null,129.49659999999997,null,null,126.90705000000001,null,null,null,null,133.34350000000001,175.65965,{"$f":"+INDEX(D230:AF230,1,aux_pr_ue!$P$2)","v":126.90705000000001},{"$f":"+INDEX(D230:AF230,1,aux_pr_ue!$Q$2)","v":0}]
["Bread Wheat 1998/06","Bread Wheat ","1998/06",139.86660000000001,124.59700000000001,null,null,129.98830000000001,129.54147499999999,null,null,137.25966666666667,149.76078000000001,116.63088333333333,null,140.16639000000004,null,null,null,null,null,null,122.19080000000001,143.05233333333334,null,141.76850000000002,null,null,null,145.982,133.70364999999998,172.49536000000001,{"$f":"+INDEX(D231:AF231,1,aux_pr_ue!$P$2)","v":141.76850000000002},{"$f":"+INDEX(D231:AF231,1,aux_pr_ue!$Q$2)","v":145.982}]
["Bread Wheat 1998/05","Bread Wheat ","1998/05",142.6917,125.38437500000001,null,null,130.91400000000002,132.46827999999999,null,null,152.98699999999999,154.44564000000003,121.25198,null,149.06422000000001,null,null,null,null,null,null,123.73666666666668,131.72756666666666,null,147.13400000000001,null,null,null,145.982,134.74385000000001,172.23403999999999,{"$f":"+INDEX(D232:AF232,1,aux_pr_ue!$P$2)","v":147.13400000000001},{"$f":"+INDEX(D232:AF232,1,aux_pr_ue!$Q$2)","v":145.982}]
["Bread Wheat 1998/04","Bread Wheat ","1998/04",141.71380000000002,127.86247500000002,null,null,130.93030000000002,130.13918000000001,null,null,152.98699999999999,157.10777999999999,123.38570000000001,null,146.67265000000003,null,null,null,null,null,null,null,132.37324999999998,null,150.71539999999999,null,null,null,145.93790000000001,134.7199,150.46256666666667,{"$f":"+INDEX(D233:AF233,1,aux_pr_ue!$P$2)","v":150.71539999999999},{"$f":"+INDEX(D233:AF233,1,aux_pr_ue!$Q$2)","v":145.93790000000001}]
["Bread Wheat 1998/03","Bread Wheat ","1998/03",143.9682,129.73435000000001,null,null,132.0187,130.31120000000001,null,null,164.82496666666668,157.75099,128.06030000000001,null,148.47584000000001,null,null,null,null,null,null,null,131.80155000000002,null,155.6968,null,null,null,145.66395,135.08625000000001,149.76388333333333,{"$f":"+INDEX(D234:AF234,1,aux_pr_ue!$P$2)","v":155.6968},{"$f":"+INDEX(D234:AF234,1,aux_pr_ue!$Q$2)","v":145.66395}]
["Bread Wheat 1998/02","Bread Wheat ","1998/02",144.5453,131.69662500000001,null,null,132.465,131.61237999999997,null,null,168.79766666666669,157.96655000000001,128.4502875,null,151.20664000000002,null,null,null,null,null,null,128.39266666666666,130.1815,null,157.3314,null,null,null,145.982,136.19725,153.39916666666667,{"$f":"+INDEX(D235:AF235,1,aux_pr_ue!$P$2)","v":157.3314},{"$f":"+INDEX(D235:AF235,1,aux_pr_ue!$Q$2)","v":145.982}]
["Bread Wheat 1998/01","Bread Wheat ","1998/01",147.7466,132.53675000000001,null,null,133.1275,131.87713000000002,null,null,169.86599999999999,157.08435000000003,133.13688000000002,null,152.15776363636363,null,null,null,null,null,null,null,128.32933333333332,null,157.6782,null,null,null,145.982,136.72899999999998,154.30220000000003,{"$f":"+INDEX(D236:AF236,1,aux_pr_ue!$P$2)","v":157.6782},{"$f":"+INDEX(D236:AF236,1,aux_pr_ue!$Q$2)","v":145.982}]
["Bread Wheat 1997/12","Bread Wheat ","1997/12",146.41150000000002,132.53675000000001,null,null,133.79,131.69756999999998,null,null,170.38682500000002,155.83956000000001,134.13318333333333,null,150.11685,null,null,null,null,null,null,null,128.17654999999999,null,148.25663333333333,null,null,null,145.57375000000002,136.36430000000001,152.48490000000001,{"$f":"+INDEX(D237:AF237,1,aux_pr_ue!$P$2)","v":148.25663333333333},{"$f":"+INDEX(D237:AF237,1,aux_pr_ue!$Q$2)","v":145.57375000000002}]
["Bread Wheat 1997/11","Bread Wheat ","1997/11",144.0376,132.53675000000001,null,null,133.79,131.3338,null,null,169.86599999999999,155.44536000000002,131.44335000000001,null,149.19351666666668,null,null,null,null,null,null,null,125.89015000000001,null,144.37973333333335,null,null,null,145.48475000000002,136.79875000000001,154.85088000000002,{"$f":"+INDEX(D238:AF238,1,aux_pr_ue!$P$2)","v":144.37973333333335},{"$f":"+INDEX(D238:AF238,1,aux_pr_ue!$Q$2)","v":145.48475000000002}]
["Bread Wheat 1997/10","Bread Wheat ","1997/10",142.5361,130.90125,null,null,133.79,130.27618000000001,null,null,180.42442500000004,154.38859999999997,130.95200000000003,null,146.56614545454548,null,null,null,null,null,null,124.93206666666667,125.82,null,143.93600000000001,null,null,null,145.46630000000002,135.8691,153.81739999999999,{"$f":"+INDEX(D239:AF239,1,aux_pr_ue!$P$2)","v":143.93600000000001},{"$f":"+INDEX(D239:AF239,1,aux_pr_ue!$Q$2)","v":145.46630000000002}]
["Bread Wheat 1997/09","Bread Wheat ","1997/09",140.4452,130.87975,null,null,134.38570000000001,128.80893999999998,null,null,167.72933333333336,154.74086000000003,129.07672500000001,null,144.90985454545455,null,null,null,null,null,null,122.79433333333334,126.05900000000001,null,136.65600000000001,null,null,null,145.63849999999999,131.8501,152.39240000000001,{"$f":"+INDEX(D240:AF240,1,aux_pr_ue!$P$2)","v":136.65600000000001},{"$f":"+INDEX(D240:AF240,1,aux_pr_ue!$Q$2)","v":145.63849999999999}]
["Bread Wheat 1997/08","Bread Wheat ","1997/08",140.70170000000002,131.92575000000002,null,null,139.09360000000001,127.05784000000003,null,null,167.78106666666667,153.90229000000002,129.76861428571428,null,135.18790833333335,null,null,null,null,null,null,null,124.72945000000001,null,138.97673333333333,null,null,null,145.982,131.04665,149.93558333333334,{"$f":"+INDEX(D241:AF241,1,aux_pr_ue!$P$2)","v":138.97673333333333},{"$f":"+INDEX(D241:AF241,1,aux_pr_ue!$Q$2)","v":145.982}]
["Bread Wheat 1997/07","Bread Wheat ","1997/07",142.78460000000001,135.868225,null,null,139.6088,129.19414,null,null,164.8424666666667,155.33716999999999,128.87177142857144,null,140.83236923076927,null,null,null,null,null,null,133.30543333333335,127.70595,null,142.056375,null,null,null,148.471,132.35305,161.44826666666668,{"$f":"+INDEX(D242:AF242,1,aux_pr_ue!$P$2)","v":142.056375},{"$f":"+INDEX(D242:AF242,1,aux_pr_ue!$Q$2)","v":148.471}]
["Bread Wheat 1997/06","Bread Wheat ","1997/06",143.9348,136.41839999999999,null,null,140.001,133.30328750000001,null,null,165.05850000000001,156.97943000000001,130.99864285714287,null,151.90632000000002,null,null,null,null,null,null,134.01483333333337,139.1078,null,153.77846666666667,null,null,null,148.39840000000001,133.66014999999999,150.48830000000001,{"$f":"+INDEX(D243:AF243,1,aux_pr_ue!$P$2)","v":153.77846666666667},{"$f":"+INDEX(D243:AF243,1,aux_pr_ue!$Q$2)","v":148.39840000000001}]
["Bread Wheat 1997/05","Bread Wheat ","1997/05",150.70150000000001,139.95875000000001,null,null,142.8338,138.92190000000002,null,null,null,165.33146000000002,136.49015,null,162.57772222222221,null,null,null,null,null,null,141.55656666666667,144.48105000000001,null,159.76966666666669,null,null,null,148.471,135.79795000000001,148.93804,{"$f":"+INDEX(D244:AF244,1,aux_pr_ue!$P$2)","v":159.76966666666669},{"$f":"+INDEX(D244:AF244,1,aux_pr_ue!$Q$2)","v":148.471}]
["Bread Wheat 1997/04","Bread Wheat ","1997/04",150.8064,143.76632499999999,null,null,143.4674,138.81193999999999,null,null,168.56745000000001,164.37669,143.78427500000001,null,159.11777272727275,null,null,null,null,null,null,144.40260000000001,144.84020000000001,null,165.2355,null,null,null,148.39350000000002,136.78245000000001,151.29772,{"$f":"+INDEX(D245:AF245,1,aux_pr_ue!$P$2)","v":165.2355},{"$f":"+INDEX(D245:AF245,1,aux_pr_ue!$Q$2)","v":148.39350000000002}]
["Bread Wheat 1997/03","Bread Wheat ","1997/03",147.82930000000002,141.816575,null,null,141.7783,136.20186666666666,null,null,169.80189999999999,156.18283000000002,140.67826250000002,null,153.57887499999998,null,null,null,null,null,null,141.63873333333333,144.8793,null,162.22475000000003,null,null,null,396.83625000000001,135.79225000000002,143.38335999999998,{"$f":"+INDEX(D246:AF246,1,aux_pr_ue!$P$2)","v":162.22475000000003},{"$f":"+INDEX(D246:AF246,1,aux_pr_ue!$Q$2)","v":396.83625000000001}]
["Bread Wheat 1997/02","Bread Wheat ","1997/02",147.10400000000001,136.89100000000002,null,null,138.9529,137.15037000000001,null,null,175.98030000000003,154.10508000000002,135.65011250000003,null,151.16910833333336,null,null,null,null,null,null,139.53996666666666,144.90154999999999,null,158.42439999999999,null,null,null,393.90365000000003,135.4349,146.67310000000001,{"$f":"+INDEX(D247:AF247,1,aux_pr_ue!$P$2)","v":158.42439999999999},{"$f":"+INDEX(D247:AF247,1,aux_pr_ue!$Q$2)","v":393.90365000000003}]
["Bread Wheat 1997/01","Bread Wheat ","1997/01",145.7133,138.02257500000002,null,null,138.667,137.98813999999999,null,null,174.09533333333334,154.43986999999998,134.01295999999999,null,153.25852499999999,null,null,null,null,null,null,140.45956666666666,145.32220000000001,null,159.48410000000001,null,null,null,152.44660000000002,136.44575000000003,143.38995,{"$f":"+INDEX(D248:AF248,1,aux_pr_ue!$P$2)","v":159.48410000000001},{"$f":"+INDEX(D248:AF248,1,aux_pr_ue!$Q$2)","v":152.44660000000002}]
["Bread Wheat 1996/12","Bread Wheat ","1996/12",148.70500000000001,137.8047,null,null,138.667,137.49982,null,null,165.19110000000001,155.89642000000003,133.30736250000001,null,151.4180307692308,null,null,null,null,null,null,139.29186666666669,150.4325,null,157.9117,null,null,null,152.21100000000001,137.66050000000001,142.44300000000001,{"$f":"+INDEX(D249:AF249,1,aux_pr_ue!$P$2)","v":157.9117},{"$f":"+INDEX(D249:AF249,1,aux_pr_ue!$Q$2)","v":152.21100000000001}]
["Bread Wheat 1996/11","Bread Wheat ","1996/11",144.9879,138.7236,null,null,138.667,139.40964000000002,null,null,161.98349999999999,155.00611000000001,130.68121111111111,null,150.81904615384616,null,null,null,null,null,null,137.51063333333335,111.79936666666667,null,158.65480000000002,null,null,null,152.22830000000002,138.82995,143.96600000000001,{"$f":"+INDEX(D250:AF250,1,aux_pr_ue!$P$2)","v":158.65480000000002},{"$f":"+INDEX(D250:AF250,1,aux_pr_ue!$Q$2)","v":152.22830000000002}]
["Bread Wheat 1996/10","Bread Wheat ","1996/10",145.90219999999999,139.74622500000001,null,null,140.00069999999999,139.25205000000003,null,null,164.0591,155.81307000000001,133.37546666666665,null,151.11084545454545,null,null,null,null,null,null,137.96586666666667,113.45613333333336,null,155.26859999999999,null,null,null,152.90120000000002,139.88884999999999,145.67190000000002,{"$f":"+INDEX(D251:AF251,1,aux_pr_ue!$P$2)","v":155.26859999999999},{"$f":"+INDEX(D251:AF251,1,aux_pr_ue!$Q$2)","v":152.90120000000002}]
["Bread Wheat 1996/09","Bread Wheat ","1996/09",148.09059999999999,138.98585,null,null,139.0008,144.11094,null,null,166.88463333333334,156.01009000000005,134.21837142857143,null,150.37786666666668,null,null,null,null,null,null,139.18683333333334,152.0393,null,153.14779999999999,null,null,null,153.09480000000002,139.53295,149.29665000000003,{"$f":"+INDEX(D252:AF252,1,aux_pr_ue!$P$2)","v":153.14779999999999},{"$f":"+INDEX(D252:AF252,1,aux_pr_ue!$Q$2)","v":153.09480000000002}]
["Bread Wheat 1996/08","Bread Wheat ","1996/08",150.05340000000001,139.15600000000001,null,null,null,146.90286666666668,null,null,162.51795000000001,156.68218000000002,135.62757142857143,null,150.08124166666667,null,null,null,null,null,null,148.495,151.34380000000002,null,154.06655000000001,null,null,null,152.61799999999999,140.35970000000003,null,{"$f":"+INDEX(D253:AF253,1,aux_pr_ue!$P$2)","v":154.06655000000001},{"$f":"+INDEX(D253:AF253,1,aux_pr_ue!$Q$2)","v":152.61799999999999}]
["Bread Wheat 1996/07","Bread Wheat ","1996/07",154.43530000000001,158.47420000000002,null,null,152.001,154.1876,null,null,158.50029999999998,157.93870999999999,136.96188571428573,null,152.51508333333334,null,null,null,null,null,null,150.77893333333336,148.285,null,159.08602500000001,null,null,null,155.3614,null,147.40143749999999,{"$f":"+INDEX(D254:AF254,1,aux_pr_ue!$P$2)","v":159.08602500000001},{"$f":"+INDEX(D254:AF254,1,aux_pr_ue!$Q$2)","v":155.3614}]
["Bread Wheat 1996/06","Bread Wheat ","1996/06",162.72320000000002,159.41533333333334,null,null,158.7885,172.94917000000001,null,null,164.65666666666667,164.98878999999999,145.93076666666667,null,162.26118,null,null,null,null,null,null,159.32696666666666,null,null,186.44305000000003,null,null,null,155.20310000000001,151.73400000000001,162.49493333333331,{"$f":"+INDEX(D255:AF255,1,aux_pr_ue!$P$2)","v":186.44305000000003},{"$f":"+INDEX(D255:AF255,1,aux_pr_ue!$Q$2)","v":155.20310000000001}]
["Bread Wheat 1996/05","Bread Wheat ","1996/05",168.86600000000001,160.98996666666667,null,null,161.334,180.00475000000003,null,null,null,174.04082,157.15062857142857,null,170.86766000000003,null,null,null,null,null,null,167.12630000000001,148.64675,null,187.03154999999998,null,null,null,156.36700000000002,150.05295000000001,null,{"$f":"+INDEX(D256:AF256,1,aux_pr_ue!$P$2)","v":187.03154999999998},{"$f":"+INDEX(D256:AF256,1,aux_pr_ue!$Q$2)","v":156.36700000000002}]
["Bread Wheat 1996/04","Bread Wheat ","1996/04",162.8272,148.433075,null,null,152.667,156.07772222222221,null,null,176.417,175.97461000000001,161.4514375,null,164.80089999999998,null,null,null,null,null,null,160.65413333333333,149.03600000000003,null,null,null,null,null,153.44935000000001,149.22899999999998,157.97683333333336,{"$f":"+INDEX(D257:AF257,1,aux_pr_ue!$P$2)","v":0},{"$f":"+INDEX(D257:AF257,1,aux_pr_ue!$Q$2)","v":153.44935000000001}]
["Bread Wheat 1996/03","Bread Wheat ","1996/03",157.1438,146.59854999999999,null,null,149.64500000000001,151.22173000000004,null,null,177.67230000000001,177.91328000000001,143.94235,null,161.13843636363637,null,null,null,null,null,null,151.22366666666667,148.64643333333333,null,null,null,null,null,153.93290000000002,149.21965,148.08050000000003,{"$f":"+INDEX(D258:AF258,1,aux_pr_ue!$P$2)","v":0},{"$f":"+INDEX(D258:AF258,1,aux_pr_ue!$Q$2)","v":153.93290000000002}]
["Bread Wheat 1996/02","Bread Wheat ","1996/02",158.27250000000001,147.30244999999999,null,null,149.334,149.41343999999998,null,null,182.57729999999998,179.25130000000004,142.9631,null,164.6936818181818,null,null,null,null,null,null,150.41773333333333,148.26000000000002,null,null,null,null,null,154.15995000000001,149.48484999999999,154.92748333333336,{"$f":"+INDEX(D259:AF259,1,aux_pr_ue!$P$2)","v":0},{"$f":"+INDEX(D259:AF259,1,aux_pr_ue!$Q$2)","v":154.15995000000001}]
["Bread Wheat 1996/01","Bread Wheat ","1996/01",159.1662,148.14217500000001,null,null,148.173,148.77887000000001,null,null,179.24606666666668,181.76164,144.46655714285717,null,163.97164166666667,null,null,null,null,null,null,151.946,147.79300000000001,null,null,null,null,null,155.82005000000001,148.28665000000001,158.66501666666667,{"$f":"+INDEX(D260:AF260,1,aux_pr_ue!$P$2)","v":0},{"$f":"+INDEX(D260:AF260,1,aux_pr_ue!$Q$2)","v":155.82005000000001}]
["Bread Wheat 1995/12","Bread Wheat ","1995/12",162.6258,148.114025,null,null,148.001,146.99539000000001,null,null,175.98820000000001,180.66996,147.43988571428574,null,168.1705,null,null,null,null,null,null,152.27279999999999,146.80906666666669,null,null,null,null,null,151.27183333333335,144.79205000000002,161.66374999999999,{"$f":"+INDEX(D261:AF261,1,aux_pr_ue!$P$2)","v":0},{"$f":"+INDEX(D261:AF261,1,aux_pr_ue!$Q$2)","v":151.27183333333335}]
["Bread Wheat 1995/11","Bread Wheat ","1995/11",159.3561,146.74600000000001,null,null,144.8006,144.26635000000005,null,null,177.15953333333334,179.22192000000001,147.00985555555556,null,169.64766153846156,null,null,null,null,null,null,150.39023333333333,144.7141,null,null,null,null,null,148.18726666666666,145.27715000000001,159.69042857142858,{"$f":"+INDEX(D262:AF262,1,aux_pr_ue!$P$2)","v":0},{"$f":"+INDEX(D262:AF262,1,aux_pr_ue!$Q$2)","v":148.18726666666666}]
["Bread Wheat 1995/10","Bread Wheat ","1995/10",157.4,142.74015,null,null,141.46299999999999,141.29113999999998,null,null,176.55850000000001,179.11031,141.88464285714286,null,166.95004615384616,null,null,null,null,null,null,146.11433333333332,141.20500000000001,null,null,null,null,null,146.22123333333334,139.93030000000002,153.60842000000002,{"$f":"+INDEX(D263:AF263,1,aux_pr_ue!$P$2)","v":0},{"$f":"+INDEX(D263:AF263,1,aux_pr_ue!$Q$2)","v":146.22123333333334}]
["Bread Wheat 1995/09","Bread Wheat ","1995/09",153.58160000000001,140.43857500000001,null,null,141.334,137.79122000000001,null,null,177.61869999999999,176.69529000000003,138.23261249999999,null,163.92968333333334,null,null,null,null,null,null,144.67530000000002,138.36929999999998,null,141.27000000000001,null,null,null,141.72703333333334,139.3716,152.76340000000002,{"$f":"+INDEX(D264:AF264,1,aux_pr_ue!$P$2)","v":141.27000000000001},{"$f":"+INDEX(D264:AF264,1,aux_pr_ue!$Q$2)","v":141.72703333333334}]
["Bread Wheat 1995/08","Bread Wheat ","1995/08",151.3527,134.55507499999999,null,null,null,134.10791,null,null,178.67815999999999,175.57722000000001,134.54330000000002,null,159.6008416666667,null,null,null,null,null,null,142.14099999999999,136.88026666666667,null,154.82336666666666,null,null,null,131.78880000000001,137.68615,148.32816666666668,{"$f":"+INDEX(D265:AF265,1,aux_pr_ue!$P$2)","v":154.82336666666666},{"$f":"+INDEX(D265:AF265,1,aux_pr_ue!$Q$2)","v":131.78880000000001}]
["Bread Wheat 1995/07","Bread Wheat ","1995/07",157.0309,141.054,null,null,149.83799999999999,144.06511111111112,null,null,172.27340000000001,171.09001000000001,137.45862857142859,null,158.54276153846155,null,null,null,null,null,null,151.15343333333337,135.42183333333335,null,157.28597500000001,null,null,null,152.13413333333335,142.2663,170.22696000000002,{"$f":"+INDEX(D266:AF266,1,aux_pr_ue!$P$2)","v":157.28597500000001},{"$f":"+INDEX(D266:AF266,1,aux_pr_ue!$Q$2)","v":152.13413333333335}]
["Bread Wheat 1995/06","Bread Wheat ","1995/06",156.89920000000001,146.40767499999998,null,null,149.83799999999999,151.06406000000001,null,null,161.88620000000003,168.23002000000002,144.72989999999999,null,167.17514999999997,null,null,null,null,null,null,150.41366666666667,146.17973333333336,null,158.86595,null,null,null,152.08436666666668,143.16900000000001,163.73703333333333,{"$f":"+INDEX(D267:AF267,1,aux_pr_ue!$P$2)","v":158.86595},{"$f":"+INDEX(D267:AF267,1,aux_pr_ue!$Q$2)","v":152.08436666666668}]
["Bread Wheat 1995/05","Bread Wheat ","1995/05",154.56900000000002,143.2176,null,null,148.71360000000001,148.24132000000003,null,null,null,165.58447000000001,149.82660000000004,null,163.03845454545456,null,null,null,null,null,null,150.07226666666668,146.14766666666668,null,null,null,null,null,152.84170000000003,142.11995000000002,158.54438333333331,{"$f":"+INDEX(D268:AF268,1,aux_pr_ue!$P$2)","v":0},{"$f":"+INDEX(D268:AF268,1,aux_pr_ue!$Q$2)","v":152.84170000000003}]
["Bread Wheat 1995/04","Bread Wheat ","1995/04",154.36780000000002,139.77902500000002,null,null,148.547,148.86849000000001,null,null,null,165.05383000000003,141.98586250000002,null,166.79520833333336,null,null,null,null,null,null,144.77783333333335,148.36466666666669,null,null,null,null,null,151.79383333333334,140.47714999999999,154.5265,{"$f":"+INDEX(D269:AF269,1,aux_pr_ue!$P$2)","v":0},{"$f":"+INDEX(D269:AF269,1,aux_pr_ue!$Q$2)","v":151.79383333333334}]
["Bread Wheat 1995/03","Bread Wheat ","1995/03",151.1421,140.23259999999999,null,null,147.5051,145.01577000000003,null,null,182.13,167.63200999999998,139.23302857142858,null,164.55581666666669,null,null,null,null,null,null,143.16313333333335,148.52613333333332,null,null,null,null,null,150.29246666666666,142.70715000000001,153.31659999999999,{"$f":"+INDEX(D270:AF270,1,aux_pr_ue!$P$2)","v":0},{"$f":"+INDEX(D270:AF270,1,aux_pr_ue!$Q$2)","v":150.29246666666666}]
["Bread Wheat 1995/02","Bread Wheat ","1995/02",155.828,140.64500000000001,null,null,145.08680000000001,147.11981,null,null,172.53943333333333,170.75971000000001,140.56625714285715,null,168.32956153846155,null,null,null,null,null,null,145.54713333333333,145.1832666666667,null,null,null,null,null,142.44460000000001,142.92275000000001,156.38113333333334,{"$f":"+INDEX(D271:AF271,1,aux_pr_ue!$P$2)","v":0},{"$f":"+INDEX(D271:AF271,1,aux_pr_ue!$Q$2)","v":142.44460000000001}]
["Bread Wheat 1995/01","Bread Wheat ","1995/01",134.07400000000001,120.69375000000001,null,null,121.38900000000001,125.84463000000001,null,null,155.32106666666667,146.44886000000002,117.97470000000001,null,144.75777692307693,null,null,null,null,null,null,124.18503333333335,124.1884,null,null,null,null,null,124.02820000000001,125.1169,132.64267142857142,{"$f":"+INDEX(D272:AF272,1,aux_pr_ue!$P$2)","v":0},{"$f":"+INDEX(D272:AF272,1,aux_pr_ue!$Q$2)","v":124.02820000000001}]
["Bread Wheat 1994/12","Bread Wheat ","1994/12",131.46430000000001,117.12299999999999,null,null,117.67,123.37473000000003,null,null,146.29640000000001,145.91629999999998,116.77433333333335,null,140.98667692307691,null,null,null,null,null,null,121.64333333333333,null,null,null,null,null,null,null,null,130.62916666666666,{"$f":"+INDEX(D273:AF273,1,aux_pr_ue!$P$2)","v":0},{"$f":"+INDEX(D273:AF273,1,aux_pr_ue!$Q$2)","v":0}]
["Bread Wheat 1994/11","Bread Wheat ","1994/11",131.6003,116.70049999999999,null,null,117.67,123.10534,null,null,153.17089999999999,143.12142000000003,115.66448571428573,null,141.20207692307693,null,null,null,null,null,null,121.86973333333333,null,null,116.99300000000001,null,null,null,null,null,131.43608333333336,{"$f":"+INDEX(D274:AF274,1,aux_pr_ue!$P$2)","v":116.99300000000001},{"$f":"+INDEX(D274:AF274,1,aux_pr_ue!$Q$2)","v":0}]
["Bread Wheat 1994/10","Bread Wheat ","1994/10",130.83109999999999,115.61015,null,null,116.63550000000001,122.07352,null,null,151.03195999999997,143.16926000000001,117.451475,null,137.24676923076922,null,null,null,null,null,null,121.85563333333334,null,null,116.99300000000001,null,null,null,null,null,130.11238333333336,{"$f":"+INDEX(D275:AF275,1,aux_pr_ue!$P$2)","v":116.99300000000001},{"$f":"+INDEX(D275:AF275,1,aux_pr_ue!$Q$2)","v":0}]
["Bread Wheat 1994/09","Bread Wheat ","1994/09",113.97970000000001,114.22640000000001,null,null,114.97620000000001,120.59483000000003,null,null,150.70549999999997,139.12820000000002,115.80239000000002,null,134.87736923076923,null,null,null,null,null,null,121.14703333333334,null,null,81.159500000000008,null,null,null,null,null,129.63895714285715,{"$f":"+INDEX(D276:AF276,1,aux_pr_ue!$P$2)","v":81.159500000000008},{"$f":"+INDEX(D276:AF276,1,aux_pr_ue!$Q$2)","v":0}]
["Bread Wheat 1994/08","Bread Wheat ","1994/08",115.9653,111.44786666666668,null,null,null,118.27986000000001,null,null,147.11988000000002,135.87805,115.6616888888889,null,131.40679230769231,null,null,null,null,null,null,118.91333333333334,null,null,119.20959999999999,null,null,null,null,null,129.72145714285713,{"$f":"+INDEX(D277:AF277,1,aux_pr_ue!$P$2)","v":119.20959999999999},{"$f":"+INDEX(D277:AF277,1,aux_pr_ue!$Q$2)","v":0}]
["Bread Wheat 1994/07","Bread Wheat ","1994/07",128.79330000000002,129.6919,null,null,131.577,125.38946000000001,null,null,128.16784000000001,133.26366000000002,113.81486666666667,null,129.75733076923078,null,null,null,null,null,null,128.14126666666667,null,null,120.5801,null,null,null,null,null,133.59141666666667,{"$f":"+INDEX(D278:AF278,1,aux_pr_ue!$P$2)","v":120.5801},{"$f":"+INDEX(D278:AF278,1,aux_pr_ue!$Q$2)","v":0}]
["Bread Wheat 1994/06","Bread Wheat ","1994/06",133.1199,129.90545,null,null,131.577,134.74835555555558,null,null,130.137,134.83310999999998,120.73395555555557,null,137.0834375,null,null,null,null,null,null,136.26393333333334,null,null,null,null,null,null,null,null,138.31926666666666,{"$f":"+INDEX(D279:AF279,1,aux_pr_ue!$P$2)","v":0},{"$f":"+INDEX(D279:AF279,1,aux_pr_ue!$Q$2)","v":0}]
["Bread Wheat 1994/05","Bread Wheat ","1994/05",138.8177,128.14564999999999,null,null,131.577,133.77074999999999,null,null,166.41266666666669,144.66706000000002,128.36386250000001,null,143.42923333333334,null,null,null,null,null,null,135.83950000000002,null,null,null,null,null,null,null,null,138.21900000000002,{"$f":"+INDEX(D280:AF280,1,aux_pr_ue!$P$2)","v":0},{"$f":"+INDEX(D280:AF280,1,aux_pr_ue!$Q$2)","v":0}]
["Bread Wheat 1994/04","Bread Wheat ","1994/04",139.1551,127.35680000000001,null,null,129.54429999999999,130.10539999999997,null,null,170.921875,145.77499,126.56502500000001,null,146.43230000000003,null,null,null,null,null,null,132.73339999999999,null,null,null,null,null,null,null,null,135.05904000000001,{"$f":"+INDEX(D281:AF281,1,aux_pr_ue!$P$2)","v":0},{"$f":"+INDEX(D281:AF281,1,aux_pr_ue!$Q$2)","v":0}]
["Bread Wheat 1994/03","Bread Wheat ","1994/03",137.46720000000002,124.8755,null,null,126.40060000000001,127.10695000000001,null,null,173.44463333333337,145.22049999999999,123.53613333333334,null,146.65409090909091,null,null,null,null,null,null,126.7186,null,null,null,null,null,null,null,null,127.11240000000001,{"$f":"+INDEX(D282:AF282,1,aux_pr_ue!$P$2)","v":0},{"$f":"+INDEX(D282:AF282,1,aux_pr_ue!$Q$2)","v":0}]
["Bread Wheat 1994/02","Bread Wheat ","1994/02",136.9348,124.46310000000001,null,null,124.509,125.50318,null,null,164.65996666666666,148.89115000000001,119.09747142857142,null,149.0488,null,null,null,null,null,null,126.41420000000001,null,null,null,null,null,null,null,null,129.50200000000001,{"$f":"+INDEX(D283:AF283,1,aux_pr_ue!$P$2)","v":0},{"$f":"+INDEX(D283:AF283,1,aux_pr_ue!$Q$2)","v":0}]
["Bread Wheat 1994/01","Bread Wheat ","1994/01",138.75990000000002,123.39952500000001,null,null,122.5013,125.30589000000002,null,null,160.89454999999998,150.34768000000003,123.6133,null,153.84254166666668,null,null,null,null,null,null,126.29300000000001,null,null,null,null,null,null,null,null,132.27450000000002,{"$f":"+INDEX(D284:AF284,1,aux_pr_ue!$P$2)","v":0},{"$f":"+INDEX(D284:AF284,1,aux_pr_ue!$Q$2)","v":0}]
["Bread Wheat 1993/12","Bread Wheat ","1993/12",140.25380000000001,122.70100000000001,null,null,119.81,124.32336000000002,null,null,154.9975,151.15628999999998,125.35088571428571,null,156.86450833333336,null,null,null,null,null,null,124.57226666666668,null,null,null,null,null,null,null,null,137.20534000000004,{"$f":"+INDEX(D285:AF285,1,aux_pr_ue!$P$2)","v":0},{"$f":"+INDEX(D285:AF285,1,aux_pr_ue!$Q$2)","v":0}]
["Bread Wheat 1993/11","Bread Wheat ","1993/11",138.10850000000002,122.3635,null,null,120.23780000000001,124.19661999999998,null,null,154.45850000000002,149.3708,127.75890000000001,null,154.4148363636364,null,null,null,null,null,null,122.52316666666668,null,null,null,null,null,null,null,null,138.91366666666667,{"$f":"+INDEX(D286:AF286,1,aux_pr_ue!$P$2)","v":0},{"$f":"+INDEX(D286:AF286,1,aux_pr_ue!$Q$2)","v":0}]
["Bread Wheat 1993/10","Bread Wheat ","1993/10",136.12300000000002,121.8058,null,null,109.37130000000001,122.17127000000001,null,null,149.51036666666667,146.73741999999999,119.45616000000003,null,152.22075384615385,null,null,null,null,null,null,120.03716666666666,null,null,118.17700000000001,null,null,null,null,null,140.57303333333334,{"$f":"+INDEX(D287:AF287,1,aux_pr_ue!$P$2)","v":118.17700000000001},{"$f":"+INDEX(D287:AF287,1,aux_pr_ue!$Q$2)","v":0}]
["Bread Wheat 1993/09","Bread Wheat ","1993/09",136.27870000000001,121.7741,null,null,109.8587,120.53201000000001,null,null,150.10903333333337,144.88255999999998,119.77293333333336,null,153.18686153846156,null,null,null,null,null,null,119.00873333333334,null,null,123.4525,null,null,null,null,null,141.43065000000001,{"$f":"+INDEX(D288:AF288,1,aux_pr_ue!$P$2)","v":123.4525},{"$f":"+INDEX(D288:AF288,1,aux_pr_ue!$Q$2)","v":0}]
["Bread Wheat 1993/08","Bread Wheat ","1993/08",134.49630000000002,120.58763333333333,null,null,null,118.34957999999999,null,null,144.36949999999999,142.29302000000001,119.45829999999999,null,153.23351538461537,null,null,null,null,null,null,118.83183333333334,null,null,120.49815,null,null,null,null,null,141.07928000000001,{"$f":"+INDEX(D289:AF289,1,aux_pr_ue!$P$2)","v":120.49815},{"$f":"+INDEX(D289:AF289,1,aux_pr_ue!$Q$2)","v":0}]
["Bread Wheat 1993/07","Bread Wheat ","1993/07",145.0778,160.12299999999999,null,null,null,143.51067142857144,null,null,142.41338571428574,151.44944999999998,116.14544000000001,null,145.6745153846154,null,null,null,null,null,null,null,null,null,128.61500000000001,null,null,null,null,null,181.96200000000002,{"$f":"+INDEX(D290:AF290,1,aux_pr_ue!$P$2)","v":128.61500000000001},{"$f":"+INDEX(D290:AF290,1,aux_pr_ue!$Q$2)","v":0}]
["Bread Wheat 1993/06","Bread Wheat ","1993/06",159.36320000000001,160.38907500000002,null,null,null,161.6119625,null,null,null,165.21154000000001,113.44857500000001,null,167.33387500000001,null,null,null,null,null,null,154.61743333333334,null,null,null,null,null,null,null,null,178.82044000000002,{"$f":"+INDEX(D291:AF291,1,aux_pr_ue!$P$2)","v":0},{"$f":"+INDEX(D291:AF291,1,aux_pr_ue!$Q$2)","v":0}]
["Bread Wheat 1993/05","Bread Wheat ","1993/05",175.05719999999999,159.41794999999999,null,null,157.69910000000002,162.94047000000003,null,null,null,190.98285000000001,153.7891888888889,null,188.07062000000002,null,null,null,null,null,null,159.75116666666668,null,null,null,null,null,null,null,null,179.73348333333331,{"$f":"+INDEX(D292:AF292,1,aux_pr_ue!$P$2)","v":0},{"$f":"+INDEX(D292:AF292,1,aux_pr_ue!$Q$2)","v":0}]
["Bread Wheat 1993/04","Bread Wheat ","1993/04",174.84390000000002,158.22045,null,null,155.40780000000001,162.43115,null,null,null,192.34327999999999,161.30721250000002,null,184.24539000000004,null,null,null,null,null,null,158.80879999999999,null,null,null,null,null,null,null,null,176.2045,{"$f":"+INDEX(D293:AF293,1,aux_pr_ue!$P$2)","v":0},{"$f":"+INDEX(D293:AF293,1,aux_pr_ue!$Q$2)","v":0}]
["Bread Wheat 1993/03","Bread Wheat ","1993/03",172.4941,155.65482500000002,null,null,153.8854,161.34777000000003,null,null,171.84833333333336,192.64913000000001,157.67662500000003,null,183.05704000000003,null,null,null,null,null,null,156.99983333333333,null,null,null,null,null,null,null,null,170.77290000000002,{"$f":"+INDEX(D294:AF294,1,aux_pr_ue!$P$2)","v":0},{"$f":"+INDEX(D294:AF294,1,aux_pr_ue!$Q$2)","v":0}]
["Bread Wheat 1993/02","Bread Wheat ","1993/02",170.13740000000001,154.65295000000003,null,null,154.89000000000001,160.06654000000003,null,null,157.96625,190.04336000000001,156.79847777777778,null,178.89613333333332,null,null,null,null,null,null,155.19316666666668,null,null,null,null,null,null,null,null,169.67556250000001,{"$f":"+INDEX(D295:AF295,1,aux_pr_ue!$P$2)","v":0},{"$f":"+INDEX(D295:AF295,1,aux_pr_ue!$Q$2)","v":0}]
["Bread Wheat 1993/01","Bread Wheat ","1993/01",161.69900000000001,154.55243333333337,null,null,155.33770000000001,152.95402000000001,null,null,159.20377999999999,184.93697000000003,158.32663333333335,null,178.56724166666672,null,null,null,null,null,null,156.10713333333334,null,null,null,null,null,null,null,null,172.55743999999999,{"$f":"+INDEX(D296:AF296,1,aux_pr_ue!$P$2)","v":0},{"$f":"+INDEX(D296:AF296,1,aux_pr_ue!$Q$2)","v":0}]
["Bread Wheat 1992/12","Bread Wheat ","1992/12",170.79840000000002,153.92420000000001,null,null,152.84200000000001,157.37551000000002,null,null,null,188.87949,157.57845,null,176.30410833333335,null,null,null,null,null,null,154.56733333333332,null,null,null,null,null,null,null,null,175.90101999999996,{"$f":"+INDEX(D297:AF297,1,aux_pr_ue!$P$2)","v":0},{"$f":"+INDEX(D297:AF297,1,aux_pr_ue!$Q$2)","v":0}]
["Bread Wheat 1992/11","Bread Wheat ","1992/11",170.85210000000001,152.81847500000001,null,null,150.63300000000001,156.19414,null,null,null,189.55024,156.20546249999998,null,174.73831538461536,null,null,null,null,null,null,153.74279999999999,null,null,null,null,null,null,null,null,184.36266000000001,{"$f":"+INDEX(D298:AF298,1,aux_pr_ue!$P$2)","v":0},{"$f":"+INDEX(D298:AF298,1,aux_pr_ue!$Q$2)","v":0}]
["Bread Wheat 1992/10","Bread Wheat ","1992/10",167.01580000000001,150.79523333333333,null,null,147.47120000000001,154.01051000000001,null,null,null,182.49345000000002,152.78070000000002,null,172.53790769230773,null,null,null,null,null,null,151.50469999999999,null,null,null,null,null,null,null,null,182.22776000000005,{"$f":"+INDEX(D299:AF299,1,aux_pr_ue!$P$2)","v":0},{"$f":"+INDEX(D299:AF299,1,aux_pr_ue!$Q$2)","v":0}]
["Bread Wheat 1992/09","Bread Wheat ","1992/09",160.32080000000002,148.75710000000001,null,null,147.0325,151.23919000000001,null,null,163.869,177.52386000000001,151.48993333333331,null,157.80360000000002,null,null,null,null,null,null,150.79766666666669,null,null,139.19416666666666,null,null,null,null,null,177.3398,{"$f":"+INDEX(D300:AF300,1,aux_pr_ue!$P$2)","v":139.19416666666666},{"$f":"+INDEX(D300:AF300,1,aux_pr_ue!$Q$2)","v":0}]
["Bread Wheat 1992/08","Bread Wheat ","1992/08",154.26580000000001,145.00415000000001,null,null,147.83000000000001,148.57438999999999,null,null,159.01400000000001,174.85341,147.88760000000002,null,154.58520000000001,null,null,null,null,null,null,147.95000000000002,null,null,138.95166666666668,null,null,null,null,null,166.90402,{"$f":"+INDEX(D301:AF301,1,aux_pr_ue!$P$2)","v":138.95166666666668},{"$f":"+INDEX(D301:AF301,1,aux_pr_ue!$Q$2)","v":0}]
["Bread Wheat 1992/07","Bread Wheat ","1992/07",156.47020000000001,161.08474999999999,null,null,null,148.94081,null,null,157.49650000000003,177.18836000000002,141.17196666666666,null,153.42384999999999,null,null,null,null,null,null,145.5889,null,null,138.95166666666668,null,null,null,null,null,167.31692000000001,{"$f":"+INDEX(D302:AF302,1,aux_pr_ue!$P$2)","v":138.95166666666668},{"$f":"+INDEX(D302:AF302,1,aux_pr_ue!$Q$2)","v":0}]
["Bread Wheat 1992/06","Bread Wheat ","1992/06",168.99100000000001,163.81380000000001,null,null,158.41,161.98873750000001,null,null,null,182.07447000000005,154.25881428571432,null,168.05540000000002,null,null,null,null,null,null,162.0761,null,null,null,null,null,null,null,null,168.34620000000001,{"$f":"+INDEX(D303:AF303,1,aux_pr_ue!$P$2)","v":0},{"$f":"+INDEX(D303:AF303,1,aux_pr_ue!$Q$2)","v":0}]
["Bread Wheat 1992/05","Bread Wheat ","1992/05",175.07400000000001,164.30597499999999,null,null,159.35040000000001,168.35384000000002,null,null,null,190.07160999999999,164.58298571428574,null,180.98553000000001,null,null,null,null,null,null,166.32926666666665,null,null,null,null,null,null,null,null,173.56925000000001,{"$f":"+INDEX(D304:AF304,1,aux_pr_ue!$P$2)","v":0},{"$f":"+INDEX(D304:AF304,1,aux_pr_ue!$Q$2)","v":0}]
["Bread Wheat 1992/04","Bread Wheat ","1992/04",176.20490000000001,163.78225,null,null,155.06900000000002,167.07238999999998,null,null,null,194.68652,164.66382222222219,null,181.78721818181816,null,null,null,null,null,null,166.16623333333334,null,null,null,null,null,null,null,null,173.94318333333331,{"$f":"+INDEX(D305:AF305,1,aux_pr_ue!$P$2)","v":0},{"$f":"+INDEX(D305:AF305,1,aux_pr_ue!$Q$2)","v":0}]
["Bread Wheat 1992/03","Bread Wheat ","1992/03",176.82940000000002,162.721925,null,null,157.58610000000002,166.05571,null,null,null,196.13576,165.48530000000002,null,182.59717272727272,null,null,null,null,null,null,166.29903333333334,null,null,null,null,null,null,null,null,177.39784999999998,{"$f":"+INDEX(D306:AF306,1,aux_pr_ue!$P$2)","v":0},{"$f":"+INDEX(D306:AF306,1,aux_pr_ue!$Q$2)","v":0}]
["Bread Wheat 1992/02","Bread Wheat ","1992/02",177.50880000000001,161.6797,null,null,159.77270000000001,164.76692,null,null,220.13200000000001,201.91944999999998,165.542575,null,183.96508181818183,null,null,null,null,null,null,166.11573333333334,null,null,null,null,null,null,null,null,184.04781666666668,{"$f":"+INDEX(D307:AF307,1,aux_pr_ue!$P$2)","v":0},{"$f":"+INDEX(D307:AF307,1,aux_pr_ue!$Q$2)","v":0}]
["Bread Wheat 1992/01","Bread Wheat ","1992/01",176.77030000000002,161.71997500000001,null,null,159.505,162.93859000000003,null,null,171.82410000000002,202.51609999999999,163.71520000000001,null,183.86557272727273,null,null,null,null,null,null,166.44463333333337,null,null,null,null,null,null,null,null,184.09188333333336,{"$f":"+INDEX(D308:AF308,1,aux_pr_ue!$P$2)","v":0},{"$f":"+INDEX(D308:AF308,1,aux_pr_ue!$Q$2)","v":0}]
["Bread Wheat 1991/12","Bread Wheat ","1991/12",179.7663,160.8955,null,null,158.90090000000001,159.15932000000004,null,null,null,198.87199999999999,164.29553749999999,null,181.8366,null,null,null,null,null,null,166.50533333333337,null,null,null,null,null,null,null,null,182.9162666666667,{"$f":"+INDEX(D309:AF309,1,aux_pr_ue!$P$2)","v":0},{"$f":"+INDEX(D309:AF309,1,aux_pr_ue!$Q$2)","v":0}]
["Bread Wheat 1991/11","Bread Wheat ","1991/11",174.53460000000001,158.99020000000002,null,null,154.86450000000002,157.96080000000001,null,null,170.553,196.47595000000001,158.95700000000002,null,179.97658181818184,null,null,null,null,null,null,163.48963333333333,null,null,null,null,null,null,null,null,172.39160000000001,{"$f":"+INDEX(D310:AF310,1,aux_pr_ue!$P$2)","v":0},{"$f":"+INDEX(D310:AF310,1,aux_pr_ue!$Q$2)","v":0}]
["Bread Wheat 1991/10","Bread Wheat ","1991/10",171.0608,155.56440000000001,null,null,153.30850000000001,155.31170000000003,null,null,167.74380000000002,193.67912000000001,157.15503750000002,null,177.17093333333335,null,null,null,null,null,null,160.26703333333333,null,null,null,null,null,null,null,null,174.73267142857145,{"$f":"+INDEX(D311:AF311,1,aux_pr_ue!$P$2)","v":0},{"$f":"+INDEX(D311:AF311,1,aux_pr_ue!$Q$2)","v":0}]
["Bread Wheat 1991/09","Bread Wheat ","1991/09",166.23400000000001,153.4014,null,null,149.74280000000002,151.06348,null,null,161.41299999999998,189.96755999999999,154.69173749999999,null,174.51686666666663,null,null,null,null,null,null,155.25256666666667,null,null,null,null,null,null,null,null,169.27936666666668,{"$f":"+INDEX(D312:AF312,1,aux_pr_ue!$P$2)","v":0},{"$f":"+INDEX(D312:AF312,1,aux_pr_ue!$Q$2)","v":0}]
["Bread Wheat 1991/08","Bread Wheat ","1991/08",159.33190000000002,149.82600000000002,null,null,null,148.3468,null,null,161.83519999999999,183.57981000000001,150.92544999999998,null,170.63444166666667,null,null,null,null,null,null,148.50743333333332,null,null,null,null,null,null,null,null,162.30310000000003,{"$f":"+INDEX(D313:AF313,1,aux_pr_ue!$P$2)","v":0},{"$f":"+INDEX(D313:AF313,1,aux_pr_ue!$Q$2)","v":0}]
["Bread Wheat 1991/07","Bread Wheat ","1991/07",167.07410000000002,178.06209999999999,null,null,null,170.46954444444447,null,null,162.80392499999999,178.59198000000001,147.35852500000001,null,170.24912500000002,null,null,null,null,null,null,148.46396666666666,null,null,null,null,null,null,null,null,177.53948,{"$f":"+INDEX(D314:AF314,1,aux_pr_ue!$P$2)","v":0},{"$f":"+INDEX(D314:AF314,1,aux_pr_ue!$Q$2)","v":0}]
["Bread Wheat 1991/06","Bread Wheat ","1991/06",180.5248,178.71285,null,null,174.63290000000001,176.11578888888889,null,null,165.47266666666667,186.59297000000001,170.92302727272727,null,208.37106250000002,null,null,null,null,null,null,173.42016666666669,null,null,null,null,null,null,null,null,186.83030000000002,{"$f":"+INDEX(D315:AF315,1,aux_pr_ue!$P$2)","v":0},{"$f":"+INDEX(D315:AF315,1,aux_pr_ue!$Q$2)","v":0}]
["Bread Wheat 1991/05","Bread Wheat ","1991/05",187.10770000000002,172.96112499999998,null,null,175.7961,173.54348888888887,null,null,null,198.61203999999998,178.4985125,null,199.40241,null,null,null,null,null,null,180.49390000000002,null,null,null,null,null,null,null,null,189.413025,{"$f":"+INDEX(D316:AF316,1,aux_pr_ue!$P$2)","v":0},{"$f":"+INDEX(D316:AF316,1,aux_pr_ue!$Q$2)","v":0}]
["Bread Wheat 1991/04","Bread Wheat ","1991/04",180.87310000000002,168.88704999999999,null,null,170.9374,169.25202000000002,null,null,null,197.04104000000001,171.54857000000001,null,193.90588888888888,null,null,null,null,null,null,174.55933333333337,null,null,null,null,null,null,null,null,188.53487999999999,{"$f":"+INDEX(D317:AF317,1,aux_pr_ue!$P$2)","v":0},{"$f":"+INDEX(D317:AF317,1,aux_pr_ue!$Q$2)","v":0}]
["Bread Wheat 1991/03","Bread Wheat ","1991/03",177.38150000000002,161.576325,null,null,162.04740000000001,165.79543000000001,null,null,195.251,191.75844000000001,164.68597000000003,null,188.29127,null,null,null,null,null,null,168.82130000000001,null,null,null,null,null,null,null,null,179.61855,{"$f":"+INDEX(D318:AF318,1,aux_pr_ue!$P$2)","v":0},{"$f":"+INDEX(D318:AF318,1,aux_pr_ue!$Q$2)","v":0}]
["Bread Wheat 1991/02","Bread Wheat ","1991/02",171.67420000000001,159.22790000000001,null,null,156.36160000000001,164.53044444444444,null,null,192.0538,190.48800999999997,160.80388181818185,null,184.54564545454545,null,null,null,null,null,null,163.75653333333332,null,null,null,null,null,null,null,null,173.64710000000002,{"$f":"+INDEX(D319:AF319,1,aux_pr_ue!$P$2)","v":0},{"$f":"+INDEX(D319:AF319,1,aux_pr_ue!$Q$2)","v":0}]
["Bread Wheat 1991/01","Bread Wheat ","1991/01",170.7516,159.35726666666667,null,null,154.4692,162.86935555555556,null,null,null,190.60388333333336,157.74723999999998,null,187.69685384615389,null,null,null,null,null,null,162.94196666666667,null,null,null,null,null,null,null,null,171.30241666666669,{"$f":"+INDEX(D320:AF320,1,aux_pr_ue!$P$2)","v":0},{"$f":"+INDEX(D320:AF320,1,aux_pr_ue!$Q$2)","v":0}]
["Feed Wheat2017/07","Feed Wheat","2017/07",158.4716,169.16670000000002,136.70171999999999,142.1524,null,163.17065000000002,148.0489,181.9032,158.90417500000001,null,154.53395,null,null,null,171.6403,145.24260000000001,null,133.34479999999999,null,173.8065,157.5,175.52570000000003,175.84272499999997,129.65390000000002,null,123.4345,null,null,169.6739,{"$f":"+INDEX(D321:AF321,1,aux_pr_ue!$P$2)","v":175.84272499999997},{"$f":"+INDEX(D321:AF321,1,aux_pr_ue!$Q$2)","v":0}]
["Feed Wheat2017/06","Feed Wheat","2017/06",159.7602,167.5333,143.86268000000001,147.94810000000001,null,169.1066888888889,151.7047,179.87776666666664,162.69999999999999,null,153.43279999999999,null,null,null,154.09479999999999,147.81100000000001,null,136.09975000000003,null,175.13330000000002,154,175.53243333333333,179.18889999999999,137.40553333333335,null,123.91,null,null,169.94965000000002,{"$f":"+INDEX(D322:AF322,1,aux_pr_ue!$P$2)","v":179.18889999999999},{"$f":"+INDEX(D322:AF322,1,aux_pr_ue!$Q$2)","v":0}]
["Feed Wheat2017/05","Feed Wheat","2017/05",160.90560000000002,167.67740000000001,141.609375,144.4564,null,168.85086250000001,153.29519999999999,180.72043333333332,162,null,152.91630000000001,null,null,null,142.06030000000001,143.00550000000001,null,132.88825000000003,null,174.7903,154.85290000000001,170.2166,179.66670000000002,140.14440000000002,null,130.285,null,null,176.34161666666668,{"$f":"+INDEX(D323:AF323,1,aux_pr_ue!$P$2)","v":179.66670000000002},{"$f":"+INDEX(D323:AF323,1,aux_pr_ue!$Q$2)","v":0}]
["Feed Wheat2017/04","Feed Wheat","2017/04",160.39920000000001,163.76670000000001,140.99087500000002,null,null,164.89915555555558,151.9333,180.38886666666667,172.96665000000002,null,146.108,null,null,null,146.61803333333333,138.57930000000002,null,139.41725000000002,null,174.23330000000001,151.5,165.58713333333336,176.5,138.22513333333333,null,127.43,153.67000000000002,null,176.90657142857143,{"$f":"+INDEX(D324:AF324,1,aux_pr_ue!$P$2)","v":176.5},{"$f":"+INDEX(D324:AF324,1,aux_pr_ue!$Q$2)","v":153.67000000000002}]
["Feed Wheat2017/03","Feed Wheat","2017/03",158.72040000000001,167.32259999999999,140.681625,143.72300000000001,null,164.50496000000004,150.54230000000001,178.16126666666665,165,null,152.67080000000001,null,null,null,148.43236666666667,143.3794,null,139.58154999999999,null,176.8871,149.75,161.51182500000002,181.45160000000001,136.47936666666666,null,122.02,null,null,171.87108571428575,{"$f":"+INDEX(D325:AF325,1,aux_pr_ue!$P$2)","v":181.45160000000001},{"$f":"+INDEX(D325:AF325,1,aux_pr_ue!$Q$2)","v":0}]
["Feed Wheat2017/02","Feed Wheat","2017/02",156.6825,169.6071,135.14015999999998,140.09880000000001,null,162.28948000000003,147.00540000000001,176.07140000000001,147.1071,null,156.10040000000001,null,null,null,143.71886666666668,140.47069999999999,null,139.65185,null,178.1429,145,156.22242500000002,182.67860000000002,146.729175,null,108.43,null,null,174.7945285714286,{"$f":"+INDEX(D326:AF326,1,aux_pr_ue!$P$2)","v":182.67860000000002},{"$f":"+INDEX(D326:AF326,1,aux_pr_ue!$Q$2)","v":0}]
["Feed Wheat2017/01","Feed Wheat","2017/01",154.72480000000002,170.54840000000002,133.43600000000001,null,null,161.64346666666665,144.24710000000002,172.45163333333335,154.78125,null,157.0583,null,null,null,137.55260000000001,133.709,null,134.4367,null,179.1935,null,151.697125,182.9032,139.53365000000002,null,111.7367,null,null,171.52728571428568,{"$f":"+INDEX(D327:AF327,1,aux_pr_ue!$P$2)","v":182.9032},{"$f":"+INDEX(D327:AF327,1,aux_pr_ue!$Q$2)","v":0}]
["Feed Wheat2016/12","Feed Wheat","2016/12",149.1703,169,135.98371666666665,124.74560000000001,null,158.02276999999998,135.75450000000001,166.26883333333333,153.56,null,151.05440000000002,null,null,null,131.1242,131.51519999999999,null,127.94235,null,176.0197,142.5,144.93197500000002,179.8065,143.39779999999999,null,105.25960000000001,null,null,166.52246666666667,{"$f":"+INDEX(D328:AF328,1,aux_pr_ue!$P$2)","v":179.8065},{"$f":"+INDEX(D328:AF328,1,aux_pr_ue!$Q$2)","v":0}]
["Feed Wheat2016/11","Feed Wheat","2016/11",146.06300000000002,166.33330000000001,131.97213333333335,125.8464,null,156.14796999999999,131.625,165.18886666666666,148.33335,null,153.63670000000002,null,null,null,128.2012,126.07270000000001,null,125.31536666666666,null,174.4333,132.42310000000001,142.43896666666669,175,128.81033333333335,null,102.78370000000001,null,null,162.1086,{"$f":"+INDEX(D329:AF329,1,aux_pr_ue!$P$2)","v":175},{"$f":"+INDEX(D329:AF329,1,aux_pr_ue!$Q$2)","v":0}]
["Feed Wheat2016/10","Feed Wheat","2016/10",140.44450000000001,159.48390000000001,127.81115,124.0368,null,151.72928000000002,125.3913,161.47309999999999,139.75805,null,148.81479999999999,null,null,null,123.75445000000001,114.3129,null,123.34873333333333,null,167.7097,129.23330000000001,142.19673333333336,170.2903,129.96780000000001,null,102.4803,null,null,149.65766666666667,{"$f":"+INDEX(D330:AF330,1,aux_pr_ue!$P$2)","v":170.2903},{"$f":"+INDEX(D330:AF330,1,aux_pr_ue!$Q$2)","v":0}]
["Feed Wheat2016/09","Feed Wheat","2016/09",137.85550000000001,156.70000000000002,127.25678333333333,121.64490000000001,null,147.10040000000001,128.12730000000002,160.82223333333334,135.9333,null,146.20269999999999,null,null,null,120.27337500000002,108.94800000000001,null,123.26706666666666,null,159.83330000000001,125.41665,138.67593333333335,165.65,129.45286666666667,null,105.7467,null,null,146.46095,{"$f":"+INDEX(D331:AF331,1,aux_pr_ue!$P$2)","v":165.65},{"$f":"+INDEX(D331:AF331,1,aux_pr_ue!$Q$2)","v":0}]
["Feed Wheat2016/08","Feed Wheat","2016/08",138.4563,160.29410000000001,126.2525,126.11030000000001,null,147.46338,133.7774,160.46236666666667,135.9032,null,148.55500000000001,null,null,null,127.534825,114.22,null,118.60884999999999,null,161.5,122.5484,139.20333333333335,168.54840000000002,133.416425,null,105.51480000000001,null,null,146.61231666666666,{"$f":"+INDEX(D332:AF332,1,aux_pr_ue!$P$2)","v":168.54840000000002},{"$f":"+INDEX(D332:AF332,1,aux_pr_ue!$Q$2)","v":0}]
["Feed Wheat2016/07","Feed Wheat","2016/07",138.48690000000002,159.375,125.48035999999999,130.90450000000001,null,141.58192000000003,129.74420000000001,157.60213333333334,137.66670000000002,null,138.19540000000001,null,null,null,123.88753333333334,125.2471,null,120.50103333333334,null,158.67740000000001,120.25,146.58736666666667,170,126.51066666666667,null,113.7094,null,null,140.49578333333332,{"$f":"+INDEX(D333:AF333,1,aux_pr_ue!$P$2)","v":170},{"$f":"+INDEX(D333:AF333,1,aux_pr_ue!$Q$2)","v":0}]
["Feed Wheat2016/06","Feed Wheat","2016/06",144.60650000000001,159.20000000000002,133.20207500000001,135.13670000000002,null,148.27406000000002,129.5667,161.4222,171.53334999999998,null,147.31,null,null,null,128.39976666666666,131.15729999999999,null,134.85186666666667,null,162.75,139.625,147.81616666666667,175.33330000000001,137.93753333333336,null,119.67760000000001,null,null,144.43135714285714,{"$f":"+INDEX(D334:AF334,1,aux_pr_ue!$P$2)","v":175.33330000000001},{"$f":"+INDEX(D334:AF334,1,aux_pr_ue!$Q$2)","v":0}]
["Feed Wheat2016/05","Feed Wheat","2016/05",144.32920000000001,151.64520000000002,131.10300000000001,136.38140000000001,null,146.702,128.80610000000001,160.4624,179.03225,null,134.91679999999999,null,null,null,123.14393333333334,131.56610000000001,null,135.89660000000001,null,158.53230000000002,135.5,145.92533333333336,174.0625,141.27799999999999,null,124.42,null,null,142.37207500000002,{"$f":"+INDEX(D335:AF335,1,aux_pr_ue!$P$2)","v":174.0625},{"$f":"+INDEX(D335:AF335,1,aux_pr_ue!$Q$2)","v":0}]
["Feed Wheat2016/04","Feed Wheat","2016/04",142.8553,148.5333,129.01792499999999,null,null,144.50064,125.87830000000001,158.84443333333334,181.2174,null,132.85740000000001,null,null,null,124.08206666666668,129.97730000000001,null,134.80376666666669,null,153.15,135.5,147.07186666666666,168.16670000000002,146.68687499999999,null,119.61150000000001,null,null,138.2100375,{"$f":"+INDEX(D336:AF336,1,aux_pr_ue!$P$2)","v":168.16670000000002},{"$f":"+INDEX(D336:AF336,1,aux_pr_ue!$Q$2)","v":0}]
["Feed Wheat2016/03","Feed Wheat","2016/03",140.6746,145.07589999999999,128.85575,130.7654,null,141.7518,125.16965,155.50540000000001,180.54545000000002,null,132.71780000000001,null,null,null,123.36553333333335,134.17260000000002,null,137.46559999999999,null,152.06450000000001,132.5,147.6636,166.25810000000001,141.415875,null,123.4923,137,null,137.24312499999999,{"$f":"+INDEX(D337:AF337,1,aux_pr_ue!$P$2)","v":166.25810000000001},{"$f":"+INDEX(D337:AF337,1,aux_pr_ue!$Q$2)","v":137}]
["Feed Wheat2016/02","Feed Wheat","2016/02",143.13,146.55170000000001,138.3374,131.9924,null,145.22568000000001,136.1027,158.14940000000001,null,null,137.51,null,null,null,114.49250000000001,130.8597,null,145.78673333333333,null,151.56900000000002,148.25,148.5429,168.72410000000002,142.04040000000001,null,125.0887,null,null,140.53097142857143,{"$f":"+INDEX(D338:AF338,1,aux_pr_ue!$P$2)","v":168.72410000000002},{"$f":"+INDEX(D338:AF338,1,aux_pr_ue!$Q$2)","v":0}]
["Feed Wheat2016/01","Feed Wheat","2016/01",151.57599999999999,160,143.16390000000001,141.36535000000001,null,159.17372499999999,137.3623,166.60213333333334,null,null,null,null,null,null,130.6054,144.79250000000002,null,150.35150000000002,null,162.12900000000002,152.5,157.34383333333335,177.32260000000002,154.86834999999999,null,130.66500000000002,null,null,145.52391428571428,{"$f":"+INDEX(D339:AF339,1,aux_pr_ue!$P$2)","v":177.32260000000002},{"$f":"+INDEX(D339:AF339,1,aux_pr_ue!$Q$2)","v":0}]
["Feed Wheat2015/12","Feed Wheat","2015/12",156.44490000000002,168.25810000000001,144.44215000000003,145.57505,null,165.93662222222221,142.6858,170.35483333333335,null,null,null,null,null,null,129.839675,155.5035,null,149.34290000000001,null,171.06450000000001,160.5,161.41213333333334,186,156.22884999999999,null,131.62350000000001,null,null,155.20120000000003,{"$f":"+INDEX(D340:AF340,1,aux_pr_ue!$P$2)","v":186},{"$f":"+INDEX(D340:AF340,1,aux_pr_ue!$Q$2)","v":0}]
["Feed Wheat2015/11","Feed Wheat","2015/11",154.78370000000001,172.57580000000002,144.88372000000001,148.07774999999998,null,167.98344,141.26910000000001,170.98990000000003,null,null,null,null,null,null,132.69003333333333,146.43,null,148.47966666666667,null,178.9545,155.5,159.706625,188.84210000000002,155.56650000000002,null,128.4248,null,null,159.55575000000002,{"$f":"+INDEX(D341:AF341,1,aux_pr_ue!$P$2)","v":188.84210000000002},{"$f":"+INDEX(D341:AF341,1,aux_pr_ue!$Q$2)","v":0}]
["Feed Wheat2015/10","Feed Wheat","2015/10",153.66160000000002,168.6129,141.58465000000001,144.7329,null,164.5029111111111,140.44970000000001,170.78493333333336,null,null,null,null,null,null,126.03270000000001,130.33260000000001,null,140.55980000000002,null,174.83870000000002,154.88235,156.41137500000002,185.48390000000001,147.18276666666668,null,127.7706,null,null,156.8820125,{"$f":"+INDEX(D342:AF342,1,aux_pr_ue!$P$2)","v":185.48390000000001},{"$f":"+INDEX(D342:AF342,1,aux_pr_ue!$Q$2)","v":0}]
["Feed Wheat2015/09","Feed Wheat","2015/09",150.60330000000002,162.0333,137.78412500000002,142.83834999999999,null,161.6863888888889,137.649,168.53330000000003,null,null,null,null,null,null,129.23567500000001,125.41430000000001,null,141.9316,null,166.4667,151.75,156.76905000000002,180.76085,153.04955000000001,null,128.2723,null,null,149.44967142857146,{"$f":"+INDEX(D343:AF343,1,aux_pr_ue!$P$2)","v":180.76085},{"$f":"+INDEX(D343:AF343,1,aux_pr_ue!$Q$2)","v":0}]
["Feed Wheat2015/08","Feed Wheat","2015/08",155.9615,167.07689999999999,144.38030000000001,143.26204999999999,null,164.81069000000002,148.4639,178.66666666666666,null,null,null,null,null,null,140.54595,134.6942,null,144.44649999999999,null,172.53230000000002,152.125,152.88432499999999,185.9375,151.30663333333334,null,128.80420000000001,null,null,159.91106250000001,{"$f":"+INDEX(D344:AF344,1,aux_pr_ue!$P$2)","v":185.9375},{"$f":"+INDEX(D344:AF344,1,aux_pr_ue!$Q$2)","v":0}]
["Feed Wheat2015/07","Feed Wheat","2015/07",164.79830000000001,188.34480000000002,140.58032857142859,141.90440000000001,null,173.44897000000003,157.9358,186.92473333333336,null,null,null,null,null,null,152.5325,159.7655,null,145.0001,null,187.6129,null,163.58605,189.39515,149.23773333333335,null,127.22420000000001,null,null,176.47272857142858,{"$f":"+INDEX(D345:AF345,1,aux_pr_ue!$P$2)","v":189.39515},{"$f":"+INDEX(D345:AF345,1,aux_pr_ue!$Q$2)","v":0}]
["Feed Wheat2015/06","Feed Wheat","2015/06",158.63890000000001,172.7,139.69841666666667,140.44139999999999,null,167.21796999999998,145.3597,179.33333333333334,null,null,150.46530000000001,null,null,null,140.35117500000001,157.57470000000001,null,143.1694,null,183.0667,149.75,152.63390000000001,187.0667,169.11753333333334,null,125.81960000000001,null,null,167.28393750000004,{"$f":"+INDEX(D346:AF346,1,aux_pr_ue!$P$2)","v":187.0667},{"$f":"+INDEX(D346:AF346,1,aux_pr_ue!$Q$2)","v":0}]
["Feed Wheat2015/05","Feed Wheat","2015/05",157.54689999999999,170.1935,141.63942857142857,144.52445,null,164.24036000000001,148.2183,176.56989999999999,null,null,145.8717,null,null,null,142.329475,151.74350000000001,null,150.84613333333334,null,175,151.5,157.82102500000002,189.22580000000002,163.82933333333332,null,126.05160000000001,null,null,159.46405999999999,{"$f":"+INDEX(D347:AF347,1,aux_pr_ue!$P$2)","v":189.22580000000002},{"$f":"+INDEX(D347:AF347,1,aux_pr_ue!$Q$2)","v":0}]
["Feed Wheat2015/04","Feed Wheat","2015/04",163.7259,179.16670000000002,146.97185714285715,145.74400000000003,null,170.11867999999998,150.7287,180.9,null,null,155.28300000000002,null,null,null,155.82916666666668,156.69830000000002,null,157.79140000000001,null,181.29170000000002,152.5,165.21855000000002,194.0667,161.45786666666666,null,125.53,null,null,171.47309999999999,{"$f":"+INDEX(D348:AF348,1,aux_pr_ue!$P$2)","v":194.0667},{"$f":"+INDEX(D348:AF348,1,aux_pr_ue!$Q$2)","v":0}]
["Feed Wheat2015/03","Feed Wheat","2015/03",163.6807,178.4194,147.98942857142856,148.0727,null,169.97435000000002,156.06059999999999,177.59140000000002,null,null,164.2919,null,null,null,147.56387500000002,154.1335,null,157.346,null,184.77420000000001,157.5,164.03092500000002,193.3871,161.76473333333334,null,null,null,null,169.00501666666668,{"$f":"+INDEX(D349:AF349,1,aux_pr_ue!$P$2)","v":193.3871},{"$f":"+INDEX(D349:AF349,1,aux_pr_ue!$Q$2)","v":0}]
["Feed Wheat2015/02","Feed Wheat","2015/02",164.4571,177.8929,149.3953875,146.17075,null,171.04713000000004,154.84890000000001,177.0952666666667,null,null,166.62110000000001,null,null,null,153.86000000000001,155.7004,null,155.69163333333336,null,181.58930000000001,162.5,168.22525000000002,201.32140000000001,159.27626666666669,null,null,null,null,169.49404285714289,{"$f":"+INDEX(D350:AF350,1,aux_pr_ue!$P$2)","v":201.32140000000001},{"$f":"+INDEX(D350:AF350,1,aux_pr_ue!$Q$2)","v":0}]
["Feed Wheat2015/01","Feed Wheat","2015/01",164.37950000000001,181.23185000000001,147.2680125,138.7773,null,175.03503000000001,160.56380000000001,181.02153333333334,null,null,166.7345,null,null,null,160.28383333333332,164.4616,null,150.86975000000001,null,184.75810000000001,157.5,157.54395,206.48390000000001,153.03399999999999,null,133.43,null,null,170.96791666666664,{"$f":"+INDEX(D351:AF351,1,aux_pr_ue!$P$2)","v":206.48390000000001},{"$f":"+INDEX(D351:AF351,1,aux_pr_ue!$Q$2)","v":0}]
["Feed Wheat2014/12","Feed Wheat","2014/12",157.08850000000001,178.08330000000001,139.06341666666665,132.39510000000001,null,170.41354000000001,152.2013,179.80643333333333,null,null,156.65,null,null,null,146.34252500000002,146.25830000000002,null,137.88550000000001,null,184.95830000000001,157.07499999999999,153.50285000000002,202.25810000000001,145.8202666666667,null,110.72,null,null,167.72422,{"$f":"+INDEX(D352:AF352,1,aux_pr_ue!$P$2)","v":202.25810000000001},{"$f":"+INDEX(D352:AF352,1,aux_pr_ue!$Q$2)","v":0}]
["Feed Wheat2014/11","Feed Wheat","2014/11",149.57810000000001,166.13330000000002,134.4718,126.92305000000002,null,158.76500000000001,138.22499999999999,169.25553333333332,null,null,150.55330000000001,null,null,null,129.52584999999999,129.73770000000002,null,136.8964,null,174.0667,146.05035000000001,147.22822500000001,185.4667,138.93223333333336,null,116.94130000000001,null,null,160.87307500000003,{"$f":"+INDEX(D353:AF353,1,aux_pr_ue!$P$2)","v":185.4667},{"$f":"+INDEX(D353:AF353,1,aux_pr_ue!$Q$2)","v":0}]
["Feed Wheat2014/10","Feed Wheat","2014/10",140.8853,152.1935,132.79521428571431,122.7757,null,144.68986000000001,126.58770000000001,157.92473333333336,null,null,134.7038,null,null,null,122.17100000000002,118.11120000000001,null,134.4462,null,160.03230000000002,132.77175,143.47942500000002,174.54840000000002,135.96636666666666,null,121.12830000000001,null,null,147.45486666666667,{"$f":"+INDEX(D354:AF354,1,aux_pr_ue!$P$2)","v":174.54840000000002},{"$f":"+INDEX(D354:AF354,1,aux_pr_ue!$Q$2)","v":0}]
["Feed Wheat2014/09","Feed Wheat","2014/09",141.21,143.7407,134.40080000000003,125.84095000000002,null,145.75687777777779,129.34270000000001,160.24258000000003,null,null,128.79330000000002,null,null,null,131.32282499999999,118.4983,null,132.8587,null,147.55000000000001,134,147.76724999999999,174.56670000000003,137.16993333333335,null,123.488,null,null,144.70295384615386,{"$f":"+INDEX(D355:AF355,1,aux_pr_ue!$P$2)","v":174.56670000000003},{"$f":"+INDEX(D355:AF355,1,aux_pr_ue!$Q$2)","v":0}]
["Feed Wheat2014/08","Feed Wheat","2014/08",146.1388,152.33330000000001,134.74042857142859,132.68200000000002,null,150.54906000000003,136.5497,167.20160000000001,null,null,136.43710000000002,null,null,null,144.71325000000002,137.87030000000001,null,133.42430000000002,null,156.01609999999999,133.33335,149.53030000000001,176.82260000000002,134.57000000000002,null,127.82100000000001,null,null,150.22865714285714,{"$f":"+INDEX(D356:AF356,1,aux_pr_ue!$P$2)","v":176.82260000000002},{"$f":"+INDEX(D356:AF356,1,aux_pr_ue!$Q$2)","v":0}]
["Feed Wheat2014/07","Feed Wheat","2014/07",165.7758,190.69570000000002,141.41182857142857,151.64375000000001,null,172.66227499999999,158.21790000000001,197.88707499999998,null,null,147.91380000000001,null,null,null,169.44360000000003,174.08860000000001,null,136.85365000000002,null,177.53230000000002,158,174.15355,186.74195000000003,149.018925,null,131.48420000000002,null,null,177.75564285714287,{"$f":"+INDEX(D357:AF357,1,aux_pr_ue!$P$2)","v":186.74195000000003},{"$f":"+INDEX(D357:AF357,1,aux_pr_ue!$Q$2)","v":0}]
["Feed Wheat2014/06","Feed Wheat","2014/06",182.2321,191.5667,156.11683333333335,168.54270000000002,175.57220000000001,179.99080999999998,180.51670000000001,203.86665000000002,null,null,171.8631,null,null,null,174.59133333333332,178.79680000000002,null,143.2552,null,195.76670000000001,172.5,187.34877500000002,201.11664999999999,155.50663333333333,null,140.80870000000002,null,null,189.88659090909093,{"$f":"+INDEX(D358:AF358,1,aux_pr_ue!$P$2)","v":201.11664999999999},{"$f":"+INDEX(D358:AF358,1,aux_pr_ue!$Q$2)","v":0}]
["Feed Wheat2014/05","Feed Wheat","2014/05",191.3032,199.93550000000002,161.05940000000001,174.28165000000001,183.21980000000002,192.37542999999999,186.78710000000001,214.99192500000001,null,null,179.06470000000002,null,null,null,186.54783333333333,188.1645,null,156.42170000000002,null,199.25835000000001,182.5,190.58684999999997,228.9032,169.37626666666668,null,145.08410000000001,null,null,202.74565000000001,{"$f":"+INDEX(D359:AF359,1,aux_pr_ue!$P$2)","v":228.9032},{"$f":"+INDEX(D359:AF359,1,aux_pr_ue!$Q$2)","v":0}]
["Feed Wheat2014/04","Feed Wheat","2014/04",194.90480000000002,209,168.72890000000001,172.92905000000002,191.5864,195.5164111111111,192.50700000000001,216.8,null,null,195.0367,null,null,null,175.76813333333334,183.57480000000001,null,168.21406666666667,null,212.0333,182.5,189.28555000000003,226.33330000000001,170.56516666666667,null,157.10220000000001,null,null,211.52283750000001,{"$f":"+INDEX(D360:AF360,1,aux_pr_ue!$P$2)","v":226.33330000000001},{"$f":"+INDEX(D360:AF360,1,aux_pr_ue!$Q$2)","v":0}]
["Feed Wheat2014/03","Feed Wheat","2014/03",189.97740000000002,208,175.3758,169.13780000000003,191.20440000000002,194.28677999999999,183.48870000000002,210.92745000000002,null,null,195.01690000000002,null,null,null,195.450525,180.18810000000002,null,166.82685000000001,null,211.5,177.5,181.45907500000001,221.41940000000002,160.62103333333334,null,159.24680000000001,null,null,208.1277,{"$f":"+INDEX(D361:AF361,1,aux_pr_ue!$P$2)","v":221.41940000000002},{"$f":"+INDEX(D361:AF361,1,aux_pr_ue!$Q$2)","v":0}]
["Feed Wheat2014/02","Feed Wheat","2014/02",183.4958,196.78570000000002,166.35500000000002,162.19760000000002,179.21210000000002,184.63672000000003,176.4607,204.79467499999998,null,null,182.66290000000001,null,null,null,177.01277500000003,171.1456,null,167.625,null,198.67860000000002,176.05770000000001,181.57402500000003,218.6429,156.82533333333336,null,157.18540000000002,null,null,192.17383333333336,{"$f":"+INDEX(D362:AF362,1,aux_pr_ue!$P$2)","v":218.6429},{"$f":"+INDEX(D362:AF362,1,aux_pr_ue!$Q$2)","v":0}]
["Feed Wheat2014/01","Feed Wheat","2014/01",187.0675,196.16130000000001,166.74965,164.54340000000002,182.64870000000002,187.61007000000001,173.92260000000002,208.26612499999999,null,null,182.78,null,null,null,171.13906666666665,181.7022,null,167.64875000000001,null,201,177.1875,186.28220000000002,221.63330000000002,149.93253333333334,null,148.01650000000001,null,null,195.98016250000001,{"$f":"+INDEX(D363:AF363,1,aux_pr_ue!$P$2)","v":221.63330000000002},{"$f":"+INDEX(D363:AF363,1,aux_pr_ue!$Q$2)","v":0}]
["Feed Wheat2013/12","Feed Wheat","2013/12",189.09100000000001,207.66,166.35385000000002,159.90289999999999,188.48500000000001,195.25505555555557,175.5171,209.79839999999999,null,null,192.65,null,null,null,174.39615000000001,176.40280000000001,null,156.65620000000001,null,209.85420000000002,177.75,185.98452500000002,227.72,166.98333333333335,null,136.44999999999999,null,null,202.12235714285717,{"$f":"+INDEX(D364:AF364,1,aux_pr_ue!$P$2)","v":227.72},{"$f":"+INDEX(D364:AF364,1,aux_pr_ue!$Q$2)","v":0}]
["Feed Wheat2013/11","Feed Wheat","2013/11",185.47750000000002,204.36250000000001,155.26466666666667,157.70115000000001,185.44290000000001,192.73750000000001,178.18900000000002,207.56482499999998,null,null,188.53480000000002,null,null,null,168.94627500000001,180.47620000000001,null,153.05493333333334,null,207.35,178.84615000000002,180.84187500000002,227.9,155.76179999999999,null,144.404,null,null,200.16154999999998,{"$f":"+INDEX(D365:AF365,1,aux_pr_ue!$P$2)","v":227.9},{"$f":"+INDEX(D365:AF365,1,aux_pr_ue!$Q$2)","v":0}]
["Feed Wheat2013/10","Feed Wheat","2013/10",178.6481,196.65430000000001,148.91602499999999,156.72995,184.05680000000001,182.97717,167.28130000000002,198.612075,null,null,185.0788,null,null,null,158.29905000000002,170.2132,null,150.51323333333332,null,199.98390000000001,175,174.21834999999999,209.09674999999999,165.72860000000003,null,145.83940000000001,null,null,195.50085000000001,{"$f":"+INDEX(D366:AF366,1,aux_pr_ue!$P$2)","v":209.09674999999999},{"$f":"+INDEX(D366:AF366,1,aux_pr_ue!$Q$2)","v":0}]
["Feed Wheat2013/09","Feed Wheat","2013/09",166.98099999999999,185.36670000000001,143.76326666666668,152.76980000000003,175.72200000000001,175.42601111111114,159.49770000000001,189.94,null,null,172.91500000000002,null,null,null,146.61320000000001,151.78620000000001,null,143.40825000000001,null,187.3083,175,167.26492500000001,197.58335,145.10356666666667,null,138.827,null,null,186.65098750000001,{"$f":"+INDEX(D367:AF367,1,aux_pr_ue!$P$2)","v":197.58335},{"$f":"+INDEX(D367:AF367,1,aux_pr_ue!$Q$2)","v":0}]
["Feed Wheat2013/08","Feed Wheat","2013/08",165.46980000000002,181.16670000000002,138.13668000000001,147.91755000000001,null,173.02354,164.5677,192.19352499999999,null,null,178.90900000000002,null,null,null,148.13357500000001,146.7038,null,141.03717500000002,null,183.5806,175,161.18212500000001,197.25806666666668,143.59743333333333,null,138.4761,null,null,184.74645000000001,{"$f":"+INDEX(D368:AF368,1,aux_pr_ue!$P$2)","v":197.25806666666668},{"$f":"+INDEX(D368:AF368,1,aux_pr_ue!$Q$2)","v":0}]
["Feed Wheat2013/07","Feed Wheat","2013/07",185.0772,210.35290000000001,154.32192500000002,172.65055000000001,null,187.69201111111113,167.49710000000002,211.58869999999999,null,null,175.3871,null,null,null,176.39290000000003,195.6157,null,141.05717500000003,null,200.64520000000002,177.375,198.14225000000002,210.64247500000002,153.9307666666667,null,166.8184,null,null,197.91603750000002,{"$f":"+INDEX(D369:AF369,1,aux_pr_ue!$P$2)","v":210.64247500000002},{"$f":"+INDEX(D369:AF369,1,aux_pr_ue!$Q$2)","v":0}]
["Feed Wheat2013/06","Feed Wheat","2013/06",211.8501,222.4,200.93015,206.34536666666668,207.87730000000002,217.18554999999998,209.72630000000001,229.27500000000001,null,null,194.7253,null,null,null,209.1797,194.209,null,164.28570000000002,null,221.67670000000001,220,212.24879999999999,227.13335000000001,194.46353333333334,null,207.29910000000001,null,null,208.05043749999999,{"$f":"+INDEX(D370:AF370,1,aux_pr_ue!$P$2)","v":227.13335000000001},{"$f":"+INDEX(D370:AF370,1,aux_pr_ue!$Q$2)","v":0}]
["Feed Wheat2013/05","Feed Wheat","2013/05",228.6045,242.0968,214.74590000000001,210.94380000000001,223.00920000000002,238.23446153846152,222.55190000000002,250.82259999999999,null,null,221.12555,null,null,null,212.25293333333335,214.93585000000002,null,177.76770000000002,null,238.125,230,225.48517500000003,256.16130000000004,218.97846666666669,null,213.44605000000001,null,null,230.0060125,{"$f":"+INDEX(D371:AF371,1,aux_pr_ue!$P$2)","v":256.16130000000004},{"$f":"+INDEX(D371:AF371,1,aux_pr_ue!$Q$2)","v":0}]
["Feed Wheat2013/04","Feed Wheat","2013/04",236.26230000000001,249.4,214.74590000000001,220.17565000000002,234.77800000000002,247.02001000000001,221.88230000000001,258.92500000000001,null,null,231.995,null,null,null,221.57082500000001,228.8381,null,220.78235000000001,null,252.32920000000001,225,233.95542499999999,255.3,214.03886666666668,null,214.62370000000001,null,null,239.69230000000002,{"$f":"+INDEX(D372:AF372,1,aux_pr_ue!$P$2)","v":255.3},{"$f":"+INDEX(D372:AF372,1,aux_pr_ue!$Q$2)","v":0}]
["Feed Wheat2013/03","Feed Wheat","2013/03",236.4092,244.35480000000001,218.31949999999998,229.86914999999999,230.31300000000002,242.86521000000002,226.16420000000002,256.71775000000002,null,null,226.80330000000001,null,null,null,217.75160000000002,231.79670000000002,null,214.8159,null,247.471,null,237.51625000000001,256.51609999999999,216.26236666666668,null,226.70450000000002,null,null,240.38435000000001,{"$f":"+INDEX(D373:AF373,1,aux_pr_ue!$P$2)","v":256.51609999999999},{"$f":"+INDEX(D373:AF373,1,aux_pr_ue!$Q$2)","v":0}]
["Feed Wheat2013/02","Feed Wheat","2013/02",243.07340000000002,245.53570000000002,231.08924999999999,240.75760000000002,234.91990000000001,252.8125,234.10930000000002,256.30355000000003,null,null,226.459,null,null,null,225.64962500000001,230.24020000000002,null,230.06280000000001,null,250.67860000000002,null,245.41490000000002,263.32140000000004,231.37803333333332,null,222.37820000000002,null,null,245.82135,{"$f":"+INDEX(D374:AF374,1,aux_pr_ue!$P$2)","v":263.32140000000004},{"$f":"+INDEX(D374:AF374,1,aux_pr_ue!$Q$2)","v":0}]
["Feed Wheat2013/01","Feed Wheat","2013/01",247.69120000000001,256.03450000000004,235.1979,238.33105,237.25540000000001,257.06767777777782,227.8535,255.709675,null,null,236.85340000000002,null,null,null,226.86812500000002,225.54950000000002,null,224.74254999999999,null,257.96550000000002,null,246.47719999999998,264.59675000000004,235.45766666666668,null,222.28060000000002,null,null,258.1708375,{"$f":"+INDEX(D375:AF375,1,aux_pr_ue!$P$2)","v":264.59675000000004},{"$f":"+INDEX(D375:AF375,1,aux_pr_ue!$Q$2)","v":0}]
["Feed Wheat2012/12","Feed Wheat","2012/12",253.47230000000002,264.73079999999999,233.50730000000001,237.34085000000002,null,266.58202999999997,209.51610000000002,285.75,null,null,245.5711,null,null,null,227.64030000000002,224.19320000000002,null,240.80690000000001,null,271.44740000000002,null,246.58122500000002,280.75,224.06883333333334,null,206.70580000000001,null,null,277.82286249999999,{"$f":"+INDEX(D376:AF376,1,aux_pr_ue!$P$2)","v":280.75},{"$f":"+INDEX(D376:AF376,1,aux_pr_ue!$Q$2)","v":0}]
["Feed Wheat2012/11","Feed Wheat","2012/11",248.387,267.10000000000002,225.48320000000001,240.77850000000001,null,262.66745000000003,220.14170000000001,272.4348,null,null,250.39880000000002,null,null,null,215.71407500000001,208.13120000000001,null,234.12920000000003,null,275.32499999999999,240.25,232.91777500000003,277.83335,224.7355,null,207.3587,null,null,269.43525,{"$f":"+INDEX(D377:AF377,1,aux_pr_ue!$P$2)","v":277.83335},{"$f":"+INDEX(D377:AF377,1,aux_pr_ue!$Q$2)","v":0}]
["Feed Wheat2012/10","Feed Wheat","2012/10",236.90050000000002,253.77420000000001,224.97190000000001,219.51865000000001,null,246.67284000000001,212.9419,263.46777500000002,null,null,239.54840000000002,null,null,null,205.04447500000001,190.02630000000002,null,235.82315,null,257.80650000000003,235.5,222.81380000000001,264.24194999999997,218.33116666666669,null,200.0968,null,null,251.04250000000002,{"$f":"+INDEX(D378:AF378,1,aux_pr_ue!$P$2)","v":264.24194999999997},{"$f":"+INDEX(D378:AF378,1,aux_pr_ue!$Q$2)","v":0}]
["Feed Wheat2012/09","Feed Wheat","2012/09",233.82910000000001,255.73330000000001,221.9041,219.53735,null,247.70624000000004,204.22030000000001,261.93330000000003,null,null,239.65220000000002,null,null,null,198.07817500000002,184.04300000000001,null,219.74510000000001,null,255.79,227.5,219.99142500000002,253.24636666666666,219.66886666666667,null,199.04230000000001,null,null,252.9482625,{"$f":"+INDEX(D379:AF379,1,aux_pr_ue!$P$2)","v":253.24636666666666},{"$f":"+INDEX(D379:AF379,1,aux_pr_ue!$Q$2)","v":0}]
["Feed Wheat2012/08","Feed Wheat","2012/08",228.38150000000002,253.375,209.6686,212.09720000000002,null,240.84972999999999,197.79520000000002,258.78224999999998,null,null,236.92530000000002,null,null,null,201.58532,194.60160000000002,null,215.86009999999999,null,253.43180000000001,216.75,214.57035000000002,247.5,197.4605,null,187.04770000000002,null,null,258.57701428571426,{"$f":"+INDEX(D380:AF380,1,aux_pr_ue!$P$2)","v":247.5},{"$f":"+INDEX(D380:AF380,1,aux_pr_ue!$Q$2)","v":0}]
["Feed Wheat2012/07","Feed Wheat","2012/07",227.19580000000002,256.72000000000003,196.60300000000001,201.65965,null,234.08970000000005,200.06610000000001,254.57257500000003,null,null,237.84,null,null,null,187.55790000000002,193.6122,null,194.932725,null,263.38710000000003,null,214.97642500000001,240.37100000000001,180.9665,null,187.42840000000001,null,null,265.2009875,{"$f":"+INDEX(D381:AF381,1,aux_pr_ue!$P$2)","v":240.37100000000001},{"$f":"+INDEX(D381:AF381,1,aux_pr_ue!$Q$2)","v":0}]
["Feed Wheat2012/06","Feed Wheat","2012/06",210.3366,226.8,182.78964999999999,188.92805000000001,null,213.47084999999998,198.18970000000002,238.53334999999998,null,null,209.7663,null,null,null,183.04416666666668,190.4006,null,172.9794,null,231.9333,197.5,209.4255,219.51665,184.92520000000002,null,182.88910000000001,null,null,215.90246250000001,{"$f":"+INDEX(D382:AF382,1,aux_pr_ue!$P$2)","v":219.51665},{"$f":"+INDEX(D382:AF382,1,aux_pr_ue!$Q$2)","v":0}]
["Feed Wheat2012/05","Feed Wheat","2012/05",210.87890000000002,226.54840000000002,182.41855000000001,193.18115,212.93950000000001,219.34241000000003,196.04810000000001,232.19357500000001,null,null,208.70590000000001,null,null,null,185.53120000000001,190.5916,null,171.37010000000001,null,229.44830000000002,197.5,215.63265000000001,236.72580000000002,187.3913,null,188.6584,null,null,217.86842500000003,{"$f":"+INDEX(D383:AF383,1,aux_pr_ue!$P$2)","v":236.72580000000002},{"$f":"+INDEX(D383:AF383,1,aux_pr_ue!$Q$2)","v":0}]
["Feed Wheat2012/04","Feed Wheat","2012/04",206.35470000000001,223.83330000000001,181.51140000000001,184.72149999999999,206.79,218.03685999999999,187.6233,223.8,null,null,206.37,null,null,null,178.39700000000002,185.7739,null,163.52350000000001,null,229.4,190,207.56,234.8,164.33950000000002,null,175.1157,null,null,215.96653750000002,{"$f":"+INDEX(D384:AF384,1,aux_pr_ue!$P$2)","v":234.8},{"$f":"+INDEX(D384:AF384,1,aux_pr_ue!$Q$2)","v":0}]
["Feed Wheat2012/03","Feed Wheat","2012/03",196.77510000000001,214.87100000000001,186.12960000000001,175.26405,195.3569,203.57468888888891,180.13420000000002,211.52417500000001,null,null,203.30420000000001,null,null,null,177.18560000000002,185.435,null,156.9393,null,220.0968,182.5,189.05670000000001,223.91130000000001,167.30360000000002,null,161.17840000000001,null,null,205.48129999999998,{"$f":"+INDEX(D385:AF385,1,aux_pr_ue!$P$2)","v":223.91130000000001},{"$f":"+INDEX(D385:AF385,1,aux_pr_ue!$Q$2)","v":0}]
["Feed Wheat2012/02","Feed Wheat","2012/02",190.66720000000001,211.34480000000002,158.85554999999999,164.74680000000001,190.31890000000001,197.96034,172.87730000000002,206.36205000000001,null,null,200.32820000000001,null,null,null,173.58646666666667,179.3279,null,168.39010000000002,null,213.82760000000002,177.63330000000002,186.18482500000002,219.57760000000002,155.3886,null,151.72929999999999,null,null,201.58768749999999,{"$f":"+INDEX(D386:AF386,1,aux_pr_ue!$P$2)","v":219.57760000000002},{"$f":"+INDEX(D386:AF386,1,aux_pr_ue!$Q$2)","v":0}]
["Feed Wheat2012/01","Feed Wheat","2012/01",180.26430000000002,200.5806,153.38990000000001,151.49684999999999,183.21520000000001,188.24257,163.7535,193.26612499999999,null,null,195.5274,null,null,null,172.19370000000001,163.1242,null,155.5668,null,204.8519,168.0882,171.96357500000002,214.93550000000002,155.05883333333335,null,148.26740000000001,null,null,189.87825714285714,{"$f":"+INDEX(D387:AF387,1,aux_pr_ue!$P$2)","v":214.93550000000002},{"$f":"+INDEX(D387:AF387,1,aux_pr_ue!$Q$2)","v":0}]
["Feed Wheat2011/12","Feed Wheat","2011/12",170.04860000000002,186.77420000000001,153.58233333333334,152.30869999999999,167.94550000000001,179.40416999999999,168.19650000000001,183,null,null,null,null,null,null,167.050375,158.00790000000001,null,151.45840000000001,null,191,165.5882,162.79044999999999,199.64520000000002,155.55286666666669,null,146.92189999999999,null,null,172.40574285714288,{"$f":"+INDEX(D388:AF388,1,aux_pr_ue!$P$2)","v":199.64520000000002},{"$f":"+INDEX(D388:AF388,1,aux_pr_ue!$Q$2)","v":0}]
["Feed Wheat2011/11","Feed Wheat","2011/11",171.72660000000002,191.83330000000001,147.48153333333335,147.28450000000001,169.9486,185.07193000000001,172.7483,186.51667499999999,null,null,172.69670000000002,null,null,null,166.917225,159.6833,null,152.32184999999998,null,195.3,170,161.06662500000002,204.88330000000002,158.22340000000003,null,155.06900000000002,null,null,175.63511428571428,{"$f":"+INDEX(D389:AF389,1,aux_pr_ue!$P$2)","v":204.88330000000002},{"$f":"+INDEX(D389:AF389,1,aux_pr_ue!$Q$2)","v":0}]
["Feed Wheat2011/10","Feed Wheat","2011/10",172.39920000000001,192.9032,155.159525,154.04714999999999,168.13760000000002,186.92535555555557,174.4297,184.98387500000001,null,null,176.89530000000002,null,null,null,170.29047500000001,160.9556,null,153.2243,null,194.65380000000002,166.25,164.11670000000001,204.5806,155.97533333333334,null,152.5635,null,null,177.05781250000001,{"$f":"+INDEX(D390:AF390,1,aux_pr_ue!$P$2)","v":204.5806},{"$f":"+INDEX(D390:AF390,1,aux_pr_ue!$Q$2)","v":0}]
["Feed Wheat2011/09","Feed Wheat","2011/09",179.91070000000002,205.9333,157.250225,160.28775000000002,174.73490000000001,195.22512222222224,178.6326,193.53332499999999,null,null,190.78870000000001,null,null,null,172.90575000000001,160.67920000000001,null,161.68546666666666,null,204.75,170,163.93562500000002,210.75556666666668,156.91486666666668,null,153.5403,null,null,187.05970909090908,{"$f":"+INDEX(D391:AF391,1,aux_pr_ue!$P$2)","v":210.75556666666668},{"$f":"+INDEX(D391:AF391,1,aux_pr_ue!$Q$2)","v":0}]
["Feed Wheat2011/08","Feed Wheat","2011/08",178.65260000000001,199.58940000000001,153.95790000000002,165.77605,null,193.17178000000001,175.90260000000001,197.32260000000002,null,null,186.79625000000001,null,null,null,165.68806000000001,165.40790000000001,null,168.38800000000001,null,204.17740000000001,170,173.07957500000001,198.25,159.29170000000002,null,161.3723,null,null,186.63976666666667,{"$f":"+INDEX(D392:AF392,1,aux_pr_ue!$P$2)","v":198.25},{"$f":"+INDEX(D392:AF392,1,aux_pr_ue!$Q$2)","v":0}]
["Feed Wheat2011/07","Feed Wheat","2011/07",195.32130000000001,211.16130000000001,154.88230000000001,187.62060000000002,null,198.10785000000001,206.82320000000001,201.20965000000001,null,null,187.965,null,null,null,182.34046000000004,214.5822,null,164.82420000000002,null,214.91670000000002,null,225.00120000000001,208.62905000000001,153.87549999999999,null,156.19390000000001,null,null,198.00378333333333,{"$f":"+INDEX(D393:AF393,1,aux_pr_ue!$P$2)","v":208.62905000000001},{"$f":"+INDEX(D393:AF393,1,aux_pr_ue!$Q$2)","v":0}]
["Feed Wheat2011/06","Feed Wheat","2011/06",223.47810000000001,232.23330000000001,225.97319999999999,213.32150000000001,214.9984,226.69242000000003,231.30530000000002,223.17500000000001,null,null,207.70520000000002,null,null,null,209.66995,228.88240000000002,null,203.1764,null,225.9,null,244.90325000000001,231.85415,214.17010000000002,null,194.81970000000001,null,null,221.01361428571428,{"$f":"+INDEX(D394:AF394,1,aux_pr_ue!$P$2)","v":231.85415},{"$f":"+INDEX(D394:AF394,1,aux_pr_ue!$Q$2)","v":0}]
["Feed Wheat2011/05","Feed Wheat","2011/05",230.8142,244.45160000000001,224.085375,209.60105000000001,224.791,232.92249000000001,238.7774,240.87094999999999,null,null,234.12520000000001,null,null,null,197.62086666666667,231.8493,null,201.46705,null,244.70830000000001,null,242.76050000000001,259.7355,217.09014999999999,null,206.9487,null,null,229.20131428571429,{"$f":"+INDEX(D395:AF395,1,aux_pr_ue!$P$2)","v":259.7355},{"$f":"+INDEX(D395:AF395,1,aux_pr_ue!$Q$2)","v":0}]
["Feed Wheat2011/04","Feed Wheat","2011/04",227.8176,241.77535,214.55417499999999,207.4401,219.96170000000001,228.76273999999998,229.0283,243.35832500000004,null,null,237.863,null,null,null,192.18565000000001,224.3888,null,233.57390000000001,null,244.66670000000002,null,230.10817500000002,257.14879999999999,190.69670000000002,null,196.42670000000001,null,null,236.78527142857143,{"$f":"+INDEX(D396:AF396,1,aux_pr_ue!$P$2)","v":257.14879999999999},{"$f":"+INDEX(D396:AF396,1,aux_pr_ue!$Q$2)","v":0}]
["Feed Wheat2011/03","Feed Wheat","2011/03",222.6096,232,219.16615999999999,213.23285000000001,207.1781,218.88024000000001,239.05720000000002,233.49192499999998,null,null,218.63130000000001,null,null,null,195.48160000000001,229.62730000000002,null,248.81470000000002,null,231.06450000000001,216.25,223.29212500000003,252.19683333333333,193.90725,null,196.94740000000002,null,null,229.52384285714285,{"$f":"+INDEX(D397:AF397,1,aux_pr_ue!$P$2)","v":252.19683333333333},{"$f":"+INDEX(D397:AF397,1,aux_pr_ue!$Q$2)","v":0}]
["Feed Wheat2011/02","Feed Wheat","2011/02",232.0556,247.42860000000002,218.37168000000003,212.63490000000002,222.0361,233.09225999999998,231.0539,242.622275,null,null,250.11090000000002,null,null,null,205.27507999999997,227.52260000000001,null,250.15260000000001,null,245.53570000000002,225,230.455175,259.64573333333334,194.77796666666669,null,196.53320000000002,null,null,245.3313285714286,{"$f":"+INDEX(D398:AF398,1,aux_pr_ue!$P$2)","v":259.64573333333334},{"$f":"+INDEX(D398:AF398,1,aux_pr_ue!$Q$2)","v":0}]
["Feed Wheat2011/01","Feed Wheat","2011/01",218.37990000000002,247.14265,195.48472000000001,184.15770000000003,219.58,234.08247999999998,191.61710000000002,237.9727,null,null,246.48960000000002,null,null,null,182.49863999999999,210.95520000000002,null,215.31450000000001,null,244,219.16670000000002,217.18450000000001,257.41743333333335,187.92486666666665,null,178.37970000000001,null,null,235.69357142857146,{"$f":"+INDEX(D399:AF399,1,aux_pr_ue!$P$2)","v":257.41743333333335},{"$f":"+INDEX(D399:AF399,1,aux_pr_ue!$Q$2)","v":0}]
["Feed Wheat2010/12","Feed Wheat","2010/12",199.22210000000001,224.91660000000002,177.56119999999999,155.91145,203.78550000000001,208.40589000000006,161.0147,216.41130000000001,null,null,223.58330000000001,null,null,null,163.66504,178.8235,null,198.6233,null,229.20830000000001,185,185.94142499999998,234.95696666666672,173.61442500000001,null,177.0471,null,null,223.45444999999998,{"$f":"+INDEX(D400:AF400,1,aux_pr_ue!$P$2)","v":234.95696666666672},{"$f":"+INDEX(D400:AF400,1,aux_pr_ue!$Q$2)","v":0}]
["Feed Wheat2010/11","Feed Wheat","2010/11",181.53440000000001,204.4667,174.16361666666668,149.80675000000002,181.00470000000001,185.69306999999998,156.53640000000001,200.48332499999998,null,null,205.19900000000001,null,null,null,152.72748000000001,160.5658,null,184.82575000000003,null,207.4333,166.75,168.46465000000001,215.53333333333333,169.38415000000001,null,168.839,null,null,196.286,{"$f":"+INDEX(D401:AF401,1,aux_pr_ue!$P$2)","v":215.53333333333333},{"$f":"+INDEX(D401:AF401,1,aux_pr_ue!$Q$2)","v":0}]
["Feed Wheat2010/10","Feed Wheat","2010/10",172.64070000000001,195.93550000000002,163.6465285714286,150.2835,161.64879999999999,174.38634000000002,149.39190000000002,197.68550000000002,null,null,198.06550000000001,null,null,null,148.60262,150.52850000000001,null,168.37123333333332,null,195.3871,161.62905000000001,162.62877500000002,192.94352500000002,158.99785,null,157.101,null,null,183.11746666666667,{"$f":"+INDEX(D402:AF402,1,aux_pr_ue!$P$2)","v":192.94352500000002},{"$f":"+INDEX(D402:AF402,1,aux_pr_ue!$Q$2)","v":0}]
["Feed Wheat2010/09","Feed Wheat","2010/09",166.6002,198.6,151.12799999999999,146.14904999999999,118.164,173.16833,143.23609999999999,191.85000000000002,null,null,212.59610000000001,null,null,null,143.93100000000001,139.9665,null,162.91536666666667,null,195.36670000000001,155.47500000000002,160.092725,188.87448000000001,143.73260000000002,null,146.00300000000001,null,null,191.51975714285715,{"$f":"+INDEX(D403:AF403,1,aux_pr_ue!$P$2)","v":188.87448000000001},{"$f":"+INDEX(D403:AF403,1,aux_pr_ue!$Q$2)","v":0}]
["Feed Wheat2010/08","Feed Wheat","2010/08",155.30850000000001,193.10835000000003,138.57755714285716,136.58244999999999,118.12090000000001,170.41015000000002,129.32240000000002,177.97579999999999,null,null,200.60900000000001,null,null,null,138.00696000000002,135.24030000000002,null,143.51185000000001,null,187.79170000000002,150.21875,150.97147500000003,177.72070000000002,127.62176666666669,null,126.73230000000001,null,null,181.7397,{"$f":"+INDEX(D404:AF404,1,aux_pr_ue!$P$2)","v":177.72070000000002},{"$f":"+INDEX(D404:AF404,1,aux_pr_ue!$Q$2)","v":0}]
["Feed Wheat2010/07","Feed Wheat","2010/07",134.30170000000001,156.68549999999999,93.19265,111.53805,118.09,147.14462000000003,111.45530000000001,149.790325,null,null,156.5,null,null,null,107.20832,130.38230000000001,null,105.68383333333334,null,165.3871,142.5,135.90860000000001,156.4425,98.758499999999984,null,107.59740000000001,null,null,142.11098333333334,{"$f":"+INDEX(D405:AF405,1,aux_pr_ue!$P$2)","v":156.4425},{"$f":"+INDEX(D405:AF405,1,aux_pr_ue!$Q$2)","v":0}]
["Feed Wheat2010/06","Feed Wheat","2010/06",123.76520000000001,134.08700000000002,98.126900000000006,107.5378,118.31630000000001,130.799475,109.12690000000001,135.51667499999999,null,null,120.30970000000001,null,null,null,107.60463333333333,120.5891,null,102.89590000000001,null,142.8167,null,127.522875,147.88332500000001,104.21563333333334,null,99.398700000000005,null,null,126.84902500000001,{"$f":"+INDEX(D406:AF406,1,aux_pr_ue!$P$2)","v":147.88332500000001},{"$f":"+INDEX(D406:AF406,1,aux_pr_ue!$Q$2)","v":0}]
["Feed Wheat2010/05","Feed Wheat","2010/05",121.1986,131.8065,98.111750000000001,105.10890000000001,119.12190000000001,125.1594888888889,112.45950000000001,134.16127499999999,null,null,121.05645,null,null,null,103.83005,117.37360000000001,null,98.516950000000008,null,139.12900000000002,111,115.14920000000001,153.12900000000002,112.08573333333334,null,98.344200000000001,null,null,127.13022857142856,{"$f":"+INDEX(D407:AF407,1,aux_pr_ue!$P$2)","v":153.12900000000002},{"$f":"+INDEX(D407:AF407,1,aux_pr_ue!$Q$2)","v":0}]
["Feed Wheat2010/04","Feed Wheat","2010/04",116.05890000000001,125,97.854200000000006,103.68270000000001,111.1769,116.55433333333333,114.89960000000001,126.71667500000001,null,null,114.8613,null,null,null,101.183125,111.8032,null,100.92043333333334,null,131.19999999999999,107.5,115.5423,144.73886666666667,105.04133333333334,null,96.455700000000007,null,null,116.26980000000002,{"$f":"+INDEX(D408:AF408,1,aux_pr_ue!$P$2)","v":144.73886666666667},{"$f":"+INDEX(D408:AF408,1,aux_pr_ue!$Q$2)","v":0}]
["Feed Wheat2010/03","Feed Wheat","2010/03",113.60940000000001,118.1935,105.44866666666667,105.30835,105.03400000000001,113.55592000000001,116.0659,125.06252499999999,null,null,105.84645,null,null,null,100.41673333333335,113.43730000000001,null,103.0214,null,122.3716,107.5,117.47645,134.92473333333336,110.0487,null,101.6277,null,null,108.61084285714286,{"$f":"+INDEX(D409:AF409,1,aux_pr_ue!$P$2)","v":134.92473333333336},{"$f":"+INDEX(D409:AF409,1,aux_pr_ue!$Q$2)","v":0}]
["Feed Wheat2010/02","Feed Wheat","2010/02",114.89150000000001,121.03570000000001,107.6468,102.10095000000001,108.30890000000001,116.93765,114.8485,127.20535000000001,null,null,107.07140000000001,null,null,null,101.79797500000001,109.4851,null,100.8609,null,124.00210000000001,107.39290000000001,119.77270000000001,137.39286666666669,104.94223333333333,null,96.261800000000008,null,null,112.51246666666667,{"$f":"+INDEX(D410:AF410,1,aux_pr_ue!$P$2)","v":137.39286666666669},{"$f":"+INDEX(D410:AF410,1,aux_pr_ue!$Q$2)","v":0}]
["Feed Wheat2010/01","Feed Wheat","2010/01",116.68860000000001,125.56,103.16704,98.116800000000012,111.32600000000001,118.81493999999998,113.6965,129.04840000000002,null,null,110.4419,null,null,null,101.68576666666667,109.29140000000001,null,104.6139,null,127.2333,109.2273,118.6901,143.34410000000003,110.25623333333334,null,91.534199999999998,null,null,121.33837142857145,{"$f":"+INDEX(D411:AF411,1,aux_pr_ue!$P$2)","v":143.34410000000003},{"$f":"+INDEX(D411:AF411,1,aux_pr_ue!$Q$2)","v":0}]
["Feed Wheat2009/12","Feed Wheat","2009/12",113.3335,126.73505,99.827099999999987,96.759550000000004,110.7778,117.22610999999999,99.488100000000003,128.50805000000003,null,null,111.64590000000001,null,null,null,95.306160000000006,102.4008,null,102.51350000000001,null,129.82670000000002,105.25,112.297675,141.48926666666668,101.71061666666667,null,89.485200000000006,null,null,120.10098571428571,{"$f":"+INDEX(D412:AF412,1,aux_pr_ue!$P$2)","v":141.48926666666668},{"$f":"+INDEX(D412:AF412,1,aux_pr_ue!$Q$2)","v":0}]
["Feed Wheat2009/11","Feed Wheat","2009/11",110.3075,127.33330000000001,93.803122222222214,93.729250000000008,110.16800000000001,114.71887,98.911000000000001,125.125,null,null,116.96470000000001,null,null,null,90.803700000000006,94.029200000000003,null,89.472400000000007,null,130.43530000000001,101.98915,107.49216666666666,144.73336666666668,88.461933333333334,null,87.89970000000001,null,null,118.94755714285715,{"$f":"+INDEX(D413:AF413,1,aux_pr_ue!$P$2)","v":144.73336666666668},{"$f":"+INDEX(D413:AF413,1,aux_pr_ue!$Q$2)","v":0}]
["Feed Wheat2009/10","Feed Wheat","2009/10",103.78330000000001,120.06450000000001,87.333325000000002,90.359750000000005,106.452,108.79308,99.107399999999998,122.112875,null,null,null,null,null,null,89.299639999999997,85.616399999999999,null,89.182233333333343,null,125.52650000000001,92.75,103.85623333333332,136.79983333333334,87.222766666666686,null,82.863500000000002,null,null,113.18264285714288,{"$f":"+INDEX(D414:AF414,1,aux_pr_ue!$P$2)","v":136.79983333333334},{"$f":"+INDEX(D414:AF414,1,aux_pr_ue!$Q$2)","v":0}]
["Feed Wheat2009/09","Feed Wheat","2009/09",101.5749,111.9,88.518775000000005,90.53595,117.09710000000001,105.62808888888888,99.388900000000007,120.575,null,null,null,null,null,null,90.06044,83.957000000000008,null,92.505575000000007,null,117.8117,92.166650000000004,104.94546666666668,130.25,88.613766666666677,null,83.094300000000004,null,null,107.90392857142858,{"$f":"+INDEX(D415:AF415,1,aux_pr_ue!$P$2)","v":130.25},{"$f":"+INDEX(D415:AF415,1,aux_pr_ue!$Q$2)","v":0}]
["Feed Wheat2009/08","Feed Wheat","2009/08",104.30680000000001,116.1538,88.677550000000011,92.635500000000008,122.24820000000001,107.18088000000003,93.555800000000005,122.55642500000002,null,null,115.93,null,null,null,91.131960000000007,91.0244,null,92.278500000000008,null,120.15,95.166650000000004,104.3931,135.93843999999999,84.24496666666667,null,84.985500000000002,null,null,108.48543333333335,{"$f":"+INDEX(D416:AF416,1,aux_pr_ue!$P$2)","v":135.93843999999999},{"$f":"+INDEX(D416:AF416,1,aux_pr_ue!$Q$2)","v":0}]
["Feed Wheat2009/07","Feed Wheat","2009/07",116.43210000000001,133.31030000000001,87.266825000000011,105.7483,122.2175,117.6269375,98.064800000000005,129.475775,null,null,119.7565,null,null,null,102.15216666666667,109.4923,null,94.513925,null,129.32650000000001,112.5,119.99740000000001,139.94664000000003,97.166566666666668,null,91,null,null,119.25962857142858,{"$f":"+INDEX(D417:AF417,1,aux_pr_ue!$P$2)","v":139.94664000000003},{"$f":"+INDEX(D417:AF417,1,aux_pr_ue!$Q$2)","v":0}]
["Feed Wheat2009/06","Feed Wheat","2009/06",126.23020000000001,143.30000000000001,93.056566666666683,108.3552,124.3563,137.57645714285715,102.54810000000001,136.94170000000003,null,null,123.58540000000001,null,null,null,114.60440000000001,106.47550000000001,null,125.19715000000001,null,143.98930000000001,113.5,117.86186666666667,157.00533333333334,108.88770000000001,null,98.216700000000003,null,null,130.12173333333337,{"$f":"+INDEX(D418:AF418,1,aux_pr_ue!$P$2)","v":157.00533333333334},{"$f":"+INDEX(D418:AF418,1,aux_pr_ue!$Q$2)","v":0}]
["Feed Wheat2009/05","Feed Wheat","2009/05",122.5742,140.12905000000001,92.253900000000002,101.59335000000002,127.09670000000001,129.40924999999999,100.18680000000001,132.040325,null,null,130.63335000000001,null,null,null,109.61440000000002,105.9884,null,130.60005000000001,null,146.8235,113.2059,110.13242500000001,151.8817,103.53246666666666,null,92.521000000000001,null,null,132.59311666666665,{"$f":"+INDEX(D419:AF419,1,aux_pr_ue!$P$2)","v":151.8817},{"$f":"+INDEX(D419:AF419,1,aux_pr_ue!$Q$2)","v":0}]
["Feed Wheat2009/04","Feed Wheat","2009/04",115.74040000000001,128.81664999999998,97.916800000000009,103.74515000000001,115.0672,123.4177375,100.57260000000001,125.741675,null,null,121.801,null,null,null,108.68340000000001,105.2205,null,98.840150000000008,null,133.13330000000002,112.5,105.726725,141.55370000000002,101.4606,null,93.4773,null,null,121.95231428571431,{"$f":"+INDEX(D420:AF420,1,aux_pr_ue!$P$2)","v":141.55370000000002},{"$f":"+INDEX(D420:AF420,1,aux_pr_ue!$Q$2)","v":0}]
["Feed Wheat2009/03","Feed Wheat","2009/03",119.4105,131.25810000000001,99.34193333333333,110.63560000000001,118.4581,124.87416250000001,105.122,130.87902500000001,null,null,119.74770000000001,null,null,null,118.69310000000002,114.90610000000001,null,102.45490000000001,null,133.28970000000001,115,111.19705,145.20433333333335,96.72356666666667,null,94.015799999999999,null,null,123.47567142857143,{"$f":"+INDEX(D421:AF421,1,aux_pr_ue!$P$2)","v":145.20433333333335},{"$f":"+INDEX(D421:AF421,1,aux_pr_ue!$Q$2)","v":0}]
["Feed Wheat2009/02","Feed Wheat","2009/02",119.3755,139.9821,93.147850000000005,93.715149999999994,121.0202,131.442275,111.5202,134.89285000000001,null,null,127.87,null,null,null,110.04050000000002,110.2159,null,86.295649999999995,null,139.42860000000002,115,103.02902500000002,151.16964999999999,95.928433333333331,null,92.58,null,null,129.56028333333333,{"$f":"+INDEX(D422:AF422,1,aux_pr_ue!$P$2)","v":151.16964999999999},{"$f":"+INDEX(D422:AF422,1,aux_pr_ue!$Q$2)","v":0}]
["Feed Wheat2009/01","Feed Wheat","2009/01",118.34520000000001,139.04170000000002,90.968800000000002,93.281900000000007,117.6148,127.66727777777777,119.2179,129.58869999999999,null,null,134.35900000000001,null,null,null,120.45136666666667,110.586,null,86.817466666666675,null,139.8065,115,105.2154,147.41129999999998,96.925250000000005,null,91.855800000000002,null,null,123.10846666666669,{"$f":"+INDEX(D423:AF423,1,aux_pr_ue!$P$2)","v":147.41129999999998},{"$f":"+INDEX(D423:AF423,1,aux_pr_ue!$Q$2)","v":0}]
["Feed Wheat2008/12","Feed Wheat","2008/12",113.79950000000001,127.2628,95.357349999999997,100.23230000000001,105.9029,124.00168571428571,118.45670000000001,125.04837500000001,null,null,115.15,null,null,null,112.71334000000002,104.47550000000001,null,89.119950000000003,null,130.11760000000001,null,108.52124999999999,134.88235,112.19374999999999,null,91.685500000000005,null,null,107.96376666666669,{"$f":"+INDEX(D424:AF424,1,aux_pr_ue!$P$2)","v":134.88235},{"$f":"+INDEX(D424:AF424,1,aux_pr_ue!$Q$2)","v":0}]
["Feed Wheat2008/11","Feed Wheat","2008/11",119.3977,137.20000000000002,103.54763333333334,112.68465,110.6652,131.82486666666665,118.8562,132.43335000000002,null,null,122.34365,null,null,null,105.22190000000001,109.1054,null,93.88655,null,139.16670000000002,125,112.91330000000001,143.17775,112.23330000000001,null,91.302199999999999,null,null,113.05233333333332,{"$f":"+INDEX(D425:AF425,1,aux_pr_ue!$P$2)","v":143.17775},{"$f":"+INDEX(D425:AF425,1,aux_pr_ue!$Q$2)","v":0}]
["Feed Wheat2008/10","Feed Wheat","2008/10",126.3964,141.14520000000002,120.16105000000002,120.6146,118.60640000000001,139.14323333333334,117.52850000000001,145.67740000000001,null,null,129.15200000000002,null,null,null,118.15021666666667,116.57650000000001,null,104.69536666666669,null,144.77420000000001,131.89064999999999,117.74464999999999,155.16130000000001,118.23690000000001,null,107.2642,null,null,118.79520000000001,{"$f":"+INDEX(D426:AF426,1,aux_pr_ue!$P$2)","v":155.16130000000001},{"$f":"+INDEX(D426:AF426,1,aux_pr_ue!$Q$2)","v":0}]
["Feed Wheat2008/09","Feed Wheat","2008/09",138.08110000000002,158.16670000000002,127.37752500000001,133.31575000000001,123.7338,154.24642222222224,121.0655,158.916675,null,null,150.26,null,null,null,121.93923333333333,122.4744,null,115.07717500000001,null,156.13330000000002,133.66305,134.29715000000002,184.56665000000001,122.8325,null,113.32220000000001,null,null,135.2684166666667,{"$f":"+INDEX(D427:AF427,1,aux_pr_ue!$P$2)","v":184.56665000000001},{"$f":"+INDEX(D427:AF427,1,aux_pr_ue!$Q$2)","v":0}]
["Feed Wheat2008/08","Feed Wheat","2008/08",154.21870000000001,175,130.888575,147.11805000000001,null,165.52884444444445,134.25550000000001,182.08870000000002,null,null,173.27880000000002,null,null,null,132.96706666666668,138.68620000000001,null,128.03605000000002,null,175.12900000000002,137.91935000000001,166.17034999999998,200.80644999999998,122.56470000000002,null,125.51350000000001,null,null,153.20140000000001,{"$f":"+INDEX(D428:AF428,1,aux_pr_ue!$P$2)","v":200.80644999999998},{"$f":"+INDEX(D428:AF428,1,aux_pr_ue!$Q$2)","v":0}]
["Feed Wheat2008/07","Feed Wheat","2008/07",189.5746,206.86960000000002,124.10640000000001,203.80165,215.8536,191.22708749999998,158.70170000000002,200.91130000000001,null,null,null,null,null,null,175.07333333333335,190.4513,null,147.48956666666666,null,200.0968,159.875,229.12587500000001,217.56954999999999,144.15206666666666,null,145.25720000000001,null,null,187.13373333333334,{"$f":"+INDEX(D429:AF429,1,aux_pr_ue!$P$2)","v":217.56954999999999},{"$f":"+INDEX(D429:AF429,1,aux_pr_ue!$Q$2)","v":0}]
["Feed Wheat2008/06","Feed Wheat","2008/06",202.8099,194.9333,183.86340000000001,223.39895000000001,214.58670000000001,197.05775,186.88130000000001,204.25002500000002,null,null,183.4118,null,null,null,189.49260000000001,197.77280000000002,null,154.02850000000001,null,204.5,210,233.58800000000002,232.23330000000001,179.93356666666668,null,204.5804,null,null,193.32420000000002,{"$f":"+INDEX(D430:AF430,1,aux_pr_ue!$P$2)","v":232.23330000000001},{"$f":"+INDEX(D430:AF430,1,aux_pr_ue!$Q$2)","v":0}]
["Feed Wheat2008/05","Feed Wheat","2008/05",214.01660000000001,208.15190000000001,232.14660000000001,230.93165000000002,215.6815,200.55062857142858,197.73440000000002,217.83064999999999,null,null,187.2484,null,null,null,195.07585,218.8023,null,167.1619,null,217.03230000000002,215,248.31475,238.25810000000001,208.61875000000001,null,209.12650000000002,null,null,209.19802857142858,{"$f":"+INDEX(D431:AF431,1,aux_pr_ue!$P$2)","v":238.25810000000001},{"$f":"+INDEX(D431:AF431,1,aux_pr_ue!$Q$2)","v":0}]
["Feed Wheat2008/04","Feed Wheat","2008/04",230.39770000000001,224.08695,242.8674,234.93085000000002,230.56540000000001,234.57222222222222,197.81710000000001,228.81665000000001,null,null,211.37,null,null,null,203.76673333333335,223.50480000000002,null,218.10680000000002,null,227.3,235,265.09812499999998,263,215.3683,null,211.79,null,null,220.03067142857142,{"$f":"+INDEX(D432:AF432,1,aux_pr_ue!$P$2)","v":263},{"$f":"+INDEX(D432:AF432,1,aux_pr_ue!$Q$2)","v":0}]
["Feed Wheat2008/03","Feed Wheat","2008/03",238.89260000000002,236.51610000000002,242.8674,230.7636,241.04420000000002,246.49373333333335,198.74440000000001,236.7097,null,null,226.05540000000002,null,null,null,194.28062000000003,221.46960000000001,null,249.7218,null,245.49350000000001,235,257.62880000000001,267.43550000000005,212.40705000000003,null,218.31400000000002,null,null,245.03061428571431,{"$f":"+INDEX(D433:AF433,1,aux_pr_ue!$P$2)","v":267.43550000000005},{"$f":"+INDEX(D433:AF433,1,aux_pr_ue!$Q$2)","v":0}]
["Feed Wheat2008/02","Feed Wheat","2008/02",236.4453,234.58620000000002,242.8674,219.48575,240.00410000000002,245.36851111111113,194.76050000000001,237.03450000000001,null,null,228.64,null,null,null,193.56245000000001,204.8672,null,241.31820000000002,null,245.79090000000002,null,246.109275,269.72415000000001,202.86180000000002,null,200.98760000000001,null,null,244.00834285714291,{"$f":"+INDEX(D434:AF434,1,aux_pr_ue!$P$2)","v":269.72415000000001},{"$f":"+INDEX(D434:AF434,1,aux_pr_ue!$Q$2)","v":0}]
["Feed Wheat2008/01","Feed Wheat","2008/01",231.4854,241.36144999999999,241.63320000000002,213.12030000000001,237.74780000000001,243.02743333333333,191.01610000000002,245.50002499999999,null,null,226.16770000000002,null,null,null,185.10736000000003,191.6472,null,230.9983,null,249.26900000000001,null,235.86135000000002,275,201.33116666666669,null,201.16400000000002,null,null,240.26988571428572,{"$f":"+INDEX(D435:AF435,1,aux_pr_ue!$P$2)","v":275},{"$f":"+INDEX(D435:AF435,1,aux_pr_ue!$Q$2)","v":0}]
["Feed Wheat2007/12","Feed Wheat","2007/12",226.30040000000002,229.9693,237.8527,214.233,228.9753,229.71417777777776,201.2295,245,null,null,230.9,null,null,null,194.01466666666667,194.46130000000002,null,229.37120000000002,null,242.95530000000002,null,228.36047500000001,273.85485,211.94765000000001,null,206.52270000000001,null,null,262.44235714285713,{"$f":"+INDEX(D436:AF436,1,aux_pr_ue!$P$2)","v":273.85485},{"$f":"+INDEX(D436:AF436,1,aux_pr_ue!$Q$2)","v":0}]
["Feed Wheat2007/11","Feed Wheat","2007/11",217.40700000000001,217.9,247.21350000000001,210.09070000000003,210.2466,225.21359999999999,197.85300000000001,230.35832500000001,null,null,206.23570000000001,null,null,null,181.46751666666668,195.58880000000002,null,225.5095,null,223.244,null,217.26137500000002,261.75,204.94886666666665,null,202.89840000000001,null,null,224.67225714285718,{"$f":"+INDEX(D437:AF437,1,aux_pr_ue!$P$2)","v":261.75},{"$f":"+INDEX(D437:AF437,1,aux_pr_ue!$Q$2)","v":0}]
["Feed Wheat2007/10","Feed Wheat","2007/10",217.92310000000001,232.64520000000002,227.10230000000001,204.3639,218.36590000000001,236.10849999999999,188.02340000000001,242.01615000000001,null,null,218.45670000000001,null,null,null,171.57260000000005,200.50110000000001,null,238.1996,null,239.1087,null,224.51590000000002,222.98385000000002,176.73975000000002,null,180.5316,null,null,243.11855,{"$f":"+INDEX(D438:AF438,1,aux_pr_ue!$P$2)","v":222.98385000000002},{"$f":"+INDEX(D438:AF438,1,aux_pr_ue!$Q$2)","v":0}]
["Feed Wheat2007/09","Feed Wheat","2007/09",218.9008,253.1,200.0034,183.42910000000001,198.4162,240.33820999999998,169.7766,254.683325,null,null,253.86,null,null,null,172.13358333333335,180.5318,null,235.01700000000002,null,259.37,null,219.84575000000001,229.13665,176.90950000000001,null,162.51650000000001,null,null,242.46057142857143,{"$f":"+INDEX(D439:AF439,1,aux_pr_ue!$P$2)","v":229.13665},{"$f":"+INDEX(D439:AF439,1,aux_pr_ue!$Q$2)","v":0}]
["Feed Wheat2007/08","Feed Wheat","2007/08",193.9074,217.67740000000001,189.18090000000001,141.60373333333334,null,212.31556,154.6414,222.94355000000002,null,null,209.26330000000002,null,null,null,157.14916666666667,150.154,null,191.60850000000002,null,232.88290000000001,null,169.551725,212.26666,166.01206666666667,null,147.94589999999999,null,null,227.75542857142861,{"$f":"+INDEX(D440:AF440,1,aux_pr_ue!$P$2)","v":212.26666},{"$f":"+INDEX(D440:AF440,1,aux_pr_ue!$Q$2)","v":0}]
["Feed Wheat2007/07","Feed Wheat","2007/07",165.5566,184.54170000000002,147.91953333333336,126.07090000000001,146.47970000000001,169.86484999999999,140.60560000000001,191.13710000000003,null,null,null,null,null,null,138.30663333333334,137.56300000000002,null,167.61570000000003,null,196.07650000000001,null,146.23307500000001,192.29153333333332,165.62946666666667,null,127.41930000000001,null,null,178.98183333333336,{"$f":"+INDEX(D441:AF441,1,aux_pr_ue!$P$2)","v":192.29153333333332},{"$f":"+INDEX(D441:AF441,1,aux_pr_ue!$Q$2)","v":0}]
["Feed Wheat2007/06","Feed Wheat","2007/06",152.86840000000001,155.66666666666666,136.81524999999999,123.5111,144.1591,155.20926250000002,137.8639,174.52500000000001,null,null,null,null,null,null,134.77283333333332,140.29,null,137.00190000000001,null,174.0367,null,153.10227500000002,186.95,160.45590000000001,null,134.17359999999999,null,null,158.79312857142855,{"$f":"+INDEX(D442:AF442,1,aux_pr_ue!$P$2)","v":186.95},{"$f":"+INDEX(D442:AF442,1,aux_pr_ue!$Q$2)","v":0}]
["Feed Wheat2007/05","Feed Wheat","2007/05",149.52930000000001,151.04433333333336,129.86597499999999,126.37313333333334,138.10740000000001,151.90748000000002,139.9974,169.387125,null,null,null,null,null,null,137.75345000000002,149.83350000000002,null,124.13780000000001,null,166.4958,139,158.12985000000003,176.4091,191.9726,null,109.5279,null,null,151.58245714285718,{"$f":"+INDEX(D443:AF443,1,aux_pr_ue!$P$2)","v":176.4091},{"$f":"+INDEX(D443:AF443,1,aux_pr_ue!$Q$2)","v":0}]
["Feed Wheat2007/04","Feed Wheat","2007/04",147.8244,151.31013333333331,134.05000000000001,128.50223333333335,134.6208,149.84906000000001,140.23070000000001,167.78332500000002,null,null,null,null,null,null,138.61492000000001,144.8631,null,129.7467,null,167.3135,139,156.72842500000002,173,153.35670000000002,null,138.46860000000001,null,null,151.21164285714283,{"$f":"+INDEX(D444:AF444,1,aux_pr_ue!$P$2)","v":173},{"$f":"+INDEX(D444:AF444,1,aux_pr_ue!$Q$2)","v":0}]
["Feed Wheat2007/03","Feed Wheat","2007/03",147.4545,147.41933333333336,135.95622500000002,129.29660000000001,133.95680000000002,147.40575000000001,142.54810000000001,166.19355000000002,null,null,null,null,null,null,142.83022499999998,149.6439,null,null,null,162.36680000000001,140.17740000000001,158.78420000000003,170.44443333333334,148.70395000000002,null,118.726,null,null,146.94961428571429,{"$f":"+INDEX(D445:AF445,1,aux_pr_ue!$P$2)","v":170.44443333333334},{"$f":"+INDEX(D445:AF445,1,aux_pr_ue!$Q$2)","v":0}]
["Feed Wheat2007/02","Feed Wheat","2007/02",147.53919999999999,146.16666666666666,134.63159999999999,129.75136666666666,134.6541,149.114575,147.07920000000001,166.6875,null,null,null,null,null,null,129.17172499999998,146.60570000000001,null,null,null,161.77000000000001,140.875,163.82725000000002,169.25,136.72090000000003,null,116.9072,null,null,145.27952857142859,{"$f":"+INDEX(D446:AF446,1,aux_pr_ue!$P$2)","v":169.25},{"$f":"+INDEX(D446:AF446,1,aux_pr_ue!$Q$2)","v":0}]
["Feed Wheat2007/01","Feed Wheat","2007/01",145.9889,147.29300000000001,137.0283,121.35876666666667,135.75970000000001,147.27611999999999,133.6001,166.67744999999999,null,null,null,null,null,null,126.36272500000001,141.11590000000001,null,null,null,163.23840000000001,139.83335,158.562825,170.75,100.26935,null,108.64620000000001,null,null,147.92845714285713,{"$f":"+INDEX(D447:AF447,1,aux_pr_ue!$P$2)","v":170.75},{"$f":"+INDEX(D447:AF447,1,aux_pr_ue!$Q$2)","v":0}]
["Feed Wheat2006/12","Feed Wheat","2006/12",143.55160000000001,145.90133333333333,null,112.72816666666667,132.4325,147.48828999999998,117.6855,165.47580000000002,null,null,null,null,null,null,113.84568333333334,134.0763,null,null,null,163.27000000000001,131.9444,147.11519999999999,170.88890000000004,null,null,113.09530000000001,null,null,145.86957142857142,{"$f":"+INDEX(D448:AF448,1,aux_pr_ue!$P$2)","v":170.88890000000004},{"$f":"+INDEX(D448:AF448,1,aux_pr_ue!$Q$2)","v":0}]
["Feed Wheat2006/11","Feed Wheat","2006/11",139.9948,148.38406666666666,null,105.87236666666668,134.06829999999999,146.61880000000002,107.7187,164.35832500000001,null,null,null,null,null,null,119.53163333333333,123.6687,null,103.15690000000001,null,165.67,122.0341,130.18552499999998,173.26440000000002,null,null,109.94370000000001,null,null,146.57040000000001,{"$f":"+INDEX(D449:AF449,1,aux_pr_ue!$P$2)","v":173.26440000000002},{"$f":"+INDEX(D449:AF449,1,aux_pr_ue!$Q$2)","v":0}]
["Feed Wheat2006/10","Feed Wheat","2006/10",129.63419999999999,144.91400000000002,null,98.189133333333345,134.13740000000001,135.29979999999998,104.2231,161.27420000000001,null,null,null,null,null,null,110.79926666666667,117.099,null,99.343666666666664,null,162.85060000000001,116.19,116.43655000000001,145.13333333333333,null,null,102.43600000000001,null,null,144.75276666666667,{"$f":"+INDEX(D450:AF450,1,aux_pr_ue!$P$2)","v":145.13333333333333},{"$f":"+INDEX(D450:AF450,1,aux_pr_ue!$Q$2)","v":0}]
["Feed Wheat2006/09","Feed Wheat","2006/09",117.81400000000001,132.23330000000001,null,90.961066666666682,null,123.14072000000002,102.009,146.38332500000001,null,null,null,null,null,null,99.078950000000006,102.50330000000001,null,89.964366666666663,null,143.70330000000001,111.6875,106.433475,143.1798,null,null,88.161300000000011,null,null,129.92529999999999,{"$f":"+INDEX(D451:AF451,1,aux_pr_ue!$P$2)","v":143.1798},{"$f":"+INDEX(D451:AF451,1,aux_pr_ue!$Q$2)","v":0}]
["Feed Wheat2006/08","Feed Wheat","2006/08",111.94120000000001,125.16366666666666,null,87.60860000000001,107.8931,117.14261999999999,99.460800000000006,137.09674999999999,null,null,113.93,null,null,null,91.713920000000002,93.480900000000005,null,83.617666666666665,null,140.0119,102.5,101.80322500000001,132.43089999999998,null,null,82.5,null,null,116.46050000000001,{"$f":"+INDEX(D452:AF452,1,aux_pr_ue!$P$2)","v":132.43089999999998},{"$f":"+INDEX(D452:AF452,1,aux_pr_ue!$Q$2)","v":0}]
["Feed Wheat2006/07","Feed Wheat","2006/07",114.45880000000001,123.16995,null,85.683066666666662,107.91300000000001,111.92979,null,136.427425,null,null,113.93,null,null,null,88.218325000000007,106.5531,null,84.432000000000016,null,129.75390000000002,104,106.29215000000001,132.45323999999999,null,null,78.974900000000005,null,null,118.52142857142857,{"$f":"+INDEX(D453:AF453,1,aux_pr_ue!$P$2)","v":132.45323999999999},{"$f":"+INDEX(D453:AF453,1,aux_pr_ue!$Q$2)","v":0}]
["Feed Wheat2006/06","Feed Wheat","2006/06",115.99940000000001,124.4333,null,86.335166666666666,108.7411,121.82061111111109,92.337800000000001,138.77500000000001,null,null,null,null,null,null,88.535900000000012,103.09310000000001,null,98.380300000000005,null,133.70480000000001,103.01665,107.1533,133.07999999999998,null,null,83.059700000000007,null,null,121.71592857142858,{"$f":"+INDEX(D454:AF454,1,aux_pr_ue!$P$2)","v":133.07999999999998},{"$f":"+INDEX(D454:AF454,1,aux_pr_ue!$Q$2)","v":0}]
["Feed Wheat2006/05","Feed Wheat","2006/05",112.6434,118.76206666666667,null,85.757300000000001,110.0763,119.46437,101.94940000000001,133.74195,null,null,null,null,null,null,90.867640000000023,99.905799999999999,null,81.608249999999998,null,133.27000000000001,100.11825,106.1564,135.77350000000001,null,null,82.632300000000001,null,null,120.92227142857143,{"$f":"+INDEX(D455:AF455,1,aux_pr_ue!$P$2)","v":135.77350000000001},{"$f":"+INDEX(D455:AF455,1,aux_pr_ue!$Q$2)","v":0}]
["Feed Wheat2006/04","Feed Wheat","2006/04",106.94670000000001,112.81113333333333,null,82.228200000000001,104.28620000000001,112.45500000000001,99.621600000000001,129.40832499999999,null,null,null,null,null,null,89.057040000000001,98.697700000000012,null,89.360700000000008,null,130.23670000000001,97.891649999999998,100.614075,119.7988,null,null,81.572299999999998,null,null,111.06325714285715,{"$f":"+INDEX(D456:AF456,1,aux_pr_ue!$P$2)","v":119.7988},{"$f":"+INDEX(D456:AF456,1,aux_pr_ue!$Q$2)","v":0}]
["Feed Wheat2006/03","Feed Wheat","2006/03",104.31440000000001,106.05913333333335,null,79.598000000000013,103.20190000000001,106.35932,99.741,128.959675,null,null,null,null,null,null,90.256380000000007,96.106200000000001,null,85.595650000000006,null,121.52810000000001,95.080650000000006,99.804375000000007,129.87100000000001,null,null,82.771000000000001,null,null,109.31538571428572,{"$f":"+INDEX(D457:AF457,1,aux_pr_ue!$P$2)","v":129.87100000000001},{"$f":"+INDEX(D457:AF457,1,aux_pr_ue!$Q$2)","v":0}]
["Feed Wheat2006/02","Feed Wheat","2006/02",103.98740000000001,105.15873333333336,null,79.904300000000006,102.56320000000001,104.48926666666665,92.850300000000004,129.428575,null,null,null,null,null,null,91.925200000000018,92.872500000000002,null,83.373699999999999,null,119.34180000000001,91.910700000000006,101.253225,130.60390000000001,null,null,79.347099999999998,null,null,109.24680000000002,{"$f":"+INDEX(D458:AF458,1,aux_pr_ue!$P$2)","v":130.60390000000001},{"$f":"+INDEX(D458:AF458,1,aux_pr_ue!$Q$2)","v":0}]
["Feed Wheat2006/01","Feed Wheat","2006/01",102.1211,102.49343333333333,null,77.682433333333336,100.8455,99.845670000000013,88.040700000000001,128.01612500000002,null,null,null,null,null,null,85.539800000000014,92.886900000000011,null,78.784649999999999,null,117.233,88.083349999999996,95.100925000000004,130.7903,null,null,79.193300000000008,null,null,106.87662857142858,{"$f":"+INDEX(D459:AF459,1,aux_pr_ue!$P$2)","v":130.7903},{"$f":"+INDEX(D459:AF459,1,aux_pr_ue!$Q$2)","v":0}]
["Feed Wheat2005/12","Feed Wheat","2005/12",95.074600000000004,108.64315000000001,null,75.333433333333346,101.9774,90.2483,88.473766666666677,125.4479,null,null,null,null,null,null,80.007616666666664,88.623699999999999,null,72.57116666666667,null,117.27,85.5,89.732600000000005,133.58330000000001,null,null,74.662599999999998,null,null,107.23287142857144,{"$f":"+INDEX(D460:AF460,1,aux_pr_ue!$P$2)","v":133.58330000000001},{"$f":"+INDEX(D460:AF460,1,aux_pr_ue!$Q$2)","v":0}]
["Feed Wheat2005/11","Feed Wheat","2005/11",95.552199999999999,107.9833,null,76.477533333333341,101.67750000000001,94.357939999999999,94.084933333333353,124.27500000000001,null,null,null,null,null,null,81.004216666666665,82.655600000000007,null,73.333150000000003,null,116.12,84.477500000000006,84.90247500000001,132.73910000000001,null,null,70.767499999999998,null,null,105.4537142857143,{"$f":"+INDEX(D461:AF461,1,aux_pr_ue!$P$2)","v":132.73910000000001},{"$f":"+INDEX(D461:AF461,1,aux_pr_ue!$Q$2)","v":0}]
["Feed Wheat2005/10","Feed Wheat","2005/10",94.423500000000004,103.85480000000001,null,75.674933333333342,99.925600000000003,93.757109999999997,93.197600000000008,123.22580000000001,null,null,null,null,null,null,77.103416666666661,80.221900000000005,null,65.048000000000002,null,111.6571,83.065799999999996,87.003074999999995,127,null,null,69.963099999999997,null,null,103.97331428571428,{"$f":"+INDEX(D462:AF462,1,aux_pr_ue!$P$2)","v":127},{"$f":"+INDEX(D462:AF462,1,aux_pr_ue!$Q$2)","v":0}]
["Feed Wheat2005/09","Feed Wheat","2005/09",92.285499999999999,102.85,null,74.335533333333345,97.688900000000004,94.0197,87.360833333333346,121.08332500000002,null,null,101.27666666666666,null,null,null,74.827116666666669,77.754100000000008,null,66.951599999999999,null,110.80330000000001,87.5,84.752850000000009,125.5,null,null,66.964799999999997,null,null,101.36484285714286,{"$f":"+INDEX(D463:AF463,1,aux_pr_ue!$P$2)","v":125.5},{"$f":"+INDEX(D463:AF463,1,aux_pr_ue!$Q$2)","v":0}]
["Feed Wheat2005/08","Feed Wheat","2005/08",94.602800000000002,103.75,null,74.331000000000003,null,94.735877777777787,85.601200000000006,119.774175,null,null,101.912475,null,null,null,75.202150000000003,80.496600000000001,null,65.135800000000003,null,112.2377,87.5,85.440750000000008,122.75806666666669,null,null,67.406700000000001,null,null,102.2634,{"$f":"+INDEX(D464:AF464,1,aux_pr_ue!$P$2)","v":122.75806666666669},{"$f":"+INDEX(D464:AF464,1,aux_pr_ue!$Q$2)","v":0}]
["Feed Wheat2005/07","Feed Wheat","2005/07",98.22290000000001,114,null,74.257966666666661,null,101.71243750000001,null,118.74192500000001,null,null,101.222075,null,null,null,83.937033333333332,87.857399999999998,null,68.870233333333331,null,120.85820000000001,98,86.162774999999996,123.45163333333335,null,null,74.624499999999998,null,null,100.80955714285713,{"$f":"+INDEX(D465:AF465,1,aux_pr_ue!$P$2)","v":123.45163333333335},{"$f":"+INDEX(D465:AF465,1,aux_pr_ue!$Q$2)","v":0}]
["Feed Wheat2005/06","Feed Wheat","2005/06",99.932900000000004,111.56670000000001,null,77.268500000000003,101.6748,102.85315555555556,95.516000000000005,119.51665000000001,null,null,102.0686,null,null,null,82.805966666666663,89.832400000000007,null,76.757533333333342,null,119.1367,98,89.335274999999996,125.65000000000002,null,null,78.155100000000004,null,null,101.48978571428573,{"$f":"+INDEX(D466:AF466,1,aux_pr_ue!$P$2)","v":125.65000000000002},{"$f":"+INDEX(D466:AF466,1,aux_pr_ue!$Q$2)","v":0}]
["Feed Wheat2005/05","Feed Wheat","2005/05",99.837600000000009,106.16130000000001,null,74.583399999999997,98.081400000000002,102.16978750000001,101.79383333333334,116.95162500000001,null,null,99.701000000000008,null,null,null,82.967500000000001,89.432299999999998,null,74.865000000000009,null,114.62480000000001,98,89.691475000000011,126.5,null,null,76.215600000000009,null,null,102.35598571428571,{"$f":"+INDEX(D467:AF467,1,aux_pr_ue!$P$2)","v":126.5},{"$f":"+INDEX(D467:AF467,1,aux_pr_ue!$Q$2)","v":0}]
["Feed Wheat2005/04","Feed Wheat","2005/04",100.14840000000001,104.9667,null,75.342800000000011,97.137600000000006,99.924580000000006,100.41403333333334,116.7,null,null,99.010999999999996,null,null,null,83.687350000000009,90.6173,null,null,null,112.9367,98,91.398600000000002,126.13330000000001,null,null,77.065600000000003,null,null,107.24527499999999,{"$f":"+INDEX(D468:AF468,1,aux_pr_ue!$P$2)","v":126.13330000000001},{"$f":"+INDEX(D468:AF468,1,aux_pr_ue!$Q$2)","v":0}]
["Feed Wheat2005/03","Feed Wheat","2005/03",101.3233,107.6452,null,75.730099999999993,99.284900000000007,100.63424999999999,100.75670000000001,116.91935000000001,null,null,97.826600000000013,null,null,null,83.784366666666656,91.212600000000009,null,90.297300000000007,null,113.88290000000001,98,96.043475000000001,128.31450000000001,null,null,84.507300000000001,null,null,107.328975,{"$f":"+INDEX(D469:AF469,1,aux_pr_ue!$P$2)","v":128.31450000000001},{"$f":"+INDEX(D469:AF469,1,aux_pr_ue!$Q$2)","v":0}]
["Feed Wheat2005/02","Feed Wheat","2005/02",100.7097,106.08930000000001,null,78.358166666666676,96.954000000000008,98.872611111111098,92.34,117.18752500000001,null,null,98.182700000000011,null,null,null,81.541600000000003,87.598700000000008,null,84.980100000000007,null,113.34140000000001,98,98.931925000000007,127.05125000000001,null,null,86.886499999999998,null,null,104.59632499999999,{"$f":"+INDEX(D470:AF470,1,aux_pr_ue!$P$2)","v":127.05125000000001},{"$f":"+INDEX(D470:AF470,1,aux_pr_ue!$Q$2)","v":0}]
["Feed Wheat2005/01","Feed Wheat","2005/01",102.42410000000001,105.82690000000001,null,78.536866666666668,97.03,99.211077777777788,126.16583333333334,119.03225,null,null,97.722100000000012,null,null,null,82.977266666666665,85.862099999999998,null,92.494150000000005,null,113.27,99.842100000000002,97.416925000000006,125.9516,null,null,87.21990000000001,null,null,101.53321250000002,{"$f":"+INDEX(D471:AF471,1,aux_pr_ue!$P$2)","v":125.9516},{"$f":"+INDEX(D471:AF471,1,aux_pr_ue!$Q$2)","v":0}]
["Feed Wheat2004/12","Feed Wheat","2004/12",97.327400000000011,106.29310000000001,null,83.492775000000009,101.55720000000001,89.954627272727279,105.98776666666667,118.302075,null,null,100.33806666666668,null,null,null,82.016650000000013,84.71990000000001,null,82.80446666666667,null,113.77,99.409100000000009,97.086075000000008,130.5625,null,null,87.613399999999999,null,null,101.34215,{"$f":"+INDEX(D472:AF472,1,aux_pr_ue!$P$2)","v":130.5625},{"$f":"+INDEX(D472:AF472,1,aux_pr_ue!$Q$2)","v":0}]
["Feed Wheat2004/11","Feed Wheat","2004/11",99.611000000000004,107.2333,null,84.506225000000001,101.6431,99.097688888888882,101.78773333333334,118.09167500000001,null,null,101.18456666666667,null,null,null,85.458600000000018,89.165300000000002,null,79.803666666666672,null,null,97.5,95.111099999999993,130.06265000000002,null,null,86.365300000000005,null,null,100.82978750000001,{"$f":"+INDEX(D473:AF473,1,aux_pr_ue!$P$2)","v":130.06265000000002},{"$f":"+INDEX(D473:AF473,1,aux_pr_ue!$Q$2)","v":0}]
["Feed Wheat2004/10","Feed Wheat","2004/10",97.174199999999999,104.06450000000001,null,88.455749999999995,98.82950000000001,98.079374999999999,101.37596666666667,118.74195,null,null,99.648366666666675,null,null,null,86.622933333333336,85.4846,null,82.760824999999997,null,null,97,94.791325000000015,124.5719,null,null,85.235700000000008,null,null,99.143157142857149,{"$f":"+INDEX(D474:AF474,1,aux_pr_ue!$P$2)","v":124.5719},{"$f":"+INDEX(D474:AF474,1,aux_pr_ue!$Q$2)","v":0}]
["Feed Wheat2004/09","Feed Wheat","2004/09",97.919200000000004,104.2333,null,94.054524999999998,98.468299999999999,98.942011111111114,96.530500000000018,118.208325,null,null,96.819199999999995,null,null,null,86.787183333333346,87.912199999999999,null,84.321024999999992,null,110.9367,95.5,93.540700000000001,125.88743333333333,null,null,84.766500000000008,null,null,98.957899999999995,{"$f":"+INDEX(D475:AF475,1,aux_pr_ue!$P$2)","v":125.88743333333333},{"$f":"+INDEX(D475:AF475,1,aux_pr_ue!$Q$2)","v":0}]
["Feed Wheat2004/08","Feed Wheat","2004/08",104.76780000000001,106.2963,null,100.588875,null,101.36344285714286,107.64200000000001,126.67744999999999,null,null,98.041449999999998,null,null,null,94.752850000000009,97.935500000000005,null,80.816800000000001,null,113.7539,95.5,95.708449999999999,134.78960000000001,null,null,85.986000000000004,null,null,106.72255,{"$f":"+INDEX(D476:AF476,1,aux_pr_ue!$P$2)","v":134.78960000000001},{"$f":"+INDEX(D476:AF476,1,aux_pr_ue!$Q$2)","v":0}]
["Feed Wheat2004/07","Feed Wheat","2004/07",123.22770000000001,137.66670000000002,null,113.26162500000001,null,123.22042000000002,null,134.20159999999998,null,null,100.20815,null,null,null,115.3475,131.8141,null,76.004400000000004,null,133.35330000000002,null,145.35826666666665,136.25207500000002,null,null,122.8798,null,null,120.04859999999999,{"$f":"+INDEX(D477:AF477,1,aux_pr_ue!$P$2)","v":136.25207500000002},{"$f":"+INDEX(D477:AF477,1,aux_pr_ue!$Q$2)","v":0}]
["Feed Wheat2004/06","Feed Wheat","2004/06",130.74620000000002,134.4,null,117.99495,127.86680000000001,132.44668571428571,51.635066666666667,145.84167500000001,null,null,null,null,null,null,101.41148000000001,127.1007,null,90.622600000000006,null,140.7483,null,151.10692500000002,155.44900000000001,null,null,139.72660000000002,null,null,124.14478,{"$f":"+INDEX(D478:AF478,1,aux_pr_ue!$P$2)","v":155.44900000000001},{"$f":"+INDEX(D478:AF478,1,aux_pr_ue!$Q$2)","v":0}]
["Feed Wheat2004/05","Feed Wheat","2004/05",143.48070000000001,147.77420000000001,null,119.73616666666668,140.19069999999999,149.16863750000002,7.3524000000000003,159.42740000000001,null,null,null,null,null,null,132.70395000000002,118.80210000000001,null,99.512799999999999,null,147.97970000000001,null,149.81377500000002,168.62080000000003,null,null,140.8374,null,null,145.62033333333335,{"$f":"+INDEX(D479:AF479,1,aux_pr_ue!$P$2)","v":168.62080000000003},{"$f":"+INDEX(D479:AF479,1,aux_pr_ue!$Q$2)","v":0}]
["Feed Wheat2004/04","Feed Wheat","2004/04",159.10320000000002,153.4333,null,null,143.57940000000002,156.78828571428571,null,167.978275,null,null,null,null,null,null,null,116.05070000000001,null,null,null,161.05260000000001,null,144.34155000000001,177.97085000000001,null,null,138.68170000000001,null,null,155.69086666666666,{"$f":"+INDEX(D480:AF480,1,aux_pr_ue!$P$2)","v":177.97085000000001},{"$f":"+INDEX(D480:AF480,1,aux_pr_ue!$Q$2)","v":0}]
["Feed Wheat2004/03","Feed Wheat","2004/03",157.8561,153.93550000000002,null,null,141.3075,157.57839999999999,null,166.54837499999999,null,null,null,null,null,null,null,null,null,null,null,160.7861,null,null,175.81825000000001,null,null,null,null,null,149.76118333333338,{"$f":"+INDEX(D481:AF481,1,aux_pr_ue!$P$2)","v":175.81825000000001},{"$f":"+INDEX(D481:AF481,1,aux_pr_ue!$Q$2)","v":0}]
["Feed Wheat2004/02","Feed Wheat","2004/02",162.26730000000001,156.82760000000002,null,null,142.911,164.15923333333336,null,170.267225,null,null,null,null,null,null,null,null,null,null,null,164.13210000000001,null,null,177.1293,null,null,null,null,null,153.67378333333335,{"$f":"+INDEX(D482:AF482,1,aux_pr_ue!$P$2)","v":177.1293},{"$f":"+INDEX(D482:AF482,1,aux_pr_ue!$Q$2)","v":0}]
["Feed Wheat2004/01","Feed Wheat","2004/01",165.4273,160.25875000000002,null,null,146.04510000000002,162.35226666666668,null,174.78225,null,null,null,null,null,null,null,null,null,null,null,168.1087,null,null,179.6506,null,null,null,null,null,162.08688571428573,{"$f":"+INDEX(D483:AF483,1,aux_pr_ue!$P$2)","v":179.6506},{"$f":"+INDEX(D483:AF483,1,aux_pr_ue!$Q$2)","v":0}]
["Feed Wheat2003/12","Feed Wheat","2003/12",165.06050000000002,161.36760000000001,null,null,146.72970000000001,159.59007500000001,null,173.65625,null,null,null,null,null,null,null,null,null,null,null,168.44650000000001,null,null,181.33850000000001,null,null,null,null,null,162.20984999999999,{"$f":"+INDEX(D484:AF484,1,aux_pr_ue!$P$2)","v":181.33850000000001},{"$f":"+INDEX(D484:AF484,1,aux_pr_ue!$Q$2)","v":0}]
["Feed Wheat2003/11","Feed Wheat","2003/11",155.4802,157.23330000000001,null,null,142.83450000000002,148.22970000000001,null,161.89167500000002,null,null,null,null,null,null,null,null,null,null,null,168.47,null,null,174.99315000000001,null,null,null,null,null,147.20557142857143,{"$f":"+INDEX(D485:AF485,1,aux_pr_ue!$P$2)","v":174.99315000000001},{"$f":"+INDEX(D485:AF485,1,aux_pr_ue!$Q$2)","v":0}]
["Feed Wheat2003/10","Feed Wheat","2003/10",138.4503,138.5,null,null,125.87610000000001,135.06236666666666,null,147.37097500000002,null,null,null,null,null,null,null,null,null,null,null,149.2055,null,null,143.75030000000001,null,null,null,null,null,135.70189999999999,{"$f":"+INDEX(D486:AF486,1,aux_pr_ue!$P$2)","v":143.75030000000001},{"$f":"+INDEX(D486:AF486,1,aux_pr_ue!$Q$2)","v":0}]
["Feed Wheat2003/09","Feed Wheat","2003/09",134.08680000000001,131.55000000000001,null,null,123.46270000000001,130.99871111111113,null,143.39167500000002,null,null,null,null,null,null,null,null,null,null,null,142.17000000000002,null,null,140.56633333333335,null,null,null,null,null,130.11546250000001,{"$f":"+INDEX(D487:AF487,1,aux_pr_ue!$P$2)","v":140.56633333333335},{"$f":"+INDEX(D487:AF487,1,aux_pr_ue!$Q$2)","v":0}]
["Feed Wheat2003/08","Feed Wheat","2003/08",125.5869,122.61290000000001,null,null,null,122.68566666666668,null,133.12902500000001,null,null,121.59213333333334,null,null,null,null,null,null,null,null,134.06030000000001,null,null,134.77000000000001,null,null,null,null,null,122.343525,{"$f":"+INDEX(D488:AF488,1,aux_pr_ue!$P$2)","v":134.77000000000001},{"$f":"+INDEX(D488:AF488,1,aux_pr_ue!$Q$2)","v":0}]
["Feed Wheat2003/07","Feed Wheat","2003/07",118.29770000000001,114,null,null,null,113.29798000000001,null,129.20162500000004,null,null,113.14850000000001,null,null,null,null,null,null,null,null,123.01190000000001,null,null,125.39975000000001,null,null,null,null,null,113.18553999999999,{"$f":"+INDEX(D489:AF489,1,aux_pr_ue!$P$2)","v":125.39975000000001},{"$f":"+INDEX(D489:AF489,1,aux_pr_ue!$Q$2)","v":0}]
["Feed Wheat2003/06","Feed Wheat","2003/06",115.61070000000001,111.06670000000001,null,null,110.29810000000001,112.17524444444444,null,127.26667499999999,null,null,102.95840000000001,null,null,null,null,null,null,null,null,119.83670000000001,null,null,122.85046666666666,null,null,null,null,null,112.10040000000001,{"$f":"+INDEX(D490:AF490,1,aux_pr_ue!$P$2)","v":122.85046666666666},{"$f":"+INDEX(D490:AF490,1,aux_pr_ue!$Q$2)","v":0}]
["Feed Wheat2003/05","Feed Wheat","2003/05",113.06450000000001,112.00805,null,null,107.6401,110.53837000000001,null,124.45965000000001,null,null,102.97840000000001,null,null,null,null,null,null,null,null,119.72160000000001,null,null,128.15129999999999,null,null,null,null,null,106.99134285714285,{"$f":"+INDEX(D491:AF491,1,aux_pr_ue!$P$2)","v":128.15129999999999},{"$f":"+INDEX(D491:AF491,1,aux_pr_ue!$Q$2)","v":0}]
["Feed Wheat2003/04","Feed Wheat","2003/04",108.66800000000001,110.81670000000001,null,null,103.2938,104.33312999999998,null,119.308325,null,null,101.75905,null,null,null,null,null,null,null,null,116.27,null,null,123.4385,null,null,null,null,null,104.29698333333333,{"$f":"+INDEX(D492:AF492,1,aux_pr_ue!$P$2)","v":123.4385},{"$f":"+INDEX(D492:AF492,1,aux_pr_ue!$Q$2)","v":0}]
["Feed Wheat2003/03","Feed Wheat","2003/03",108.3309,109.629,null,null,102.7406,104.92042000000001,null,119.822575,null,null,99.216949999999997,null,null,null,null,null,null,null,null,114.6033,null,null,122.80710000000001,null,null,null,null,null,102.71382500000001,{"$f":"+INDEX(D493:AF493,1,aux_pr_ue!$P$2)","v":122.80710000000001},{"$f":"+INDEX(D493:AF493,1,aux_pr_ue!$Q$2)","v":0}]
["Feed Wheat2003/02","Feed Wheat","2003/02",108.16330000000001,110.625,null,null,103.56620000000001,105.54447777777779,null,119.78570000000002,null,null,100.83085,null,null,null,null,null,null,null,null,115.27,null,null,123.04,null,null,null,null,null,101.30811249999999,{"$f":"+INDEX(D494:AF494,1,aux_pr_ue!$P$2)","v":123.04},{"$f":"+INDEX(D494:AF494,1,aux_pr_ue!$Q$2)","v":0}]
["Feed Wheat2003/01","Feed Wheat","2003/01",107.68810000000001,111.075,null,null,102.34490000000001,104.46045555555555,null,117.808325,null,null,100.98085,null,null,null,null,null,null,null,null,115.7265,null,null,121.73275000000001,null,null,null,null,null,99.342162500000001,{"$f":"+INDEX(D495:AF495,1,aux_pr_ue!$P$2)","v":121.73275000000001},{"$f":"+INDEX(D495:AF495,1,aux_pr_ue!$Q$2)","v":0}]
["Feed Wheat2002/12","Feed Wheat","2002/12",109.38200000000001,111,null,null,101.28800000000001,103.03954444444443,null,115.87500000000001,null,null,101.98330000000001,null,null,null,null,null,null,null,null,115.8533,null,null,122.46125000000001,null,null,null,null,null,102.40031249999998,{"$f":"+INDEX(D496:AF496,1,aux_pr_ue!$P$2)","v":122.46125000000001},{"$f":"+INDEX(D496:AF496,1,aux_pr_ue!$Q$2)","v":0}]
["Feed Wheat2002/11","Feed Wheat","2002/11",106.04950000000001,111.2167,null,null,102.08930000000001,101.82904000000001,null,113.9,null,null,103.14615000000001,null,null,null,null,null,null,null,null,115.27,null,null,121.82650000000001,null,null,null,null,null,101.91856250000001,{"$f":"+INDEX(D497:AF497,1,aux_pr_ue!$P$2)","v":121.82650000000001},{"$f":"+INDEX(D497:AF497,1,aux_pr_ue!$Q$2)","v":0}]
["Feed Wheat2002/10","Feed Wheat","2002/10",106.05970000000001,111.37094999999999,null,null,100.43270000000001,100.25685999999999,null,112.96775000000001,null,null,103.98179999999999,null,null,null,null,null,null,null,null,114.12480000000001,102.5,null,121.62065000000001,null,null,null,null,null,103.5011875,{"$f":"+INDEX(D498:AF498,1,aux_pr_ue!$P$2)","v":121.62065000000001},{"$f":"+INDEX(D498:AF498,1,aux_pr_ue!$Q$2)","v":0}]
["Feed Wheat2002/09","Feed Wheat","2002/09",104.6024,101.07036666666666,null,null,99.633499999999998,97.858611111111117,null,115.80000000000001,null,null,105.62085,null,null,null,null,null,null,null,null,111.4533,102.5,null,119.73275000000001,null,null,null,null,null,99.846075000000013,{"$f":"+INDEX(D499:AF499,1,aux_pr_ue!$P$2)","v":119.73275000000001},{"$f":"+INDEX(D499:AF499,1,aux_pr_ue!$Q$2)","v":0}]
["Feed Wheat2002/08","Feed Wheat","2002/08",107.30210000000001,95,null,null,null,97.340077777777793,null,121.5,null,null,104.19736666666667,null,null,null,null,null,null,null,null,109.72160000000001,98.5,null,119.285025,null,null,null,null,null,99.327549999999988,{"$f":"+INDEX(D500:AF500,1,aux_pr_ue!$P$2)","v":119.285025},{"$f":"+INDEX(D500:AF500,1,aux_pr_ue!$Q$2)","v":0}]
["Feed Wheat2002/07","Feed Wheat","2002/07",111.16680000000001,101.13333333333333,null,null,null,111.308975,null,121.33867500000001,null,null,99.608333333333334,null,null,null,null,null,null,null,null,117.2765,109.5,null,120.539025,null,null,null,null,null,107.35394285714285,{"$f":"+INDEX(D501:AF501,1,aux_pr_ue!$P$2)","v":120.539025},{"$f":"+INDEX(D501:AF501,1,aux_pr_ue!$Q$2)","v":0}]
["Feed Wheat2002/06","Feed Wheat","2002/06",111.14100000000001,105.55556666666666,null,null,98.347500000000011,112.8057888888889,null,120.883325,null,null,102.65390000000001,null,null,null,null,null,null,null,null,116.9533,109.5,null,122.66550000000001,null,null,null,null,null,103.28687500000001,{"$f":"+INDEX(D502:AF502,1,aux_pr_ue!$P$2)","v":122.66550000000001},{"$f":"+INDEX(D502:AF502,1,aux_pr_ue!$Q$2)","v":0}]
["Feed Wheat2002/05","Feed Wheat","2002/05",115.01650000000001,109.07869999999998,null,null,101.95190000000001,115.29040999999999,null,124.50002500000002,null,null,104.82860000000001,null,null,null,null,null,null,null,null,120.7055,109.5,null,128.39355,null,null,null,null,null,117.67874999999999,{"$f":"+INDEX(D503:AF503,1,aux_pr_ue!$P$2)","v":128.39355},{"$f":"+INDEX(D503:AF503,1,aux_pr_ue!$Q$2)","v":0}]
["Feed Wheat2002/04","Feed Wheat","2002/04",118.45500000000001,113.38196666666666,null,null,106.70360000000001,116.81189999999999,null,126.75,null,null,108.54910000000001,null,null,null,null,null,null,null,null,125.33670000000001,110.23910000000001,null,132.00730000000001,null,null,null,null,null,121.98442857142857,{"$f":"+INDEX(D504:AF504,1,aux_pr_ue!$P$2)","v":132.00730000000001},{"$f":"+INDEX(D504:AF504,1,aux_pr_ue!$Q$2)","v":0}]
["Feed Wheat2002/03","Feed Wheat","2002/03",120.1534,115.13439999999999,null,null,110.60990000000001,118.09365555555557,null,131.2903,null,null,108.91504999999999,null,null,null,null,null,null,null,null,124.4474,112.2419,null,133.69274999999999,null,null,null,null,null,126.94297142857144,{"$f":"+INDEX(D505:AF505,1,aux_pr_ue!$P$2)","v":133.69274999999999},{"$f":"+INDEX(D505:AF505,1,aux_pr_ue!$Q$2)","v":0}]
["Feed Wheat2002/02","Feed Wheat","2002/02",124.5137,120.9405,null,null,113.07080000000001,119.02522999999999,null,134.03572500000001,null,null,114.14992500000001,null,null,null,null,null,null,null,null,128.09139999999999,112.68520000000001,null,138.42160000000001,null,null,null,null,null,133.40479999999999,{"$f":"+INDEX(D506:AF506,1,aux_pr_ue!$P$2)","v":138.42160000000001},{"$f":"+INDEX(D506:AF506,1,aux_pr_ue!$Q$2)","v":0}]
["Feed Wheat2002/01","Feed Wheat","2002/01",125.7838,123.6773,null,null,117.63340000000001,118.87880000000003,null,133.827575,null,null,117.05210000000001,null,null,null,null,null,null,null,null,132.8562,112.89845,null,140.8955,null,null,null,null,null,136.45394999999999,{"$f":"+INDEX(D507:AF507,1,aux_pr_ue!$P$2)","v":140.8955},{"$f":"+INDEX(D507:AF507,1,aux_pr_ue!$Q$2)","v":0}]
["Feed Wheat2001/12","Feed Wheat","2001/12",127.71550000000001,123.8651,null,null,113.87440000000001,118.49014,null,132.77629999999999,null,null,118.078675,null,null,null,null,null,null,null,null,132.1097,110.82900000000001,null,141.92689999999999,null,null,null,null,null,134.16793750000002,{"$f":"+INDEX(D508:AF508,1,aux_pr_ue!$P$2)","v":141.92689999999999},{"$f":"+INDEX(D508:AF508,1,aux_pr_ue!$Q$2)","v":0}]
["Feed Wheat2001/11","Feed Wheat","2001/11",125.001,121.79653333333333,null,null,113.4058,116.90236999999999,null,132.11287500000003,null,null,118.40542500000001,null,null,null,null,null,null,null,null,131.58870000000002,110.82610000000001,null,141.68735000000001,null,null,null,null,null,132.82883749999999,{"$f":"+INDEX(D509:AF509,1,aux_pr_ue!$P$2)","v":141.68735000000001},{"$f":"+INDEX(D509:AF509,1,aux_pr_ue!$Q$2)","v":0}]
["Feed Wheat2001/10","Feed Wheat","2001/10",121.96100000000001,116.26996666666668,null,null,109.96680000000001,114.85467500000001,null,130.62430000000001,null,null,114.04329999999999,null,null,null,null,null,null,null,null,126.5574,111.62550000000002,null,137.89685000000003,null,null,null,null,null,130.70736250000002,{"$f":"+INDEX(D510:AF510,1,aux_pr_ue!$P$2)","v":137.89685000000003},{"$f":"+INDEX(D510:AF510,1,aux_pr_ue!$Q$2)","v":0}]
["Feed Wheat2001/09","Feed Wheat","2001/09",123.59830000000001,118.42426666666667,null,null,111.0309,116.11745000000001,null,133.40715,null,null,115.65215000000001,null,null,null,null,null,null,null,null,126.9166,111.37115,null,136.17600000000002,null,null,null,null,null,132.2484125,{"$f":"+INDEX(D511:AF511,1,aux_pr_ue!$P$2)","v":136.17600000000002},{"$f":"+INDEX(D511:AF511,1,aux_pr_ue!$Q$2)","v":0}]
["Feed Wheat2001/08","Feed Wheat","2001/08",127.1842,119.53216666666668,null,null,null,117.50647777777777,null,138.59987500000003,null,null,117.758825,null,null,null,null,null,null,null,null,128.26850000000002,111.37115,null,137.36167499999999,null,null,null,null,null,132.64352500000001,{"$f":"+INDEX(D512:AF512,1,aux_pr_ue!$P$2)","v":137.36167499999999},{"$f":"+INDEX(D512:AF512,1,aux_pr_ue!$Q$2)","v":0}]
["Feed Wheat2001/07","Feed Wheat","2001/07",130.02340000000001,119.66500000000001,null,null,null,121.47655000000002,null,139.24797500000003,null,null,106.71430000000001,null,null,null,null,null,null,null,null,130.4179,null,null,137.726575,null,null,null,null,null,134.75603750000002,{"$f":"+INDEX(D513:AF513,1,aux_pr_ue!$P$2)","v":137.726575},{"$f":"+INDEX(D513:AF513,1,aux_pr_ue!$Q$2)","v":0}]
["Feed Wheat2001/06","Feed Wheat","2001/06",128.57769999999999,119.40206666666667,null,null,123.07350000000001,121.65707000000002,null,138.87174999999999,null,null,117.59259999999999,null,null,null,null,null,null,null,null,129.63750000000002,123.9072,null,142.47540000000001,null,null,null,null,null,137.07995,{"$f":"+INDEX(D514:AF514,1,aux_pr_ue!$P$2)","v":142.47540000000001},{"$f":"+INDEX(D514:AF514,1,aux_pr_ue!$Q$2)","v":0}]
["Feed Wheat2001/05","Feed Wheat","2001/05",127.79270000000001,118.82900000000001,null,null,123.75760000000001,123.17620000000002,null,135.605975,null,null,118.79657999999999,null,null,null,null,null,null,null,null,129.87630000000001,123.9072,null,143.2998,null,null,null,null,null,135.75149999999999,{"$f":"+INDEX(D515:AF515,1,aux_pr_ue!$P$2)","v":143.2998},{"$f":"+INDEX(D515:AF515,1,aux_pr_ue!$Q$2)","v":0}]
["Feed Wheat2001/04","Feed Wheat","2001/04",121.86980000000001,113.2353,null,null,119.22850000000001,120.19125555555557,null,130.84649999999999,null,null,112.85736666666668,null,null,null,null,null,null,null,null,125.09960000000001,123.9072,null,137.66405,null,null,null,null,null,126.83086249999999,{"$f":"+INDEX(D516:AF516,1,aux_pr_ue!$P$2)","v":137.66405},{"$f":"+INDEX(D516:AF516,1,aux_pr_ue!$Q$2)","v":0}]
["Feed Wheat2001/03","Feed Wheat","2001/03",120.098,111.83196666666667,null,null,120.23530000000001,121.30427500000002,null,130.465575,null,null,110.99825,null,null,null,null,null,null,null,null,122.4182,125.21990000000001,null,135.48394999999999,null,null,null,null,null,121.06688750000002,{"$f":"+INDEX(D517:AF517,1,aux_pr_ue!$P$2)","v":135.48394999999999},{"$f":"+INDEX(D517:AF517,1,aux_pr_ue!$Q$2)","v":0}]
["Feed Wheat2001/02","Feed Wheat","2001/02",120.91800000000001,112.4817,null,null,120.4295,123.3397111111111,null,129.98945000000001,null,null,111.77868333333333,null,null,null,null,null,null,null,null,123.37150000000001,125.36060000000001,null,137.67860000000002,null,null,null,null,null,120.60445,{"$f":"+INDEX(D518:AF518,1,aux_pr_ue!$P$2)","v":137.67860000000002},{"$f":"+INDEX(D518:AF518,1,aux_pr_ue!$Q$2)","v":0}]
["Feed Wheat2001/01","Feed Wheat","2001/01",120.6464,115.22826666666668,null,null,117.16510000000001,124.49507999999999,null,127.96705,null,null,112.18731666666666,null,null,null,null,null,null,null,null,127.0112,124.1885,null,139.60673333333332,null,null,null,null,null,116.94436250000001,{"$f":"+INDEX(D519:AF519,1,aux_pr_ue!$P$2)","v":139.60673333333332},{"$f":"+INDEX(D519:AF519,1,aux_pr_ue!$Q$2)","v":0}]
["Feed Wheat2000/12","Feed Wheat","2000/12",121.0232,116.27910000000001,null,null,116.67620000000001,123.20585454545454,null,124.6195,null,null,111.78478333333334,null,null,null,null,null,null,null,null,128.67510000000001,119.97070000000001,null,139.55950000000001,null,null,null,null,null,114.402125,{"$f":"+INDEX(D520:AF520,1,aux_pr_ue!$P$2)","v":139.55950000000001},{"$f":"+INDEX(D520:AF520,1,aux_pr_ue!$Q$2)","v":0}]
["Feed Wheat2000/11","Feed Wheat","2000/11",116.9696,111.57996666666668,null,null,113.00790000000001,119.0729,null,120.27482499999999,null,null,null,null,null,null,null,null,null,null,null,123.40470000000001,118.0934,null,134.44319999999999,null,null,null,null,null,111.06661250000001,{"$f":"+INDEX(D521:AF521,1,aux_pr_ue!$P$2)","v":134.44319999999999},{"$f":"+INDEX(D521:AF521,1,aux_pr_ue!$Q$2)","v":0}]
["Feed Wheat2000/10","Feed Wheat","2000/10",114.53960000000001,109.00703333333335,null,null,108.14890000000001,115.33690000000001,null,118.441125,null,null,null,null,null,null,null,null,null,null,null,119.15360000000001,114.45970000000001,null,128.73975000000002,null,null,null,null,null,112.33783750000001,{"$f":"+INDEX(D522:AF522,1,aux_pr_ue!$P$2)","v":128.73975000000002},{"$f":"+INDEX(D522:AF522,1,aux_pr_ue!$Q$2)","v":0}]
["Feed Wheat2000/09","Feed Wheat","2000/09",112.43140000000001,107.06590000000001,null,null,108.4735,111.82183636363635,null,118.82632500000001,null,null,null,null,null,null,null,null,null,null,null,118.5968,114.0806,null,118.703525,null,null,null,null,null,110.8193875,{"$f":"+INDEX(D523:AF523,1,aux_pr_ue!$P$2)","v":118.703525},{"$f":"+INDEX(D523:AF523,1,aux_pr_ue!$Q$2)","v":0}]
["Feed Wheat2000/08","Feed Wheat","2000/08",117.43870000000001,106.5942,null,null,null,108.52319000000003,null,133.63992500000001,null,null,null,null,null,null,null,null,null,null,null,116.81880000000001,113.00630000000001,null,118.516475,null,null,null,null,null,120.47911666666666,{"$f":"+INDEX(D524:AF524,1,aux_pr_ue!$P$2)","v":118.516475},{"$f":"+INDEX(D524:AF524,1,aux_pr_ue!$Q$2)","v":0}]
["Feed Wheat2000/07","Feed Wheat","2000/07",126.44120000000001,126.01253333333334,null,null,null,118.00580000000001,null,134.039275,null,null,null,null,null,null,null,null,null,null,null,132.98690000000002,null,null,117.00562500000001,null,null,null,null,null,130.99323749999999,{"$f":"+INDEX(D525:AF525,1,aux_pr_ue!$P$2)","v":117.00562500000001},{"$f":"+INDEX(D525:AF525,1,aux_pr_ue!$Q$2)","v":0}]
["Feed Wheat2000/06","Feed Wheat","2000/06",130.1318,126.49456666666667,null,null,120.30550000000001,129.25486250000003,null,136.53919999999999,null,null,null,null,null,null,null,null,null,null,null,136.77690000000001,null,null,144.06945000000002,null,null,null,null,null,125.91565714285714,{"$f":"+INDEX(D526:AF526,1,aux_pr_ue!$P$2)","v":144.06945000000002},{"$f":"+INDEX(D526:AF526,1,aux_pr_ue!$Q$2)","v":0}]
["Feed Wheat2000/05","Feed Wheat","2000/05",136.47120000000001,130.74663333333334,null,null,124.97550000000001,138.55346249999999,null,145.19103333333337,null,null,null,null,null,null,null,null,null,null,null,141.2013,132.62790000000001,null,143.09269999999998,null,null,null,null,null,132.31319999999999,{"$f":"+INDEX(D527:AF527,1,aux_pr_ue!$P$2)","v":143.09269999999998},{"$f":"+INDEX(D527:AF527,1,aux_pr_ue!$Q$2)","v":0}]
["Feed Wheat2000/04","Feed Wheat","2000/04",136.81020000000001,130.66220000000001,null,null,128.18690000000001,136.70721428571429,null,141.42170000000002,null,null,null,null,null,null,null,null,null,null,null,141.9247,null,null,140.91039999999998,null,null,null,null,null,134.21931428571432,{"$f":"+INDEX(D528:AF528,1,aux_pr_ue!$P$2)","v":140.91039999999998},{"$f":"+INDEX(D528:AF528,1,aux_pr_ue!$Q$2)","v":0}]
["Feed Wheat2000/03","Feed Wheat","2000/03",130.8049,125.4661,null,null,122.6404,131.73605555555554,null,137.77679999999998,null,null,null,null,null,null,null,null,null,null,null,137.1514,null,null,140.91039999999998,null,null,null,null,null,127.38254285714287,{"$f":"+INDEX(D529:AF529,1,aux_pr_ue!$P$2)","v":140.91039999999998},{"$f":"+INDEX(D529:AF529,1,aux_pr_ue!$Q$2)","v":0}]
["Feed Wheat2000/02","Feed Wheat","2000/02",129.94400000000002,124.49766666666666,null,null,120.8888,129.55448749999999,null,136.6497,null,null,null,null,null,null,null,null,null,null,null,135.3526,null,null,140.91039999999998,null,null,null,null,null,127.27407142857143,{"$f":"+INDEX(D530:AF530,1,aux_pr_ue!$P$2)","v":140.91039999999998},{"$f":"+INDEX(D530:AF530,1,aux_pr_ue!$Q$2)","v":0}]
["Feed Wheat2000/01","Feed Wheat","2000/01",null,null,null,null,null,null,null,null,null,null,null,null,null,null,null,null,null,null,null,null,null,null,null,null,null,null,null,null,null,{"$f":"+INDEX(D531:AF531,1,aux_pr_ue!$P$2)","v":0},{"$f":"+INDEX(D531:AF531,1,aux_pr_ue!$Q$2)","v":0}]
["Feed Wheat1999/12","Feed Wheat","1999/12",null,null,null,null,null,null,null,null,null,null,null,null,null,null,null,null,null,null,null,null,null,null,null,null,null,null,null,null,null,{"$f":"+INDEX(D532:AF532,1,aux_pr_ue!$P$2)","v":0},{"$f":"+INDEX(D532:AF532,1,aux_pr_ue!$Q$2)","v":0}]
["Feed Wheat1999/11","Feed Wheat","1999/11",126.8897,122.82436666666668,null,null,114.2757,122.29283333333335,null,127.106075,null,null,null,null,null,null,null,null,null,null,null,131.82920000000001,null,null,128.44049999999999,null,null,null,null,null,120.11308571428572,{"$f":"+INDEX(D533:AF533,1,aux_pr_ue!$P$2)","v":128.44049999999999},{"$f":"+INDEX(D533:AF533,1,aux_pr_ue!$Q$2)","v":0}]
["Feed Wheat1999/10","Feed Wheat","1999/10",126.2068,120.28166666666668,null,null,112.6705,122.55047500000001,null,125.26375000000002,null,null,null,null,null,null,null,null,null,null,null,131.51275000000001,null,null,128.44049999999999,null,null,null,null,null,118.05487500000001,{"$f":"+INDEX(D534:AF534,1,aux_pr_ue!$P$2)","v":128.44049999999999},{"$f":"+INDEX(D534:AF534,1,aux_pr_ue!$Q$2)","v":0}]
["Feed Wheat1999/09","Feed Wheat","1999/09",125.1409,118.0595,null,null,113.3476,120.2835125,null,124.62503333333335,null,null,null,null,null,null,null,null,null,null,null,129.2543,114.46,null,128.44,null,null,null,null,null,117.50697500000001,{"$f":"+INDEX(D535:AF535,1,aux_pr_ue!$P$2)","v":128.44},{"$f":"+INDEX(D535:AF535,1,aux_pr_ue!$Q$2)","v":0}]
["Feed Wheat1999/08","Feed Wheat","1999/08",122.56020000000001,123.58970000000001,null,null,null,115.1253,null,124.27600000000001,null,null,null,null,null,null,null,null,null,null,null,120.00065000000001,111.46730000000001,null,128.44,null,null,null,null,null,null,{"$f":"+INDEX(D536:AF536,1,aux_pr_ue!$P$2)","v":128.44},{"$f":"+INDEX(D536:AF536,1,aux_pr_ue!$Q$2)","v":0}]
["Feed Wheat1999/07","Feed Wheat","1999/07",130.8177,114.03133333333335,null,null,null,114.91250000000001,null,null,null,null,null,null,null,null,null,null,null,null,null,132.14240000000001,null,null,null,null,null,null,null,null,133.89221250000003,{"$f":"+INDEX(D537:AF537,1,aux_pr_ue!$P$2)","v":0},{"$f":"+INDEX(D537:AF537,1,aux_pr_ue!$Q$2)","v":0}]
["Feed Wheat1999/06","Feed Wheat","1999/06",128.98250000000002,121.49933333333335,null,null,122.04810000000001,125.28660000000001,null,135.78582,null,null,null,null,null,null,null,null,null,null,null,90.888266666666667,null,null,135.92200000000003,null,null,null,null,null,128.49812857142859,{"$f":"+INDEX(D538:AF538,1,aux_pr_ue!$P$2)","v":135.92200000000003},{"$f":"+INDEX(D538:AF538,1,aux_pr_ue!$Q$2)","v":0}]
["Feed Wheat1999/05","Feed Wheat","1999/05",127.06760000000001,120.64173333333333,null,null,123.3306,128.9076,null,132.00382000000002,null,null,null,null,null,null,null,null,null,null,null,90.970033333333333,null,null,132.8648,null,null,null,null,null,123.56651666666666,{"$f":"+INDEX(D539:AF539,1,aux_pr_ue!$P$2)","v":132.8648},{"$f":"+INDEX(D539:AF539,1,aux_pr_ue!$Q$2)","v":0}]
["Feed Wheat1999/04","Feed Wheat","1999/04",125.1357,118.46820000000001,null,null,118.53620000000001,125.0498,null,128.9504,null,null,null,null,null,null,null,null,null,null,null,94.106300000000019,null,null,130.93400000000003,null,null,null,null,null,119.2214,{"$f":"+INDEX(D540:AF540,1,aux_pr_ue!$P$2)","v":130.93400000000003},{"$f":"+INDEX(D540:AF540,1,aux_pr_ue!$Q$2)","v":0}]
["Feed Wheat1999/03","Feed Wheat","1999/03",119.682,112.65413333333333,null,null,112.6725,119.9041,null,126.11060000000001,null,null,null,null,null,null,null,null,null,null,null,90.281400000000005,null,null,130.93400000000003,null,null,null,null,null,116.803,{"$f":"+INDEX(D541:AF541,1,aux_pr_ue!$P$2)","v":130.93400000000003},{"$f":"+INDEX(D541:AF541,1,aux_pr_ue!$Q$2)","v":0}]
["Feed Wheat1999/02","Feed Wheat","1999/02",118.76950000000001,111.37523333333336,null,null,109.87450000000001,118.6127,null,125.53368,null,null,null,null,null,null,null,null,null,null,null,89.619550000000004,null,null,131.40510000000003,null,null,null,null,null,116.05742500000002,{"$f":"+INDEX(D542:AF542,1,aux_pr_ue!$P$2)","v":131.40510000000003},{"$f":"+INDEX(D542:AF542,1,aux_pr_ue!$Q$2)","v":0}]
["Feed Wheat1999/01","Feed Wheat","1999/01",119.75620000000001,113.0759,null,null,109.69160000000001,118.44483333333335,null,127.1447,null,null,null,null,null,null,null,null,null,null,null,79.231666666666669,116.90100000000001,null,130.6934,null,null,null,null,null,115.116575,{"$f":"+INDEX(D543:AF543,1,aux_pr_ue!$P$2)","v":130.6934},{"$f":"+INDEX(D543:AF543,1,aux_pr_ue!$Q$2)","v":0}]
["Feed Wheat1998/12","Feed Wheat","1998/12",119.33210000000001,114.37420000000002,null,null,108.4573,116.52445714285714,null,124.88310000000001,null,null,null,null,null,null,null,null,null,null,null,124.628,116.4607,null,129.21195,null,null,null,null,null,119.87486250000001,{"$f":"+INDEX(D544:AF544,1,aux_pr_ue!$P$2)","v":129.21195},{"$f":"+INDEX(D544:AF544,1,aux_pr_ue!$Q$2)","v":0}]
["Feed Wheat1998/11","Feed Wheat","1998/11",117.63640000000001,115.31993333333334,null,null,107.66210000000001,115.18857142857144,null,123.7175,null,null,null,null,null,null,null,null,null,null,null,126.90450000000001,114.75240000000001,null,126.89699999999999,null,null,null,null,null,118.328,{"$f":"+INDEX(D545:AF545,1,aux_pr_ue!$P$2)","v":126.89699999999999},{"$f":"+INDEX(D545:AF545,1,aux_pr_ue!$Q$2)","v":0}]
["Feed Wheat1998/10","Feed Wheat","1998/10",113.45950000000001,112.34179999999999,null,null,106.34350000000001,111.71855000000001,null,119.87810000000002,null,null,null,null,null,null,null,null,null,null,null,null,111.9462,null,125.3837,null,null,null,null,null,111.08275714285716,{"$f":"+INDEX(D546:AF546,1,aux_pr_ue!$P$2)","v":125.3837},{"$f":"+INDEX(D546:AF546,1,aux_pr_ue!$Q$2)","v":0}]
["Feed Wheat1998/09","Feed Wheat","1998/09",112.60820000000001,108.07950000000001,null,null,105.60520000000001,110.09221666666667,null,119.21200000000002,null,null,null,null,null,null,null,null,null,null,null,null,110.69200000000001,null,125.50266666666668,null,null,null,null,null,112.0419875,{"$f":"+INDEX(D547:AF547,1,aux_pr_ue!$P$2)","v":125.50266666666668},{"$f":"+INDEX(D547:AF547,1,aux_pr_ue!$Q$2)","v":0}]
["Feed Wheat1998/08","Feed Wheat","1998/08",112.4285,109.51345000000001,null,null,null,108.69880000000001,null,120.55646000000002,null,null,null,null,null,null,null,null,null,null,null,null,110.69200000000001,null,127.80430000000001,null,null,null,null,null,111.52180000000001,{"$f":"+INDEX(D548:AF548,1,aux_pr_ue!$P$2)","v":127.80430000000001},{"$f":"+INDEX(D548:AF548,1,aux_pr_ue!$Q$2)","v":0}]
["Feed Wheat1998/07","Feed Wheat","1998/07",121.50930000000001,115.52746666666667,null,null,null,120.07356666666665,null,129.1497,null,null,null,null,null,null,null,null,null,null,null,124.1095,null,null,123.042,null,null,null,null,null,121.07398571428573,{"$f":"+INDEX(D549:AF549,1,aux_pr_ue!$P$2)","v":123.042},{"$f":"+INDEX(D549:AF549,1,aux_pr_ue!$Q$2)","v":0}]
["Feed Wheat1998/06","Feed Wheat","1998/06",121.31370000000001,116.41232500000001,null,null,115.376,123.46464,null,129.54472000000001,null,null,null,null,null,null,null,null,null,null,null,122.76770000000002,123.58900000000001,null,null,null,null,null,null,null,117.49792857142857,{"$f":"+INDEX(D550:AF550,1,aux_pr_ue!$P$2)","v":0},{"$f":"+INDEX(D550:AF550,1,aux_pr_ue!$Q$2)","v":0}]
["Feed Wheat1998/05","Feed Wheat","1998/05",121.4272,117.43015000000001,null,null,115.85470000000001,126.15832,null,130.15451999999999,null,null,null,null,null,null,null,null,null,null,null,125.35900000000001,124.48450000000001,null,null,null,null,null,null,null,117.05388571428571,{"$f":"+INDEX(D551:AF551,1,aux_pr_ue!$P$2)","v":0},{"$f":"+INDEX(D551:AF551,1,aux_pr_ue!$Q$2)","v":0}]
["Feed Wheat1998/04","Feed Wheat","1998/04",120.61930000000001,119.96600000000001,null,null,115.34070000000001,125.5988285714286,null,131.96955000000003,null,null,null,null,null,null,null,null,null,null,null,125.88520000000001,124.55785,null,141.70699999999999,null,null,null,null,null,113.1970125,{"$f":"+INDEX(D552:AF552,1,aux_pr_ue!$P$2)","v":141.70699999999999},{"$f":"+INDEX(D552:AF552,1,aux_pr_ue!$Q$2)","v":0}]
["Feed Wheat1998/03","Feed Wheat","1998/03",123.8203,121.8481,null,null,118.7419,127.3589375,null,125.6917,null,null,null,null,null,null,null,null,null,null,null,128.6172,124.5806,null,141.66329999999999,null,null,null,null,null,117.1731875,{"$f":"+INDEX(D553:AF553,1,aux_pr_ue!$P$2)","v":141.66329999999999},{"$f":"+INDEX(D553:AF553,1,aux_pr_ue!$Q$2)","v":0}]
["Feed Wheat1998/02","Feed Wheat","1998/02",125.20530000000001,123.2988,null,null,119.55,126.50695,null,129.0514,null,null,null,null,null,null,null,null,null,null,null,129.13915,125.46166666666669,null,142.03165000000001,null,null,null,null,null,119.37030000000001,{"$f":"+INDEX(D554:AF554,1,aux_pr_ue!$P$2)","v":142.03165000000001},{"$f":"+INDEX(D554:AF554,1,aux_pr_ue!$Q$2)","v":0}]
["Feed Wheat1998/01","Feed Wheat","1998/01",126.7677,125.30927500000001,null,null,121.04,127.05716666666667,null,124.33665000000001,null,null,null,null,null,null,null,null,null,null,null,130.9495,125.4615,null,139.73595,null,null,null,null,null,121.42523750000001,{"$f":"+INDEX(D555:AF555,1,aux_pr_ue!$P$2)","v":139.73595},{"$f":"+INDEX(D555:AF555,1,aux_pr_ue!$Q$2)","v":0}]
["Feed Wheat1997/12","Feed Wheat","1997/12",125.3729,122.56083333333333,null,null,119.96680000000001,126.49085000000001,null,null,null,null,null,null,null,null,null,null,null,null,null,130.88935000000001,115.53045,null,140.50445000000002,null,null,null,null,null,121.85507142857143,{"$f":"+INDEX(D556:AF556,1,aux_pr_ue!$P$2)","v":140.50445000000002},{"$f":"+INDEX(D556:AF556,1,aux_pr_ue!$Q$2)","v":0}]
["Feed Wheat1997/11","Feed Wheat","1997/11",124.17440000000001,122.87753333333335,null,null,119.7042,125.02435000000003,null,null,null,null,null,null,null,null,null,null,null,null,null,128.80335000000002,112.61115000000001,null,138.52800000000002,null,null,null,null,null,123.36597500000001,{"$f":"+INDEX(D557:AF557,1,aux_pr_ue!$P$2)","v":138.52800000000002},{"$f":"+INDEX(D557:AF557,1,aux_pr_ue!$Q$2)","v":0}]
["Feed Wheat1997/10","Feed Wheat","1997/10",122.48780000000001,119.4988,null,null,119.53870000000001,122.91134285714286,null,null,null,null,null,null,null,null,null,null,null,null,null,110.78005,112.5565,null,138.52800000000002,null,null,null,null,null,128.2296,{"$f":"+INDEX(D558:AF558,1,aux_pr_ue!$P$2)","v":138.52800000000002},{"$f":"+INDEX(D558:AF558,1,aux_pr_ue!$Q$2)","v":0}]
["Feed Wheat1997/09","Feed Wheat","1997/09",123.1712,119.8189,null,null,120.0352,121.2637,null,null,null,null,null,null,null,null,null,null,null,null,null,124.51140000000001,112.03883333333333,null,134.84796666666668,null,null,null,null,null,127.85928750000001,{"$f":"+INDEX(D559:AF559,1,aux_pr_ue!$P$2)","v":134.84796666666668},{"$f":"+INDEX(D559:AF559,1,aux_pr_ue!$Q$2)","v":0}]
["Feed Wheat1997/08","Feed Wheat","1997/08",122.2633,122.06046666666668,null,null,121.8729,121.73854444444444,null,null,null,null,null,null,null,null,null,null,null,null,null,125.40700000000001,112.88255000000001,null,133.96866666666668,null,null,null,null,null,116.95836250000002,{"$f":"+INDEX(D560:AF560,1,aux_pr_ue!$P$2)","v":133.96866666666668},{"$f":"+INDEX(D560:AF560,1,aux_pr_ue!$Q$2)","v":0}]
["Feed Wheat1997/07","Feed Wheat","1997/07",122.8647,128.74133333333336,null,null,122.4088,125.01828888888889,null,null,null,null,null,null,null,null,null,null,null,null,null,134.41395,126.82365,null,134.87780000000001,null,null,null,null,null,116.63471249999999,{"$f":"+INDEX(D561:AF561,1,aux_pr_ue!$P$2)","v":134.87780000000001},{"$f":"+INDEX(D561:AF561,1,aux_pr_ue!$Q$2)","v":0}]
["Feed Wheat1997/06","Feed Wheat","1997/06",129.46809999999999,129.08279999999999,null,null,123.83380000000001,129.2373,null,null,null,null,null,null,null,null,null,null,null,null,null,135.33805000000001,131.87980000000002,null,140.74426666666668,null,null,null,null,null,118.65915714285714,{"$f":"+INDEX(D562:AF562,1,aux_pr_ue!$P$2)","v":140.74426666666668},{"$f":"+INDEX(D562:AF562,1,aux_pr_ue!$Q$2)","v":0}]
["Feed Wheat1997/05","Feed Wheat","1997/05",135.69030000000001,134.39346666666668,null,null,128.97300000000001,134.45238571428573,null,null,null,null,null,null,null,null,null,null,null,null,null,142.90084999999999,137.98399999999998,null,152.90174999999999,null,null,null,null,null,130.37811250000001,{"$f":"+INDEX(D563:AF563,1,aux_pr_ue!$P$2)","v":152.90174999999999},{"$f":"+INDEX(D563:AF563,1,aux_pr_ue!$Q$2)","v":0}]
["Feed Wheat1997/04","Feed Wheat","1997/04",138.5427,139.60913333333335,null,null,133.08940000000001,135.37520000000001,null,null,null,null,null,null,null,null,null,null,null,null,null,145.38464999999999,140.29680000000002,null,155.14449999999999,null,null,null,null,null,136.63218750000001,{"$f":"+INDEX(D564:AF564,1,aux_pr_ue!$P$2)","v":155.14449999999999},{"$f":"+INDEX(D564:AF564,1,aux_pr_ue!$Q$2)","v":0}]
["Feed Wheat1997/03","Feed Wheat","1997/03",135.923,135.34310000000002,null,null,129.91730000000001,135.22776250000001,null,null,null,null,null,null,null,null,null,null,null,null,null,142.73535000000001,140.59875,null,152.62200000000001,null,null,null,null,null,131.57663750000003,{"$f":"+INDEX(D565:AF565,1,aux_pr_ue!$P$2)","v":152.62200000000001},{"$f":"+INDEX(D565:AF565,1,aux_pr_ue!$Q$2)","v":0}]
["Feed Wheat1997/02","Feed Wheat","1997/02",133.05760000000001,130.39613333333332,null,null,124.76280000000001,131.90687500000001,null,null,null,null,null,null,null,null,null,null,null,null,null,141.05844999999999,140.71576666666667,null,150.85624999999999,null,null,null,null,null,127.39775,{"$f":"+INDEX(D566:AF566,1,aux_pr_ue!$P$2)","v":150.85624999999999},{"$f":"+INDEX(D566:AF566,1,aux_pr_ue!$Q$2)","v":0}]
["Feed Wheat1997/01","Feed Wheat","1997/01",131.7945,131.38386666666668,null,null,126.17270000000001,133.2230375,null,null,null,null,136.399,null,null,null,null,null,null,null,null,141.75190000000001,141.31115,null,150.09950000000001,null,null,null,null,null,124.20576250000002,{"$f":"+INDEX(D567:AF567,1,aux_pr_ue!$P$2)","v":150.09950000000001},{"$f":"+INDEX(D567:AF567,1,aux_pr_ue!$Q$2)","v":0}]
["Feed Wheat1996/12","Feed Wheat","1996/12",133.22890000000001,130.69069999999999,null,null,125.25540000000001,132.10839999999999,null,null,null,null,null,null,null,null,null,null,null,null,null,140.51315,141.28756666666666,null,null,null,null,null,null,null,121.88266250000001,{"$f":"+INDEX(D568:AF568,1,aux_pr_ue!$P$2)","v":0},{"$f":"+INDEX(D568:AF568,1,aux_pr_ue!$Q$2)","v":0}]
["Feed Wheat1996/11","Feed Wheat","1996/11",131.8888,130.50993333333335,null,null,123.6529,132.3736142857143,null,null,null,null,null,null,null,null,null,null,null,null,null,139.0549,143.10240000000002,null,147.89190000000002,null,null,null,null,null,123.13301249999999,{"$f":"+INDEX(D569:AF569,1,aux_pr_ue!$P$2)","v":147.89190000000002},{"$f":"+INDEX(D569:AF569,1,aux_pr_ue!$Q$2)","v":0}]
["Feed Wheat1996/10","Feed Wheat","1996/10",132.22999999999999,131.06230000000002,null,null,125.7261,132.78687142857146,null,null,null,null,137.18299999999999,null,null,null,null,null,null,null,null,139.51220000000001,143.95715000000001,null,151.571,null,null,null,null,null,125.5599625,{"$f":"+INDEX(D570:AF570,1,aux_pr_ue!$P$2)","v":151.571},{"$f":"+INDEX(D570:AF570,1,aux_pr_ue!$Q$2)","v":0}]
["Feed Wheat1996/09","Feed Wheat","1996/09",135.10420000000002,133.23429999999999,null,null,126.459,136.37347777777779,null,null,null,null,137.18299999999999,null,null,null,null,null,null,null,null,140.73779999999999,145.79475000000002,null,null,null,null,null,null,null,128.83199999999999,{"$f":"+INDEX(D571:AF571,1,aux_pr_ue!$P$2)","v":0},{"$f":"+INDEX(D571:AF571,1,aux_pr_ue!$Q$2)","v":0}]
["Feed Wheat1996/08","Feed Wheat","1996/08",143.5119,132.83100000000002,null,null,null,138.69521428571426,null,null,null,null,null,null,null,null,null,null,null,null,null,150.04599999999999,148.35079999999999,null,147.99733333333333,null,null,null,null,null,null,{"$f":"+INDEX(D572:AF572,1,aux_pr_ue!$P$2)","v":147.99733333333333},{"$f":"+INDEX(D572:AF572,1,aux_pr_ue!$Q$2)","v":0}]
["Feed Wheat1996/07","Feed Wheat","1996/07",147.83960000000002,146.45445000000001,null,null,null,153.52370000000002,null,null,null,null,null,null,null,null,null,null,null,null,null,152.3305,146.06100000000001,null,153.4126,null,null,null,null,null,138.44781428571429,{"$f":"+INDEX(D573:AF573,1,aux_pr_ue!$P$2)","v":153.4126},{"$f":"+INDEX(D573:AF573,1,aux_pr_ue!$Q$2)","v":0}]
["Feed Wheat1996/06","Feed Wheat","1996/06",155.16470000000001,151.57210000000001,null,null,150.40100000000001,146.98512857142856,null,null,null,null,null,null,null,null,null,null,null,null,null,160.38130000000001,null,null,177.84900000000002,null,null,null,null,null,152.67585,{"$f":"+INDEX(D574:AF574,1,aux_pr_ue!$P$2)","v":177.84900000000002},{"$f":"+INDEX(D574:AF574,1,aux_pr_ue!$Q$2)","v":0}]
["Feed Wheat1996/05","Feed Wheat","1996/05",162.983,156.8905,null,null,157.03800000000001,174.82865000000001,null,null,null,null,153.691,null,null,null,null,null,null,null,null,166.69370000000001,148.26850000000002,null,174.04554999999999,null,null,null,null,null,152.12384285714288,{"$f":"+INDEX(D575:AF575,1,aux_pr_ue!$P$2)","v":174.04554999999999},{"$f":"+INDEX(D575:AF575,1,aux_pr_ue!$Q$2)","v":0}]
["Feed Wheat1996/04","Feed Wheat","1996/04",152.01920000000001,144.49730000000002,null,null,145.334,157.14709999999999,null,null,null,null,null,null,null,null,null,null,null,null,null,161.19929999999999,148.41400000000002,null,null,null,null,null,null,null,148.90114285714284,{"$f":"+INDEX(D576:AF576,1,aux_pr_ue!$P$2)","v":0},{"$f":"+INDEX(D576:AF576,1,aux_pr_ue!$Q$2)","v":0}]
["Feed Wheat1996/03","Feed Wheat","1996/03",145.91980000000001,140.61793333333335,null,null,136.667,149.90539999999999,null,null,null,null,150.125,null,null,null,null,null,null,null,null,152.70325000000003,148.61295000000001,null,null,null,null,null,null,null,144.38492500000001,{"$f":"+INDEX(D577:AF577,1,aux_pr_ue!$P$2)","v":0},{"$f":"+INDEX(D577:AF577,1,aux_pr_ue!$Q$2)","v":0}]
["Feed Wheat1996/02","Feed Wheat","1996/02",146.51310000000001,141.90426666666667,null,null,137.69030000000001,149.03475555555556,null,null,null,null,143.74,null,null,null,null,null,null,null,null,151.77370000000002,148.20855,null,null,null,null,null,null,null,146.979625,{"$f":"+INDEX(D578:AF578,1,aux_pr_ue!$P$2)","v":0},{"$f":"+INDEX(D578:AF578,1,aux_pr_ue!$Q$2)","v":0}]
["Feed Wheat1996/01","Feed Wheat","1996/01",148.24960000000002,144.4973,null,null,139.3665,148.81308750000002,null,null,null,null,145.46600000000001,null,null,null,null,null,null,null,null,153.51230000000001,147.35015000000001,null,null,null,null,null,null,null,150.00656250000003,{"$f":"+INDEX(D579:AF579,1,aux_pr_ue!$P$2)","v":0},{"$f":"+INDEX(D579:AF579,1,aux_pr_ue!$Q$2)","v":0}]
["Feed Wheat1995/12","Feed Wheat","1995/12",148.6096,144.89083333333335,null,null,139.5341,144.86908571428572,null,null,null,null,null,null,null,null,null,null,null,null,null,153.83029999999999,145.92234999999999,null,null,null,null,null,null,null,151.31889999999999,{"$f":"+INDEX(D580:AF580,1,aux_pr_ue!$P$2)","v":0},{"$f":"+INDEX(D580:AF580,1,aux_pr_ue!$Q$2)","v":0}]
["Feed Wheat1995/11","Feed Wheat","1995/11",148.36199999999999,142.71809999999999,null,null,169.76770000000002,141.81717500000002,null,null,null,null,147.399,null,null,null,null,null,null,null,null,151.9477,144.26960000000003,null,null,null,null,null,null,null,150.864025,{"$f":"+INDEX(D581:AF581,1,aux_pr_ue!$P$2)","v":0},{"$f":"+INDEX(D581:AF581,1,aux_pr_ue!$Q$2)","v":0}]
["Feed Wheat1995/10","Feed Wheat","1995/10",140.3852,138.45330000000001,null,null,132.64590000000001,138.33705714285716,null,null,null,null,null,null,null,null,null,null,null,null,null,147.67180000000002,138.346,null,null,null,null,null,null,null,142.22517500000001,{"$f":"+INDEX(D582:AF582,1,aux_pr_ue!$P$2)","v":0},{"$f":"+INDEX(D582:AF582,1,aux_pr_ue!$Q$2)","v":0}]
["Feed Wheat1995/09","Feed Wheat","1995/09",138.28579999999999,137.91746666666668,null,null,133.00050000000002,136.46268750000002,null,null,null,null,null,null,null,null,null,null,null,null,null,146.23295000000002,136.57490000000001,null,null,null,null,null,null,null,138.7082125,{"$f":"+INDEX(D583:AF583,1,aux_pr_ue!$P$2)","v":0},{"$f":"+INDEX(D583:AF583,1,aux_pr_ue!$Q$2)","v":0}]
["Feed Wheat1995/08","Feed Wheat","1995/08",134.84480000000002,130.17010000000002,null,null,null,132.29390000000001,null,null,null,null,null,null,null,null,null,null,null,null,null,141.476,136.94774999999998,null,152.62200000000001,null,null,null,null,null,135.14976250000001,{"$f":"+INDEX(D584:AF584,1,aux_pr_ue!$P$2)","v":152.62200000000001},{"$f":"+INDEX(D584:AF584,1,aux_pr_ue!$Q$2)","v":0}]
["Feed Wheat1995/07","Feed Wheat","1995/07",148.7099,133.82306666666668,null,null,143.38,146.38165000000001,null,null,null,null,null,null,null,null,null,null,null,null,null,152.71100000000001,140.5455,null,152.17953333333335,null,null,null,null,null,150.0680857142857,{"$f":"+INDEX(D585:AF585,1,aux_pr_ue!$P$2)","v":152.17953333333335},{"$f":"+INDEX(D585:AF585,1,aux_pr_ue!$Q$2)","v":0}]
["Feed Wheat1995/06","Feed Wheat","1995/06",149.18700000000001,139.97059999999999,null,null,143.38,149.8355,null,null,null,null,null,null,null,null,null,null,null,null,null,151.93099999999998,145.57206666666667,null,149.15360000000001,null,null,null,null,null,153.54784285714285,{"$f":"+INDEX(D586:AF586,1,aux_pr_ue!$P$2)","v":149.15360000000001},{"$f":"+INDEX(D586:AF586,1,aux_pr_ue!$Q$2)","v":0}]
["Feed Wheat1995/05","Feed Wheat","1995/05",146.22720000000001,138.34690000000001,null,null,139.4736,148.14355,null,null,null,null,null,null,null,null,null,null,null,null,null,151.3535,145.54,null,null,null,null,null,null,null,148.31445714285718,{"$f":"+INDEX(D587:AF587,1,aux_pr_ue!$P$2)","v":0},{"$f":"+INDEX(D587:AF587,1,aux_pr_ue!$Q$2)","v":0}]
["Feed Wheat1995/04","Feed Wheat","1995/04",142.25450000000001,131.93936666666667,null,null,136.809,144.29553333333334,null,null,null,null,null,null,null,null,null,null,null,null,null,145.6026,147.80270000000002,null,null,null,null,null,null,null,143.65895714285713,{"$f":"+INDEX(D588:AF588,1,aux_pr_ue!$P$2)","v":0},{"$f":"+INDEX(D588:AF588,1,aux_pr_ue!$Q$2)","v":0}]
["Feed Wheat1995/03","Feed Wheat","1995/03",141.45690000000002,132.29643333333334,null,null,135.90049999999999,143.26919999999998,null,null,null,null,null,null,null,null,null,null,null,null,null,143.23375000000001,148.577,null,null,null,null,null,null,null,142.36878750000002,{"$f":"+INDEX(D589:AF589,1,aux_pr_ue!$P$2)","v":0},{"$f":"+INDEX(D589:AF589,1,aux_pr_ue!$Q$2)","v":0}]
["Feed Wheat1995/02","Feed Wheat","1995/02",142.6678,134.7234,null,null,135.83199999999999,145.74026666666668,null,null,null,null,143.27100000000002,null,null,null,null,null,null,null,null,146.28290000000001,144.59526666666667,null,null,null,null,null,null,null,142.88525000000001,{"$f":"+INDEX(D590:AF590,1,aux_pr_ue!$P$2)","v":0},{"$f":"+INDEX(D590:AF590,1,aux_pr_ue!$Q$2)","v":0}]
["Feed Wheat1995/01","Feed Wheat","1995/01",121.03540000000001,115.96903333333334,null,null,114.5579,123.18784285714287,null,null,null,null,null,null,null,null,null,null,null,null,null,125.14295000000001,123.91539999999999,null,null,null,null,null,null,null,120.63661250000001,{"$f":"+INDEX(D591:AF591,1,aux_pr_ue!$P$2)","v":0},{"$f":"+INDEX(D591:AF591,1,aux_pr_ue!$Q$2)","v":0}]
["Feed Wheat1994/12","Feed Wheat","1994/12",117.3678,112.89803333333334,null,null,109.28500000000001,118.3794125,null,null,null,null,null,null,null,null,null,null,null,null,null,122.9,null,null,null,null,null,null,null,null,116.03610000000002,{"$f":"+INDEX(D592:AF592,1,aux_pr_ue!$P$2)","v":0},{"$f":"+INDEX(D592:AF592,1,aux_pr_ue!$Q$2)","v":0}]
["Feed Wheat1994/11","Feed Wheat","1994/11",116.9098,112.82456666666667,null,null,109.7633,120.16128571428571,null,null,null,null,null,null,null,null,null,null,null,null,null,122.82480000000001,null,null,null,null,null,null,null,null,114.88037500000002,{"$f":"+INDEX(D593:AF593,1,aux_pr_ue!$P$2)","v":0},{"$f":"+INDEX(D593:AF593,1,aux_pr_ue!$Q$2)","v":0}]
["Feed Wheat1994/10","Feed Wheat","1994/10",115.54830000000001,111.10423333333334,null,null,109.9406,117.9854125,null,null,null,null,null,null,null,null,null,null,null,null,null,122.35830000000001,null,null,null,null,null,null,null,null,114.85226250000001,{"$f":"+INDEX(D594:AF594,1,aux_pr_ue!$P$2)","v":0},{"$f":"+INDEX(D594:AF594,1,aux_pr_ue!$Q$2)","v":0}]
["Feed Wheat1994/09","Feed Wheat","1994/09",114.96600000000001,110.29913333333333,null,null,108.93440000000001,116.04874285714286,null,null,null,null,115.155,null,null,null,null,null,null,null,null,121.33260000000001,null,null,121.17100000000001,null,null,null,null,null,114.1849,{"$f":"+INDEX(D595:AF595,1,aux_pr_ue!$P$2)","v":121.17100000000001},{"$f":"+INDEX(D595:AF595,1,aux_pr_ue!$Q$2)","v":0}]
["Feed Wheat1994/08","Feed Wheat","1994/08",115.24430000000001,107.49,null,null,null,115.00957142857143,null,null,null,null,115.155,null,null,null,null,null,null,null,null,119.55895000000001,null,null,119.77833333333335,null,null,null,null,null,117.6219625,{"$f":"+INDEX(D596:AF596,1,aux_pr_ue!$P$2)","v":119.77833333333335},{"$f":"+INDEX(D596:AF596,1,aux_pr_ue!$Q$2)","v":0}]
["Feed Wheat1994/07","Feed Wheat","1994/07",125.89360000000001,124.51139999999999,null,null,null,124.71905714285715,null,null,null,null,null,null,null,null,null,null,null,null,null,131.05414999999999,null,null,115.42717500000001,null,null,null,null,null,125.97148571428569,{"$f":"+INDEX(D597:AF597,1,aux_pr_ue!$P$2)","v":115.42717500000001},{"$f":"+INDEX(D597:AF597,1,aux_pr_ue!$Q$2)","v":0}]
["Feed Wheat1994/06","Feed Wheat","1994/06",130.99170000000001,125.12363333333333,null,null,null,131.98631428571429,null,null,null,null,130.768,null,null,null,null,null,null,null,null,136.12619999999998,null,null,null,null,null,null,null,null,131.39342857142859,{"$f":"+INDEX(D598:AF598,1,aux_pr_ue!$P$2)","v":0},{"$f":"+INDEX(D598:AF598,1,aux_pr_ue!$Q$2)","v":0}]
["Feed Wheat1994/05","Feed Wheat","1994/05",130.7901,122.46476666666668,null,null,null,131.7538857142857,null,null,null,null,131.1551,null,null,null,null,null,null,null,null,135.67214999999999,null,null,null,null,null,null,null,null,131.70662500000003,{"$f":"+INDEX(D599:AF599,1,aux_pr_ue!$P$2)","v":0},{"$f":"+INDEX(D599:AF599,1,aux_pr_ue!$Q$2)","v":0}]
["Feed Wheat1994/04","Feed Wheat","1994/04",126.06870000000001,119.10466666666667,null,null,null,126.61784285714285,null,null,null,null,129.4228,null,null,null,null,null,null,null,null,132.92165,null,null,null,null,null,null,null,null,125.19988749999999,{"$f":"+INDEX(D600:AF600,1,aux_pr_ue!$P$2)","v":0},{"$f":"+INDEX(D600:AF600,1,aux_pr_ue!$Q$2)","v":0}]
["Feed Wheat1994/03","Feed Wheat","1994/03",118.6195,112.37513333333334,null,null,null,120.69842857142858,null,null,null,null,126.3022,null,null,null,null,null,null,null,null,125.10730000000001,null,null,null,null,null,null,null,null,117.00127500000002,{"$f":"+INDEX(D601:AF601,1,aux_pr_ue!$P$2)","v":0},{"$f":"+INDEX(D601:AF601,1,aux_pr_ue!$Q$2)","v":0}]
["Feed Wheat1994/02","Feed Wheat","1994/02",115.1782,110.64063333333333,null,null,null,118.21796666666667,null,null,null,null,124.31020000000001,null,null,null,null,null,null,null,null,121.61430000000001,null,null,null,null,null,null,null,null,113.3279375,{"$f":"+INDEX(D602:AF602,1,aux_pr_ue!$P$2)","v":0},{"$f":"+INDEX(D602:AF602,1,aux_pr_ue!$Q$2)","v":0}]
["Feed Wheat1994/01","Feed Wheat","1994/01",116.0544,113.45210000000002,null,null,null,117.91777142857143,null,null,null,null,125.77250000000001,null,null,null,null,null,null,null,null,122.94890000000001,null,null,null,null,null,null,null,null,113.868725,{"$f":"+INDEX(D603:AF603,1,aux_pr_ue!$P$2)","v":0},{"$f":"+INDEX(D603:AF603,1,aux_pr_ue!$Q$2)","v":0}]
["Feed Wheat1993/12","Feed Wheat","1993/12",115.6939,112.89803333333334,null,null,null,116.62491428571431,null,null,null,null,null,null,null,null,null,null,null,null,null,121.72975000000001,null,null,null,null,null,null,null,null,114.0938,{"$f":"+INDEX(D604:AF604,1,aux_pr_ue!$P$2)","v":0},{"$f":"+INDEX(D604:AF604,1,aux_pr_ue!$Q$2)","v":0}]
["Feed Wheat1993/11","Feed Wheat","1993/11",114.09520000000001,113.1939,null,null,null,114.04857142857145,null,null,null,null,null,null,null,null,null,null,null,null,null,121.10320000000002,null,null,null,null,null,null,null,null,113.25541250000001,{"$f":"+INDEX(D605:AF605,1,aux_pr_ue!$P$2)","v":0},{"$f":"+INDEX(D605:AF605,1,aux_pr_ue!$Q$2)","v":0}]
["Feed Wheat1993/10","Feed Wheat","1993/10",113.44750000000001,112.12653333333334,null,null,null,114.3155,null,null,null,null,115.15,null,null,null,null,null,null,null,null,118.4889,null,null,null,null,null,null,null,null,113.99993750000002,{"$f":"+INDEX(D606:AF606,1,aux_pr_ue!$P$2)","v":0},{"$f":"+INDEX(D606:AF606,1,aux_pr_ue!$Q$2)","v":0}]
["Feed Wheat1993/09","Feed Wheat","1993/09",114.24590000000001,112.29809999999999,null,null,null,115.0954,null,null,null,null,null,null,null,null,null,null,null,null,null,117.78230000000001,null,null,113.95650000000001,null,null,null,null,null,114.1949125,{"$f":"+INDEX(D607:AF607,1,aux_pr_ue!$P$2)","v":113.95650000000001},{"$f":"+INDEX(D607:AF607,1,aux_pr_ue!$Q$2)","v":0}]
["Feed Wheat1993/08","Feed Wheat","1993/08",116.0775,112.55083333333334,null,null,null,114.02732857142857,null,null,null,null,null,null,null,null,null,null,null,null,null,118.70215,null,null,113.95650000000001,null,null,null,null,null,118.33450000000001,{"$f":"+INDEX(D608:AF608,1,aux_pr_ue!$P$2)","v":113.95650000000001},{"$f":"+INDEX(D608:AF608,1,aux_pr_ue!$Q$2)","v":0}]
["Feed Wheat1993/07","Feed Wheat","1993/07",139.06450000000001,153.77336666666667,null,null,null,132.81333333333333,null,null,null,null,null,null,null,null,null,null,null,null,null,null,null,null,118.96350000000001,null,null,null,null,null,141.80677142857144,{"$f":"+INDEX(D609:AF609,1,aux_pr_ue!$P$2)","v":118.96350000000001},{"$f":"+INDEX(D609:AF609,1,aux_pr_ue!$Q$2)","v":0}]
["Feed Wheat1993/06","Feed Wheat","1993/06",151.88040000000001,154.7799666666667,null,null,null,154.78250000000003,null,null,null,null,null,null,null,null,null,null,null,null,null,154.84059999999999,null,null,null,null,null,null,null,null,145.40998571428571,{"$f":"+INDEX(D610:AF610,1,aux_pr_ue!$P$2)","v":0},{"$f":"+INDEX(D610:AF610,1,aux_pr_ue!$Q$2)","v":0}]
["Feed Wheat1993/05","Feed Wheat","1993/05",154.02370000000002,154.99530000000001,null,null,null,160.88606666666666,null,null,null,null,null,null,null,null,null,null,null,null,null,159.2407,null,null,null,null,null,null,null,null,151.017425,{"$f":"+INDEX(D611:AF611,1,aux_pr_ue!$P$2)","v":0},{"$f":"+INDEX(D611:AF611,1,aux_pr_ue!$Q$2)","v":0}]
["Feed Wheat1993/04","Feed Wheat","1993/04",152.63939999999999,152.10226666666668,null,null,null,156.25570000000002,null,null,null,null,null,null,null,null,null,null,null,null,null,156.86110000000002,null,null,null,null,null,null,null,null,149.3418125,{"$f":"+INDEX(D612:AF612,1,aux_pr_ue!$P$2)","v":0},{"$f":"+INDEX(D612:AF612,1,aux_pr_ue!$Q$2)","v":0}]
["Feed Wheat1993/03","Feed Wheat","1993/03",150.08430000000001,148.98330000000001,null,null,null,155.28387500000002,null,null,null,null,null,null,null,null,null,null,null,null,null,154.64375000000001,null,null,null,null,null,null,null,null,147.531475,{"$f":"+INDEX(D613:AF613,1,aux_pr_ue!$P$2)","v":0},{"$f":"+INDEX(D613:AF613,1,aux_pr_ue!$Q$2)","v":0}]
["Feed Wheat1993/02","Feed Wheat","1993/02",149.1583,148.0523,null,null,null,156.76618333333332,null,null,null,null,null,null,null,null,null,null,null,null,null,152.47714999999999,null,null,null,null,null,null,null,null,144.8416,{"$f":"+INDEX(D614:AF614,1,aux_pr_ue!$P$2)","v":0},{"$f":"+INDEX(D614:AF614,1,aux_pr_ue!$Q$2)","v":0}]
["Feed Wheat1993/01","Feed Wheat","1993/01",143.95590000000001,148.12180000000001,null,null,null,138.78267142857143,null,null,null,null,null,null,null,null,null,null,null,null,null,153.72890000000001,null,null,null,null,null,null,null,null,145.60617142857146,{"$f":"+INDEX(D615:AF615,1,aux_pr_ue!$P$2)","v":0},{"$f":"+INDEX(D615:AF615,1,aux_pr_ue!$Q$2)","v":0}]
["Feed Wheat1992/12","Feed Wheat","1992/12",149.3391,146.45780000000002,null,null,null,154.25432000000001,null,null,null,null,null,null,null,null,null,null,null,null,null,151.82339999999999,null,null,null,null,null,null,null,null,147.36627142857145,{"$f":"+INDEX(D616:AF616,1,aux_pr_ue!$P$2)","v":0},{"$f":"+INDEX(D616:AF616,1,aux_pr_ue!$Q$2)","v":0}]
["Feed Wheat1992/11","Feed Wheat","1992/11",151.0308,146.22733333333335,null,null,null,151.55073750000003,null,null,null,null,null,null,null,null,null,null,null,null,null,151.38679999999999,null,null,null,null,null,null,null,null,151.37167142857143,{"$f":"+INDEX(D617:AF617,1,aux_pr_ue!$P$2)","v":0},{"$f":"+INDEX(D617:AF617,1,aux_pr_ue!$Q$2)","v":0}]
["Feed Wheat1992/10","Feed Wheat","1992/10",147.96010000000001,143.88356666666667,null,null,null,149.83272500000004,null,149.16230000000002,null,null,null,null,null,null,null,null,null,null,null,149.14840000000001,null,null,null,null,null,null,null,null,146.5881285714286,{"$f":"+INDEX(D618:AF618,1,aux_pr_ue!$P$2)","v":0},{"$f":"+INDEX(D618:AF618,1,aux_pr_ue!$Q$2)","v":0}]
["Feed Wheat1992/09","Feed Wheat","1992/09",144.53130000000002,141.59256666666667,null,null,null,146.995925,null,149.92688000000001,null,null,null,null,null,null,null,null,null,null,null,148.44150000000002,null,null,133.53900000000002,null,null,null,null,null,142.19455714285715,{"$f":"+INDEX(D619:AF619,1,aux_pr_ue!$P$2)","v":133.53900000000002},{"$f":"+INDEX(D619:AF619,1,aux_pr_ue!$Q$2)","v":0}]
["Feed Wheat1992/08","Feed Wheat","1992/08",143.19410000000002,138.95523333333333,null,null,null,145.04726250000002,null,151.43011999999999,null,null,null,null,null,null,null,null,null,null,null,145.82679999999999,null,null,127.23775000000001,null,null,null,null,null,140.84698571428575,{"$f":"+INDEX(D620:AF620,1,aux_pr_ue!$P$2)","v":127.23775000000001},{"$f":"+INDEX(D620:AF620,1,aux_pr_ue!$Q$2)","v":0}]
["Feed Wheat1992/07","Feed Wheat","1992/07",153.06460000000001,152.98350000000002,null,null,null,140.77661666666668,null,167.31654,null,null,null,null,null,null,null,null,null,null,null,145.84190000000001,null,null,127.23775000000001,null,null,null,null,null,157.61918571428572,{"$f":"+INDEX(D621:AF621,1,aux_pr_ue!$P$2)","v":127.23775000000001},{"$f":"+INDEX(D621:AF621,1,aux_pr_ue!$Q$2)","v":0}]
["Feed Wheat1992/06","Feed Wheat","1992/06",162.95830000000001,159.72233333333335,null,null,null,163.6447,null,170.64988,null,null,null,null,null,null,null,null,null,null,null,162.70405,null,null,null,null,null,null,null,null,162.68491428571429,{"$f":"+INDEX(D622:AF622,1,aux_pr_ue!$P$2)","v":0},{"$f":"+INDEX(D622:AF622,1,aux_pr_ue!$Q$2)","v":0}]
["Feed Wheat1992/05","Feed Wheat","1992/05",165.03980000000001,160.46863333333334,null,null,null,166.44503333333333,null,170.20632000000001,null,null,null,null,null,null,null,null,null,null,null,166.64339999999999,null,null,null,null,null,null,null,null,163.30857142857144,{"$f":"+INDEX(D623:AF623,1,aux_pr_ue!$P$2)","v":0},{"$f":"+INDEX(D623:AF623,1,aux_pr_ue!$Q$2)","v":0}]
["Feed Wheat1992/04","Feed Wheat","1992/04",163.63650000000001,160.00216666666668,null,null,null,161.90660000000003,null,170.23740000000004,null,null,169.91500000000002,null,null,null,null,null,null,null,null,166.31710000000001,null,null,null,null,null,null,null,null,161.67232857142858,{"$f":"+INDEX(D624:AF624,1,aux_pr_ue!$P$2)","v":0},{"$f":"+INDEX(D624:AF624,1,aux_pr_ue!$Q$2)","v":0}]
["Feed Wheat1992/03","Feed Wheat","1992/03",163.8159,158.61150000000001,null,null,null,162.76006666666669,null,170.70592000000002,null,null,170.6388,null,null,null,null,null,null,null,null,165.7072,null,null,null,null,null,null,null,null,163.2633142857143,{"$f":"+INDEX(D625:AF625,1,aux_pr_ue!$P$2)","v":0},{"$f":"+INDEX(D625:AF625,1,aux_pr_ue!$Q$2)","v":0}]
["Feed Wheat1992/02","Feed Wheat","1992/02",164.0042,157.54903333333334,null,null,null,161.68689999999998,null,170.41795999999999,null,null,170.315,null,null,null,null,null,null,null,null,165.6499,null,null,null,null,null,null,null,null,162.44820000000001,{"$f":"+INDEX(D626:AF626,1,aux_pr_ue!$P$2)","v":0},{"$f":"+INDEX(D626:AF626,1,aux_pr_ue!$Q$2)","v":0}]
["Feed Wheat1992/01","Feed Wheat","1992/01",162.19140000000002,157.32676666666669,null,null,null,160.89968571428571,null,168.42269999999999,null,null,null,null,null,null,null,null,null,null,null,165.54285000000002,null,null,null,null,null,null,null,null,161.9037142857143,{"$f":"+INDEX(D627:AF627,1,aux_pr_ue!$P$2)","v":0},{"$f":"+INDEX(D627:AF627,1,aux_pr_ue!$Q$2)","v":0}]
["Feed Wheat1991/12","Feed Wheat","1991/12",158.97999999999999,156.29026666666667,null,null,null,157.53138571428573,null,163.18219999999999,null,null,null,null,null,null,null,null,null,null,null,164.76990000000001,null,null,null,null,null,null,null,null,157.95757500000002,{"$f":"+INDEX(D628:AF628,1,aux_pr_ue!$P$2)","v":0},{"$f":"+INDEX(D628:AF628,1,aux_pr_ue!$Q$2)","v":0}]
["Feed Wheat1991/11","Feed Wheat","1991/11",156.73099999999999,153.92206666666667,null,null,null,154.19558571428573,null,163.22178,null,null,null,null,null,null,null,null,null,null,null,161.95650000000001,null,null,null,null,null,null,null,null,153.49424285714284,{"$f":"+INDEX(D629:AF629,1,aux_pr_ue!$P$2)","v":0},{"$f":"+INDEX(D629:AF629,1,aux_pr_ue!$Q$2)","v":0}]
["Feed Wheat1991/10","Feed Wheat","1991/10",154.53630000000001,150.49776666666665,null,null,null,150.38976250000002,null,161.21454,null,null,164.631,null,null,null,null,null,null,null,null,159.71170000000001,null,null,null,null,null,null,null,null,150.97630000000001,{"$f":"+INDEX(D630:AF630,1,aux_pr_ue!$P$2)","v":0},{"$f":"+INDEX(D630:AF630,1,aux_pr_ue!$Q$2)","v":0}]
["Feed Wheat1991/09","Feed Wheat","1991/09",149.80000000000001,147.24,null,null,null,147.17249999999999,null,156.23548,null,null,null,null,null,null,null,null,null,null,null,156.4212,null,null,null,null,null,null,null,null,144.86420000000001,{"$f":"+INDEX(D631:AF631,1,aux_pr_ue!$P$2)","v":0},{"$f":"+INDEX(D631:AF631,1,aux_pr_ue!$Q$2)","v":0}]
["Feed Wheat1991/08","Feed Wheat","1991/08",149.15540000000001,143.30393333333333,null,null,null,148.60835714285716,null,159.82695999999999,null,null,null,null,null,null,null,null,null,null,null,149.76409999999998,null,null,null,null,null,null,null,null,140.364925,{"$f":"+INDEX(D632:AF632,1,aux_pr_ue!$P$2)","v":0},{"$f":"+INDEX(D632:AF632,1,aux_pr_ue!$Q$2)","v":0}]
["Feed Wheat1991/07","Feed Wheat","1991/07",171.14440000000002,177.80023333333335,null,null,null,164.10814999999999,null,187.27745999999999,null,null,null,null,null,null,null,null,null,null,null,149.72050000000002,null,null,null,null,null,null,null,null,165.17518571428573,{"$f":"+INDEX(D633:AF633,1,aux_pr_ue!$P$2)","v":0},{"$f":"+INDEX(D633:AF633,1,aux_pr_ue!$Q$2)","v":0}]
["Feed Wheat1991/06","Feed Wheat","1991/06",180.9468,178.76576666666668,null,null,null,172.82483999999999,null,193.56549999999999,null,null,185.572,null,null,null,null,null,null,null,null,174.67295000000001,null,null,null,null,null,null,null,null,177.95525714285714,{"$f":"+INDEX(D634:AF634,1,aux_pr_ue!$P$2)","v":0},{"$f":"+INDEX(D634:AF634,1,aux_pr_ue!$Q$2)","v":0}]
["Feed Wheat1991/05","Feed Wheat","1991/05",181.17960000000002,173.04376666666667,null,null,null,170.08563333333336,null,194.34718000000001,null,null,185.505,null,null,null,null,null,null,null,null,181.88800000000001,null,null,null,null,null,null,null,null,179.33034285714285,{"$f":"+INDEX(D635:AF635,1,aux_pr_ue!$P$2)","v":0},{"$f":"+INDEX(D635:AF635,1,aux_pr_ue!$Q$2)","v":0}]
["Feed Wheat1991/04","Feed Wheat","1991/04",176.77250000000001,165.98123333333334,null,null,null,167.55786666666665,null,189.23378000000002,null,null,178.78100000000001,null,null,null,null,null,null,null,null,175.81215000000003,null,null,null,null,null,null,null,null,178.41805714285718,{"$f":"+INDEX(D636:AF636,1,aux_pr_ue!$P$2)","v":0},{"$f":"+INDEX(D636:AF636,1,aux_pr_ue!$Q$2)","v":0}]
["Feed Wheat1991/03","Feed Wheat","1991/03",167.84890000000001,158.63393333333337,null,null,null,162.30848571428572,null,174.614,null,null,168.72740000000002,null,null,null,null,null,null,null,null,168.74645000000001,null,null,null,null,null,null,null,null,169.56225714285716,{"$f":"+INDEX(D637:AF637,1,aux_pr_ue!$P$2)","v":0},{"$f":"+INDEX(D637:AF637,1,aux_pr_ue!$Q$2)","v":0}]
["Feed Wheat1991/02","Feed Wheat","1991/02",162.83690000000001,155.7182,null,null,null,160.33526000000001,null,169.14043999999998,null,null,168.15940000000001,null,null,null,null,null,null,null,null,163.50594999999998,null,null,null,null,null,null,null,null,161.87542857142859,{"$f":"+INDEX(D638:AF638,1,aux_pr_ue!$P$2)","v":0},{"$f":"+INDEX(D638:AF638,1,aux_pr_ue!$Q$2)","v":0}]
["Feed Wheat1991/01","Feed Wheat","1991/01",161.62820000000002,156.24186666666665,null,null,null,159.19525000000002,null,168.30314000000001,null,null,null,null,null,null,null,null,null,null,null,163.39960000000002,null,null,null,null,null,null,null,null,159.12727142857145,{"$f":"+INDEX(D639:AF639,1,aux_pr_ue!$P$2)","v":0},{"$f":"+INDEX(D639:AF639,1,aux_pr_ue!$Q$2)","v":0}]
["Feed Barley2017/07","Feed Barley","2017/07",145.82340000000002,154.63640000000001,129.22868888888888,128.1601,null,140.9015,145.85,167.08600000000001,160.33333999999999,169.4341,140.11660000000001,115.97985,152.72,180.90323333333336,134.8887,135.53390000000002,null,115.77985000000001,null,160.45160000000001,133,142.49600000000001,169.92740000000001,123.02040000000001,null,114.04770000000001,126.67660000000001,null,138.60995,{"$f":"+INDEX(D640:AF640,1,aux_pr_ue!$P$2)","v":169.92740000000001},{"$f":"+INDEX(D640:AF640,1,aux_pr_ue!$Q$2)","v":126.67660000000001}]
["Feed Barley2017/06","Feed Barley","2017/06",148.77030000000002,147.28,129.42698000000001,135.58590000000001,null,142.37131111111114,153.88470000000001,168.08886666666669,159.615375,163.19284285714289,137.25807499999999,122.36955,150.61930000000001,192.32223333333334,133.50393333333335,144.0283,null,115.06505000000001,null,158.2167,132.9,157.74710000000002,168.96666666666667,126.069225,null,113.24560000000001,125.61670000000001,null,142.33079999999998,{"$f":"+INDEX(D641:AF641,1,aux_pr_ue!$P$2)","v":168.96666666666667},{"$f":"+INDEX(D641:AF641,1,aux_pr_ue!$Q$2)","v":125.61670000000001}]
["Feed Barley2017/05","Feed Barley","2017/05",151.244,147.67740000000001,132.42660000000001,132.38650000000001,null,149.07432222222224,134.3871,167.05376666666666,165,160.99825714285711,140.29565000000002,135.19069999999999,162.76534000000001,198.18280000000001,130.91583333333335,133.47900000000001,null,118.5241,null,158.6129,134.83064999999999,153.131,169.91670000000002,134.84389999999999,null,122.32100000000001,124.04745,null,146.88290000000001,{"$f":"+INDEX(D642:AF642,1,aux_pr_ue!$P$2)","v":169.91670000000002},{"$f":"+INDEX(D642:AF642,1,aux_pr_ue!$Q$2)","v":124.04745}]
["Feed Barley2017/04","Feed Barley","2017/04",149.8202,142.9333,132.42660000000001,null,null,146.49843333333334,133.21800000000002,166.25556666666668,166.66670000000002,149.16484285714287,135.23065000000003,132.64870000000002,160.46,200.7971,133.86210000000003,131.85599999999999,null,117.67100000000001,null,155.95000000000002,135.625,149.98869999999999,167.1,132.2937,null,122.33,123.83330000000001,null,141.50080000000003,{"$f":"+INDEX(D643:AF643,1,aux_pr_ue!$P$2)","v":167.1},{"$f":"+INDEX(D643:AF643,1,aux_pr_ue!$Q$2)","v":123.83330000000001}]
["Feed Barley2017/03","Feed Barley","2017/03",149.345,144.3871,132.42660000000001,null,null,145.34586666666667,130.95840000000001,165.86019999999999,160,148.74035714285716,147.40290000000002,133.59110000000001,160.39070000000001,200.72223333333332,131.81226666666666,135.60060000000001,null,120.1686,null,157.93550000000002,137.47579999999999,145.65246666666667,173.06450000000001,138.37316666666666,null,null,124.5903,null,145.63490000000002,{"$f":"+INDEX(D644:AF644,1,aux_pr_ue!$P$2)","v":173.06450000000001},{"$f":"+INDEX(D644:AF644,1,aux_pr_ue!$Q$2)","v":124.5903}]
["Feed Barley2017/02","Feed Barley","2017/02",149.15190000000001,146.32140000000001,129.26750000000001,null,null,143.48314444444443,130.8939,163.63093333333333,176.07140000000001,149.79634285714286,142.66380000000001,129.76560000000001,158.13381666666666,199.97619999999998,124.48345,130.78749999999999,null,122.2851,null,159.32140000000001,136.375,143.30923333333334,174.1071,125.82216666666666,null,99.7,124.1468,null,148.10396666666668,{"$f":"+INDEX(D645:AF645,1,aux_pr_ue!$P$2)","v":174.1071},{"$f":"+INDEX(D645:AF645,1,aux_pr_ue!$Q$2)","v":124.1468}]
["Feed Barley2017/01","Feed Barley","2017/01",147.22130000000001,147.16670000000002,126.54665,null,null,142.18498888888888,123.36550000000001,160.26880000000003,161.11110000000002,149.31648571428576,138.91185000000002,127.5801,155.17521666666667,190.49463333333335,131.71209999999999,129.07060000000001,null,null,null,161.72580000000002,134.13335000000001,137.72206666666668,174.4194,135.06693333333334,null,null,123.9516,null,146.0155,{"$f":"+INDEX(D646:AF646,1,aux_pr_ue!$P$2)","v":174.4194},{"$f":"+INDEX(D646:AF646,1,aux_pr_ue!$Q$2)","v":123.9516}]
["Feed Barley2016/12","Feed Barley","2016/12",145.23830000000001,144.12,126.0106,null,null,140.42611111111108,125.34580000000001,159.23656666666668,155,149.4691285714286,131.38775000000001,120.76750000000001,152.60999999999999,185.06453333333334,126.884175,126.50420000000001,null,114.8228,null,159.87710000000001,129.11000000000001,127.9683,171.8065,135.712075,null,94.93,122.57100000000001,null,142.69550000000001,{"$f":"+INDEX(D647:AF647,1,aux_pr_ue!$P$2)","v":171.8065},{"$f":"+INDEX(D647:AF647,1,aux_pr_ue!$Q$2)","v":122.57100000000001}]
["Feed Barley2016/11","Feed Barley","2016/11",139.10470000000001,141.30000000000001,123.3368,null,null,137.44258888888893,121.26100000000001,152.53283333333334,155,147.93761428571429,130.17830000000001,127.46420000000001,151.14333333333335,175.53333333333333,123.48970000000001,116.59100000000001,null,114.19710000000002,null,157.86670000000001,121.84945,124.1695,165,130.74760000000001,null,97.291499999999999,115.81870000000001,null,137.86695,{"$f":"+INDEX(D648:AF648,1,aux_pr_ue!$P$2)","v":165},{"$f":"+INDEX(D648:AF648,1,aux_pr_ue!$Q$2)","v":115.81870000000001}]
["Feed Barley2016/10","Feed Barley","2016/10",135.97,143.1935,120.11415,null,null,133.54726666666667,116.03420000000001,150.19353333333333,153.33333333333334,142.91980000000001,130.32726666666667,129.12720000000002,148.45451666666668,172.36556666666669,112.9344,107.76100000000001,null,115.82463333333335,null,155.7903,121.80000000000001,124.38050000000001,161.1935,129.95314999999999,null,95.485799999999998,110.2568,null,129.84563333333332,{"$f":"+INDEX(D649:AF649,1,aux_pr_ue!$P$2)","v":161.1935},{"$f":"+INDEX(D649:AF649,1,aux_pr_ue!$Q$2)","v":110.2568}]
["Feed Barley2016/09","Feed Barley","2016/09",133.59800000000001,142.86670000000001,120.83892,106.8365,null,131.15032222222223,126.2997,151.15553333333335,144.16665,142.6142857142857,127.15820000000001,130.4632,146.87334000000001,172.18890000000002,112.212675,103.0313,null,115.87286666666667,null,148.9667,121.1848,120.7141,173.55,125.93885,null,95.50500000000001,110.42330000000001,null,128.90402,{"$f":"+INDEX(D650:AF650,1,aux_pr_ue!$P$2)","v":173.55},{"$f":"+INDEX(D650:AF650,1,aux_pr_ue!$Q$2)","v":110.42330000000001}]
["Feed Barley2016/08","Feed Barley","2016/08",133.91720000000001,146.6129,120.89290000000001,108.4521,null,129.16478888888889,132.17260000000002,150.01076666666668,145,143.15364285714284,131.7201,127.3074,147.94333333333333,173.82376666666667,122.32017499999999,112.35650000000001,null,109.91935000000001,null,149.9194,118.75,123.17910000000001,175.32260000000002,126.172375,null,97.106099999999998,118.5823,null,126.12244000000001,{"$f":"+INDEX(D651:AF651,1,aux_pr_ue!$P$2)","v":175.32260000000002},{"$f":"+INDEX(D651:AF651,1,aux_pr_ue!$Q$2)","v":118.5823}]
["Feed Barley2016/07","Feed Barley","2016/07",133.90900000000002,145.4118,124.14376250000001,112.9286,null,123.40726666666666,127.93740000000001,147.53763333333333,151.47059999999999,147.32460000000003,131.61109999999999,125.11370000000001,148.54231666666666,183.40116666666665,123.47500000000001,115.65610000000001,null,112.0394,null,145.0968,116.46775,123.68360000000001,171.39783333333332,126.68407500000001,null,106.43610000000001,121.2129,null,123.08917500000001,{"$f":"+INDEX(D652:AF652,1,aux_pr_ue!$P$2)","v":171.39783333333332},{"$f":"+INDEX(D652:AF652,1,aux_pr_ue!$Q$2)","v":121.2129}]
["Feed Barley2016/06","Feed Barley","2016/06",143.06319999999999,148.9333,127.6560875,117.17500000000001,null,133.15753333333336,125.26700000000001,152.83333333333334,161.25,154.1938909090909,136.13833333333332,115.6434,152.534075,188.88886666666667,122.30919999999999,113.06870000000001,null,119.58243333333333,null,149.83330000000001,128.96115,136.1721,171.9333,125.93565,null,116.9337,121.27330000000001,null,132.37275,{"$f":"+INDEX(D653:AF653,1,aux_pr_ue!$P$2)","v":171.9333},{"$f":"+INDEX(D653:AF653,1,aux_pr_ue!$Q$2)","v":121.27330000000001}]
["Feed Barley2016/05","Feed Barley","2016/05",146.48240000000001,150.6129,null,124.57850000000001,null,133.82944444444445,124.67610000000001,151.45160000000001,167.79410000000001,160.3999,137.39346666666668,null,169.892,191.37366666666671,119.0018,114.36580000000001,null,128.23313333333334,null,151.8871,132.67500000000001,134.82220000000001,168.74190000000002,143.86103333333335,null,120.0625,122.94840000000001,null,135.53097500000001,{"$f":"+INDEX(D654:AF654,1,aux_pr_ue!$P$2)","v":168.74190000000002},{"$f":"+INDEX(D654:AF654,1,aux_pr_ue!$Q$2)","v":122.94840000000001}]
["Feed Barley2016/04","Feed Barley","2016/04",148.31650000000002,149.33330000000001,null,121.61720000000001,null,133.92962222222224,126.85600000000001,148.06666666666669,160.65216666666666,162.61750909090912,139.28040000000001,null,168.44534000000002,191.48886666666667,123.96570000000001,113.05300000000001,null,132.77903333333333,null,151.35,131.6771,138.4188,164.3,141.63186666666667,null,119.82,124.94,null,132.97209999999998,{"$f":"+INDEX(D655:AF655,1,aux_pr_ue!$P$2)","v":164.3},{"$f":"+INDEX(D655:AF655,1,aux_pr_ue!$Q$2)","v":124.94}]
["Feed Barley2016/03","Feed Barley","2016/03",148.41650000000001,143.48255,null,122.94260000000001,null,132.19404444444444,126.39445000000001,144.60216666666668,181,162.12031818181819,139.77453333333332,157.58520000000001,168.20941999999999,197.58496666666667,113.66133333333333,116.71870000000001,null,126.3164,null,147.9032,130.58870000000002,138.49950000000001,163.64520000000002,138.72613333333334,null,124.0552,125.05810000000001,null,131.41659999999999,{"$f":"+INDEX(D656:AF656,1,aux_pr_ue!$P$2)","v":163.64520000000002},{"$f":"+INDEX(D656:AF656,1,aux_pr_ue!$Q$2)","v":125.05810000000001}]
["Feed Barley2016/02","Feed Barley","2016/02",151.79910000000001,143.82760000000002,null,124.13035000000001,null,136.51991111111113,127.89500000000001,147.22986666666668,204.0909,168.08426363636363,140.66163333333336,null,172.80098000000001,201.60554999999999,119.70780000000001,126.3914,null,143.08109999999999,null,148.32760000000002,136.91665,141.83690000000001,168.68970000000002,134.02570000000003,null,129.07599999999999,129.07410000000002,null,132.15725,{"$f":"+INDEX(D657:AF657,1,aux_pr_ue!$P$2)","v":168.68970000000002},{"$f":"+INDEX(D657:AF657,1,aux_pr_ue!$Q$2)","v":129.07410000000002}]
["Feed Barley2016/01","Feed Barley","2016/01",156.3135,155.32259999999999,135.49440000000001,126.6354,null,145.41726666666668,133.8826,156.04303333333334,173.33330000000001,173.55106363636366,145.82510000000002,153.149,174.33199999999999,203.72579999999999,126.51376666666668,135.23750000000001,null,144.60580000000002,null,155.43550000000002,139.03125,142.2088,175.93550000000002,146.39395000000002,null,129.2371,133.4032,null,136.00989999999999,{"$f":"+INDEX(D658:AF658,1,aux_pr_ue!$P$2)","v":175.93550000000002},{"$f":"+INDEX(D658:AF658,1,aux_pr_ue!$Q$2)","v":133.4032}]
["Feed Barley2015/12","Feed Barley","2015/12",166.2321,165.0968,135.49440000000001,129.91660000000002,null,151.74155555555555,142.89580000000001,160.16126666666668,157.5,178.0044818181818,154.8691666666667,150.85160000000002,172.95781666666667,203.47579999999999,127.31360000000001,136.73699999999999,null,138.52575000000002,null,165.1935,141.72115000000002,148.518,182.12900000000002,151.32005000000001,null,127.72190000000001,134.45160000000001,null,143.53550000000001,{"$f":"+INDEX(D659:AF659,1,aux_pr_ue!$P$2)","v":182.12900000000002},{"$f":"+INDEX(D659:AF659,1,aux_pr_ue!$Q$2)","v":134.45160000000001}]
["Feed Barley2015/11","Feed Barley","2015/11",160.48600000000002,169.6061,138.90306666666666,129.2937,null,153.05636666666666,144.15960000000001,160.38386666666668,161.25,178.47185833333333,157.4127,146.703,173.34333333333333,197.33405000000002,131.82713333333334,128.7106,null,139.50450000000001,null,171.33330000000001,143.10525000000001,141.40693333333334,183.9091,154.94772500000002,null,127.447,136.26300000000001,null,147.23052000000001,{"$f":"+INDEX(D660:AF660,1,aux_pr_ue!$P$2)","v":183.9091},{"$f":"+INDEX(D660:AF660,1,aux_pr_ue!$Q$2)","v":136.26300000000001}]
["Feed Barley2015/10","Feed Barley","2015/10",155.45920000000001,166.96770000000001,138.90306666666666,127.05930000000001,null,149.04730000000001,141.8674,160.60213333333334,160,174.80153636363636,157.40683333333334,null,169.44271666666668,188.00164999999998,127.93493333333333,129.68,null,134.85883333333334,null,167.2903,141.77850000000001,139.70760000000001,181.83870000000002,148.75387499999999,null,120.7955,135.0487,null,144.68477500000003,{"$f":"+INDEX(D661:AF661,1,aux_pr_ue!$P$2)","v":181.83870000000002},{"$f":"+INDEX(D661:AF661,1,aux_pr_ue!$Q$2)","v":135.0487}]
["Feed Barley2015/09","Feed Barley","2015/09",151.11850000000001,161.36670000000001,138.0651,128.6534,null,147.25554444444447,145.34030000000001,158.01113333333333,156.52175,172.06728181818181,149.42666666666668,132.32640000000001,166.57596666666666,192.92175000000003,120.27957499999999,127.515,null,132.00636666666665,null,161.65,139.04349999999999,137.64272500000001,177.34784999999999,148.0378,null,118.93570000000001,140.86799999999999,null,136.7842,{"$f":"+INDEX(D662:AF662,1,aux_pr_ue!$P$2)","v":177.34784999999999},{"$f":"+INDEX(D662:AF662,1,aux_pr_ue!$Q$2)","v":140.86799999999999}]
["Feed Barley2015/08","Feed Barley","2015/08",154.1884,164.93550000000002,140.42185000000001,130.51974999999999,null,149.49753333333334,154.35060000000001,165.8279666666667,155,175.41348181818182,155.45236666666665,132.35840000000002,165.69333333333333,198.86939999999998,132.00955000000002,131.03900000000002,null,130.90960000000001,null,167.1129,140.625,137.332775,182.6875,146.52442500000001,null,120.62450000000001,141.46129999999999,null,143.24322000000001,{"$f":"+INDEX(D663:AF663,1,aux_pr_ue!$P$2)","v":182.6875},{"$f":"+INDEX(D663:AF663,1,aux_pr_ue!$Q$2)","v":141.46129999999999}]
["Feed Barley2015/07","Feed Barley","2015/07",158.38160000000002,171.58330000000001,143.57490000000001,130.35820000000001,null,156.34081111111112,154.79840000000002,174.6129,141.45159999999998,179.30791818181822,166.30176666666668,136.42779999999999,163.23311666666666,201.65255000000002,153.96270000000001,147.3023,null,131.75897499999999,null,171.1129,141.25,137.20775,186.8871,150.349175,null,121.88380000000001,135.79480000000001,null,150.073825,{"$f":"+INDEX(D664:AF664,1,aux_pr_ue!$P$2)","v":186.8871},{"$f":"+INDEX(D664:AF664,1,aux_pr_ue!$Q$2)","v":135.79480000000001}]
["Feed Barley2015/06","Feed Barley","2015/06",156.3252,174.16670000000002,140.60740000000001,128.36754999999999,null,152.49727777777778,143.45570000000001,162.68886666666666,140,173.7121181818182,180.27333333333331,122.54650000000001,160.664075,204.6875,135.07925,148.1677,null,128.050175,null,171.91670000000002,134.94999999999999,134.468625,187.9333,149.21079999999998,null,124.66460000000001,134.76730000000001,null,156.0684,{"$f":"+INDEX(D665:AF665,1,aux_pr_ue!$P$2)","v":187.9333},{"$f":"+INDEX(D665:AF665,1,aux_pr_ue!$Q$2)","v":134.76730000000001}]
["Feed Barley2015/05","Feed Barley","2015/05",159.71950000000001,173.64520000000002,null,128.98635000000002,null,150.364,145.7533,162.25806666666665,null,172.34281818181819,164.82000000000002,null,170.05645000000001,215,149.06390000000002,146.24160000000001,null,137.95400000000001,null,170.2903,137.10415,137.78186666666667,188.83870000000002,null,null,123.7624,133.1935,null,150.78325000000001,{"$f":"+INDEX(D666:AF666,1,aux_pr_ue!$P$2)","v":188.83870000000002},{"$f":"+INDEX(D666:AF666,1,aux_pr_ue!$Q$2)","v":133.1935}]
["Feed Barley2015/04","Feed Barley","2015/04",162.9041,179.9333,null,128.73575,null,154.33430000000001,149.77930000000001,164.58886666666669,null,174.76029999999997,176.603825,176.49890000000002,174.62497500000001,211.07625000000002,147.78053333333332,147.505,null,142.47050000000002,null,174.375,140.53334999999998,145.60290000000001,192.83330000000001,144.6037,null,129.46600000000001,134.52500000000001,null,161.53635,{"$f":"+INDEX(D667:AF667,1,aux_pr_ue!$P$2)","v":192.83330000000001},{"$f":"+INDEX(D667:AF667,1,aux_pr_ue!$Q$2)","v":134.52500000000001}]
["Feed Barley2015/03","Feed Barley","2015/03",162.51130000000001,175.8065,null,129.06240000000003,null,154.99742222222221,151.62030000000001,161.2473,null,173.01026363636365,177.82273333333333,176.49890000000002,174.46923333333334,215.26335,140.62084999999999,145.30549999999999,null,141.85103333333336,null,174.9194,144.41250000000002,145.73686666666669,193.6129,166.7253,null,130.19040000000001,135.08870000000002,null,161.65022000000002,{"$f":"+INDEX(D668:AF668,1,aux_pr_ue!$P$2)","v":193.6129},{"$f":"+INDEX(D668:AF668,1,aux_pr_ue!$Q$2)","v":135.08870000000002}]
["Feed Barley2015/02","Feed Barley","2015/02",164.71040000000002,175,134.21615000000003,130.69095000000002,null,156.95943333333332,161.67830000000001,162.45236666666668,null,175.18535454545457,173.34516666666664,null,176.52421428571432,220.5857,151.66893333333334,146.6446,null,145.14783333333332,null,174.67860000000002,149.75,147.90893333333335,195.46430000000001,167.72035,null,119.59530000000001,135.19640000000001,null,165.33828333333335,{"$f":"+INDEX(D669:AF669,1,aux_pr_ue!$P$2)","v":195.46430000000001},{"$f":"+INDEX(D669:AF669,1,aux_pr_ue!$Q$2)","v":135.19640000000001}]
["Feed Barley2015/01","Feed Barley","2015/01",165.34030000000001,178.49260000000001,134.21615000000003,127.13155,null,160.37234444444445,157.11670000000001,164.47313333333332,155,178.09820909090911,176.42080000000001,null,179.88438571428574,219.15565000000004,158.31953333333334,144.56100000000001,null,147.9248,null,178.3871,149.33825000000002,138.8484,197.77420000000001,155.96655000000001,null,112.575,131.38740000000001,null,163.18366666666665,{"$f":"+INDEX(D670:AF670,1,aux_pr_ue!$P$2)","v":197.77420000000001},{"$f":"+INDEX(D670:AF670,1,aux_pr_ue!$Q$2)","v":131.38740000000001}]
["Feed Barley2014/12","Feed Barley","2014/12",160.03110000000001,178.95830000000001,130.79373333333334,123.6564,null,156.53685555555555,152.05940000000001,165.38706666666667,152.63890000000001,175.67116363636364,171.21860000000001,null,172.91922857142859,207.70499999999998,150.83753333333334,142.82320000000001,null,136.08085,null,179.52080000000001,141.29410000000001,139.03065000000001,192.48390000000001,142.67837500000002,null,106.8271,129.08450000000002,151.03075000000001,155.11000000000001,{"$f":"+INDEX(D671:AF671,1,aux_pr_ue!$P$2)","v":192.48390000000001},{"$f":"+INDEX(D671:AF671,1,aux_pr_ue!$Q$2)","v":129.08450000000002}]
["Feed Barley2014/11","Feed Barley","2014/11",153.98439999999999,169.5667,132.29877500000001,119.59485000000001,null,149.40049999999999,142.13070000000002,157.4889,152.22223333333332,171.78901818181819,164.40753333333336,116.1284,166.64717142857143,202.08385000000001,137.55780000000001,133.30250000000001,null,132.5531,null,171.08330000000001,137.3854,136.00486666666666,186.36670000000001,146.788025,null,104.286,124.33330000000001,145.54647500000002,149.77407499999998,{"$f":"+INDEX(D672:AF672,1,aux_pr_ue!$P$2)","v":186.36670000000001},{"$f":"+INDEX(D672:AF672,1,aux_pr_ue!$Q$2)","v":124.33330000000001}]
["Feed Barley2014/10","Feed Barley","2014/10",147.48750000000001,155.74190000000002,132.42660000000001,119.82470000000001,null,139.18145555555554,132.69839999999999,149.29033333333334,157.68816666666666,164.84451818181819,152.65856666666667,116.1284,162.63647142857144,198.52460000000002,130.59922499999999,122.96300000000001,null,127.18146666666667,null,159.6935,130.70665,133.53680000000003,183.15050000000002,140.32455000000002,null,110.07870000000001,122.70970000000001,135.372275,139.35812000000001,{"$f":"+INDEX(D673:AF673,1,aux_pr_ue!$P$2)","v":183.15050000000002},{"$f":"+INDEX(D673:AF673,1,aux_pr_ue!$Q$2)","v":122.70970000000001}]
["Feed Barley2014/09","Feed Barley","2014/09",147.3355,150.88890000000001,132.95494000000002,120.73820000000001,null,141.44166250000001,138.5547,152.32563999999999,157.05556666666666,165.33401818181821,144.93296666666666,148.9041,167.03223333333335,198.45499999999998,122.75792500000001,123.2985,null,127.06703333333333,null,150.33330000000001,136.95835,132.10775000000001,179.16665,145.99305000000001,null,111.039,122.53330000000001,133.7912,139.58928571428572,{"$f":"+INDEX(D674:AF674,1,aux_pr_ue!$P$2)","v":179.16665},{"$f":"+INDEX(D674:AF674,1,aux_pr_ue!$Q$2)","v":122.53330000000001}]
["Feed Barley2014/08","Feed Barley","2014/08",147.42100000000002,155.22220000000002,130.79271666666668,129.57375000000002,null,144.52013333333332,137.69710000000001,157.7903,156.94445000000002,164.94154545454546,146.84763333333333,143.2337,169.16881666666666,198.55394999999999,128.59642500000001,129.08160000000001,null,127.57560000000001,null,155.77420000000001,137.75,130.83685000000003,178.35485,147.9674666666667,null,115.06580000000001,125.3126,null,140.70604,{"$f":"+INDEX(D675:AF675,1,aux_pr_ue!$P$2)","v":178.35485},{"$f":"+INDEX(D675:AF675,1,aux_pr_ue!$Q$2)","v":125.3126}]
["Feed Barley2014/07","Feed Barley","2014/07",154.63590000000002,159.48349999999999,137.64105000000001,147.08670000000001,null,149.6403,139.55100000000002,172.12097500000002,155,168.0445454545455,143.21885,147.97505000000001,170.46688333333336,204.89275000000001,144.59196666666668,159.56100000000001,null,131.683875,null,160.25810000000001,150.125,138.53170000000003,180,140.11540000000002,null,125.8639,130.58870000000002,null,147.87196666666668,{"$f":"+INDEX(D676:AF676,1,aux_pr_ue!$P$2)","v":180},{"$f":"+INDEX(D676:AF676,1,aux_pr_ue!$Q$2)","v":130.58870000000002}]
["Feed Barley2014/06","Feed Barley","2014/06",166.3871,170.56,145.34120000000001,156.06745000000001,155.46850000000001,161.50255555555557,147.40300000000002,183.50832500000001,181.22806666666668,169.5963090909091,155.0625,139.27010000000001,174.53100000000001,218.14165,165.75110000000001,160.4939,null,132.37709999999998,null,174.1,155.95835,180.17972500000002,184.33335,145.82730000000001,null,129.05000000000001,134.26085,157.4254,157.18026666666665,{"$f":"+INDEX(D677:AF677,1,aux_pr_ue!$P$2)","v":184.33335},{"$f":"+INDEX(D677:AF677,1,aux_pr_ue!$Q$2)","v":134.26085}]
["Feed Barley2014/05","Feed Barley","2014/05",175.15380000000002,178.35480000000001,161.05940000000001,165.16835,161.15730000000002,177.09652222222223,153.82230000000001,190.89515,230,169.57596363636364,161.75160000000002,null,196.66375000000002,224.80500000000001,174.9091,163.63410000000002,null,148.96690000000001,null,182.35835000000003,195,184.41650000000001,200,147.60740000000001,null,147.77000000000001,138.98955000000001,163.09530000000001,170.21536666666668,{"$f":"+INDEX(D678:AF678,1,aux_pr_ue!$P$2)","v":200},{"$f":"+INDEX(D678:AF678,1,aux_pr_ue!$Q$2)","v":138.98955000000001}]
["Feed Barley2014/04","Feed Barley","2014/04",177.83770000000001,187.33330000000001,161.05940000000001,162.30790000000002,169.4854,180.1606625,158.31530000000001,194.81665000000001,230,167.12667272727273,173.23663333333332,181.2413,197.93797142857142,227.99610000000001,166.67455000000001,173.47540000000001,null,163.67230000000001,null,192,189.25,183.98346666666666,196.83330000000001,null,null,136.66670000000002,142.76,164.47840000000002,178.39783333333335,{"$f":"+INDEX(D679:AF679,1,aux_pr_ue!$P$2)","v":196.83330000000001},{"$f":"+INDEX(D679:AF679,1,aux_pr_ue!$Q$2)","v":142.76}]
["Feed Barley2014/03","Feed Barley","2014/03",177.5224,192.67740000000001,154.66815000000003,156.04160000000002,168.27620000000002,181.13331111111111,154.8861,187.77420000000001,193.6842,167.34400000000002,177.69453333333334,170.97329999999999,198.88780000000003,230.44145,173.76817499999999,169.01580000000001,null,161.04170000000002,null,194.96770000000001,182.4342,180.12786666666668,198.06450000000001,158.82679999999999,null,159.58710000000002,141.43270000000001,167.30415000000002,173.99160000000001,{"$f":"+INDEX(D680:AF680,1,aux_pr_ue!$P$2)","v":198.06450000000001},{"$f":"+INDEX(D680:AF680,1,aux_pr_ue!$Q$2)","v":141.43270000000001}]
["Feed Barley2014/02","Feed Barley","2014/02",174.76520000000002,181.6071,152.93340000000001,157.76955000000001,160.47490000000002,176.3664,151.80360000000002,176.41072500000001,190.89285000000001,167.16398181818184,168.958,null,198.16571428571427,236.67785000000001,166.36627500000003,166.75660000000002,null,159.399,null,187.78570000000002,183.78570000000002,181.19055,201.57140000000001,178.28750000000002,null,144.26570000000001,138.60865000000001,167.22682500000002,170.02091666666664,{"$f":"+INDEX(D681:AF681,1,aux_pr_ue!$P$2)","v":201.57140000000001},{"$f":"+INDEX(D681:AF681,1,aux_pr_ue!$Q$2)","v":138.60865000000001}]
["Feed Barley2014/01","Feed Barley","2014/01",176.2901,184.1935,153.38990000000001,157.00670000000002,160.89230000000001,178.65502222222221,150.2954,180.77422500000003,193.47825,171.28410909090908,170.04740000000001,null,200.01137142857144,241.40550000000002,158.59123333333332,166.2604,null,163.62130000000002,null,187.39580000000001,187.125,185.04859999999999,202.5333,171.24225000000001,null,156.7552,136.17195000000001,169.06540000000001,169.98123333333334,{"$f":"+INDEX(D682:AF682,1,aux_pr_ue!$P$2)","v":202.5333},{"$f":"+INDEX(D682:AF682,1,aux_pr_ue!$Q$2)","v":136.17195000000001}]
["Feed Barley2013/12","Feed Barley","2013/12",177.66849999999999,191.15999999999997,153.08753333333334,154.67865,166.0693,182.43799999999999,153.48350000000002,180.46775000000002,179.03225,171.29295454545456,176.72406666666666,null,199.19714285714286,240.12470000000002,159.80020000000002,167.708,null,164.37020000000001,null,193.54170000000002,186.16034999999999,184.35905000000002,215.08,174.6472,null,143.06040000000002,135.35485,168.31162500000002,170.0634,{"$f":"+INDEX(D683:AF683,1,aux_pr_ue!$P$2)","v":215.08},{"$f":"+INDEX(D683:AF683,1,aux_pr_ue!$Q$2)","v":135.35485}]
["Feed Barley2013/11","Feed Barley","2013/11",174.9563,190.4375,152.53773333333334,146.48450000000003,162.44970000000001,179.26064444444444,159.52800000000002,180.91666249999997,176.16665,173.43727272727276,177.70653333333334,null,190.97110000000001,238.50200000000001,153.08397500000001,175.71120000000002,null,155.37909999999999,null,192.8167,179.34614999999999,176.75982500000003,218.125,174.26043333333334,null,130.47570000000002,135.05000000000001,166.22650000000002,170.07826,{"$f":"+INDEX(D684:AF684,1,aux_pr_ue!$P$2)","v":218.125},{"$f":"+INDEX(D684:AF684,1,aux_pr_ue!$Q$2)","v":135.05000000000001}]
["Feed Barley2013/10","Feed Barley","2013/10",171.898,187.45805000000001,150.83340000000001,148.36804999999998,162.00110000000001,172.76905555555558,164.18520000000001,178.68102499999998,170.10415,170.46060909090909,176.73793333333333,156.1926,188.78743333333333,232.7,152.9776,164.12730000000002,null,152.28,null,189.25810000000001,172.66670000000002,167.94037500000002,202.95159999999998,171.47103333333334,null,143.03210000000001,135.6129,167.4496,168.50112000000001,{"$f":"+INDEX(D685:AF685,1,aux_pr_ue!$P$2)","v":202.95159999999998},{"$f":"+INDEX(D685:AF685,1,aux_pr_ue!$Q$2)","v":135.6129}]
["Feed Barley2013/09","Feed Barley","2013/09",169.28390000000002,179.76670000000001,151.85600000000002,145.78040000000001,159.9658,168.92378888888891,154.11969999999999,178.21,171.83335,170.48544545454547,173.09280000000001,150.1431,189.42111666666665,236.11664999999999,143.17830000000001,145.96090000000001,null,153.47649999999999,null,181.22500000000002,169.05555000000001,158.78527500000001,195.88335000000001,181.09026666666668,null,145.3109,141.98085,166.22650000000002,167.22116666666668,{"$f":"+INDEX(D686:AF686,1,aux_pr_ue!$P$2)","v":195.88335000000001},{"$f":"+INDEX(D686:AF686,1,aux_pr_ue!$Q$2)","v":141.98085}]
["Feed Barley2013/08","Feed Barley","2013/08",167.01830000000001,176.9032,159.43753333333333,143.86810000000003,null,163.64517499999999,154.9316,179.29840000000002,179.375,167.79709090909091,173.08453333333333,153.07685000000001,187.15118333333331,238.83710000000002,140.13612499999999,154.02930000000001,null,149.44980000000001,null,179.0806,167.1354,156.81104999999999,198.63909999999998,164.48355000000001,null,136.9229,153.64675,null,164.36154000000002,{"$f":"+INDEX(D687:AF687,1,aux_pr_ue!$P$2)","v":198.63909999999998},{"$f":"+INDEX(D687:AF687,1,aux_pr_ue!$Q$2)","v":153.64675}]
["Feed Barley2013/07","Feed Barley","2013/07",177.4247,188.04170000000002,158.85476666666668,158.60055,null,170.1297777777778,170.84610000000001,205.38707500000001,180.07055000000003,181.25507272727273,172.91396666666665,null,187.58646666666664,240.72500000000002,167.95689999999999,195.57430000000002,null,151.40977500000002,null,188.5806,167.97059999999999,162.44990000000001,207.21775000000002,167.10375000000002,null,160,160.67435,null,170.86,{"$f":"+INDEX(D688:AF688,1,aux_pr_ue!$P$2)","v":207.21775000000002},{"$f":"+INDEX(D688:AF688,1,aux_pr_ue!$Q$2)","v":160.67435}]
["Feed Barley2013/06","Feed Barley","2013/06",197.80110000000002,199.86670000000001,177.01640000000003,184.23746666666668,198.03030000000001,192.7232333333333,194.6797,223.48332500000001,190.16305,209.4373166666667,183.74756666666667,null,190.53703333333337,259.33074999999997,187.13073333333332,172.95150000000001,null,158.23263333333335,null,203.88,212.5,178.329725,231.6,179.3091,null,222.8108,168.58330000000001,212.28239999999997,174.3372,{"$f":"+INDEX(D689:AF689,1,aux_pr_ue!$P$2)","v":231.6},{"$f":"+INDEX(D689:AF689,1,aux_pr_ue!$Q$2)","v":168.58330000000001}]
["Feed Barley2013/05","Feed Barley","2013/05",217.09200000000001,220.64520000000002,230.0849,189.25995,208.03530000000001,207.03183076923077,201.53790000000001,235.77420000000001,225,224.74520952380954,200.12556666666669,null,223.31865999999999,281.17095000000006,190.9425,201.20904999999999,null,180.57930000000002,null,217.41670000000002,213,189.59292499999998,244.3871,208.44970000000004,null,214.77250000000001,186.30432500000001,213.55600000000001,213.10030000000003,{"$f":"+INDEX(D690:AF690,1,aux_pr_ue!$P$2)","v":244.3871},{"$f":"+INDEX(D690:AF690,1,aux_pr_ue!$Q$2)","v":186.30432500000001}]
["Feed Barley2013/04","Feed Barley","2013/04",222.8563,221.9333,219.85890000000003,196.30619999999999,214.03210000000001,213.86572222222219,198.74300000000002,240.57500000000002,225,237.86394545454547,215.45373333333336,null,229.083325,283.39999999999998,201.49966666666668,219.9332,null,204.07265000000001,null,225.61250000000001,213,199.05330000000004,247.33330000000001,218.50274999999999,null,202.8,193.54984999999999,216.2578,216.47688333333335,{"$f":"+INDEX(D691:AF691,1,aux_pr_ue!$P$2)","v":247.33330000000001},{"$f":"+INDEX(D691:AF691,1,aux_pr_ue!$Q$2)","v":193.54984999999999}]
["Feed Barley2013/03","Feed Barley","2013/03",222.7741,219.25810000000001,219.85890000000003,206.65225000000001,210.57430000000002,210.76933333333332,195.29520000000002,240.61290000000002,225,237.0388090909091,213.55910000000003,null,229.23092000000003,284.75,195.56290000000001,218.87960000000001,null,207.9136,null,220.28390000000002,212.1875,197.94787500000001,247.67740000000001,213.9853,null,207.11940000000001,204.53130000000002,222.33145000000002,217.79883333333331,{"$f":"+INDEX(D692:AF692,1,aux_pr_ue!$P$2)","v":247.67740000000001},{"$f":"+INDEX(D692:AF692,1,aux_pr_ue!$Q$2)","v":204.53130000000002}]
["Feed Barley2013/02","Feed Barley","2013/02",230.79650000000001,226.75,219.85890000000003,214.83005,218.9298,223.60105555555555,202.90040000000002,262.142875,225,244.39661818181821,217.94373333333337,null,236.22198333333333,284.75,220.72597500000001,221.1748,null,223.8784,null,227.20360000000002,228.75,202.09887500000002,254.64290000000003,227.18990000000002,null,220.40040000000002,208.70230000000001,226.1585,218.31960000000001,{"$f":"+INDEX(D693:AF693,1,aux_pr_ue!$P$2)","v":254.64290000000003},{"$f":"+INDEX(D693:AF693,1,aux_pr_ue!$Q$2)","v":208.70230000000001}]
["Feed Barley2013/01","Feed Barley","2013/01",236.34820000000002,241,207.07640000000001,204.57765000000001,221.84050000000002,230.47845555555554,198.07860000000002,268.24195000000003,225,251.24507272727271,226.86493333333337,null,243.20808571428572,283.875,209.9624,216.81470000000002,null,229.97930000000002,null,238.35340000000002,230.46875,208.00242500000002,262.46775000000002,235.52010000000001,null,210.87540000000001,209.77435,228.54045000000002,232.12742857142857,{"$f":"+INDEX(D694:AF694,1,aux_pr_ue!$P$2)","v":262.46775000000002},{"$f":"+INDEX(D694:AF694,1,aux_pr_ue!$Q$2)","v":209.77435}]
["Feed Barley2012/12","Feed Barley","2012/12",239.15990000000002,249.42310000000001,206.4579,205.33269999999999,null,236.91130000000001,204.75620000000001,265.5,225,255.4998363636364,233.82543333333334,null,243.62697142857147,283.13459999999998,212.42257500000002,204.23150000000001,null,236.79490000000001,null,250.47370000000001,229.14260000000002,211.14827500000001,272.58330000000001,211.45870000000002,null,213.12530000000001,210.67869999999999,226.834,254.16347999999999,{"$f":"+INDEX(D695:AF695,1,aux_pr_ue!$P$2)","v":272.58330000000001},{"$f":"+INDEX(D695:AF695,1,aux_pr_ue!$Q$2)","v":210.67869999999999}]
["Feed Barley2012/11","Feed Barley","2012/11",234.31580000000002,250.73330000000001,203.66773333333333,215.0181,null,233.81569999999999,212.209,255.91305,218.4375,248.52367272727273,238.09299999999999,null,236.21334285714289,282.125,212.40437500000002,196.57570000000001,null,228.19200000000001,null,250.57500000000002,222.33335,203.43460000000002,266.21665000000002,221.7236,null,200.46730000000002,209.24015,229.18340000000001,244.84037142857142,{"$f":"+INDEX(D696:AF696,1,aux_pr_ue!$P$2)","v":266.21665000000002},{"$f":"+INDEX(D696:AF696,1,aux_pr_ue!$Q$2)","v":209.24015}]
["Feed Barley2012/10","Feed Barley","2012/10",226.66900000000001,239.3871,203.64641999999998,202.8905,null,223.95176666666666,206.99940000000001,247.58065000000002,232.91665,240.95612727272726,232.74723333333336,null,233.01364285714286,282.125,195.8109,188.16165000000001,null,230.62780000000001,null,239.76610000000002,212.5,198.89372500000002,252.96775000000002,198.35874999999999,null,206.71450000000002,202.58695,218.92527500000003,227.75896000000003,{"$f":"+INDEX(D697:AF697,1,aux_pr_ue!$P$2)","v":252.96775000000002},{"$f":"+INDEX(D697:AF697,1,aux_pr_ue!$Q$2)","v":202.58695}]
["Feed Barley2012/09","Feed Barley","2012/09",225.80340000000001,244.90000000000003,206.61624,205.03800000000001,null,226.5840125,204.00670000000002,248.49165000000002,230,243.58678181818183,235.40620000000001,null,232.21664285714286,282.125,200.08485000000002,183.7483,null,209.34445000000002,null,239.66,221.5,194.1534,240.4203,202.73786666666669,null,197.25070000000002,202.00515000000001,217.91595000000001,228.59849999999997,{"$f":"+INDEX(D698:AF698,1,aux_pr_ue!$P$2)","v":240.4203},{"$f":"+INDEX(D698:AF698,1,aux_pr_ue!$Q$2)","v":202.00515000000001}]
["Feed Barley2012/08","Feed Barley","2012/08",222.68040000000002,241.41940000000002,208.00670000000002,200.27480000000003,null,222.97676250000001,199.35650000000001,243.50805,204.74265000000003,240.11338181818181,231.50496666666666,null,223.71907142857143,285.67095,203.65472500000001,189.465,null,207.88159999999999,null,240.43180000000001,215,192.77875,242.09675000000001,193.197,null,187.22290000000001,196.33775000000003,null,225.37186666666665,{"$f":"+INDEX(D699:AF699,1,aux_pr_ue!$P$2)","v":242.09675000000001},{"$f":"+INDEX(D699:AF699,1,aux_pr_ue!$Q$2)","v":196.33775000000003}]
["Feed Barley2012/07","Feed Barley","2012/07",211.7645,237.91670000000002,193.58454,189.29085000000001,null,214.09790000000004,201.7097,244.387125,160.64515,226.48768181818178,231.51656666666668,null,206.44068571428573,267.40319999999997,190.252925,195.1046,null,189.6181,null,243.27420000000001,206.15030000000002,194.93889999999999,239.59675000000001,178.12986666666666,null,181.98170000000002,178.38210000000001,null,222.8202,{"$f":"+INDEX(D700:AF700,1,aux_pr_ue!$P$2)","v":239.59675000000001},{"$f":"+INDEX(D700:AF700,1,aux_pr_ue!$Q$2)","v":178.38210000000001}]
["Feed Barley2012/06","Feed Barley","2012/06",203.6994,208.76670000000001,177.10696666666664,176.61290000000002,null,203.47808888888889,201.17870000000002,231.816675,167.05880000000002,210.18577272727271,205.70433333333335,null,188.47246666666669,254.75,188.34569999999999,191.41050000000001,null,172.16946666666669,null,213.4333,205,199.60925000000003,241,168.18726666666666,null,186.1765,174.10935000000001,209.01770000000002,200.69942500000002,{"$f":"+INDEX(D701:AF701,1,aux_pr_ue!$P$2)","v":241},{"$f":"+INDEX(D701:AF701,1,aux_pr_ue!$Q$2)","v":174.10935000000001}]
["Feed Barley2012/05","Feed Barley","2012/05",210.61940000000001,219.2903,180.23315000000002,174.32080000000002,206.39250000000001,213.75883333333334,194.67420000000001,228.62905000000001,null,222.68324545454544,209.47186666666667,null,219.83199999999997,254.75,169.01823333333334,187.19670000000002,null,170.53620000000001,null,220.81030000000001,215.4375,205.35660000000001,244.53230000000002,170.69460000000004,null,193.53,173.86290000000002,208.46860000000001,201.69405000000003,{"$f":"+INDEX(D702:AF702,1,aux_pr_ue!$P$2)","v":244.53230000000002},{"$f":"+INDEX(D702:AF702,1,aux_pr_ue!$Q$2)","v":173.86290000000002}]
["Feed Barley2012/04","Feed Barley","2012/04",211.33620000000002,220.2,180.23315000000002,169.3297,207.55170000000001,214.80723333333333,187.95430000000002,221.441675,null,227.54074545454549,206.8475,null,218.87333333333336,253.91665,166.09816666666669,183.50560000000002,null,163.52350000000001,null,228.56,204.54165,202.3785,240.1,188.07060000000001,null,185.6944,172.51670000000001,205.26270000000002,207.02140000000003,{"$f":"+INDEX(D703:AF703,1,aux_pr_ue!$P$2)","v":240.1},{"$f":"+INDEX(D703:AF703,1,aux_pr_ue!$Q$2)","v":172.51670000000001}]
["Feed Barley2012/03","Feed Barley","2012/03",203.69240000000002,213.12900000000002,176.69916666666668,169.40965,199.13150000000002,203.10197777777782,185.18680000000001,210.82257500000003,null,215.47613636363639,205.12140000000002,null,213.4941666666667,248.5,168.46163333333334,181.24460000000002,null,161.3623,null,218.96770000000001,192.40440000000001,196.452,227.10485,null,null,178.34710000000001,169.46775000000002,198.07160000000002,199.79101666666668,{"$f":"+INDEX(D704:AF704,1,aux_pr_ue!$P$2)","v":227.10485},{"$f":"+INDEX(D704:AF704,1,aux_pr_ue!$Q$2)","v":169.46775000000002}]
["Feed Barley2012/02","Feed Barley","2012/02",199.62540000000001,211.8621,176.39840000000001,166.81310000000002,197.32300000000001,197.79748750000002,180.80030000000002,203.577575,null,209.71024545454546,203.96260000000001,null,211.9433333333333,250.84485000000001,175.70083333333335,185.32580000000002,null,178.42840000000001,null,212.58620000000002,187.2,181.93275,228.5086,168.40989999999999,null,171.48340000000002,168.9957,194.3691,196.32317142857141,{"$f":"+INDEX(D705:AF705,1,aux_pr_ue!$P$2)","v":228.5086},{"$f":"+INDEX(D705:AF705,1,aux_pr_ue!$Q$2)","v":168.9957}]
["Feed Barley2012/01","Feed Barley","2012/01",193.87200000000001,201.93550000000002,176.39840000000001,156.84635,188.90309999999999,187.54183333333336,173.73580000000001,192.87902500000001,200,205.60703636363641,200.6516,null,206.90724285714288,251.48390000000001,176.3057,169.85760000000002,null,160.3569,null,203.46300000000002,183.29410000000001,170.21339999999998,217.32260000000002,168.18995000000001,null,164.69670000000002,164.06145000000001,190.1002,188.02333333333331,{"$f":"+INDEX(D706:AF706,1,aux_pr_ue!$P$2)","v":217.32260000000002},{"$f":"+INDEX(D706:AF706,1,aux_pr_ue!$Q$2)","v":164.06145000000001}]
["Feed Barley2011/12","Feed Barley","2011/12",187.14410000000001,191.48390000000001,174.69406666666669,151.40140000000002,174.30680000000001,180.65741111111112,169.5206,183,200,201.32302727272727,187.63625000000002,null,205.77285714285713,244.33870000000002,164.24360000000001,165.6688,null,161.99460000000002,null,191.5,180.07355000000001,166.30179999999999,207.0968,173.822,null,148.23670000000001,164.20355000000001,185.62990000000002,174.75333333333333,{"$f":"+INDEX(D707:AF707,1,aux_pr_ue!$P$2)","v":207.0968},{"$f":"+INDEX(D707:AF707,1,aux_pr_ue!$Q$2)","v":164.20355000000001}]
["Feed Barley2011/11","Feed Barley","2011/11",186.41650000000001,197.83330000000001,170.646275,148.58410000000001,179.04179999999999,182.20182500000001,175.69730000000001,182.22497500000003,201.33330000000001,202.74453636363634,183.44733333333332,null,207.63155714285716,244.5,167.00636666666668,162.17920000000001,null,156.42830000000001,null,197.6,182.625,160.10122500000003,215.48330000000001,175.90450000000001,null,148.29570000000001,169.95314999999999,185.08880000000002,179.11744999999999,{"$f":"+INDEX(D708:AF708,1,aux_pr_ue!$P$2)","v":215.48330000000001},{"$f":"+INDEX(D708:AF708,1,aux_pr_ue!$Q$2)","v":169.95314999999999}]
["Feed Barley2011/10","Feed Barley","2011/10",186.3947,197.1935,172.70797500000003,156.90595000000002,177.4546,184.73582222222225,177.2619,181.04837499999999,215,198.60272727272729,188.48780000000002,null,210.10230000000001,244.19355000000002,166.84135000000001,163.32660000000001,null,162.49785000000003,null,197.11540000000002,183.26925,162.85130000000001,214.5806,176.52719999999999,null,155.49100000000001,170.95165000000003,186.5035,176.10844444444444,{"$f":"+INDEX(D709:AF709,1,aux_pr_ue!$P$2)","v":214.5806},{"$f":"+INDEX(D709:AF709,1,aux_pr_ue!$Q$2)","v":170.95165000000003}]
["Feed Barley2011/09","Feed Barley","2011/09",191.07,205.0667,167.98325,157.60804999999999,183.39340000000001,192.20480000000001,177.7191,185.49997500000001,208.33335,203.77303636363638,197.44420000000002,null,216.5817857142857,239.27500000000001,173.26420000000002,163.4358,null,168.99065000000002,null,203.25,184.75,160.21072500000002,214.77776666666668,175.04070000000002,null,157.3493,166.05,185.3032,184.65251999999998,{"$f":"+INDEX(D710:AF710,1,aux_pr_ue!$P$2)","v":214.77776666666668},{"$f":"+INDEX(D710:AF710,1,aux_pr_ue!$Q$2)","v":166.05}]
["Feed Barley2011/08","Feed Barley","2011/08",185.70270000000002,199.1848,168.18558000000002,164.13820000000001,null,190.56907777777781,168.16290000000001,193.967725,217.5,200.5108909090909,193.16219999999998,null,212.54166666666666,237.89515,165.18941999999998,165.8184,null,170.04073333333335,null,202.62900000000002,184.57355000000001,165.372725,197.16130000000001,163.9006,null,155.911,158.52015,null,181.21788000000001,{"$f":"+INDEX(D711:AF711,1,aux_pr_ue!$P$2)","v":197.16130000000001},{"$f":"+INDEX(D711:AF711,1,aux_pr_ue!$Q$2)","v":158.52015}]
["Feed Barley2011/07","Feed Barley","2011/07",186.45270000000002,192.92,160.07511666666667,171.16585000000001,null,193.28300000000002,174.61940000000001,194.95965000000001,206.75,191.19465454545454,183.70066666666671,null,210.61404285714283,244.19355000000002,152.97006666666667,191.50050000000002,null,166.23835000000003,null,203.83330000000001,186.25,180.03605000000002,199.3742,164.44765000000001,null,174.52600000000001,148.0403,null,183.30644000000001,{"$f":"+INDEX(D712:AF712,1,aux_pr_ue!$P$2)","v":199.3742},{"$f":"+INDEX(D712:AF712,1,aux_pr_ue!$Q$2)","v":148.0403}]
["Feed Barley2011/06","Feed Barley","2011/06",198.9607,216.68180000000001,163.18983333333338,183.7559,194.43690000000001,209.40131111111111,198.37130000000002,208.08330000000001,183.125,204.27392727272726,192.80390000000003,null,209.87731666666664,254,182.7148,207.0745,null,173.07313333333332,null,208.5,202.27270000000001,198.33344999999997,217.41665,162.83730000000003,null,179.7,165.12085000000002,188.849525,198.085275,{"$f":"+INDEX(D713:AF713,1,aux_pr_ue!$P$2)","v":217.41665},{"$f":"+INDEX(D713:AF713,1,aux_pr_ue!$Q$2)","v":165.12085000000002}]
["Feed Barley2011/05","Feed Barley","2011/05",203.8364,202.1935,173.84190000000001,178.07870000000003,192.17620000000002,200.30158888888889,199.97480000000002,209.33064999999999,null,221.29560909090912,195.60013333333336,null,242.25,254,164.55754999999999,206.65,null,175.09390000000002,null,214.5,198.85485,201.46570000000003,217.90320000000003,204.53410000000002,null,181.11440000000002,162.65205,187.22830000000002,203.0231,{"$f":"+INDEX(D714:AF714,1,aux_pr_ue!$P$2)","v":217.90320000000003},{"$f":"+INDEX(D714:AF714,1,aux_pr_ue!$Q$2)","v":162.65205}]
["Feed Barley2011/04","Feed Barley","2011/04",200.84820000000002,196,173.84190000000001,176.8212,186.48250000000002,193.24785555555556,196.23080000000002,204.65832500000002,null,221.55286363636367,189.11472499999999,null,239,254,188.71699999999998,203.22550000000001,null,159.7002,null,200.33330000000001,194.5,198.41347500000001,216.49420000000001,189.92595,null,178.20350000000002,161.19215,185.04672500000001,202.30875000000003,{"$f":"+INDEX(D715:AF715,1,aux_pr_ue!$P$2)","v":216.49420000000001},{"$f":"+INDEX(D715:AF715,1,aux_pr_ue!$Q$2)","v":161.19215}]
["Feed Barley2011/03","Feed Barley","2011/03",204.0206,201.12900000000002,175.3263,193.1661,182.04600000000002,195.98538888888891,217.155,213.64517499999999,null,219.12971818181816,188.33020000000002,null,239.20835,254,195.37365,205.40100000000001,null,162.70860000000002,null,199.3871,216.51564999999999,197.00342499999999,222.51613333333333,220.33655000000002,null,176.6275,168.0224,190.41037499999999,205.70250000000001,{"$f":"+INDEX(D716:AF716,1,aux_pr_ue!$P$2)","v":222.51613333333333},{"$f":"+INDEX(D716:AF716,1,aux_pr_ue!$Q$2)","v":168.0224}]
["Feed Barley2011/02","Feed Barley","2011/02",212.6258,219.1071,181.14620000000002,187.60930000000002,198.4434,213.23545555555555,187.01570000000001,224.48077500000002,null,226.06301818181817,210.92920000000004,null,251.05953333333332,255.28570000000002,166.65720000000002,202.22060000000002,null,171.13380000000001,null,219.17860000000002,220.44645,204.06175000000002,234.14709999999999,171.58350000000002,null,170.69,181.11680000000001,203.41797500000001,214.01904999999999,{"$f":"+INDEX(D717:AF717,1,aux_pr_ue!$P$2)","v":234.14709999999999},{"$f":"+INDEX(D717:AF717,1,aux_pr_ue!$Q$2)","v":181.11680000000001}]
["Feed Barley2011/01","Feed Barley","2011/01",212.8237,227.32385000000002,165.2653,172.34935000000002,194.10470000000001,214.87096666666667,160.2842,221.36537500000003,251.66670000000002,226.71972727272731,216.2484,null,246.88271666666665,255.38710000000003,160.24155000000002,174.37390000000002,null,null,null,223.0968,214.2647,198.03122500000001,238.32193333333331,151.80340000000001,null,180.5,172.13710000000003,198.96850000000001,216.52740000000003,{"$f":"+INDEX(D718:AF718,1,aux_pr_ue!$P$2)","v":238.32193333333331},{"$f":"+INDEX(D718:AF718,1,aux_pr_ue!$Q$2)","v":172.13710000000003}]
["Feed Barley2010/12","Feed Barley","2010/12",197.60490000000001,211.61960000000002,163.61590000000001,144.69230000000002,183.5463,191.64023333333336,166.09970000000001,199.21772500000003,240.5882,205.59729090909093,202.76366666666669,null,220.41941428571431,234.58065000000002,158.373975,160.39670000000001,null,168.08100000000002,null,211.25,184.5625,175.70240000000001,224.66666666666666,172.40446666666671,null,164.00820000000002,160.36160000000001,187.93440000000001,204.29024000000004,{"$f":"+INDEX(D719:AF719,1,aux_pr_ue!$P$2)","v":224.66666666666666},{"$f":"+INDEX(D719:AF719,1,aux_pr_ue!$Q$2)","v":160.36160000000001}]
["Feed Barley2010/11","Feed Barley","2010/11",179.90770000000001,194.55,159.78115000000003,142.74895000000001,172.06180000000001,178.13844444444447,132.60580000000002,187.21667500000001,208.66666666666666,187.97748181818181,186.09059999999999,null,198.1730714285714,230.3,138.887,153.2773,null,170.6267,null,195.73330000000001,158.7826,150.79872500000002,206.53333333333333,149.00402500000001,null,151.04770000000002,154.34199999999998,177.93900000000002,183.33160000000001,{"$f":"+INDEX(D720:AF720,1,aux_pr_ue!$P$2)","v":206.53333333333333},{"$f":"+INDEX(D720:AF720,1,aux_pr_ue!$Q$2)","v":154.34199999999998}]
["Feed Barley2010/10","Feed Barley","2010/10",174.01770000000002,188.83870000000002,147.12234999999998,140.75945000000002,156.7587,169.67183333333335,140.49549999999999,185.87902499999998,203.05556666666666,182.0182272727273,183.48620000000003,null,188.2555857142857,230,139.68080000000003,151.92490000000001,null,158.70620000000002,null,189.96770000000001,153,151.72042500000001,201.88173333333336,140.03253333333336,null,139.9804,154.36690000000002,175.907175,172.48136666666664,{"$f":"+INDEX(D721:AF721,1,aux_pr_ue!$P$2)","v":201.88173333333336},{"$f":"+INDEX(D721:AF721,1,aux_pr_ue!$Q$2)","v":154.36690000000002}]
["Feed Barley2010/09","Feed Barley","2010/09",165.44710000000001,188.4667,137.20987500000001,131.1765,101.3793,168.49238888888888,127.36960000000001,179.77500000000001,163.83333333333334,176.72102727272727,188.07756666666668,null,183.73238571428573,214.10345000000001,136.75880000000001,142.2045,null,142.19543333333334,null,193.5333,149.19165000000001,140.826975,187.43795,113.052925,null,130.25830000000002,158.58750000000003,179.455975,177.42616666666666,{"$f":"+INDEX(D722:AF722,1,aux_pr_ue!$P$2)","v":187.43795},{"$f":"+INDEX(D722:AF722,1,aux_pr_ue!$Q$2)","v":158.58750000000003}]
["Feed Barley2010/08","Feed Barley","2010/08",145.63140000000001,178.04170000000002,109.84558333333332,112.77735000000001,101.3424,157.70573333333334,116.7137,166.32255000000001,146.11109999999999,165.17734545454545,183.10626666666667,null,165.41431428571428,200.45160000000001,122.97716,130.61180000000002,null,112.5628,null,184.91670000000002,137.57260000000002,122.96797500000001,176.993325,99.414425000000008,null,105.42840000000001,135.42325,null,159.11929999999998,{"$f":"+INDEX(D723:AF723,1,aux_pr_ue!$P$2)","v":176.993325},{"$f":"+INDEX(D723:AF723,1,aux_pr_ue!$Q$2)","v":135.42325}]
["Feed Barley2010/07","Feed Barley","2010/07",117.1837,134.25,89.876083333333341,91.430700000000002,101.3159,117.56333333333333,95.990200000000002,135.98387500000001,117.2222,129.56416363636365,127.286625,null,132.28849999999997,171.67740000000003,96.9983,99.347700000000003,null,92.596766666666667,null,143.3065,116.60294999999999,101.27500000000001,147.61286666666669,83.468450000000004,null,85.950800000000001,94.685500000000005,null,136.38595000000001,{"$f":"+INDEX(D724:AF724,1,aux_pr_ue!$P$2)","v":147.61286666666669},{"$f":"+INDEX(D724:AF724,1,aux_pr_ue!$Q$2)","v":94.685500000000005}]
["Feed Barley2010/06","Feed Barley","2010/06",111.6953,116.91300000000001,89.791080000000008,92.894949999999994,101.5163,105.4941,88.661500000000004,125.58335,114.35556666666666,122.86317272727273,103.54623333333335,null,130.80778000000001,156.5,94.045766666666665,96.856300000000005,null,85.113100000000003,null,121.7167,101.625,100.14307500000001,130.57780000000002,95.072266666666678,null,93.812700000000007,93.916650000000004,109.9855,null,{"$f":"+INDEX(D725:AF725,1,aux_pr_ue!$P$2)","v":130.57780000000002},{"$f":"+INDEX(D725:AF725,1,aux_pr_ue!$Q$2)","v":93.916650000000004}]
["Feed Barley2010/05","Feed Barley","2010/05",111.59780000000001,113.3871,97.786050000000003,85.883300000000006,102.1726,102.94747777777779,93.858500000000006,124.306425,115.73610000000001,124.55333636363638,103.99835000000002,null,133.66108333333332,153.1842,92.628579999999999,101.78750000000001,null,85.680800000000005,null,117.51610000000001,100.625,95.044350000000009,134.56990000000002,99.113433333333333,null,92.472300000000004,92.112899999999996,108.72040000000001,109.465,{"$f":"+INDEX(D726:AF726,1,aux_pr_ue!$P$2)","v":134.56990000000002},{"$f":"+INDEX(D726:AF726,1,aux_pr_ue!$Q$2)","v":92.112899999999996}]
["Feed Barley2010/04","Feed Barley","2010/04",109.73260000000001,106.1,98.143950000000004,89.036100000000005,97.831000000000003,98.743712500000001,94.280600000000007,116.38332500000001,116.89853333333333,123.3540181818182,99.957300000000018,null,130.11398333333332,142.9375,90.284875,94.986200000000011,null,104.5034,null,111.05,100.625,96.855725000000007,128.74446666666668,96.205300000000008,null,90.376000000000005,89.119550000000004,107.40740000000001,98.553740000000005,{"$f":"+INDEX(D727:AF727,1,aux_pr_ue!$P$2)","v":128.74446666666668},{"$f":"+INDEX(D727:AF727,1,aux_pr_ue!$Q$2)","v":89.119550000000004}]
["Feed Barley2010/03","Feed Barley","2010/03",107.34150000000001,103.0806,95.220500000000001,88.110650000000007,94.8904,99.493150000000014,100.3648,113.208325,114.7527,120.07652727272729,94.863650000000007,null,127.73714285714286,141.27420000000001,90.692980000000006,99.892600000000002,null,105.4521,null,106.6965,102.72794999999999,99.130974999999992,122.64513333333336,99.20813333333335,null,87.993800000000007,88.798400000000001,107.3293,92.320660000000004,{"$f":"+INDEX(D728:AF728,1,aux_pr_ue!$P$2)","v":122.64513333333336},{"$f":"+INDEX(D728:AF728,1,aux_pr_ue!$Q$2)","v":88.798400000000001}]
["Feed Barley2010/02","Feed Barley","2010/02",108.6482,105.71430000000001,95.558260000000004,86.330550000000017,95.283100000000005,101.21261000000001,99.501300000000001,114.58037500000002,117.19046666666668,123.95828181818183,96.013999999999996,null,131.07555714285715,141.80355,92.274760000000001,95.156100000000009,null,101.18380000000001,null,108.09790000000001,103.5,99.997200000000007,124.52976666666667,99.551566666666687,null,90.555599999999998,90.214300000000009,107.16730000000001,95.053200000000018,{"$f":"+INDEX(D729:AF729,1,aux_pr_ue!$P$2)","v":124.52976666666667},{"$f":"+INDEX(D729:AF729,1,aux_pr_ue!$Q$2)","v":90.214300000000009}]
["Feed Barley2010/01","Feed Barley","2010/01",110.0729,108.68,93.237980000000007,84.429450000000003,95.960900000000009,102.1109,100.8228,116.76612499999999,116.16130000000003,129.58905454545456,100.08937499999999,null,132.9495285714286,142.09674999999999,90.503450000000001,95.443200000000004,null,103.6087,null,111.27380000000001,103.5,95.906975000000003,128.51609999999999,98.182866666666655,null,81.14070000000001,91.25,105.1357,97.915800000000004,{"$f":"+INDEX(D730:AF730,1,aux_pr_ue!$P$2)","v":128.51609999999999},{"$f":"+INDEX(D730:AF730,1,aux_pr_ue!$Q$2)","v":91.25}]
["Feed Barley2009/12","Feed Barley","2009/12",109.5814,108.28805,91.331339999999997,83.191249999999997,97.256,101.70869,89.897400000000005,116.4113,111.66666666666667,130.91232727272725,100.15260000000001,null,130.03528571428572,142.45159999999998,83.355249999999998,90.213999999999999,null,102.36,null,113.21250000000001,101.14515,91.355900000000005,128.47313333333335,90.446699999999993,null,84.7333,91.330649999999991,103.1139,98.473420000000004,{"$f":"+INDEX(D731:AF731,1,aux_pr_ue!$P$2)","v":128.47313333333335},{"$f":"+INDEX(D731:AF731,1,aux_pr_ue!$Q$2)","v":91.330649999999991}]
["Feed Barley2009/11","Feed Barley","2009/11",107.53500000000001,108.7333,89.300744444444447,80.639200000000002,97.85,99.84275555555557,91.77770000000001,116.88335000000001,108.55556666666666,130.12133636363635,99.990680000000012,null,127.54992857142858,137.57695000000001,82.881860000000003,86.123199999999997,null,93.384050000000002,null,112.81400000000001,98.945850000000007,91.150599999999997,131.32223333333334,81.153200000000012,null,81.91,91.533299999999997,102.22955,98.781720000000007,{"$f":"+INDEX(D732:AF732,1,aux_pr_ue!$P$2)","v":131.32223333333334},{"$f":"+INDEX(D732:AF732,1,aux_pr_ue!$Q$2)","v":91.533299999999997}]
["Feed Barley2009/10","Feed Barley","2009/10",103.504,106.1452,84.493700000000004,78.113799999999998,93.906500000000008,97.48274444444445,92.796599999999998,114.7016,111.66666666666667,126.93612727272726,97.719133333333332,null,122.9042142857143,136.75,80.413260000000008,77.635199999999998,null,93.02655,null,110.4577,95.25,87.6982,125.85133333333334,78.296400000000006,null,83.121900000000011,87.705650000000006,101.31540000000001,94.638750000000016,{"$f":"+INDEX(D733:AF733,1,aux_pr_ue!$P$2)","v":125.85133333333334},{"$f":"+INDEX(D733:AF733,1,aux_pr_ue!$Q$2)","v":87.705650000000006}]
["Feed Barley2009/09","Feed Barley","2009/09",102.48310000000001,102.6,85.270633333333336,79.737549999999999,105.58670000000001,96.576377777777779,94.009900000000002,115.13335000000001,111.66666666666667,127.51260000000002,95.352566666666675,null,121.69904285714286,136.75,77.415159999999986,74.028900000000007,null,90.930333333333351,null,104.5437,94.366649999999993,84.722333333333324,123.19443333333334,78.731700000000004,null,76.887,82.3292,99.608125000000001,96.727699999999999,{"$f":"+INDEX(D734:AF734,1,aux_pr_ue!$P$2)","v":123.19443333333334},{"$f":"+INDEX(D734:AF734,1,aux_pr_ue!$Q$2)","v":82.3292}]
["Feed Barley2009/08","Feed Barley","2009/08",103.79940000000001,105.9032,85.546533333333343,79.546750000000003,109.48610000000001,95.407920000000004,89.332999999999998,115.58065000000002,112.95699999999999,130.82636363636365,96.896475000000009,null,123.92135714285715,136.33064999999999,79.497960000000006,78.194800000000001,null,91.262333333333345,null,106.4726,94.75,89.570400000000006,127.93548000000001,80.293133333333344,null,75.140600000000006,83.001249999999999,null,95.378860000000003,{"$f":"+INDEX(D735:AF735,1,aux_pr_ue!$P$2)","v":127.93548000000001},{"$f":"+INDEX(D735:AF735,1,aux_pr_ue!$Q$2)","v":83.001249999999999}]
["Feed Barley2009/07","Feed Barley","2009/07",109.6721,109.58330000000001,92.967033333333347,90.472750000000005,109.4585,97.948137500000016,90.0822,119.75810000000001,111.98926666666667,130.89698181818184,100.79633333333334,null,124.6593857142857,140.71775000000002,102.35295000000001,91.207700000000003,null,91.872466666666682,null,113.6297,97.70535000000001,94.260800000000017,127.78066000000001,82.844433333333328,null,83.56,95.2,null,102.04150000000001,{"$f":"+INDEX(D736:AF736,1,aux_pr_ue!$P$2)","v":127.78066000000001},{"$f":"+INDEX(D736:AF736,1,aux_pr_ue!$Q$2)","v":95.2}]
["Feed Barley2009/06","Feed Barley","2009/06",120.60130000000001,123.8167,101.39076,96.410050000000012,111.1294,113.38518888888889,101.5556,128.14167500000002,126.66666666666667,137.40537272727272,110.04026000000002,null,128.39423333333335,156.76665000000003,103.97642500000001,94.055199999999999,null,97.033999999999992,null,125.7,110.6848,98.792700000000011,139.349975,100.03953333333334,null,94.830600000000004,99.641500000000008,null,102.075,{"$f":"+INDEX(D737:AF737,1,aux_pr_ue!$P$2)","v":139.349975},{"$f":"+INDEX(D737:AF737,1,aux_pr_ue!$Q$2)","v":99.641500000000008}]
["Feed Barley2009/05","Feed Barley","2009/05",118.98280000000001,121.45160000000001,94.590400000000002,93.867649999999998,112.7993,107.639475,93.6982,124.31450000000001,126.66666666666667,132.9994090909091,114.11940000000001,null,126.4559,149.35485,105.32343333333334,93.092600000000004,null,117.0158,null,129.10679999999999,108.8809,96.136366666666675,139.3656,105.80313333333334,null,93.126100000000008,101.04,113.0557,111.93545,{"$f":"+INDEX(D738:AF738,1,aux_pr_ue!$P$2)","v":139.3656},{"$f":"+INDEX(D738:AF738,1,aux_pr_ue!$Q$2)","v":101.04}]
["Feed Barley2009/04","Feed Barley","2009/04",114.08410000000001,113.83330000000001,93.397400000000005,94.029600000000002,103.29870000000001,105.14278999999999,113.61980000000001,120.51665,132.1739,125.90708181818181,104.78418000000002,null,121.33528333333334,157.38335000000001,106.59674999999999,90.022500000000008,null,96.0321,null,119.14370000000001,106.75,97.625650000000007,132.90416666666667,104.14256666666667,null,89.603500000000011,99.081900000000005,107.713875,109.15453333333335,{"$f":"+INDEX(D739:AF739,1,aux_pr_ue!$P$2)","v":132.90416666666667},{"$f":"+INDEX(D739:AF739,1,aux_pr_ue!$Q$2)","v":99.081900000000005}]
["Feed Barley2009/03","Feed Barley","2009/03",116.9731,116.129,94.590400000000002,102.46065,106.2711,108.19633333333331,124.66550000000001,124.87095000000001,139.35483333333335,127.06520909090909,107.23162500000001,null,125.73129999999999,159.5,112.38623333333334,97.124200000000002,null,94.433500000000009,null,118.40740000000001,108.25,98.369166666666672,134.73116666666667,102.89726666666667,null,87.156500000000008,99.784199999999998,113.39012500000001,112.19203999999999,{"$f":"+INDEX(D740:AF740,1,aux_pr_ue!$P$2)","v":134.73116666666667},{"$f":"+INDEX(D740:AF740,1,aux_pr_ue!$Q$2)","v":99.784199999999998}]
["Feed Barley2009/02","Feed Barley","2009/02",120.066,126.46430000000001,92.581800000000001,87.393699999999995,111.19450000000001,114.18115,107.34610000000001,126.44640000000001,140,134.92146363636365,114.801625,null,133.17686666666665,157.17855000000003,102.79132500000001,95.143000000000001,null,87.862300000000005,null,124.09480000000001,110.58930000000001,92.023600000000016,144.16665,101.6855,null,85.301000000000002,99.567499999999995,114.57055000000001,118.29835,{"$f":"+INDEX(D741:AF741,1,aux_pr_ue!$P$2)","v":144.16665},{"$f":"+INDEX(D741:AF741,1,aux_pr_ue!$Q$2)","v":99.567499999999995}]
["Feed Barley2009/01","Feed Barley","2009/01",118.43680000000001,128.5,93.951300000000003,90.371750000000006,111.59780000000001,112.00572222222223,117.7903,125.23384999999999,133.97850000000003,133.49246363636365,116.16827499999999,null,130.63321666666667,150.30644999999998,118.67865,105.9431,null,89.631500000000003,null,126.39030000000001,113.25,93.779900000000012,143.24195,91.282566666666682,null,90.73830000000001,99.785449999999997,114.22964999999999,113.2521,{"$f":"+INDEX(D742:AF742,1,aux_pr_ue!$P$2)","v":143.24195},{"$f":"+INDEX(D742:AF742,1,aux_pr_ue!$Q$2)","v":99.785449999999997}]
["Feed Barley2008/12","Feed Barley","2008/12",118.45740000000001,116.07995,97.146900000000002,93.410449999999997,104.0908,107.7886,117.00280000000001,124.44352500000001,133.33333333333334,128.90040909090911,105.8954,null,130.66390000000001,149.5,98.506174999999999,101.97710000000001,null,92.857700000000008,null,120.5882,125,95.616066666666669,136.4194,109.27736666666668,null,107.20100000000001,101.45275000000001,109.00750000000001,102.30476000000002,{"$f":"+INDEX(D743:AF743,1,aux_pr_ue!$P$2)","v":136.4194},{"$f":"+INDEX(D743:AF743,1,aux_pr_ue!$Q$2)","v":101.45275000000001}]
["Feed Barley2008/11","Feed Barley","2008/11",124.7419,124.7667,116.67683333333333,104.15445,113.5305,115.64383333333333,124.0261,133.183325,139.72223333333332,138.70199999999997,112.81383333333333,null,144.68686666666667,161.92665,109.72470000000001,115.51300000000001,null,89.438500000000005,null,127.4333,128.75,106.08363333333334,152.5333,109.95393333333334,null,100.8519,108.37120000000002,117.0314,111.81933999999998,{"$f":"+INDEX(D744:AF744,1,aux_pr_ue!$P$2)","v":152.5333},{"$f":"+INDEX(D744:AF744,1,aux_pr_ue!$Q$2)","v":108.37120000000002}]
["Feed Barley2008/10","Feed Barley","2008/10",135.6953,134.03229999999999,123.66576666666667,115.68705,126.8493,125.70491111111112,118.36280000000001,144.73387499999998,158.9247,150.25840909090911,126.93215000000001,null,148.138475,207.68520000000001,116.78414000000001,122.60680000000001,null,91.150700000000001,null,138.1935,138.67189999999999,123.13630000000001,162.7097,127.81063333333334,null,111.43210000000001,116.41775000000001,131.76807500000001,120.73489999999998,{"$f":"+INDEX(D745:AF745,1,aux_pr_ue!$P$2)","v":162.7097},{"$f":"+INDEX(D745:AF745,1,aux_pr_ue!$Q$2)","v":116.41775000000001}]
["Feed Barley2008/09","Feed Barley","2008/09",147.9666,153.0333,125.77970000000001,127.66275000000002,132.08580000000001,144.29930000000002,121.23360000000001,155.86670000000001,162,163.73400000000004,146.65306666666669,null,165.78110000000001,216.53845000000001,120.99957999999999,123.31330000000001,null,124.4966,null,149.9667,150.2989,132.29176666666669,175.82845,130.05656666666667,null,115.87610000000001,135.41669999999999,147.00480000000002,137.39388333333332,{"$f":"+INDEX(D746:AF746,1,aux_pr_ue!$P$2)","v":175.82845},{"$f":"+INDEX(D746:AF746,1,aux_pr_ue!$Q$2)","v":135.41669999999999}]
["Feed Barley2008/08","Feed Barley","2008/08",158.94840000000002,169.0968,121.34293333333335,141.1508,null,155.85827499999999,131.71530000000001,172.59674999999999,169.78493333333333,170.96213636363638,157.21441666666666,null,181.56440000000001,228.04139999999998,132.60256000000001,138.51179999999999,null,131.45830000000001,null,170.8065,156.90325000000001,155.30997500000001,193.33333333333334,137.81736666666669,null,124.76440000000001,151.23624999999998,166.139475,148.04599999999999,{"$f":"+INDEX(D747:AF747,1,aux_pr_ue!$P$2)","v":193.33333333333334},{"$f":"+INDEX(D747:AF747,1,aux_pr_ue!$Q$2)","v":151.23624999999998}]
["Feed Barley2008/07","Feed Barley","2008/07",177.5027,172.70590000000001,132.39563333333334,177.05100000000002,205.12790000000001,170.65328888888888,125.0318,188.5,180.55553333333333,194.80594545454548,158.07748000000001,null,185.27861428571433,234.1704,168.82470000000001,170.8263,null,142.03603333333334,null,181.16130000000001,162.22579999999999,187.45342500000004,199.35483333333332,139.76840000000001,null,154.83070000000001,160.125,null,162.30446000000001,{"$f":"+INDEX(D748:AF748,1,aux_pr_ue!$P$2)","v":199.35483333333332},{"$f":"+INDEX(D748:AF748,1,aux_pr_ue!$Q$2)","v":160.125}]
["Feed Barley2008/06","Feed Barley","2008/06",194.37430000000001,190.76670000000001,null,211.4016,203.9769,183.51685000000001,198.12610000000001,191.99167500000001,225.27776666666668,196.30639090909088,169.6645,null,196.06,245.51280000000006,176.167025,184.2833,null,143.49263333333334,null,194.83330000000001,198.26085,214.27056666666667,211.16665,166.68003333333334,null,200.4753,160.17500000000001,183.29730000000001,176.71690000000001,{"$f":"+INDEX(D749:AF749,1,aux_pr_ue!$P$2)","v":211.16665},{"$f":"+INDEX(D749:AF749,1,aux_pr_ue!$Q$2)","v":160.17500000000001}]
["Feed Barley2008/05","Feed Barley","2008/05",201.86280000000002,190.88510000000002,235.1979,220.45190000000002,200.18200000000002,188.57328750000002,168.97810000000001,203.54837500000002,228.33333333333334,191.01863636363635,183.37750000000003,null,232.90450000000001,259.45,182.51535000000001,193.114,null,151.1319,null,203.8065,218.04165,229.93335000000002,235.96770000000001,205.72406666666666,null,214.16080000000002,163.15320000000003,194.3691,192.92653999999999,{"$f":"+INDEX(D750:AF750,1,aux_pr_ue!$P$2)","v":235.96770000000001},{"$f":"+INDEX(D750:AF750,1,aux_pr_ue!$Q$2)","v":163.15320000000003}]
["Feed Barley2008/04","Feed Barley","2008/04",216.97800000000001,202.86960000000002,235.1979,234.49665000000002,214.73080000000002,209.97685555555555,191.0395,220.02502500000003,228.33333333333334,210.74144545454547,187.34168,null,242.77160000000001,258.161,202.09059999999999,198.32300000000001,null,201.2345,null,207.26670000000001,232.81665000000001,237.34970000000004,253.16670000000002,205.70950000000002,null,217.72400000000002,180.15000000000003,224.57960000000003,202.75125,{"$f":"+INDEX(D751:AF751,1,aux_pr_ue!$P$2)","v":253.16670000000002},{"$f":"+INDEX(D751:AF751,1,aux_pr_ue!$Q$2)","v":180.15000000000003}]
["Feed Barley2008/03","Feed Barley","2008/03",224.8186,221.1935,235.1979,229.04660000000001,226.70230000000001,225.98522499999999,193.98520000000002,230.967725,228.33333333333334,218.60595454545455,207.83072500000003,null,250.54621428571429,244.66560000000001,178.35830000000001,196.73330000000001,null,212.4751,null,225.47500000000002,240.70835,240.46826666666666,263.7903,209.60806666666667,null,228.8622,196.41770000000002,230.22967499999999,214.92458333333335,{"$f":"+INDEX(D752:AF752,1,aux_pr_ue!$P$2)","v":263.7903},{"$f":"+INDEX(D752:AF752,1,aux_pr_ue!$Q$2)","v":196.41770000000002}]
["Feed Barley2008/02","Feed Barley","2008/02",225.49720000000002,222.4828,235.1979,219.76785000000001,228.3,231.614,195.78730000000002,233.08622500000001,228.33333333333334,222.89382727272732,207.87667500000001,null,254.81045000000003,241.06966666666668,183.59070000000003,194.12130000000002,null,208.59220000000002,null,233.74550000000002,241.5,215.32657500000002,266.81030000000004,203.68206666666666,null,202.27250000000001,195.97239999999999,228.72602500000002,219.14476666666667,{"$f":"+INDEX(D753:AF753,1,aux_pr_ue!$P$2)","v":266.81030000000004},{"$f":"+INDEX(D753:AF753,1,aux_pr_ue!$Q$2)","v":195.97239999999999}]
["Feed Barley2008/01","Feed Barley","2008/01",227.63170000000002,239.73020000000002,235.1979,207.56395000000001,232.76900000000001,235.82176666666666,182.86060000000001,242.29310000000001,226.39783333333332,235.15213636363634,222.71487500000001,null,257.14446666666669,234.65923333333333,181.95506666666665,198.07580000000002,null,208.31480000000002,null,243.7517,237.95690000000002,220.3168,274.35480000000001,194.43196666666668,null,190.2953,188.46355,222.11430000000001,222.66813999999999,{"$f":"+INDEX(D754:AF754,1,aux_pr_ue!$P$2)","v":274.35480000000001},{"$f":"+INDEX(D754:AF754,1,aux_pr_ue!$Q$2)","v":188.46355}]
["Feed Barley2007/12","Feed Barley","2007/12",223.12640000000002,231.48795000000001,229.5933,215.63420000000002,235.41150000000002,225.24247142857143,191.286,238.25002500000002,221.31943333333334,223.40520000000004,230.43038333333334,null,246.05231666666668,231.37126666666668,181.0187,192.50550000000001,null,227.0368,null,244.00790000000001,231.75,216.8809,268.77420000000001,204.22563333333335,null,186.0111,187.10970000000003,226.70005,229.99805000000001,{"$f":"+INDEX(D755:AF755,1,aux_pr_ue!$P$2)","v":268.77420000000001},{"$f":"+INDEX(D755:AF755,1,aux_pr_ue!$Q$2)","v":187.10970000000003}]
["Feed Barley2007/11","Feed Barley","2007/11",219.95480000000001,230.4333,233.91964999999999,200.1798,230.07160000000002,222.98897142857143,195.65480000000002,232.18332500000002,218.44443333333334,217.09227272727276,218.54833333333332,null,245.22041666666667,244.10396666666668,177.38976,200.46110000000002,null,220.33670000000001,null,234.47730000000001,231.86664999999999,202.14952499999998,254.83330000000001,203.89410000000001,null,181.56140000000002,196.7,228.64497499999999,209.42245000000003,{"$f":"+INDEX(D756:AF756,1,aux_pr_ue!$P$2)","v":254.83330000000001},{"$f":"+INDEX(D756:AF756,1,aux_pr_ue!$Q$2)","v":196.7}]
["Feed Barley2007/10","Feed Barley","2007/10",223.5437,246.7097,199.40690000000001,192.40865000000002,242.04130000000001,229.71974,180.422,237.58870000000002,210.81719999999999,230.49076363636368,242.65794,null,245.91376666666667,237.67453333333333,170.70666,206.2141,null,231.28020000000001,null,252.1087,231.3871,201.43652500000002,221.66665,159.511,null,176.54160000000002,199.726,238.74767500000002,235.06285000000003,{"$f":"+INDEX(D757:AF757,1,aux_pr_ue!$P$2)","v":221.66665},{"$f":"+INDEX(D757:AF757,1,aux_pr_ue!$Q$2)","v":199.726}]
["Feed Barley2007/09","Feed Barley","2007/09",212.80120000000002,254.08330000000001,177.67665,165.65875,211.27470000000002,226.5348888888889,168.7593,235.916675,192.75553333333335,218.27112727272731,256.69990000000001,null,241.50422857142857,225.5934,166.16046,185.32400000000001,null,230.63670000000002,null,261.9033,216.61664999999999,188.516425,227.92,137.71303333333333,null,159.60120000000001,186.57320000000001,237.47140000000002,238.94986666666668,{"$f":"+INDEX(D758:AF758,1,aux_pr_ue!$P$2)","v":227.92},{"$f":"+INDEX(D758:AF758,1,aux_pr_ue!$Q$2)","v":186.57320000000001}]
["Feed Barley2007/08","Feed Barley","2007/08",185.5284,214.03230000000002,171.28540000000001,142.41820000000001,null,198.40966,153.29230000000001,207.04840000000002,185.13043333333334,176.07181818181823,205.89922857142861,null,209.1404,216.66726666666668,154.75784000000002,147.52680000000001,null,152.28969999999998,null,231.36680000000001,182.0729,152.95397500000001,197.5,155.14160000000001,null,144.2345,160.8254,null,214.8245,{"$f":"+INDEX(D759:AF759,1,aux_pr_ue!$P$2)","v":197.5},{"$f":"+INDEX(D759:AF759,1,aux_pr_ue!$Q$2)","v":160.8254}]
["Feed Barley2007/07","Feed Barley","2007/07",165.11020000000002,181.1361,159.35235,125.8964,151.85509999999999,163.91954000000001,140.60560000000001,185.70967500000003,159.65333333333334,166.80266363636363,178.50298333333333,null,183.79242857142859,204.07396666666668,132.93707499999999,133.13830000000002,null,143.66035000000002,null,192.56030000000001,154.38395,135.565,190.07170000000002,150.89620000000002,null,131.3929,122.45,null,171.7449,{"$f":"+INDEX(D760:AF760,1,aux_pr_ue!$P$2)","v":190.07170000000002},{"$f":"+INDEX(D760:AF760,1,aux_pr_ue!$Q$2)","v":122.45}]
["Feed Barley2007/06","Feed Barley","2007/06",157.18340000000001,145.4358666666667,142.78045000000003,118.14970000000001,149.53140000000002,146.83458999999999,134.25300000000001,171.9,159.13723333333334,169.66813636363636,160.23445714285714,null,164.74,189.45960000000002,141.24914999999999,137.3262,null,133.90980000000002,null,171.5367,147.75,145.14510000000001,186.86670000000001,156.56553333333338,null,113.268,121.07835,null,158.35415,{"$f":"+INDEX(D761:AF761,1,aux_pr_ue!$P$2)","v":186.86670000000001},{"$f":"+INDEX(D761:AF761,1,aux_pr_ue!$Q$2)","v":121.07835}]
["Feed Barley2007/05","Feed Barley","2007/05",151.77620000000002,142.25153333333333,null,120.0608,143.53110000000001,142.25824,138.16050000000001,168.290325,172.52173333333334,172.35136363636363,141.59130000000002,null,169.49992499999999,183.81540000000004,132.53825000000001,142.56120000000001,null,127.77500000000001,null,156.88290000000001,147.70159999999998,149.36745000000002,179.2,157.83346666666668,null,126.19930000000001,118.6653,136.52250000000004,144.84873333333334,{"$f":"+INDEX(D762:AF762,1,aux_pr_ue!$P$2)","v":179.2},{"$f":"+INDEX(D762:AF762,1,aux_pr_ue!$Q$2)","v":118.6653}]
["Feed Barley2007/04","Feed Barley","2007/04",151.5,140.10433333333336,null,118.17310000000001,139.56390000000002,138.57402999999999,147.73740000000001,166.88332500000001,172.43590000000003,159.85167272727273,139.08132000000001,null,166.23855,185.02790000000002,140.44315,143.10900000000001,null,129.7467,null,156.3135,145.25,153.82333333333335,171.08333333333334,176.46530000000001,null,121.43740000000001,116.13,133.75145000000003,143.49403333333336,{"$f":"+INDEX(D763:AF763,1,aux_pr_ue!$P$2)","v":171.08333333333334},{"$f":"+INDEX(D763:AF763,1,aux_pr_ue!$Q$2)","v":116.13}]
["Feed Barley2007/03","Feed Barley","2007/03",149.9718,137.15056666666666,null,117.86975000000001,142.27100000000002,139.6402875,144.09290000000001,166.74195,169.16666666666666,157.27294545454549,137.60865000000001,null,170.58353333333335,187.50596666666664,127.64760000000001,146.53560000000002,null,null,null,151.5926,146.27420000000001,150.46020000000001,174.27776666666668,151.90195,null,105.24480000000001,117.7758,130.890175,143.25471999999999,{"$f":"+INDEX(D764:AF764,1,aux_pr_ue!$P$2)","v":174.27776666666668},{"$f":"+INDEX(D764:AF764,1,aux_pr_ue!$Q$2)","v":117.7758}]
["Feed Barley2007/02","Feed Barley","2007/02",150.19720000000001,141.08333333333334,123.9902,118.52030000000001,146.22470000000001,143.86574444444443,141.2946,167.0625,159.33333333333334,157.37590909090906,139.770825,null,172.40861666666669,188.71123333333335,119.05182500000001,137.6781,null,null,null,152.77000000000001,144.9375,149.02057500000001,172.3125,154.25206666666668,null,102.8379,119.52500000000001,131.55852500000003,147.44973333333334,{"$f":"+INDEX(D765:AF765,1,aux_pr_ue!$P$2)","v":172.3125},{"$f":"+INDEX(D765:AF765,1,aux_pr_ue!$Q$2)","v":119.52500000000001}]
["Feed Barley2007/01","Feed Barley","2007/01",146.6337,144.91666666666666,null,109.9314,143.89570000000001,140.60396,119.1152,167.5968,158.875,153.20110000000003,143.14315000000002,null,169.8304,186.79353333333336,109.39057500000001,132.38150000000002,null,null,null,155.2045,139.77455000000003,144.04385000000002,175.41665,97.177199999999999,null,110.27680000000001,119.49675000000001,132.32647499999999,148.89207999999999,{"$f":"+INDEX(D766:AF766,1,aux_pr_ue!$P$2)","v":175.41665},{"$f":"+INDEX(D766:AF766,1,aux_pr_ue!$Q$2)","v":119.49675000000001}]
["Feed Barley2006/12","Feed Barley","2006/12",145.46080000000001,144.02516666666668,null,103.47315,139.9401,137.75878888888892,116.88300000000001,164.93549999999999,153.50003333333336,150.15742727272729,144.56763333333333,null,164.54858333333334,184.54460000000003,117.44438,128.36150000000001,null,null,null,155.62290000000002,130.54250000000002,129.58345,172.80555000000001,null,null,99.63900000000001,119.9161,132.505425,147.64750000000001,{"$f":"+INDEX(D767:AF767,1,aux_pr_ue!$P$2)","v":172.80555000000001},{"$f":"+INDEX(D767:AF767,1,aux_pr_ue!$Q$2)","v":119.9161}]
["Feed Barley2006/11","Feed Barley","2006/11",139.10210000000001,142.39610000000002,null,96.865750000000006,135.61060000000001,131.21518,108.55840000000001,155.35000000000002,143.66666666666666,146.07754545454546,144.54480000000001,null,158.40843333333333,168.61043333333333,106.7547,116.72940000000001,null,108.8344,null,151.4367,124.34925000000001,117.78507500000001,168.60235,null,null,108.2008,117.05950000000001,135.28952500000003,143.26035000000002,{"$f":"+INDEX(D768:AF768,1,aux_pr_ue!$P$2)","v":168.60235},{"$f":"+INDEX(D768:AF768,1,aux_pr_ue!$Q$2)","v":117.05950000000001}]
["Feed Barley2006/10","Feed Barley","2006/10",128.4308,131.75266666666667,null,94.409450000000007,130.11320000000001,121.51815999999999,100.432,148.169375,123.22583333333334,135.82438181818182,136.97916666666666,null,147.88688333333334,151.41076666666666,101.64993999999999,106.45400000000001,null,96.3523,null,142.68940000000001,116.7,109.467,139.36000000000001,null,null,98.555300000000003,109.83565000000002,125.432225,137.71876666666668,{"$f":"+INDEX(D769:AF769,1,aux_pr_ue!$P$2)","v":139.36000000000001},{"$f":"+INDEX(D769:AF769,1,aux_pr_ue!$Q$2)","v":109.83565000000002}]
["Feed Barley2006/09","Feed Barley","2006/09",117.0368,121.58890000000001,null,89.361350000000002,null,111.37718,96.706500000000005,136.416675,113.92753333333333,122.48181818181818,119.75512000000001,null,134.99317142857143,142.70900000000003,93.708680000000015,92.94680000000001,null,84.121250000000003,null,132.10330000000002,115.31665000000001,100.04375,136.104175,null,null,88.510300000000001,102.1987,116.8075,121.19900000000003,{"$f":"+INDEX(D770:AF770,1,aux_pr_ue!$P$2)","v":136.104175},{"$f":"+INDEX(D770:AF770,1,aux_pr_ue!$Q$2)","v":102.1987}]
["Feed Barley2006/08","Feed Barley","2006/08",109.86070000000001,110.35076666666669,null,88.839849999999998,103.87220000000001,105.12033,98.203299999999999,128.58870000000002,107.94113333333333,118.71490909090909,105.20864000000002,null,123.93612857142857,140.30893333333333,88.009740000000008,89.120699999999999,null,83.682166666666674,null,125.6571,110.06855,90.787724999999995,128.07920000000001,null,null,83.469000000000008,100.68335,null,104.40528000000002,{"$f":"+INDEX(D771:AF771,1,aux_pr_ue!$P$2)","v":128.07920000000001},{"$f":"+INDEX(D771:AF771,1,aux_pr_ue!$Q$2)","v":100.68335}]
["Feed Barley2006/07","Feed Barley","2006/07",110.50420000000001,109.5,null,89.146950000000004,103.89150000000001,97.163820000000015,null,127.427425,111.10753333333332,118.28856363636363,99.133740000000017,null,122.50095714285715,149.43210000000002,87.420950000000005,98.970700000000008,null,82.202700000000007,null,114.6571,105.15563333333334,89.533050000000003,126.89246666666668,null,null,81.732200000000006,104.5,null,104.05429999999998,{"$f":"+INDEX(D772:AF772,1,aux_pr_ue!$P$2)","v":126.89246666666668},{"$f":"+INDEX(D772:AF772,1,aux_pr_ue!$Q$2)","v":104.5}]
["Feed Barley2006/06","Feed Barley","2006/06",114.43040000000001,114.4333,null,89.609000000000009,103.93560000000001,106.73115000000001,96.075200000000009,129.43332500000002,133.08890000000002,120.70778181818183,103.35733333333333,null,121.76739999999999,153.08723333333333,92.929259999999999,98.440899999999999,null,null,null,120.1396,109,92.690925000000007,126.11992500000001,null,null,84.4893,104.5,106.64087500000001,118.50980000000001,{"$f":"+INDEX(D773:AF773,1,aux_pr_ue!$P$2)","v":126.11992500000001},{"$f":"+INDEX(D773:AF773,1,aux_pr_ue!$Q$2)","v":104.5}]
["Feed Barley2006/05","Feed Barley","2006/05",114.5347,108.60213333333336,null,89.573550000000012,102.4624,108.15597,95.46990000000001,129.7097,128.33333333333334,122.73498181818182,103.7621,null,133.80280000000002,154.21393333333336,90.997800000000012,99.180800000000005,null,90.775500000000008,null,122.27,105.75,97.821674999999999,119.6855,null,null,87.79310000000001,103.48390000000001,105.539075,117.28094000000002,{"$f":"+INDEX(D774:AF774,1,aux_pr_ue!$P$2)","v":119.6855},{"$f":"+INDEX(D774:AF774,1,aux_pr_ue!$Q$2)","v":103.48390000000001}]
["Feed Barley2006/04","Feed Barley","2006/04",113.83620000000001,106.67956666666667,null,86.733850000000004,101.18130000000001,105.23446000000001,92.9071,128.51667500000002,127.33333333333333,127.47660909090909,102.38404285714286,null,131.87584999999999,156.29426666666669,91.240875000000017,99.907300000000006,null,82.343950000000007,null,121.2367,105.55000000000001,93.153533333333328,124.21870000000001,null,null,83.068300000000008,100.25830000000001,105.876125,111.93322500000001,{"$f":"+INDEX(D775:AF775,1,aux_pr_ue!$P$2)","v":124.21870000000001},{"$f":"+INDEX(D775:AF775,1,aux_pr_ue!$Q$2)","v":100.25830000000001}]
["Feed Barley2006/03","Feed Barley","2006/03",114.99300000000001,105.30106666666666,null,86.081550000000007,101.667,104.01644000000002,96.917300000000012,129.05645000000001,127.33333333333333,134.96560909090908,103.38852857142858,null,133.37253333333334,156.99913333333336,90.562024999999991,94.835599999999999,null,77.243549999999999,null,118.83450000000001,104.9597,93.304850000000002,130.24190000000002,null,null,80.41340000000001,99,105.873075,106.45695000000001,{"$f":"+INDEX(D776:AF776,1,aux_pr_ue!$P$2)","v":130.24190000000002},{"$f":"+INDEX(D776:AF776,1,aux_pr_ue!$Q$2)","v":99}]
["Feed Barley2006/02","Feed Barley","2006/02",114.60520000000001,106.46826666666668,null,85.251000000000005,101.82140000000001,103.90894,93.03840000000001,129.66964999999999,127.33333333333333,137.99681818181821,104.28192857142857,null,135.02181666666667,157.11083333333332,89.729574999999997,90.610700000000008,null,86.067333333333337,null,118.16290000000001,102.07145,94.762000000000015,132.82140000000001,null,null,76.734200000000001,99,106.60710000000002,107.00845,{"$f":"+INDEX(D777:AF777,1,aux_pr_ue!$P$2)","v":132.82140000000001},{"$f":"+INDEX(D777:AF777,1,aux_pr_ue!$Q$2)","v":99}]
["Feed Barley2006/01","Feed Barley","2006/01",116.57400000000001,107.7475,null,81.334249999999997,102.7911,103.27111000000002,97.965599999999995,128.23385000000002,127.33333333333333,141.09219090909093,104.10612857142857,null,135.20908333333333,156.83786666666666,84.168450000000007,91.570400000000006,null,84.961533333333321,null,118.52930000000001,101.75,87.535975000000008,135.62900000000002,null,null,75.396299999999997,98.854800000000012,106.81265,106.24400000000001,{"$f":"+INDEX(D778:AF778,1,aux_pr_ue!$P$2)","v":135.62900000000002},{"$f":"+INDEX(D778:AF778,1,aux_pr_ue!$Q$2)","v":98.854800000000012}]
["Feed Barley2005/12","Feed Barley","2005/12",112.96950000000001,114,null,80.322000000000003,103.31920000000001,95.901336363636361,95.621133333333333,126.052075,127.91663333333334,140.96765454545456,104.93108571428573,null,132.55801666666665,156.75033333333337,82.46942,89.056300000000007,null,83.167550000000006,null,120.27,101.75,87.055175000000006,139.04170000000002,null,null,76.6387,98.936550000000011,105.47915000000002,106.63354,{"$f":"+INDEX(D779:AF779,1,aux_pr_ue!$P$2)","v":139.04170000000002},{"$f":"+INDEX(D779:AF779,1,aux_pr_ue!$Q$2)","v":98.936550000000011}]
["Feed Barley2005/11","Feed Barley","2005/11",110.8858,113.72499999999999,null,80.361850000000004,103.21900000000001,100.76550999999999,90.507099999999994,124.625,128.13333333333333,139.79892727272727,104.54574285714286,null,127.94613333333335,139.49420000000001,80.191360000000003,87.271200000000007,null,80.6096,null,119.37,101.28985,81.117350000000002,136.9522,null,null,71.457800000000006,96.977500000000006,104.08585000000001,104.17738333333334,{"$f":"+INDEX(D780:AF780,1,aux_pr_ue!$P$2)","v":136.9522},{"$f":"+INDEX(D780:AF780,1,aux_pr_ue!$Q$2)","v":96.977500000000006}]
["Feed Barley2005/10","Feed Barley","2005/10",110.41430000000001,111.1935,null,78.490299999999991,102.41130000000001,99.565629999999999,89.891200000000012,123.322575,124.49463333333335,137.79371818181821,103.21275714285716,null,124.67720000000001,139.58337500000002,79.273319999999998,84.493400000000008,null,77.584833333333336,null,117.2539,97.870949999999993,84.9589,128.3871,null,null,70.73790000000001,95.905799999999999,105.85785000000001,103.03698,{"$f":"+INDEX(D781:AF781,1,aux_pr_ue!$P$2)","v":128.3871},{"$f":"+INDEX(D781:AF781,1,aux_pr_ue!$Q$2)","v":95.905799999999999}]
["Feed Barley2005/09","Feed Barley","2005/09",109.2702,110.9,null,76.582400000000007,101.70960000000001,98.285188888888882,89.496466666666677,120.63332500000001,124.02903333333335,137.61410000000001,102.59841428571428,null,118.84904285714285,139.62870000000001,78.478279999999998,84.504800000000003,null,77.411566666666673,null,115.53670000000001,95.300000000000011,88.707500000000024,128.23335,null,null,66.613500000000002,95.432600000000008,106.64420000000001,100.75092000000001,{"$f":"+INDEX(D782:AF782,1,aux_pr_ue!$P$2)","v":128.23335},{"$f":"+INDEX(D782:AF782,1,aux_pr_ue!$Q$2)","v":95.432600000000008}]
["Feed Barley2005/08","Feed Barley","2005/08",108.9526,110.03230000000001,null,76.066249999999997,null,97.011380000000003,84.814433333333341,117.92740000000001,123.45833333333333,137.07638181818183,103.45482000000001,null,116.7653,139.55760000000001,79.755260000000021,83.008800000000008,null,74.798199999999994,null,116.14100000000001,94.677400000000006,76.741350000000011,125.9516,null,null,70.122500000000002,95.375,106.55992500000002,104.15287142857142,{"$f":"+INDEX(D783:AF783,1,aux_pr_ue!$P$2)","v":125.9516},{"$f":"+INDEX(D783:AF783,1,aux_pr_ue!$Q$2)","v":95.375}]
["Feed Barley2005/07","Feed Barley","2005/07",113.1969,108,null,77.378950000000003,null,95.842560000000006,null,119.30647500000001,122.04303333333333,138.52069090909092,103.02760000000001,null,120.5389857142857,139.44445000000002,84.780749999999998,86.061800000000005,null,78.216799999999992,null,113.56410000000001,95.911750000000012,79.055025000000001,123.66666666666667,null,null,76.252400000000009,101,null,103.46521666666666,{"$f":"+INDEX(D784:AF784,1,aux_pr_ue!$P$2)","v":123.66666666666667},{"$f":"+INDEX(D784:AF784,1,aux_pr_ue!$Q$2)","v":101}]
["Feed Barley2005/06","Feed Barley","2005/06",110.54600000000001,114.58620000000001,null,81.200299999999999,109.92,102.36850000000001,87.399200000000008,116.64165,118.33333333333333,136.13578181818184,105.68532857142857,null,120.49508571428571,139.3433,84.341425000000001,90.84320000000001,null,81.315899999999999,null,120.41330000000001,101.83335,88.223200000000006,129.83335,null,null,74.094400000000007,101,102.86370000000001,97.54487499999999,{"$f":"+INDEX(D785:AF785,1,aux_pr_ue!$P$2)","v":129.83335},{"$f":"+INDEX(D785:AF785,1,aux_pr_ue!$Q$2)","v":101}]
["Feed Barley2005/05","Feed Barley","2005/05",111.0993,112.3871,null,81.397000000000006,107.20280000000001,103.87191,89.124800000000008,113.54840000000002,118.33333333333333,127.00979090909094,104.24721428571429,null,131.45519999999999,142.98869999999999,83.806066666666666,90.097200000000001,null,null,null,120.28580000000001,103.82,88.759024999999994,131.82259999999999,null,null,82.535300000000007,101,102.8395,107.40418333333334,{"$f":"+INDEX(D786:AF786,1,aux_pr_ue!$P$2)","v":131.82259999999999},{"$f":"+INDEX(D786:AF786,1,aux_pr_ue!$Q$2)","v":101}]
["Feed Barley2005/04","Feed Barley","2005/04",109.73150000000001,111.75,null,81.463300000000004,105.1914,103.80534,95.484000000000009,113.5,118.33333333333333,122.21893636363637,101.28043333333335,null,133.56666666666666,153.51580000000001,83.689466666666675,94.172899999999998,null,82.164749999999998,null,118.1867,103.75,91.873325000000008,131.48330000000001,null,null,81.712600000000009,101,102.84400000000001,107.83152857142856,{"$f":"+INDEX(D787:AF787,1,aux_pr_ue!$P$2)","v":131.48330000000001},{"$f":"+INDEX(D787:AF787,1,aux_pr_ue!$Q$2)","v":101}]
["Feed Barley2005/03","Feed Barley","2005/03",110.7581,114.3065,null,82.631550000000004,106.11720000000001,102.26827999999999,94.1738,115.33870000000002,118.33333333333333,119.51690909090911,106.48181428571429,null,131.810475,154.37206666666665,81.912475000000001,97.156300000000002,null,82.164749999999998,null,118.399,103.75,95.600125000000006,132.45160000000001,null,null,86.488200000000006,101.2903,103.0301,107.25921666666666,{"$f":"+INDEX(D788:AF788,1,aux_pr_ue!$P$2)","v":132.45160000000001},{"$f":"+INDEX(D788:AF788,1,aux_pr_ue!$Q$2)","v":101.2903}]
["Feed Barley2005/02","Feed Barley","2005/02",111.61160000000001,112.71430000000001,null,87.104500000000002,105.71130000000001,101.90833000000001,98.487833333333342,116.04465,118.33333333333333,121.20568181818182,107.5732,null,132.00002499999999,158.60190000000003,83.26306666666666,92.870800000000003,null,87.780366666666666,null,117.46050000000001,103.75,98.656075000000001,133.1354,null,null,86.009500000000003,102,102.91370000000001,107.43803333333334,{"$f":"+INDEX(D789:AF789,1,aux_pr_ue!$P$2)","v":133.1354},{"$f":"+INDEX(D789:AF789,1,aux_pr_ue!$Q$2)","v":102}]
["Feed Barley2005/01","Feed Barley","2005/01",114.0476,110,null,84.806250000000006,105.87440000000001,101.3878,118.16370000000002,118.66130000000001,118.33333333333333,123.68826363636366,105.88691428571428,null,137.35618571428571,170.40512500000003,82.947966666666673,88.053899999999999,null,89.722849999999994,null,116.4783,103.75,97.691699999999997,134.4615,null,null,88.101399999999998,102.0403,103.3644,106.20043333333332,{"$f":"+INDEX(D790:AF790,1,aux_pr_ue!$P$2)","v":134.4615},{"$f":"+INDEX(D790:AF790,1,aux_pr_ue!$Q$2)","v":102.0403}]
["Feed Barley2004/12","Feed Barley","2004/12",115.14580000000001,111.03450000000001,null,88.143750000000011,109.0425,100.83068,104.44976666666668,118.41665,119.35296666666666,125.22518181818182,105.89358571428572,null,135.34193333333334,170.7525,83.279619999999994,88.227900000000005,null,82.372700000000009,null,116.27,103.75,95.910250000000019,137.13640000000001,null,null,85.326800000000006,100.7295,103.90222500000002,106.55555714285715,{"$f":"+INDEX(D791:AF791,1,aux_pr_ue!$P$2)","v":137.13640000000001},{"$f":"+INDEX(D791:AF791,1,aux_pr_ue!$Q$2)","v":100.7295}]
["Feed Barley2004/11","Feed Barley","2004/11",111.6936,110.7667,null,90.083849999999998,109.09960000000001,99.774349999999998,98.720033333333348,117.883325,121.53333333333335,120.8242181818182,105.21467142857144,null,132.70888571428571,165.968625,85.381540000000001,86.831900000000005,null,80.415975000000003,null,null,102.55325000000001,92.638300000000015,136.26265000000001,null,null,83.745100000000008,100.18730000000001,103.13385000000001,104.76745714285714,{"$f":"+INDEX(D792:AF792,1,aux_pr_ue!$P$2)","v":136.26265000000001},{"$f":"+INDEX(D792:AF792,1,aux_pr_ue!$Q$2)","v":100.18730000000001}]
["Feed Barley2004/10","Feed Barley","2004/10",108.86070000000001,107.48390000000001,null,90.327849999999998,106.21350000000001,97.880810000000025,98.618433333333357,116.92740000000001,120.98926666666667,119.8500090909091,103.01952857142858,null,129.05365714285713,160.09235000000001,86.221519999999998,82.113799999999998,null,81.752400000000009,null,null,101.5,91.950649999999996,134.37290000000002,null,null,84.065899999999999,97.519849999999991,103.03120000000001,98.269400000000005,{"$f":"+INDEX(D793:AF793,1,aux_pr_ue!$P$2)","v":134.37290000000002},{"$f":"+INDEX(D793:AF793,1,aux_pr_ue!$Q$2)","v":97.519849999999991}]
["Feed Barley2004/09","Feed Barley","2004/09",108.6773,106.4667,null,90.956199999999995,104.8537,97.247500000000002,97.829866666666661,118.11664999999999,124.3793,121.58117500000002,100.95055000000001,null,127.07662857142857,154.48717500000001,87.724600000000009,83.191400000000002,null,81.39500000000001,null,111.33670000000001,101.10835,86.702349999999996,127.90526666666666,null,null,84.489699999999999,96.846350000000001,103.34614999999999,97.936883333333341,{"$f":"+INDEX(D794:AF794,1,aux_pr_ue!$P$2)","v":127.90526666666666},{"$f":"+INDEX(D794:AF794,1,aux_pr_ue!$Q$2)","v":96.846350000000001}]
["Feed Barley2004/08","Feed Barley","2004/08",106.4379,103.61290000000001,null,97.044000000000011,null,95.853210000000018,100.07303333333334,120.25002499999999,130.66666666666666,123.9911625,96.860566666666671,null,128.345,149.62860000000001,90.299925000000002,85.227699999999999,null,80.63537500000001,null,110.7539,99.959699999999998,88.636800000000008,125.384,null,null,84.008800000000008,98,103.14360000000001,92.692014285714293,{"$f":"+INDEX(D795:AF795,1,aux_pr_ue!$P$2)","v":125.384},{"$f":"+INDEX(D795:AF795,1,aux_pr_ue!$Q$2)","v":98}]
["Feed Barley2004/07","Feed Barley","2004/07",111.81330000000001,110.7,null,109.96640000000001,null,103.41468,127.8233,128.25,131,119.6751625,95.372833333333347,null,127.71295000000002,null,106.01205000000002,98.310700000000011,null,80.116424999999992,null,113.0617,102.25505000000001,110.154875,128.72583333333333,null,null,105.6486,106,null,96.302440000000018,{"$f":"+INDEX(D796:AF796,1,aux_pr_ue!$P$2)","v":128.72583333333333},{"$f":"+INDEX(D796:AF796,1,aux_pr_ue!$Q$2)","v":106}]
["Feed Barley2004/06","Feed Barley","2004/06",124.2586,115.13330000000001,null,111.7788,117.95450000000001,113.27388888888889,104.51423333333334,139.17500000000001,142.60416666666666,142.50718750000001,104.86890000000001,null,127.66666666666667,134.59025000000003,108.04834000000001,102.2085,null,110.86935,null,122.05260000000001,129.71875,127.532175,146.20100000000002,null,null,110.7658,101.03365000000001,110.88800000000001,114.37246666666668,{"$f":"+INDEX(D797:AF797,1,aux_pr_ue!$P$2)","v":146.20100000000002},{"$f":"+INDEX(D797:AF797,1,aux_pr_ue!$Q$2)","v":101.03365000000001}]
["Feed Barley2004/05","Feed Barley","2004/05",133.25620000000001,123.48390000000001,null,124.4902,126.837,121.5318,80.47120000000001,147.064525,146.77779999999998,163.84690000000003,118.40925714285713,null,167.98666666666665,null,120.58936000000001,103.39660000000001,null,123.92127500000001,null,123.81840000000001,136.87905000000001,126.653775,151.56145000000001,null,null,110.8242,101.69840000000001,117.47265000000002,128.93093333333334,{"$f":"+INDEX(D798:AF798,1,aux_pr_ue!$P$2)","v":151.56145000000001},{"$f":"+INDEX(D798:AF798,1,aux_pr_ue!$Q$2)","v":101.69840000000001}]
["Feed Barley2004/04","Feed Barley","2004/04",140.28290000000001,124.06670000000001,null,null,134.87739999999999,128.10133000000002,null,152.097825,151.40576666666666,160.11446250000003,118.65566666666666,null,166.37332500000002,null,null,104.3211,null,135.0607,null,130.90040000000002,145.80835000000002,125.88532500000001,155.12085000000002,null,null,107.44590000000001,107.05,120.41240000000001,135.68738000000002,{"$f":"+INDEX(D799:AF799,1,aux_pr_ue!$P$2)","v":155.12085000000002},{"$f":"+INDEX(D799:AF799,1,aux_pr_ue!$Q$2)","v":107.05}]
["Feed Barley2004/03","Feed Barley","2004/03",143.46260000000001,131.06450000000001,null,null,136.93260000000001,135.68743000000001,null,157.25000000000003,153.0968,161.41120000000001,121.62874999999998,null,169.39625000000001,null,null,null,null,null,null,134.33450000000002,153.75810000000001,null,158.9589,null,null,null,114.8062,122.9282,131.38566000000003,{"$f":"+INDEX(D800:AF800,1,aux_pr_ue!$P$2)","v":158.9589},{"$f":"+INDEX(D800:AF800,1,aux_pr_ue!$Q$2)","v":114.8062}]
["Feed Barley2004/02","Feed Barley","2004/02",148.97300000000001,143.2414,null,null,142.9341,144.59730000000002,null,159.94827500000002,153.39080000000001,159.76818750000001,134.6433142857143,null,177.86268000000001,null,null,null,null,null,null,147.4769,154.81035,null,165.8236,null,null,null,118.05185,125.43585000000002,139.27677142857144,{"$f":"+INDEX(D801:AF801,1,aux_pr_ue!$P$2)","v":165.8236},{"$f":"+INDEX(D801:AF801,1,aux_pr_ue!$Q$2)","v":118.05185}]
["Feed Barley2004/01","Feed Barley","2004/01",148.81810000000002,145.51745,null,null,143.72790000000001,143.00383000000002,null,161.16129999999998,154.97913333333335,153.65246250000001,139.77865714285716,null,176.12979999999999,null,null,null,null,null,null,153.23770000000002,148.96875,null,167.70564999999999,null,null,null,119.19095,125.36105000000001,143.01018571428571,{"$f":"+INDEX(D802:AF802,1,aux_pr_ue!$P$2)","v":167.70564999999999},{"$f":"+INDEX(D802:AF802,1,aux_pr_ue!$Q$2)","v":119.19095}]
["Feed Barley2003/12","Feed Barley","2003/12",149.52630000000002,145.85214999999999,null,null,143.48930000000001,140.02124444444448,null,158.083325,150.78433333333336,152.94751250000002,140.39436666666668,null,172.7651142857143,null,null,null,null,null,null,149.27000000000001,144.875,null,167.43520000000001,null,null,null,115.39225,124.21170000000001,140.02681999999999,{"$f":"+INDEX(D803:AF803,1,aux_pr_ue!$P$2)","v":167.43520000000001},{"$f":"+INDEX(D803:AF803,1,aux_pr_ue!$Q$2)","v":115.39225}]
["Feed Barley2003/11","Feed Barley","2003/11",141.02170000000001,142.01670000000001,null,null,138.37470000000002,131.95832999999999,null,145.72502500000002,144.59996666666666,145.07353750000001,137.52312857142857,null,166.01569999999998,null,null,null,null,null,null,149.23670000000001,131.4829,null,159.09885,null,null,null,108.91135,120.15220000000001,127.91532857142859,{"$f":"+INDEX(D804:AF804,1,aux_pr_ue!$P$2)","v":159.09885},{"$f":"+INDEX(D804:AF804,1,aux_pr_ue!$Q$2)","v":108.91135}]
["Feed Barley2003/10","Feed Barley","2003/10",127.99260000000001,128.80644999999998,null,null,124.0314,119.16464000000001,null,137.330625,135.23530000000002,135.71392500000002,122.84624285714287,null,145.11869999999999,null,null,null,null,null,null,136.88290000000001,122.09675,null,135.21280000000002,null,null,null,104.79165,116.61250000000001,117.80366666666667,{"$f":"+INDEX(D805:AF805,1,aux_pr_ue!$P$2)","v":135.21280000000002},{"$f":"+INDEX(D805:AF805,1,aux_pr_ue!$Q$2)","v":104.79165}]
["Feed Barley2003/09","Feed Barley","2003/09",123.602,124.51665,null,null,122.4787,114.02563000000001,null,132.44999999999999,137.66666666666666,122.72103749999999,120.33841428571429,null,142.83000000000001,null,null,null,null,null,null,132.4033,115.19165000000001,null,132.29823333333334,null,null,null,101.30414999999999,116.3386,113.6988375,{"$f":"+INDEX(D806:AF806,1,aux_pr_ue!$P$2)","v":132.29823333333334},{"$f":"+INDEX(D806:AF806,1,aux_pr_ue!$Q$2)","v":101.30414999999999}]
["Feed Barley2003/08","Feed Barley","2003/08",115.5844,113.06450000000001,null,null,null,107.61954,null,126.08065000000002,135.72223333333332,118.48016250000001,112.39037142857144,null,133.19175714285717,null,null,null,null,null,null,125.0442,109.97580000000001,null,124.315,null,null,null,100.25,111.94880000000001,105.0086625,{"$f":"+INDEX(D807:AF807,1,aux_pr_ue!$P$2)","v":124.315},{"$f":"+INDEX(D807:AF807,1,aux_pr_ue!$Q$2)","v":100.25}]
["Feed Barley2003/07","Feed Barley","2003/07",112.6319,106.2,null,null,null,99.58578,null,127.95162500000001,120.13333333333334,115.94067500000001,100.36963333333335,null,127.2732142857143,null,null,null,null,null,null,115.43130000000001,107.75805,null,122.48650000000001,null,null,null,107.75,106.0883,98.885842857142862,{"$f":"+INDEX(D808:AF808,1,aux_pr_ue!$P$2)","v":122.48650000000001},{"$f":"+INDEX(D808:AF808,1,aux_pr_ue!$Q$2)","v":107.75}]
["Feed Barley2003/06","Feed Barley","2003/06",114.52770000000001,108.2222,null,null,113.81500000000001,105.21594444444445,null,127.92502500000001,115,119.43103749999999,100.28019999999999,null,127.47111666666666,null,null,null,null,null,null,117.2367,113.25,null,123.58683333333333,null,null,null,107.4937,106.94070000000001,105.91796666666669,{"$f":"+INDEX(D809:AF809,1,aux_pr_ue!$P$2)","v":123.58683333333333},{"$f":"+INDEX(D809:AF809,1,aux_pr_ue!$Q$2)","v":107.4937}]
["Feed Barley2003/05","Feed Barley","2003/05",114.05880000000001,108.77420000000001,null,null,113.65740000000001,110.58923999999999,null,125.69355,null,120.99233749999999,101.17186666666667,null,134.97283999999999,null,null,null,null,null,null,118.6087,111.52420000000001,null,129.91865000000001,null,null,null,107,106.2942,102.64131428571429,{"$f":"+INDEX(D810:AF810,1,aux_pr_ue!$P$2)","v":129.91865000000001},{"$f":"+INDEX(D810:AF810,1,aux_pr_ue!$Q$2)","v":107}]
["Feed Barley2003/04","Feed Barley","2003/04",111.67620000000001,107.11664999999999,null,null,111.77810000000001,103.98611000000001,null,122.958325,133.91300000000001,119.41008750000003,101.90798571428572,null,132.83199999999999,null,null,null,null,null,null,116.52,109.24164999999999,null,126.95,null,null,null,107,107.55735000000001,99.010428571428562,{"$f":"+INDEX(D811:AF811,1,aux_pr_ue!$P$2)","v":126.95},{"$f":"+INDEX(D811:AF811,1,aux_pr_ue!$Q$2)","v":107}]
["Feed Barley2003/03","Feed Barley","2003/03",112.5009,107,null,null,110.7758,103.48388,null,123.59677500000001,134.07689999999999,121.82630000000002,101.25381428571428,null,129.11041428571428,null,null,null,null,null,null,113.27,108.66935000000001,null,127.37094999999999,null,null,null,107.8387,107.81795,97.900712499999997,{"$f":"+INDEX(D812:AF812,1,aux_pr_ue!$P$2)","v":127.37094999999999},{"$f":"+INDEX(D812:AF812,1,aux_pr_ue!$Q$2)","v":107.8387}]
["Feed Barley2003/02","Feed Barley","2003/02",114.09710000000001,107.64290000000001,null,null,111.4474,104.08134444444445,null,123.91965,135,125.22647500000001,101.32407142857141,null,128.94122857142858,null,null,null,null,null,null,113.53920000000001,108.38305,null,128.06695000000002,null,null,null,108.0446,110.25460000000001,102.09637500000002,{"$f":"+INDEX(D813:AF813,1,aux_pr_ue!$P$2)","v":128.06695000000002},{"$f":"+INDEX(D813:AF813,1,aux_pr_ue!$Q$2)","v":108.0446}]
["Feed Barley2003/01","Feed Barley","2003/01",113.41590000000001,109.6052,null,null,113.22120000000001,103.42412999999999,null,122.15,134.5625,120.70411249999999,101.83832857142856,null,127.82961428571427,null,null,null,null,null,null,115.09610000000001,107.95780000000001,null,128.38470000000001,null,null,null,108.1855,110.53275000000001,100.55490000000002,{"$f":"+INDEX(D814:AF814,1,aux_pr_ue!$P$2)","v":128.38470000000001},{"$f":"+INDEX(D814:AF814,1,aux_pr_ue!$Q$2)","v":108.1855}]
["Feed Barley2002/12","Feed Barley","2002/12",115.3537,109,null,null,113.631,101.84232222222222,null,119.055575,128.28889999999998,120.8894375,103.15888571428572,null,125.79014285714285,null,null,null,null,null,null,115.46440000000001,107.73335,null,130,null,null,null,106.79855000000001,111.57805,101.37485714285715,{"$f":"+INDEX(D815:AF815,1,aux_pr_ue!$P$2)","v":130},{"$f":"+INDEX(D815:AF815,1,aux_pr_ue!$Q$2)","v":106.79855000000001}]
["Feed Barley2002/11","Feed Barley","2002/11",112.4042,109,null,null,113.19550000000001,100.7689,null,115.27500000000001,126.05334000000001,121.39328750000001,103.42522857142856,null,125.52657142857142,null,null,null,null,null,null,115.27,107.5,null,130.86960000000002,null,null,null,106.30850000000001,111.80235000000002,101.52543750000001,{"$f":"+INDEX(D816:AF816,1,aux_pr_ue!$P$2)","v":130.86960000000002},{"$f":"+INDEX(D816:AF816,1,aux_pr_ue!$Q$2)","v":106.30850000000001}]
["Feed Barley2002/10","Feed Barley","2002/10",112.0943,108.13339999999999,null,null,113.42530000000001,98.45111,null,113.822575,127.37240000000001,118.88931250000002,103.75737142857145,null,125.41758571428571,null,null,null,null,null,null,114.12480000000001,107.0625,null,125.42740000000001,null,null,null,104.68325,112.50964999999999,102.03377500000002,{"$f":"+INDEX(D817:AF817,1,aux_pr_ue!$P$2)","v":125.42740000000001},{"$f":"+INDEX(D817:AF817,1,aux_pr_ue!$Q$2)","v":104.68325}]
["Feed Barley2002/09","Feed Barley","2002/09",107.7441,95.796300000000016,null,null,112.44210000000001,95.773830000000004,null,109.80002500000001,121,115.803825,101.6228142857143,null,123.53714285714285,null,null,null,null,null,null,112.30330000000001,105.56665000000001,null,118.8665,null,null,null,101.9725,111.61120000000001,95.327612500000001,{"$f":"+INDEX(D818:AF818,1,aux_pr_ue!$P$2)","v":118.8665},{"$f":"+INDEX(D818:AF818,1,aux_pr_ue!$Q$2)","v":101.9725}]
["Feed Barley2002/08","Feed Barley","2002/08",104.4616,91.838233333333335,null,null,null,92.130780000000001,null,106,119.09864999999999,113.95085,96.365183333333334,null,120.53594285714287,null,null,null,null,null,null,108.33450000000001,104.85485,null,117.32786666666668,null,null,null,101.5625,110.98310000000001,92.53155000000001,{"$f":"+INDEX(D819:AF819,1,aux_pr_ue!$P$2)","v":117.32786666666668},{"$f":"+INDEX(D819:AF819,1,aux_pr_ue!$Q$2)","v":101.5625}]
["Feed Barley2002/07","Feed Barley","2002/07",106.86680000000001,98.176450000000003,null,null,null,91.307609999999997,null,119.862925,119,112.386875,92.901983333333348,null,120.31780000000001,null,null,null,null,null,null,101.9152,102.875,null,117.65936666666668,null,null,null,null,null,98.798914285714289,{"$f":"+INDEX(D820:AF820,1,aux_pr_ue!$P$2)","v":117.65936666666668},{"$f":"+INDEX(D820:AF820,1,aux_pr_ue!$Q$2)","v":0}]
["Feed Barley2002/06","Feed Barley","2002/06",109.584,101.66666666666667,null,null,105.74760000000001,101.50561,null,117.68335,122.21155000000002,120.24230000000001,96.047071428571442,null,118.40768333333334,null,null,null,null,null,null,112.4766,112.65835000000001,null,122.68100000000001,null,null,null,105.9474,null,101.084,{"$f":"+INDEX(D821:AF821,1,aux_pr_ue!$P$2)","v":122.68100000000001},{"$f":"+INDEX(D821:AF821,1,aux_pr_ue!$Q$2)","v":105.9474}]
["Feed Barley2002/05","Feed Barley","2002/05",114.00630000000001,102.60880000000002,null,null,107.5265,104.71541818181818,null,121.33872500000001,142.38890000000001,132.05387500000001,97.475300000000004,null,139.98160000000001,null,null,null,null,null,null,115.2055,114.90625,null,125.09920000000001,null,null,null,103.08515,110.15650000000001,103.50917142857143,{"$f":"+INDEX(D822:AF822,1,aux_pr_ue!$P$2)","v":125.09920000000001},{"$f":"+INDEX(D822:AF822,1,aux_pr_ue!$Q$2)","v":103.08515}]
["Feed Barley2002/04","Feed Barley","2002/04",118.23310000000001,103.8625,null,null,108.4974,104.60568181818184,null,122.83335,146.5625,135.03504999999998,100.49291666666666,null,136.8142,null,null,null,null,null,null,114.1367,113.78960000000001,null,131.16670000000002,null,null,null,104.15900000000001,115.13895000000001,110.14822500000001,{"$f":"+INDEX(D823:AF823,1,aux_pr_ue!$P$2)","v":131.16670000000002},{"$f":"+INDEX(D823:AF823,1,aux_pr_ue!$Q$2)","v":104.15900000000001}]
["Feed Barley2002/03","Feed Barley","2002/03",119.86660000000001,107.31180000000001,null,null,111.47800000000001,105.71783636363635,null,124.97582500000001,148.33335,137.2302875,103.89995,null,140.60043333333334,null,null,null,null,null,null,111.9958,113.68145000000001,null,134.4684,null,null,null,106.10500000000002,115.9442,112.74494285714287,{"$f":"+INDEX(D824:AF824,1,aux_pr_ue!$P$2)","v":134.4684},{"$f":"+INDEX(D824:AF824,1,aux_pr_ue!$Q$2)","v":106.10500000000002}]
["Feed Barley2002/02","Feed Barley","2002/02",123.2809,111.86906666666668,null,null,113.77640000000001,107.44035454545455,null,124.571425,154.26785000000001,140.94177500000001,109.30448333333334,null,142.52934285714286,null,null,null,null,null,null,114.91290000000001,113.2723,null,137.42500000000001,null,null,null,107.71075,116.26705000000001,117.2475,{"$f":"+INDEX(D825:AF825,1,aux_pr_ue!$P$2)","v":137.42500000000001},{"$f":"+INDEX(D825:AF825,1,aux_pr_ue!$Q$2)","v":107.71075}]
["Feed Barley2002/01","Feed Barley","2002/01",124.29170000000001,113.05003333333333,null,null,116.68210000000001,108.42931818181819,null,123.23275000000001,159.91550000000001,141.54921250000001,110.95288333333333,null,142.28708571428572,null,null,null,null,null,null,119.1545,112.47880000000001,null,139.82915000000003,null,null,null,108.48330000000001,116.06285,118.54995000000001,{"$f":"+INDEX(D826:AF826,1,aux_pr_ue!$P$2)","v":139.82915000000003},{"$f":"+INDEX(D826:AF826,1,aux_pr_ue!$Q$2)","v":108.48330000000001}]
["Feed Barley2001/12","Feed Barley","2001/12",126.3254,112.93666666666667,null,null,116.226,107.28483636363636,null,120.64472500000001,146.72500000000002,137.5415375,113.28464,null,141.70720000000003,null,null,null,null,null,null,119.66470000000001,111.73484999999999,null,139.14590000000001,null,null,null,109.00525,112.9748,115.46117142857143,{"$f":"+INDEX(D827:AF827,1,aux_pr_ue!$P$2)","v":139.14590000000001},{"$f":"+INDEX(D827:AF827,1,aux_pr_ue!$Q$2)","v":109.00525}]
["Feed Barley2001/11","Feed Barley","2001/11",122.0706,112.0086,null,null,111.81150000000001,105.29509090909092,null,119.84505000000001,146.73445000000001,134.00538750000001,111.6699,null,140.88414285714285,null,null,null,null,null,null,120.2518,111.73450000000001,null,136.15505000000002,null,null,null,108.14760000000001,112.16365,115.95068750000002,{"$f":"+INDEX(D828:AF828,1,aux_pr_ue!$P$2)","v":136.15505000000002},{"$f":"+INDEX(D828:AF828,1,aux_pr_ue!$Q$2)","v":108.14760000000001}]
["Feed Barley2001/10","Feed Barley","2001/10",119.917,109.8764,null,null,107.9496,103.39354000000003,null,119.96380000000002,147.12352500000003,134.25335000000001,105.29526666666668,null,140.36560000000003,null,null,null,null,null,null,115.55330000000001,111.62095000000001,null,137.2525,null,null,null,103.62094999999999,110.6061,111.57556249999999,{"$f":"+INDEX(D829:AF829,1,aux_pr_ue!$P$2)","v":137.2525},{"$f":"+INDEX(D829:AF829,1,aux_pr_ue!$Q$2)","v":103.62094999999999}]
["Feed Barley2001/09","Feed Barley","2001/09",121.78400000000001,112.04020000000001,null,null,110.5823,104.73301818181818,null,120.455825,156.20917500000002,136.572225,108.13151428571429,null,140.49227142857143,null,null,null,null,null,null,115.10420000000001,110.46270000000001,null,137.3357,null,null,null,102.718,110.08620000000001,114.69748750000001,{"$f":"+INDEX(D830:AF830,1,aux_pr_ue!$P$2)","v":137.3357},{"$f":"+INDEX(D830:AF830,1,aux_pr_ue!$Q$2)","v":102.718}]
["Feed Barley2001/08","Feed Barley","2001/08",121.3216,112.32430000000001,null,null,null,102.92100000000001,null,120.96900000000001,152.52812500000002,136.06773750000002,111.2180142857143,null,138.30328571428572,null,null,null,null,null,null,114.30540000000001,109.42960000000001,null,136.13024999999999,null,null,null,104.102,113.08995000000002,114.75387500000002,{"$f":"+INDEX(D831:AF831,1,aux_pr_ue!$P$2)","v":136.13024999999999},{"$f":"+INDEX(D831:AF831,1,aux_pr_ue!$Q$2)","v":104.102}]
["Feed Barley2001/07","Feed Barley","2001/07",123.44070000000001,112.41206666666666,null,null,null,105.78354000000002,null,123.317425,143.17325,127.53235000000001,110.70955714285715,null,138.23464285714286,null,null,null,null,null,null,118.3927,110.17505,null,135.46057500000001,null,null,null,108.06075000000001,null,120.64884285714287,{"$f":"+INDEX(D832:AF832,1,aux_pr_ue!$P$2)","v":135.46057500000001},{"$f":"+INDEX(D832:AF832,1,aux_pr_ue!$Q$2)","v":108.06075000000001}]
["Feed Barley2001/06","Feed Barley","2001/06",122.55970000000001,115.64296666666667,null,null,122.4028,114.33783000000001,null,122.45920000000001,142.95667500000002,120.15651250000001,111.20776666666666,null,133.01653333333334,null,null,null,null,null,null,126.5669,119.9102,null,null,null,null,null,109.5425,116.47095000000002,126.93806666666667,{"$f":"+INDEX(D833:AF833,1,aux_pr_ue!$P$2)","v":0},{"$f":"+INDEX(D833:AF833,1,aux_pr_ue!$Q$2)","v":109.5425}]
["Feed Barley2001/05","Feed Barley","2001/05",122.58380000000001,116.59876666666668,null,null,124.13690000000001,117.06679090909088,null,121.628625,144.42759999999998,120.119775,110.97435,null,144.43017500000002,null,null,null,null,null,null,126.7364,123.56085000000002,null,null,null,null,null,112.98080000000002,118.35550000000001,125.99325714285715,{"$f":"+INDEX(D834:AF834,1,aux_pr_ue!$P$2)","v":0},{"$f":"+INDEX(D834:AF834,1,aux_pr_ue!$Q$2)","v":112.98080000000002}]
["Feed Barley2001/04","Feed Barley","2001/04",120.7124,116.06566666666667,null,null,123.9405,115.27225454545456,null,120.94255000000001,145.26776666666669,115.241775,110.6883142857143,null,146.21910000000003,null,null,null,null,null,null,123.03500000000001,128.26755,null,null,null,null,null,113.33010000000002,117.28725,123.46054285714287,{"$f":"+INDEX(D835:AF835,1,aux_pr_ue!$P$2)","v":0},{"$f":"+INDEX(D835:AF835,1,aux_pr_ue!$Q$2)","v":113.33010000000002}]
["Feed Barley2001/03","Feed Barley","2001/03",122.6016,117.06970000000001,null,null,125.292,116.48766363636364,null,120.98437500000001,146.26176666666666,115.67122500000001,116.97998571428572,null,149.42680000000001,null,null,null,null,null,null,125.8142,128.9239,null,null,null,null,null,113.54940000000001,116.13875,119.95113750000002,{"$f":"+INDEX(D836:AF836,1,aux_pr_ue!$P$2)","v":0},{"$f":"+INDEX(D836:AF836,1,aux_pr_ue!$Q$2)","v":113.54940000000001}]
["Feed Barley2001/02","Feed Barley","2001/02",123.77510000000001,119.40203333333335,null,null,126.45930000000001,118.40862727272726,null,120.42675000000001,143.31129999999999,117.094825,118.4516,null,152.39352000000002,null,null,null,null,null,null,127.62570000000001,128.72174999999999,null,142.1574,null,null,null,113.31874999999999,116.89110000000001,120.07034999999999,{"$f":"+INDEX(D837:AF837,1,aux_pr_ue!$P$2)","v":142.1574},{"$f":"+INDEX(D837:AF837,1,aux_pr_ue!$Q$2)","v":113.31874999999999}]
["Feed Barley2001/01","Feed Barley","2001/01",124.43380000000001,123.53303333333334,null,null,129.24430000000001,120.63494545454546,null,119.58065000000001,143.31129999999999,117.8656125,120.66347142857144,null,152.12989999999999,null,null,null,null,null,null,131.4923,126.25925000000001,null,137.33030000000002,null,null,null,114.0819,116.18745000000001,118.55417499999999,{"$f":"+INDEX(D838:AF838,1,aux_pr_ue!$P$2)","v":137.33030000000002},{"$f":"+INDEX(D838:AF838,1,aux_pr_ue!$Q$2)","v":114.0819}]
["Feed Barley2000/12","Feed Barley","2000/12",123.32530000000001,124.15436666666669,null,null,123.8841,119.2203090909091,null,118.62790000000001,143.34853333333334,116.30698750000001,122.48442857142858,null,148.48524,null,null,null,null,null,null,133.24120000000002,123.30765,null,132.4932,null,null,null,113.84925000000001,117.45585,116.56376666666667,{"$f":"+INDEX(D839:AF839,1,aux_pr_ue!$P$2)","v":132.4932},{"$f":"+INDEX(D839:AF839,1,aux_pr_ue!$Q$2)","v":113.84925000000001}]
["Feed Barley2000/11","Feed Barley","2000/11",121.1066,120.6046,null,null,119.12270000000001,115.62859999999999,null,115.54067499999999,143.53563333333332,115.134125,120.74418571428573,null,142.57856666666666,null,null,null,null,null,null,130.86870000000002,119.71965,null,130.33244999999999,null,null,null,111.27835,113.58075000000001,113.77545000000001,{"$f":"+INDEX(D840:AF840,1,aux_pr_ue!$P$2)","v":130.33244999999999},{"$f":"+INDEX(D840:AF840,1,aux_pr_ue!$Q$2)","v":111.27835}]
["Feed Barley2000/10","Feed Barley","2000/10",119.0827,116.85700000000001,null,null,112.9701,113.52209999999999,null,113.54,143.87393333333333,113.9539125,114.45174285714286,null,139.35556666666668,null,null,null,null,null,null,125.10720000000001,118.92099999999999,null,126.2458,null,null,null,109.63495,114.49125000000001,112.62311249999999,{"$f":"+INDEX(D841:AF841,1,aux_pr_ue!$P$2)","v":126.2458},{"$f":"+INDEX(D841:AF841,1,aux_pr_ue!$Q$2)","v":109.63495}]
["Feed Barley2000/09","Feed Barley","2000/09",116.8952,114.91590000000001,null,null,110.79,111.00032222222224,null,113.654775,142.80500000000004,110.57402500000001,112.74665714285713,null,139.09655000000001,null,null,null,null,null,null,124.32250000000001,118.15810000000002,null,120.05030000000001,null,null,null,109.6002,115.7534,108.9869875,{"$f":"+INDEX(D842:AF842,1,aux_pr_ue!$P$2)","v":120.05030000000001},{"$f":"+INDEX(D842:AF842,1,aux_pr_ue!$Q$2)","v":109.6002}]
["Feed Barley2000/08","Feed Barley","2000/08",116.9269,112.63665,null,null,null,107.22716363636364,null,128.8784,143.02697499999999,108.27747500000001,114.38950000000003,null,137.69967142857143,null,null,null,null,null,null,120.9423,116.35225,null,116.3862,null,null,null,109.6417,null,109.54296250000002,{"$f":"+INDEX(D843:AF843,1,aux_pr_ue!$P$2)","v":116.3862},{"$f":"+INDEX(D843:AF843,1,aux_pr_ue!$Q$2)","v":109.6417}]
["Feed Barley2000/07","Feed Barley","2000/07",119.31440000000001,115.68366666666668,null,null,null,105.31851000000002,null,128.83744999999999,142.92735000000002,108.89042500000001,108.26157500000001,null,136.82611428571431,null,null,null,null,null,null,119.30030000000001,115.57775000000001,null,115.709025,null,null,null,126.98190000000001,null,116.1134142857143,{"$f":"+INDEX(D844:AF844,1,aux_pr_ue!$P$2)","v":115.709025},{"$f":"+INDEX(D844:AF844,1,aux_pr_ue!$Q$2)","v":126.98190000000001}]
["Feed Barley2000/06","Feed Barley","2000/06",126.7209,125.83890000000001,null,null,121.98060000000001,116.43253750000002,null,132.17972499999999,134.24175,122.1874,120.13313333333333,null,135.01940000000002,null,null,null,null,null,null,130.49970000000002,129.7526,null,146.72969999999998,null,null,null,126.69930000000001,129.63775000000001,121.57661666666668,{"$f":"+INDEX(D845:AF845,1,aux_pr_ue!$P$2)","v":146.72969999999998},{"$f":"+INDEX(D845:AF845,1,aux_pr_ue!$Q$2)","v":126.69930000000001}]
["Feed Barley2000/05","Feed Barley","2000/05",134.98320000000001,130.43676666666667,null,null,125.3099,126.48793333333333,null,132.83314999999999,153.67699999999999,137.48806250000001,129.09207142857144,null,157.54894999999999,null,null,null,null,null,null,137.7696,131.26535000000001,null,147.35320000000002,null,null,null,126.77160000000001,130.80804999999998,131.03756250000001,{"$f":"+INDEX(D846:AF846,1,aux_pr_ue!$P$2)","v":147.35320000000002},{"$f":"+INDEX(D846:AF846,1,aux_pr_ue!$Q$2)","v":126.77160000000001}]
["Feed Barley2000/04","Feed Barley","2000/04",135.8075,129.39626666666666,null,null,126.46570000000001,127.31406666666668,null,131.15565000000001,154.07733333333331,138.592725,130.78422857142857,null,156.83850000000001,null,null,null,null,null,null,138.61010000000002,129.35765000000001,null,145.89839999999998,null,null,null,128.03489999999999,130.92740000000001,131.61021250000002,{"$f":"+INDEX(D847:AF847,1,aux_pr_ue!$P$2)","v":145.89839999999998},{"$f":"+INDEX(D847:AF847,1,aux_pr_ue!$Q$2)","v":128.03489999999999}]
["Feed Barley2000/03","Feed Barley","2000/03",131.55250000000001,125.22620000000001,null,null,124.9247,125.04003333333334,null,128.38690000000003,151.63250000000002,134.57593749999998,127.26860000000002,null,153.41084000000001,null,null,null,null,null,null,135.6437,129.0521,null,145.89839999999998,null,null,null,127.991,129.10534999999999,126.96172500000002,{"$f":"+INDEX(D848:AF848,1,aux_pr_ue!$P$2)","v":145.89839999999998},{"$f":"+INDEX(D848:AF848,1,aux_pr_ue!$Q$2)","v":127.991}]
["Feed Barley2000/02","Feed Barley","2000/02",130.68299999999999,124.68126666666667,null,null,125.1769,124.84989000000003,null,127.27947500000001,140.9735,133.46550000000002,126.5295142857143,null,151.51696000000001,null,null,null,null,null,null,134.78110000000001,127.30535,null,144.60520000000002,null,null,null,127.6422,127.63415000000001,125.88707500000001,{"$f":"+INDEX(D849:AF849,1,aux_pr_ue!$P$2)","v":144.60520000000002},{"$f":"+INDEX(D849:AF849,1,aux_pr_ue!$Q$2)","v":127.6422}]
["Feed Barley2000/01","Feed Barley","2000/01",null,null,null,null,null,null,null,null,null,null,null,null,null,null,null,null,null,null,null,null,null,null,null,null,null,null,null,null,null,{"$f":"+INDEX(D850:AF850,1,aux_pr_ue!$P$2)","v":0},{"$f":"+INDEX(D850:AF850,1,aux_pr_ue!$Q$2)","v":0}]
["Feed Barley1999/12","Feed Barley","1999/12",null,null,null,null,null,null,null,null,null,null,null,null,null,null,null,null,null,null,null,null,null,null,null,null,null,null,null,null,null,{"$f":"+INDEX(D851:AF851,1,aux_pr_ue!$P$2)","v":0},{"$f":"+INDEX(D851:AF851,1,aux_pr_ue!$Q$2)","v":0}]
["Feed Barley1999/11","Feed Barley","1999/11",126.20830000000001,123.12046666666669,null,null,114.92030000000001,119.46714444444446,null,122.18587500000001,135.95422500000001,127.27837500000001,122.48173333333334,null,140.74176666666668,null,null,null,null,null,null,131.59630000000001,119.00175,null,128.44049999999999,null,null,null,120.28240000000001,125.0305,120.965225,{"$f":"+INDEX(D852:AF852,1,aux_pr_ue!$P$2)","v":128.44049999999999},{"$f":"+INDEX(D852:AF852,1,aux_pr_ue!$Q$2)","v":120.28240000000001}]
["Feed Barley1999/10","Feed Barley","1999/10",125.66340000000001,122.68066666666668,null,null,115.8386,118.99112222222223,null,121.32145,135.38544999999999,125.766075,121.17619999999999,null,136.89161666666666,null,null,null,null,null,null,130.50879999999998,117.9937,null,128.44049999999999,null,null,null,117.59050000000001,124.17115000000001,118.4099875,{"$f":"+INDEX(D853:AF853,1,aux_pr_ue!$P$2)","v":128.44049999999999},{"$f":"+INDEX(D853:AF853,1,aux_pr_ue!$Q$2)","v":117.59050000000001}]
["Feed Barley1999/09","Feed Barley","1999/09",126.20370000000001,122.2942,null,null,116.03825000000001,116.99126666666669,null,121.06966666666666,138.2953,123.66877777777778,119.46142857142857,null,136.82805000000002,null,null,null,null,null,null,127.69403333333334,116.91230000000002,null,128.44,null,null,null,117.3952,124.63300000000001,118.09612857142858,{"$f":"+INDEX(D854:AF854,1,aux_pr_ue!$P$2)","v":128.44},{"$f":"+INDEX(D854:AF854,1,aux_pr_ue!$Q$2)","v":117.3952}]
["Feed Barley1999/08","Feed Barley","1999/08",123.5929,null,null,null,null,110.16222,null,120.94274999999999,138.67449999999999,121.23481250000002,117.08375000000001,null,133.37074999999999,null,null,null,null,null,null,125.92886666666668,113.63645,null,128.44,null,null,null,null,null,null,{"$f":"+INDEX(D855:AF855,1,aux_pr_ue!$P$2)","v":128.44},{"$f":"+INDEX(D855:AF855,1,aux_pr_ue!$Q$2)","v":0}]
["Feed Barley1999/07","Feed Barley","1999/07",123.4512,null,null,null,null,107.74055555555557,null,null,139.21800000000002,120.837125,115.718,null,129.97516666666667,null,null,null,null,null,null,120.4975,107.19200000000001,null,null,null,null,null,126.14100000000001,129.50965000000002,121.88795,{"$f":"+INDEX(D856:AF856,1,aux_pr_ue!$P$2)","v":0},{"$f":"+INDEX(D856:AF856,1,aux_pr_ue!$Q$2)","v":126.14100000000001}]
["Feed Barley1999/06","Feed Barley","1999/06",119.62430000000001,null,null,null,119.70750000000001,119.2514888888889,null,133.94704999999999,null,121.84647500000003,116.82201666666667,null,132.62620000000001,null,null,null,null,null,null,76.089466666666667,126.45050000000001,null,140.91000000000003,null,null,null,126.14100000000001,127.46950000000001,130.38492000000002,{"$f":"+INDEX(D857:AF857,1,aux_pr_ue!$P$2)","v":140.91000000000003},{"$f":"+INDEX(D857:AF857,1,aux_pr_ue!$Q$2)","v":126.14100000000001}]
["Feed Barley1999/05","Feed Barley","1999/05",133.5341,null,null,null,125.1965,127.48882500000001,null,132.72877500000001,466.44522500000005,124.61936250000002,123.27437777777777,null,157.68243333333331,null,null,null,null,null,null,84.839833333333345,126.45050000000001,null,139.38139999999999,null,null,null,125.73310000000001,126.18405000000001,124.38485714285714,{"$f":"+INDEX(D858:AF858,1,aux_pr_ue!$P$2)","v":139.38139999999999},{"$f":"+INDEX(D858:AF858,1,aux_pr_ue!$Q$2)","v":125.73310000000001}]
["Feed Barley1999/04","Feed Barley","1999/04",128.5085,null,null,null,125.11670000000001,124.7754875,null,130.90552500000001,136.82170000000002,123.670075,122.28651111111111,null,152.464225,null,null,null,null,null,null,100.56266666666666,126.00830000000001,null,138.416,null,null,null,125.13200000000001,125.54600000000001,123.01538750000002,{"$f":"+INDEX(D859:AF859,1,aux_pr_ue!$P$2)","v":138.416},{"$f":"+INDEX(D859:AF859,1,aux_pr_ue!$Q$2)","v":125.13200000000001}]
["Feed Barley1999/03","Feed Barley","1999/03",126.8229,null,null,null,122.34150000000001,122.83541111111111,null,130.24325000000002,141.44720000000001,122.75265,119.28346249999998,null,143.14466666666667,null,null,null,null,null,null,97.997833333333347,123.9075,null,138.416,null,null,null,124.25710000000001,124.34280000000001,120.28666666666668,{"$f":"+INDEX(D860:AF860,1,aux_pr_ue!$P$2)","v":138.416},{"$f":"+INDEX(D860:AF860,1,aux_pr_ue!$Q$2)","v":124.25710000000001}]
["Feed Barley1999/02","Feed Barley","1999/02",122.629,null,null,null,122.29130000000001,122.65904444444446,null,130.07995,140.82070000000002,122.8184,118.80606250000001,null,139.53000000000003,null,null,null,null,null,null,59.982366666666671,123.71280000000002,null,138.416,null,null,null,123.5699,125.2454,122.38591428571431,{"$f":"+INDEX(D861:AF861,1,aux_pr_ue!$P$2)","v":138.416},{"$f":"+INDEX(D861:AF861,1,aux_pr_ue!$Q$2)","v":123.5699}]
["Feed Barley1999/01","Feed Barley","1999/01",121.6314,118.989,null,null,121.0729,119.86150000000001,null,129.84385000000003,140.6387,122.00970000000001,119.01111428571429,null,139.25273999999999,null,null,null,null,null,null,61.946533333333342,120.63705,null,null,null,null,null,122.6427,122.84305000000001,120.31435,{"$f":"+INDEX(D862:AF862,1,aux_pr_ue!$P$2)","v":0},{"$f":"+INDEX(D862:AF862,1,aux_pr_ue!$Q$2)","v":122.6427}]
["Feed Barley1998/12","Feed Barley","1998/12",121.1037,null,null,null,116.4585,117.36432222222223,null,125.82400000000001,130.79374999999999,119.88658749999999,116.74724285714285,null,138.78278333333333,null,null,null,null,null,null,82.990333333333339,117.17745000000001,null,null,null,null,null,121.1598,121.14405000000001,119.94494285714288,{"$f":"+INDEX(D863:AF863,1,aux_pr_ue!$P$2)","v":0},{"$f":"+INDEX(D863:AF863,1,aux_pr_ue!$Q$2)","v":121.1598}]
["Feed Barley1998/11","Feed Barley","1998/11",121.7209,null,null,null,114.16370000000001,117.7598625,null,123.44445000000002,130.79374999999999,118.24822500000002,116.16080000000001,null,136.86997142857143,null,null,null,null,null,null,130.44533333333334,112.96115,null,null,null,null,null,120.4025,120.2602,118.36557500000001,{"$f":"+INDEX(D864:AF864,1,aux_pr_ue!$P$2)","v":0},{"$f":"+INDEX(D864:AF864,1,aux_pr_ue!$Q$2)","v":120.4025}]
["Feed Barley1998/10","Feed Barley","1998/10",116.4217,null,null,null,112.486,112.62115555555555,null,119.08025000000001,131.58033333333333,113.44658750000001,114.97234285714288,null,128.30811428571428,null,null,null,null,null,null,null,111.09530000000001,null,null,null,null,null,118.23060000000001,117.98180000000001,109.16250000000001,{"$f":"+INDEX(D865:AF865,1,aux_pr_ue!$P$2)","v":0},{"$f":"+INDEX(D865:AF865,1,aux_pr_ue!$Q$2)","v":118.23060000000001}]
["Feed Barley1998/09","Feed Barley","1998/09",113.8678,null,null,null,107.3683,108.64844999999998,null,117.42150000000001,131.71743333333333,112.57547500000001,110.31484285714285,null,121.35854285714285,null,null,null,null,null,null,null,112.3425,null,127.96300000000001,null,null,null,109.46125000000001,117.4648,109.87683749999999,{"$f":"+INDEX(D866:AF866,1,aux_pr_ue!$P$2)","v":127.96300000000001},{"$f":"+INDEX(D866:AF866,1,aux_pr_ue!$Q$2)","v":109.46125000000001}]
["Feed Barley1998/08","Feed Barley","1998/08",110.69070000000001,null,null,null,null,103.61831111111113,null,116.88663333333334,132.739575,113.27619999999999,105.42535000000001,null,117.94951428571429,null,null,null,null,null,null,null,107.98250000000002,null,122.16843333333334,null,null,null,117.78100000000001,120.10435000000001,103.67027500000002,{"$f":"+INDEX(D867:AF867,1,aux_pr_ue!$P$2)","v":122.16843333333334},{"$f":"+INDEX(D867:AF867,1,aux_pr_ue!$Q$2)","v":117.78100000000001}]
["Feed Barley1998/07","Feed Barley","1998/07",112.9615,null,null,null,null,103.17942222222223,null,125.05295000000001,127.00750000000001,114.62297500000001,97.71211666666666,null,118.42597142857143,null,null,null,null,null,null,122.61866666666667,108.6504,null,119.71966666666667,null,null,null,null,125.667,105.88114999999999,{"$f":"+INDEX(D868:AF868,1,aux_pr_ue!$P$2)","v":119.71966666666667},{"$f":"+INDEX(D868:AF868,1,aux_pr_ue!$Q$2)","v":0}]
["Feed Barley1998/06","Feed Barley","1998/06",118.7068,114.82400000000001,null,null,118.021,110.71923750000001,null,129.30062500000003,124.39166666666667,121.57201250000001,104.23762000000002,null,123.41493333333335,null,null,null,null,null,null,122.40726666666667,122.69300000000001,null,null,null,null,null,117.58154999999999,125.667,110.6157142857143,{"$f":"+INDEX(D869:AF869,1,aux_pr_ue!$P$2)","v":0},{"$f":"+INDEX(D869:AF869,1,aux_pr_ue!$Q$2)","v":117.58154999999999}]
["Feed Barley1998/05","Feed Barley","1998/05",122.02130000000001,114.82400000000001,null,null,118.65920000000001,120.8186888888889,null,129.73066666666668,146.79100000000003,126.9646875,114.03655000000002,null,140.09460000000001,null,null,null,null,null,null,124.47336666666668,122.69300000000001,null,null,null,null,null,117.5616,125.64335,114.6674857142857,{"$f":"+INDEX(D870:AF870,1,aux_pr_ue!$P$2)","v":0},{"$f":"+INDEX(D870:AF870,1,aux_pr_ue!$Q$2)","v":117.5616}]
["Feed Barley1998/04","Feed Barley","1998/04",122.4406,null,null,null,117.0856,118.86293333333333,null,125.98515,146.79100000000003,130.33873750000001,115.279275,null,140.30693333333332,null,null,null,null,null,null,123.21380000000001,123.17834999999999,null,null,null,null,null,117.62615000000001,124.80495000000001,110.8493,{"$f":"+INDEX(D871:AF871,1,aux_pr_ue!$P$2)","v":0},{"$f":"+INDEX(D871:AF871,1,aux_pr_ue!$Q$2)","v":117.62615000000001}]
["Feed Barley1998/03","Feed Barley","1998/03",124.6571,117.878,null,null,117.9302,119.38141111111109,null,129.10169999999999,158.9787,133.41241250000002,117.85187142857146,null,140.92066666666668,null,null,null,null,null,null,124.99419999999999,123.52250000000001,null,null,null,null,null,116.53405000000001,124.20880000000001,111.02839999999999,{"$f":"+INDEX(D872:AF872,1,aux_pr_ue!$P$2)","v":0},{"$f":"+INDEX(D872:AF872,1,aux_pr_ue!$Q$2)","v":116.53405000000001}]
["Feed Barley1998/02","Feed Barley","1998/02",126.5724,119.7103,null,null,117.89400000000001,120.60806666666664,null,123.28776666666666,161.85366666666667,136.33745000000002,119.46577142857143,null,140.89937500000002,null,null,null,null,null,null,126.15366666666667,129.76303333333334,null,null,null,null,null,118.92160000000001,124.77615,112.80942500000002,{"$f":"+INDEX(D873:AF873,1,aux_pr_ue!$P$2)","v":0},{"$f":"+INDEX(D873:AF873,1,aux_pr_ue!$Q$2)","v":118.92160000000001}]
["Feed Barley1998/01","Feed Barley","1998/01",129.98990000000001,121.54300000000001,null,null,118.80430000000001,121.02600000000001,null,129.38665,166.92813333333334,137.24846250000002,121.93828571428573,null,141.60017999999999,null,null,null,null,null,null,128.67276666666666,121.16,null,137.947,null,null,null,119.6751,125.503,113.46662499999999,{"$f":"+INDEX(D874:AF874,1,aux_pr_ue!$P$2)","v":137.947},{"$f":"+INDEX(D874:AF874,1,aux_pr_ue!$Q$2)","v":119.6751}]
["Feed Barley1997/12","Feed Barley","1997/12",128.9906,122.15400000000001,null,null,117.256,120.27376666666666,null,null,167.72933333333333,137.41470000000001,121.2442125,null,139.04640000000003,null,null,null,null,null,null,128.97336666666666,119.20815,null,138.49220000000003,null,null,null,120.03399999999999,126.2728,114.36871428571429,{"$f":"+INDEX(D875:AF875,1,aux_pr_ue!$P$2)","v":138.49220000000003},{"$f":"+INDEX(D875:AF875,1,aux_pr_ue!$Q$2)","v":120.03399999999999}]
["Feed Barley1997/11","Feed Barley","1997/11",127.70750000000001,122.15400000000001,null,null,116.569,117.92743333333334,null,null,166.3049,136.20285000000004,121.69347500000001,null,135.1446,null,null,null,null,null,null,127.83283333333334,117.96465000000001,null,138.52800000000002,null,null,null,119.37360000000001,126.27175,116.32925000000002,{"$f":"+INDEX(D876:AF876,1,aux_pr_ue!$P$2)","v":138.52800000000002},{"$f":"+INDEX(D876:AF876,1,aux_pr_ue!$Q$2)","v":119.37360000000001}]
["Feed Barley1997/10","Feed Barley","1997/10",126.41540000000001,120.57740000000001,null,null,116.8897,115.60877777777779,null,null,159.87190000000001,135.02428750000001,122.7350375,null,133.40845000000002,null,null,null,null,null,null,109.16770000000001,117.93350000000001,null,138.52800000000002,null,null,null,117.50155000000001,126.99145000000001,118.63261250000002,{"$f":"+INDEX(D877:AF877,1,aux_pr_ue!$P$2)","v":138.52800000000002},{"$f":"+INDEX(D877:AF877,1,aux_pr_ue!$Q$2)","v":117.50155000000001}]
["Feed Barley1997/09","Feed Barley","1997/09",126.98480000000001,119.5879,null,null,118.4238,114.87512222222225,null,null,162.47676666666666,134.36228750000001,122.81530000000001,null,135.13772857142857,null,null,null,null,null,null,124.51253333333334,122.42893333333335,null,134.32180000000002,null,null,null,117.13595000000001,124.86875000000001,121.42054999999999,{"$f":"+INDEX(D878:AF878,1,aux_pr_ue!$P$2)","v":134.32180000000002},{"$f":"+INDEX(D878:AF878,1,aux_pr_ue!$Q$2)","v":117.13595000000001}]
["Feed Barley1997/08","Feed Barley","1997/08",123.4902,119.71,null,null,120.54790000000001,113.31996666666664,null,null,161.47456666666668,135.17871250000002,120.4022875,null,135.60714285714286,null,null,null,null,null,null,123.26126666666669,123.45166666666667,null,135.16459999999998,null,null,null,117.14770000000001,127.04430000000002,106.44575,{"$f":"+INDEX(D879:AF879,1,aux_pr_ue!$P$2)","v":135.16459999999998},{"$f":"+INDEX(D879:AF879,1,aux_pr_ue!$Q$2)","v":117.14770000000001}]
["Feed Barley1997/07","Feed Barley","1997/07",125.43870000000001,126.50530000000001,null,null,121.102,118.64323333333333,null,null,159.4239,135.27690000000001,119.25973750000001,null,135.88128750000001,null,null,null,null,null,null,126.46473333333334,127.08176666666668,null,132.70423333333335,null,null,null,126.57300000000001,131.26265000000001,106.90308571428572,{"$f":"+INDEX(D880:AF880,1,aux_pr_ue!$P$2)","v":132.70423333333335},{"$f":"+INDEX(D880:AF880,1,aux_pr_ue!$Q$2)","v":126.57300000000001}]
["Feed Barley1997/06","Feed Barley","1997/06",128.9545,127.92620000000001,null,null,124.33380000000001,125.74571250000001,null,null,148.8554,135.9052375,122.24637142857141,null,134.88604000000001,null,null,null,null,null,null,130.96636666666666,138.05813333333333,null,132.02033333333335,null,null,null,120.9589,131.07510000000002,117.20035714285714,{"$f":"+INDEX(D881:AF881,1,aux_pr_ue!$P$2)","v":132.02033333333335},{"$f":"+INDEX(D881:AF881,1,aux_pr_ue!$Q$2)","v":120.9589}]
["Feed Barley1997/05","Feed Barley","1997/05",137.3545,135.42450000000002,null,null,133.3895,132.78946666666667,null,null,null,147.33487500000001,134.45259999999999,null,157.30063333333337,null,null,null,null,null,null,140.14393333333334,142.65065000000001,null,152.62200000000001,null,null,null,125.28630000000001,132.20920000000001,128.327,{"$f":"+INDEX(D882:AF882,1,aux_pr_ue!$P$2)","v":152.62200000000001},{"$f":"+INDEX(D882:AF882,1,aux_pr_ue!$Q$2)","v":125.28630000000001}]
["Feed Barley1997/04","Feed Barley","1997/04",139.5872,135.91070000000002,null,null,133.17850000000001,132.61150000000004,null,null,181.22899999999998,141.35492500000001,138.27718571428574,null,156.06662,null,null,null,null,null,null,141.21946666666668,145.15170000000001,null,152.62200000000001,null,null,null,125.97640000000001,132.38605000000001,133.27930000000001,{"$f":"+INDEX(D883:AF883,1,aux_pr_ue!$P$2)","v":152.62200000000001},{"$f":"+INDEX(D883:AF883,1,aux_pr_ue!$Q$2)","v":125.97640000000001}]
["Feed Barley1997/03","Feed Barley","1997/03",137.29070000000002,137,null,null,126.7504,133.65255555555552,null,null,176.5549,132.38466249999999,134.2869,null,153.22743333333335,null,null,null,null,null,null,139.70103333333336,147.32455000000002,null,150.26224999999999,null,null,null,124.19890000000001,131.74254999999999,128.04377500000001,{"$f":"+INDEX(D884:AF884,1,aux_pr_ue!$P$2)","v":150.26224999999999},{"$f":"+INDEX(D884:AF884,1,aux_pr_ue!$Q$2)","v":124.19890000000001}]
["Feed Barley1997/02","Feed Barley","1997/02",136.61160000000001,132.2586,null,null,126.001,132.50518888888891,null,null,175.53989999999999,129.52991250000002,131.96729999999999,null,151.61938333333333,null,null,null,null,null,null,138.50956666666664,149.92896666666664,null,150.09950000000001,null,null,null,122.72895,131.79145,127.9779875,{"$f":"+INDEX(D885:AF885,1,aux_pr_ue!$P$2)","v":150.09950000000001},{"$f":"+INDEX(D885:AF885,1,aux_pr_ue!$Q$2)","v":122.72895}]
["Feed Barley1997/01","Feed Barley","1997/01",136.11440000000002,130.55430000000001,null,null,126.3661,134.38632222222225,null,null,175.90450000000001,127.55460000000001,131.70536999999999,null,150.93791666666667,null,null,null,null,null,null,140.38723333333334,148.9709,null,152.62200000000001,null,null,null,121.32050000000001,128.81085000000002,127.85003750000001,{"$f":"+INDEX(D886:AF886,1,aux_pr_ue!$P$2)","v":152.62200000000001},{"$f":"+INDEX(D886:AF886,1,aux_pr_ue!$Q$2)","v":121.32050000000001}]
["Feed Barley1996/12","Feed Barley","1996/12",134.0377,130.2715,null,null,123.68690000000001,133.21702222222223,null,null,173.21,131.194425,129.72971428571429,null,148.42433333333335,null,null,null,null,null,null,139.32123333333337,149.12700000000001,null,150.37925000000001,null,null,null,119.64330000000001,127.98410000000001,121.1708125,{"$f":"+INDEX(D887:AF887,1,aux_pr_ue!$P$2)","v":150.37925000000001},{"$f":"+INDEX(D887:AF887,1,aux_pr_ue!$Q$2)","v":119.64330000000001}]
["Feed Barley1996/11","Feed Barley","1996/11",133.22740000000002,129.3502,null,null,123.39200000000001,131.41937777777778,null,null,168.39875000000001,130.39508749999999,126.8774875,null,145.87831428571431,null,null,null,null,null,null,137.29913333333334,150.10790000000003,null,149.11220000000003,null,null,null,118.94470000000001,127.26165,122.7169375,{"$f":"+INDEX(D888:AF888,1,aux_pr_ue!$P$2)","v":149.11220000000003},{"$f":"+INDEX(D888:AF888,1,aux_pr_ue!$Q$2)","v":118.94470000000001}]
["Feed Barley1996/10","Feed Barley","1996/10",133.73400000000001,130.05500000000001,null,null,124.8635,132.47438888888891,null,null,170.00200000000001,132.64085000000003,127.59818571428572,null,147.94848571428571,null,null,null,null,null,null,138.44300000000001,149.59110000000001,null,151.13805000000002,null,null,null,118.93254999999999,127.01100000000001,124.23146250000001,{"$f":"+INDEX(D889:AF889,1,aux_pr_ue!$P$2)","v":151.13805000000002},{"$f":"+INDEX(D889:AF889,1,aux_pr_ue!$Q$2)","v":118.93254999999999}]
["Feed Barley1996/09","Feed Barley","1996/09",135.57650000000001,128.7988,null,null,124.25060000000001,132.37475555555557,null,null,172.14064999999999,128.64195000000001,128.97336666666666,null,145.67668571428572,null,null,null,null,null,null,139.18683333333334,155.25356666666667,null,148.20740000000001,null,null,null,118.16460000000001,128.24334999999999,124.11441250000001,{"$f":"+INDEX(D890:AF890,1,aux_pr_ue!$P$2)","v":148.20740000000001},{"$f":"+INDEX(D890:AF890,1,aux_pr_ue!$Q$2)","v":118.16460000000001}]
["Feed Barley1996/08","Feed Barley","1996/08",134.82910000000001,127.771,null,null,null,131.54871249999999,null,null,164.12180000000001,124.1886875,123.22076666666668,null,145.57707500000001,null,null,null,null,null,null,null,148.75635,null,146.47800000000001,null,null,null,114.71250000000001,133.32265000000001,null,{"$f":"+INDEX(D891:AF891,1,aux_pr_ue!$P$2)","v":146.47800000000001},{"$f":"+INDEX(D891:AF891,1,aux_pr_ue!$Q$2)","v":114.71250000000001}]
["Feed Barley1996/07","Feed Barley","1996/07",135.6223,135.36100000000002,null,null,null,130.98251111111111,null,null,164.10672499999998,124.37097500000002,125.68346666666667,null,147.08542500000001,null,null,null,null,null,null,143.18773333333334,145.90146666666666,null,145.05780000000001,null,null,null,129.15090000000001,null,125.18676666666666,{"$f":"+INDEX(D892:AF892,1,aux_pr_ue!$P$2)","v":145.05780000000001},{"$f":"+INDEX(D892:AF892,1,aux_pr_ue!$Q$2)","v":129.15090000000001}]
["Feed Barley1996/06","Feed Barley","1996/06",141.88920000000002,137.61600000000001,null,null,137.8229,149.22286666666665,null,null,157.172,133.74016250000003,132.81150000000002,null,151.11025000000001,null,null,null,null,null,null,146.04150000000001,156.45430000000002,null,163.72210000000001,null,null,null,130.19333333333333,139.03220000000002,138.59428750000001,{"$f":"+INDEX(D893:AF893,1,aux_pr_ue!$P$2)","v":163.72210000000001},{"$f":"+INDEX(D893:AF893,1,aux_pr_ue!$Q$2)","v":130.19333333333333}]
["Feed Barley1996/05","Feed Barley","1996/05",148.37130000000002,144.91900000000001,null,null,144.8399,153.27561250000002,null,null,null,141.4506375,138.1722,null,166.16248000000002,null,null,null,null,null,null,153.15216666666666,150.46196666666665,null,167.75850000000003,null,null,null,129.72120000000001,139.95204999999999,141.0933285714286,{"$f":"+INDEX(D894:AF894,1,aux_pr_ue!$P$2)","v":167.75850000000003},{"$f":"+INDEX(D894:AF894,1,aux_pr_ue!$Q$2)","v":129.72120000000001}]
["Feed Barley1996/04","Feed Barley","1996/04",145.9348,137.89100000000002,null,null,134.667,142.59706250000002,null,null,167.864,152.64511250000001,136.02145000000002,null,159.48141666666666,null,null,null,null,null,null,146.79253333333335,145.47256666666667,null,null,null,null,null,131.9075,136.50225,136.48442857142859,{"$f":"+INDEX(D895:AF895,1,aux_pr_ue!$P$2)","v":0},{"$f":"+INDEX(D895:AF895,1,aux_pr_ue!$Q$2)","v":131.9075}]
["Feed Barley1996/03","Feed Barley","1996/03",144.05250000000001,135.40315000000001,null,null,134.667,140.11185,null,null,182.833,153.2217,129.69498000000002,null,160.06836250000001,null,null,null,null,null,null,141.8475,146.18926666666667,null,null,null,null,null,133.44685000000001,137.46275000000003,135.98014285714288,{"$f":"+INDEX(D896:AF896,1,aux_pr_ue!$P$2)","v":0},{"$f":"+INDEX(D896:AF896,1,aux_pr_ue!$Q$2)","v":133.44685000000001}]
["Feed Barley1996/02","Feed Barley","1996/02",146.5686,136.58240000000001,null,null,135.21899999999999,139.32598999999999,null,null,162.34805,156.58330000000001,134.1166666666667,null,164.12442857142858,null,null,null,null,null,null,143.48949999999999,146.51559999999998,null,null,null,null,null,133.71225000000001,137.98755,141.180125,{"$f":"+INDEX(D897:AF897,1,aux_pr_ue!$P$2)","v":0},{"$f":"+INDEX(D897:AF897,1,aux_pr_ue!$Q$2)","v":133.71225000000001}]
["Feed Barley1996/01","Feed Barley","1996/01",148.98750000000001,136.78919999999999,null,null,135.334,137.58765000000002,null,null,176.5367,166.3409375,135.48367500000001,null,161.19185714285715,null,null,null,null,null,null,144.29803333333334,145.56376666666665,null,null,null,null,null,134.38760000000002,137.02395000000001,142.64615000000001,{"$f":"+INDEX(D898:AF898,1,aux_pr_ue!$P$2)","v":0},{"$f":"+INDEX(D898:AF898,1,aux_pr_ue!$Q$2)","v":134.38760000000002}]
["Feed Barley1995/12","Feed Barley","1995/12",148.13420000000002,135.48750000000001,null,null,134.46710000000002,134.45940000000002,null,null,182.4375,164.95568750000001,135.77670000000001,null,163.43242857142857,null,null,null,null,null,null,143.2492,140.8425,null,null,null,null,null,127.6493,135.03655000000001,142.16272500000002,{"$f":"+INDEX(D899:AF899,1,aux_pr_ue!$P$2)","v":0},{"$f":"+INDEX(D899:AF899,1,aux_pr_ue!$Q$2)","v":127.6493}]
["Feed Barley1995/11","Feed Barley","1995/11",145.04490000000001,134.89494999999999,null,null,129.73400000000001,132.10275000000001,null,null,179.51750000000001,159.5340625,147.97932,null,161.28597500000001,null,null,null,null,null,null,141.09983333333335,137.04563333333334,null,null,null,null,null,124.56346666666667,135.4119,140.85137500000002,{"$f":"+INDEX(D900:AF900,1,aux_pr_ue!$P$2)","v":0},{"$f":"+INDEX(D900:AF900,1,aux_pr_ue!$Q$2)","v":124.56346666666667}]
["Feed Barley1995/10","Feed Barley","1995/10",141.30070000000001,130.7227,null,null,127.18340000000001,127.57955000000003,null,null,177.47499999999999,155.27952500000004,134.15290000000002,null,158.37994285714285,null,null,null,null,null,null,137.29696666666669,133.12533333333334,null,null,null,null,null,122.45725000000002,130.21050000000002,134.09473750000001,{"$f":"+INDEX(D901:AF901,1,aux_pr_ue!$P$2)","v":0},{"$f":"+INDEX(D901:AF901,1,aux_pr_ue!$Q$2)","v":122.45725000000002}]
["Feed Barley1995/09","Feed Barley","1995/09",138.17910000000001,127.77050000000001,null,null,126.667,126.82328571428573,null,null,169.7321,152.70041250000003,132.95862499999998,null,156.70203333333333,null,null,null,null,null,null,137.20429999999999,130.53076666666666,null,null,null,null,null,119.18940000000002,130.2441,129.83550000000002,{"$f":"+INDEX(D902:AF902,1,aux_pr_ue!$P$2)","v":0},{"$f":"+INDEX(D902:AF902,1,aux_pr_ue!$Q$2)","v":119.18940000000002}]
["Feed Barley1995/08","Feed Barley","1995/08",135.91759999999999,127.77050000000001,null,null,null,120.22364444444445,null,null,171.76740000000001,147.3414875,130.30440000000002,null,155.73479999999998,null,null,null,null,null,null,135.29103333333333,131.42166666666665,null,148.83800000000002,null,null,null,116.83006666666667,131.96800000000002,127.08247499999999,{"$f":"+INDEX(D903:AF903,1,aux_pr_ue!$P$2)","v":148.83800000000002},{"$f":"+INDEX(D903:AF903,1,aux_pr_ue!$Q$2)","v":116.83006666666667}]
["Feed Barley1995/07","Feed Barley","1995/07",141.35990000000001,130.30100000000002,null,null,138.85900000000001,126.99814444444448,null,null,172.187725,142.112425,128.58642500000002,null,155.59690000000001,null,null,null,null,null,null,129.34900000000002,131.16589999999999,null,151.22820000000002,null,null,null,128.69393333333332,139.50164999999998,134.41485,{"$f":"+INDEX(D904:AF904,1,aux_pr_ue!$P$2)","v":151.22820000000002},{"$f":"+INDEX(D904:AF904,1,aux_pr_ue!$Q$2)","v":128.69393333333332}]
["Feed Barley1995/06","Feed Barley","1995/06",142.21620000000001,138.86320000000001,null,null,138.85900000000001,143.72415714285717,null,null,156.49995000000001,137.6973375,134.94862499999999,null,150.91386666666668,null,null,null,null,null,null,147.56866666666667,143.87033333333332,null,148.71205,null,null,null,134.02586666666664,140.53845000000001,141.07106250000004,{"$f":"+INDEX(D905:AF905,1,aux_pr_ue!$P$2)","v":148.71205},{"$f":"+INDEX(D905:AF905,1,aux_pr_ue!$Q$2)","v":134.02586666666664}]
["Feed Barley1995/05","Feed Barley","1995/05",142.51179999999999,137.78990000000002,null,null,137.02540000000002,143.00731111111111,null,null,null,141.6823875,144.85243999999997,null,161.17250000000001,null,null,null,null,null,null,148.8809,143.83933333333334,null,null,null,null,null,134.96563333333336,139.4529,140.94777500000001,{"$f":"+INDEX(D906:AF906,1,aux_pr_ue!$P$2)","v":0},{"$f":"+INDEX(D906:AF906,1,aux_pr_ue!$Q$2)","v":134.96563333333336}]
["Feed Barley1995/04","Feed Barley","1995/04",139.52090000000001,131.63150000000002,null,null,133.18640000000002,140.92014444444445,null,null,null,140.72795000000002,134.89403333333334,null,154.749075,null,null,null,null,null,null,142.56430000000003,145.51750000000001,null,null,null,null,null,130.24576666666667,138.02600000000001,136.65299999999999,{"$f":"+INDEX(D907:AF907,1,aux_pr_ue!$P$2)","v":0},{"$f":"+INDEX(D907:AF907,1,aux_pr_ue!$Q$2)","v":130.24576666666667}]
["Feed Barley1995/03","Feed Barley","1995/03",138.99620000000002,132.0069,null,null,132.4,140.16850000000002,null,null,182.13,142.54491250000001,133.5215,null,155.55353333333335,null,null,null,null,null,null,139.602,143.55743333333336,null,null,null,null,null,123.32310000000001,138.66315,136.39926250000002,{"$f":"+INDEX(D908:AF908,1,aux_pr_ue!$P$2)","v":0},{"$f":"+INDEX(D908:AF908,1,aux_pr_ue!$Q$2)","v":123.32310000000001}]
["Feed Barley1995/02","Feed Barley","1995/02",142.52780000000001,132.56290000000001,null,null,131.52270000000001,140.6420875,null,null,171.47455000000002,144.414975,135.13845000000001,null,160.10114285714286,null,null,null,null,null,null,141.81416666666667,138.45436666666669,null,null,null,null,null,125.38556666666666,137.31670000000003,138.30711250000002,{"$f":"+INDEX(D909:AF909,1,aux_pr_ue!$P$2)","v":0},{"$f":"+INDEX(D909:AF909,1,aux_pr_ue!$Q$2)","v":125.38556666666666}]
["Feed Barley1995/01","Feed Barley","1995/01",122.0224,113.35050000000001,null,null,110.50790000000001,119.26016250000002,null,null,141.5137,122.9349625,117.22188571428572,null,135.70500000000001,null,null,null,null,null,null,121.43623333333335,117.6305,null,null,null,null,null,109.12926666666665,119.53355000000001,117.9539875,{"$f":"+INDEX(D910:AF910,1,aux_pr_ue!$P$2)","v":0},{"$f":"+INDEX(D910:AF910,1,aux_pr_ue!$Q$2)","v":109.12926666666665}]
["Feed Barley1994/12","Feed Barley","1994/12",120.74640000000001,111.54600000000001,null,null,108.04300000000001,118.70830000000001,null,null,137.2099,121.6729625,115.990475,null,134.29388750000001,null,null,null,null,null,null,119.29013333333334,null,null,null,null,null,null,null,null,113.71742857142856,{"$f":"+INDEX(D911:AF911,1,aux_pr_ue!$P$2)","v":0},{"$f":"+INDEX(D911:AF911,1,aux_pr_ue!$Q$2)","v":0}]
["Feed Barley1994/11","Feed Barley","1994/11",120.12270000000001,111.54600000000001,null,null,108.0895,119.8236777777778,null,null,134.08530000000002,120.163,118.20571428571429,null,133.03217500000002,null,null,null,null,null,null,119.09873333333333,null,null,null,null,null,null,null,null,111.13630000000002,{"$f":"+INDEX(D912:AF912,1,aux_pr_ue!$P$2)","v":0},{"$f":"+INDEX(D912:AF912,1,aux_pr_ue!$Q$2)","v":0}]
["Feed Barley1994/10","Feed Barley","1994/10",118.6966,111.5133,null,null,107.1456,115.98366666666668,null,null,130.62200000000001,119.169025,113.3344,null,128.97060000000002,null,null,null,null,null,null,118.43933333333332,null,null,null,null,null,null,null,null,111.51841250000001,{"$f":"+INDEX(D913:AF913,1,aux_pr_ue!$P$2)","v":0},{"$f":"+INDEX(D913:AF913,1,aux_pr_ue!$Q$2)","v":0}]
["Feed Barley1994/09","Feed Barley","1994/09",117.5635,112.3065,null,null,107.50800000000001,115.90340000000002,null,null,132.45280000000002,115.98712499999999,113.15431666666667,null,128.44341250000002,null,null,null,null,null,null,118.2298,null,null,116.99300000000001,null,null,null,null,null,110.6586375,{"$f":"+INDEX(D914:AF914,1,aux_pr_ue!$P$2)","v":116.99300000000001},{"$f":"+INDEX(D914:AF914,1,aux_pr_ue!$Q$2)","v":0}]
["Feed Barley1994/08","Feed Barley","1994/08",116.40020000000001,null,null,null,null,110.36602222222223,null,null,133.48392000000001,111.803825,112.81710000000001,null,129.73912500000003,null,null,null,null,null,null,117.47629999999999,null,null,115.94825,null,null,null,null,null,110.56215,{"$f":"+INDEX(D915:AF915,1,aux_pr_ue!$P$2)","v":115.94825},{"$f":"+INDEX(D915:AF915,1,aux_pr_ue!$Q$2)","v":0}]
["Feed Barley1994/07","Feed Barley","1994/07",116.31740000000001,117.22439999999999,null,null,124.62400000000001,111.69867777777777,null,null,125.07205,106.57481250000001,109.95956000000001,null,127.5376375,null,null,null,null,null,null,119.94903333333336,null,null,113.12156,null,null,null,null,null,117.04563750000001,{"$f":"+INDEX(D916:AF916,1,aux_pr_ue!$P$2)","v":113.12156},{"$f":"+INDEX(D916:AF916,1,aux_pr_ue!$Q$2)","v":0}]
["Feed Barley1994/06","Feed Barley","1994/06",119.78890000000001,118.07964,null,null,124.62400000000001,126.26917142857144,null,null,118.36750000000001,106.76904999999999,106.49,null,122.95355000000001,null,null,null,null,null,null,126.58006666666667,null,null,null,null,null,null,null,null,128.64512500000001,{"$f":"+INDEX(D917:AF917,1,aux_pr_ue!$P$2)","v":0},{"$f":"+INDEX(D917:AF917,1,aux_pr_ue!$Q$2)","v":0}]
["Feed Barley1994/05","Feed Barley","1994/05",126.46740000000001,123.05192000000002,null,null,124.62400000000001,130.00393750000001,null,null,null,120.3813,122.31141666666667,null,141.69218571428573,null,null,null,null,null,null,132.41393333333335,null,null,null,null,null,null,null,null,126.71265,{"$f":"+INDEX(D918:AF918,1,aux_pr_ue!$P$2)","v":0},{"$f":"+INDEX(D918:AF918,1,aux_pr_ue!$Q$2)","v":0}]
["Feed Barley1994/04","Feed Barley","1994/04",127.0056,121.67172000000001,null,null,121.77120000000001,126.87350000000001,null,null,161.75910000000002,119.985175,123.73392857142859,null,140.12815000000001,null,null,null,null,null,null,131.43873333333332,null,null,null,null,null,null,null,null,122.42432500000002,{"$f":"+INDEX(D919:AF919,1,aux_pr_ue!$P$2)","v":0},{"$f":"+INDEX(D919:AF919,1,aux_pr_ue!$Q$2)","v":0}]
["Feed Barley1994/03","Feed Barley","1994/03",124.87530000000001,118.70886,null,null,121.14700000000001,123.855625,null,null,162.98330000000001,118.144125,124.53822,null,140.18178333333333,null,null,null,null,null,null,127.98336666666667,null,null,null,null,null,null,null,null,119.87288749999999,{"$f":"+INDEX(D920:AF920,1,aux_pr_ue!$P$2)","v":0},{"$f":"+INDEX(D920:AF920,1,aux_pr_ue!$Q$2)","v":0}]
["Feed Barley1994/02","Feed Barley","1994/02",124.80880000000001,118.27234000000001,null,null,120.51650000000001,122.71417777777778,null,null,163.06300000000002,120.30797499999998,121.24315000000001,null,141.87132500000001,null,null,null,null,null,null,126.95943333333334,null,null,null,null,null,null,null,null,117.4871875,{"$f":"+INDEX(D921:AF921,1,aux_pr_ue!$P$2)","v":0},{"$f":"+INDEX(D921:AF921,1,aux_pr_ue!$Q$2)","v":0}]
["Feed Barley1994/01","Feed Barley","1994/01",124.89360000000001,118.22274000000002,null,null,120.05980000000001,120.14297777777779,null,null,164.71255000000002,121.5347125,120.84093750000001,null,144.10557500000002,null,null,null,null,null,null,126.73479999999999,null,null,null,null,null,null,null,null,117.976275,{"$f":"+INDEX(D922:AF922,1,aux_pr_ue!$P$2)","v":0},{"$f":"+INDEX(D922:AF922,1,aux_pr_ue!$Q$2)","v":0}]
["Feed Barley1993/12","Feed Barley","1993/12",123.25930000000001,117.31454000000001,null,null,117.49220000000001,117.81089999999999,null,null,165.63500000000002,121.80962500000001,120.76315000000001,null,144.3564125,null,null,null,null,null,null,124.75260000000002,null,null,null,null,null,null,null,null,116.49192499999999,{"$f":"+INDEX(D923:AF923,1,aux_pr_ue!$P$2)","v":0},{"$f":"+INDEX(D923:AF923,1,aux_pr_ue!$Q$2)","v":0}]
["Feed Barley1993/11","Feed Barley","1993/11",120.71430000000001,115.6481,null,null,115.86930000000001,114.8935,null,null,165.87200000000001,119.42455,115.93972857142857,null,139.83383750000002,null,null,null,null,null,null,121.72293333333334,null,null,null,null,null,null,null,null,114.82655000000001,{"$f":"+INDEX(D924:AF924,1,aux_pr_ue!$P$2)","v":0},{"$f":"+INDEX(D924:AF924,1,aux_pr_ue!$Q$2)","v":0}]
["Feed Barley1993/10","Feed Barley","1993/10",118.63980000000001,113.85030000000002,null,null,114.2457,112.89591111111112,null,null,148.1514,114.71635000000001,113.5594875,null,137.26791249999999,null,null,null,null,null,null,117.5883,null,null,null,null,null,null,null,null,113.1382625,{"$f":"+INDEX(D925:AF925,1,aux_pr_ue!$P$2)","v":0},{"$f":"+INDEX(D925:AF925,1,aux_pr_ue!$Q$2)","v":0}]
["Feed Barley1993/09","Feed Barley","1993/09",118.1469,113.39026000000001,null,null,111.8009,113.10130000000001,null,null,148.3443666666667,109.77708749999999,111.27020000000002,null,138.51228750000001,null,null,null,null,null,null,116.57513333333334,null,null,114.85170000000001,null,null,null,null,null,111.88503750000001,{"$f":"+INDEX(D926:AF926,1,aux_pr_ue!$P$2)","v":114.85170000000001},{"$f":"+INDEX(D926:AF926,1,aux_pr_ue!$Q$2)","v":0}]
["Feed Barley1993/08","Feed Barley","1993/08",113.53460000000001,112.34819999999999,null,null,null,109.24735555555557,null,null,143.39025000000001,103.622275,111.25975000000001,null,137.53342500000002,null,null,null,null,null,null,116.53313333333334,null,null,112.54933333333334,null,null,null,null,null,109.96818749999998,{"$f":"+INDEX(D927:AF927,1,aux_pr_ue!$P$2)","v":112.54933333333334},{"$f":"+INDEX(D927:AF927,1,aux_pr_ue!$Q$2)","v":0}]
["Feed Barley1993/07","Feed Barley","1993/07",117.1003,111.7256,null,null,null,113.23342222222223,null,null,137.20016000000001,106.14117500000002,107.54067777777779,null,131.79630000000003,null,null,null,null,null,null,null,null,null,116.71900000000001,null,null,null,null,null,116.92473750000001,{"$f":"+INDEX(D928:AF928,1,aux_pr_ue!$P$2)","v":116.71900000000001},{"$f":"+INDEX(D928:AF928,1,aux_pr_ue!$Q$2)","v":0}]
["Feed Barley1993/06","Feed Barley","1993/06",130.31140000000002,142.41709999999998,null,null,null,139.25875555555555,null,null,null,123.7331375,104.54513750000001,null,123.1712142857143,null,null,null,null,null,null,145.63876666666667,null,null,null,null,null,null,null,null,142.0873125,{"$f":"+INDEX(D929:AF929,1,aux_pr_ue!$P$2)","v":0},{"$f":"+INDEX(D929:AF929,1,aux_pr_ue!$Q$2)","v":0}]
["Feed Barley1993/05","Feed Barley","1993/05",152.60220000000001,147.62910000000002,null,null,152.26580000000001,150.471575,null,null,null,157.54675,150.37358750000001,null,166.82962499999999,null,null,null,null,null,null,151.11196666666669,null,null,null,null,null,null,null,null,147.62538750000002,{"$f":"+INDEX(D930:AF930,1,aux_pr_ue!$P$2)","v":0},{"$f":"+INDEX(D930:AF930,1,aux_pr_ue!$Q$2)","v":0}]
["Feed Barley1993/04","Feed Barley","1993/04",150.49680000000001,144.89186000000001,null,null,151.72800000000001,147.34718888888889,null,null,null,154.61531250000002,150.73011666666665,null,165.16526000000002,null,null,null,null,null,null,148.49480000000003,null,null,null,null,null,null,null,null,144.7916625,{"$f":"+INDEX(D931:AF931,1,aux_pr_ue!$P$2)","v":0},{"$f":"+INDEX(D931:AF931,1,aux_pr_ue!$Q$2)","v":0}]
["Feed Barley1993/03","Feed Barley","1993/03",147.6576,138.82164,null,null,150.7997,146.21378888888887,null,null,177.21900000000002,149.38613749999999,142.13740000000001,null,163.14113333333336,null,null,null,null,null,null,144.47383333333335,null,null,null,null,null,null,null,null,143.4874125,{"$f":"+INDEX(D932:AF932,1,aux_pr_ue!$P$2)","v":0},{"$f":"+INDEX(D932:AF932,1,aux_pr_ue!$Q$2)","v":0}]
["Feed Barley1993/02","Feed Barley","1993/02",146.85580000000002,138.84842,null,null,150.0779,148.05593333333334,null,null,151.28050000000002,147.3814375,139.11846250000002,null,159.67425,null,null,null,null,null,null,143.79753333333335,null,null,null,null,null,null,null,null,142.25528750000004,{"$f":"+INDEX(D933:AF933,1,aux_pr_ue!$P$2)","v":0},{"$f":"+INDEX(D933:AF933,1,aux_pr_ue!$Q$2)","v":0}]
["Feed Barley1993/01","Feed Barley","1993/01",142.10599999999999,139.95057499999999,null,null,148.98240000000001,141.466475,null,null,151.23740000000001,147.9333,141.2774,null,157.59705714285715,null,null,null,null,null,null,144.18570000000003,null,null,null,null,null,null,null,null,142.76642500000003,{"$f":"+INDEX(D934:AF934,1,aux_pr_ue!$P$2)","v":0},{"$f":"+INDEX(D934:AF934,1,aux_pr_ue!$Q$2)","v":0}]
["Feed Barley1992/12","Feed Barley","1992/12",147.04240000000001,140.06140000000002,null,null,146.51179999999999,142.65380000000002,null,null,null,153.06185000000002,142.17554999999999,null,159.73447142857142,null,null,null,null,null,null,145.14276666666669,null,null,null,null,null,null,null,null,144.69873749999999,{"$f":"+INDEX(D935:AF935,1,aux_pr_ue!$P$2)","v":0},{"$f":"+INDEX(D935:AF935,1,aux_pr_ue!$Q$2)","v":0}]
["Feed Barley1992/11","Feed Barley","1992/11",148.58270000000002,140.26550000000003,null,null,146.58700000000002,142.28475,null,null,null,153.11411250000003,142.40998333333334,null,158.0264,null,null,null,null,null,null,146.08533333333335,null,null,null,null,null,null,null,null,148.88092500000002,{"$f":"+INDEX(D936:AF936,1,aux_pr_ue!$P$2)","v":0},{"$f":"+INDEX(D936:AF936,1,aux_pr_ue!$Q$2)","v":0}]
["Feed Barley1992/10","Feed Barley","1992/10",146.1746,138.66354999999999,null,null,146.16,139.83777777777777,null,143.51855999999998,null,147.8327625,141.42571428571429,null,155.89967500000003,null,null,null,null,null,null,144.43586666666667,null,null,null,null,null,null,null,null,145.40556249999997,{"$f":"+INDEX(D937:AF937,1,aux_pr_ue!$P$2)","v":0},{"$f":"+INDEX(D937:AF937,1,aux_pr_ue!$Q$2)","v":0}]
["Feed Barley1992/09","Feed Barley","1992/09",141.77000000000001,136.4905,null,null,null,138.78705555555558,null,146.13128,152.94499999999999,143.17162500000001,139.55307142857143,null,146.47092499999999,null,null,null,null,null,null,142.13396666666668,null,null,140.80966666666669,null,null,null,null,null,138.9611625,{"$f":"+INDEX(D938:AF938,1,aux_pr_ue!$P$2)","v":140.80966666666669},{"$f":"+INDEX(D938:AF938,1,aux_pr_ue!$Q$2)","v":0}]
["Feed Barley1992/08","Feed Barley","1992/08",137.78620000000001,133.64264000000003,null,null,null,133.63395555555559,null,141.34390000000002,146.26866666666669,142.60570000000001,135.72032500000003,null,145.87895,null,null,null,null,null,null,139.22416666666666,null,null,138.14366666666669,null,null,null,null,null,136.30126250000001,{"$f":"+INDEX(D939:AF939,1,aux_pr_ue!$P$2)","v":138.14366666666669},{"$f":"+INDEX(D939:AF939,1,aux_pr_ue!$Q$2)","v":0}]
["Feed Barley1992/07","Feed Barley","1992/07",140.54040000000001,134.46078,null,null,null,130.48223333333334,null,158.63968,146.26866666666669,146.41437500000001,134.25518571428572,null,144.703,null,null,null,null,null,null,136.10183333333333,null,null,137.27369999999999,null,null,null,null,null,137.16956250000001,{"$f":"+INDEX(D940:AF940,1,aux_pr_ue!$P$2)","v":137.27369999999999},{"$f":"+INDEX(D940:AF940,1,aux_pr_ue!$Q$2)","v":0}]
["Feed Barley1992/06","Feed Barley","1992/06",147.77670000000001,145.06043333333335,null,null,151.17100000000002,144.47540000000001,null,159.51216000000002,null,150.24032500000001,140.46148571428574,null,150.96615,null,null,null,null,null,null,146.60883333333334,null,null,null,null,null,null,null,null,147.47614285714286,{"$f":"+INDEX(D941:AF941,1,aux_pr_ue!$P$2)","v":0},{"$f":"+INDEX(D941:AF941,1,aux_pr_ue!$Q$2)","v":0}]
["Feed Barley1992/05","Feed Barley","1992/05",154.13660000000002,147.13694285714288,null,null,151.7088,151.55745555555552,null,158.53710000000001,null,157.21981249999999,150.51316363636363,null,169.41725,null,null,null,null,null,null,152.00383333333332,null,null,null,null,null,null,null,null,153.41910000000001,{"$f":"+INDEX(D942:AF942,1,aux_pr_ue!$P$2)","v":0},{"$f":"+INDEX(D942:AF942,1,aux_pr_ue!$Q$2)","v":0}]
["Feed Barley1992/04","Feed Barley","1992/04",153.0318,145.94875714285715,null,null,150.614,149.96743333333336,null,157.03700000000001,null,154.0274125,149.39137777777779,null,170.96100000000004,null,null,null,null,null,null,150.76623333333333,null,null,null,null,null,null,null,null,152.067025,{"$f":"+INDEX(D943:AF943,1,aux_pr_ue!$P$2)","v":0},{"$f":"+INDEX(D943:AF943,1,aux_pr_ue!$Q$2)","v":0}]
["Feed Barley1992/03","Feed Barley","1992/03",154.4905,147.06695714285712,null,null,150.93890000000002,150.52747777777779,null,157.41188000000002,null,153.19606250000001,148.12553750000004,null,170.1049142857143,null,null,null,null,null,null,152.57523333333336,null,null,null,null,null,null,null,null,153.16741250000001,{"$f":"+INDEX(D944:AF944,1,aux_pr_ue!$P$2)","v":0},{"$f":"+INDEX(D944:AF944,1,aux_pr_ue!$Q$2)","v":0}]
["Feed Barley1992/02","Feed Barley","1992/02",155.0035,147.43872857142856,null,null,151.4495,150.9560888888889,null,157.42942000000002,null,153.58487500000001,151.54124999999999,null,171.99705714285713,null,null,null,null,null,null,153.31133333333332,null,null,null,null,null,null,null,null,154.23659999999998,{"$f":"+INDEX(D945:AF945,1,aux_pr_ue!$P$2)","v":0},{"$f":"+INDEX(D945:AF945,1,aux_pr_ue!$Q$2)","v":0}]
["Feed Barley1992/01","Feed Barley","1992/01",154.21270000000001,147.56445714285715,null,null,152.39600000000002,149.20056666666667,null,156.06970000000001,155.01783333333333,153.0699625,153.21572499999999,null,170.11831428571432,null,null,null,null,null,null,153.32323333333335,null,null,null,null,null,null,null,null,154.64765,{"$f":"+INDEX(D946:AF946,1,aux_pr_ue!$P$2)","v":0},{"$f":"+INDEX(D946:AF946,1,aux_pr_ue!$Q$2)","v":0}]
["Feed Barley1991/12","Feed Barley","1991/12",151.7978,146.565,null,null,151.8921,147.06299999999999,null,152.02980000000002,162.62,151.63580000000002,155.29070000000002,null,168.06217142857145,null,null,null,null,null,null,152.08563333333336,null,null,null,null,null,null,null,null,151.39265,{"$f":"+INDEX(D947:AF947,1,aux_pr_ue!$P$2)","v":0},{"$f":"+INDEX(D947:AF947,1,aux_pr_ue!$Q$2)","v":0}]
["Feed Barley1991/11","Feed Barley","1991/11",151.0094,145.30111428571428,null,null,149.46360000000001,143.78965555555558,null,151.41626000000002,158.654,148.71803750000001,151.69166666666669,null,164.53149999999999,null,null,null,null,null,null,151.14343333333335,null,null,null,null,null,null,null,null,148.99068749999998,{"$f":"+INDEX(D948:AF948,1,aux_pr_ue!$P$2)","v":0},{"$f":"+INDEX(D948:AF948,1,aux_pr_ue!$Q$2)","v":0}]
["Feed Barley1991/10","Feed Barley","1991/10",147.7397,142.53265714285715,null,null,148.2612,141.93574444444445,null,149.40912000000003,151.29939999999999,146.41887500000001,149.72010000000003,null,159.08881428571428,null,null,null,null,null,null,149.99733333333336,null,null,null,null,null,null,null,null,144.48988750000001,{"$f":"+INDEX(D949:AF949,1,aux_pr_ue!$P$2)","v":0},{"$f":"+INDEX(D949:AF949,1,aux_pr_ue!$Q$2)","v":0}]
["Feed Barley1991/09","Feed Barley","1991/09",144.54990000000001,139.8442,null,null,146.4744,136.35438888888891,null,147.51810000000003,152.04333333333332,143.62558749999999,147.21636666666666,null,157.53654285714288,null,null,null,null,null,null,148.12723333333335,null,null,null,null,null,null,null,null,138.96667500000001,{"$f":"+INDEX(D950:AF950,1,aux_pr_ue!$P$2)","v":0},{"$f":"+INDEX(D950:AF950,1,aux_pr_ue!$Q$2)","v":0}]
["Feed Barley1991/08","Feed Barley","1991/08",140.94370000000001,136.49164000000002,null,null,null,132.95823333333337,null,147.06753999999998,152.98000000000002,140.08371250000002,142.73362999999998,null,158.83552500000002,null,null,null,null,null,null,140.02483333333333,null,null,null,null,null,null,null,null,136.34143750000001,{"$f":"+INDEX(D951:AF951,1,aux_pr_ue!$P$2)","v":0},{"$f":"+INDEX(D951:AF951,1,aux_pr_ue!$Q$2)","v":0}]
["Feed Barley1991/07","Feed Barley","1991/07",146.47900000000001,150.03307999999998,null,null,null,140.3844125,null,161.36484000000002,152.79920000000001,143.57113749999999,138.17270000000002,null,158.26587499999999,null,null,null,null,null,null,139.16133333333335,null,null,null,null,null,null,null,null,138.61310000000003,{"$f":"+INDEX(D952:AF952,1,aux_pr_ue!$P$2)","v":0},{"$f":"+INDEX(D952:AF952,1,aux_pr_ue!$Q$2)","v":0}]
["Feed Barley1991/06","Feed Barley","1991/06",159.9846,161.18568333333334,null,null,163.9777,157.58515555555559,null,170.05754000000002,153.41400000000002,155.40495000000001,148.43481249999999,null,180.10719999999998,null,null,null,null,null,null,157.13390000000001,null,null,null,null,null,null,null,null,165.0842375,{"$f":"+INDEX(D953:AF953,1,aux_pr_ue!$P$2)","v":0},{"$f":"+INDEX(D953:AF953,1,aux_pr_ue!$Q$2)","v":0}]
["Feed Barley1991/05","Feed Barley","1991/05",162.78270000000001,157.60696666666669,null,null,163.83430000000001,154.21654444444445,null,171.30926000000002,null,159.6399625,164.47087500000001,null,175.50134285714284,null,null,null,null,null,null,161.61093333333335,null,null,null,null,null,null,null,null,162.17335,{"$f":"+INDEX(D954:AF954,1,aux_pr_ue!$P$2)","v":0},{"$f":"+INDEX(D954:AF954,1,aux_pr_ue!$Q$2)","v":0}]
["Feed Barley1991/04","Feed Barley","1991/04",158.52460000000002,152.50526666666667,null,null,162.53910000000002,151.96865555555556,null,168.48500000000001,null,157.79055,159.05854999999997,null,173.99075714285715,null,null,null,null,null,null,157.40353333333334,null,null,null,null,null,null,null,null,160.9239125,{"$f":"+INDEX(D955:AF955,1,aux_pr_ue!$P$2)","v":0},{"$f":"+INDEX(D955:AF955,1,aux_pr_ue!$Q$2)","v":0}]
["Feed Barley1991/03","Feed Barley","1991/03",156.74,150.78908333333337,null,null,157.9271,149.36923333333334,null,155.02289999999999,180.065,153.34896250000003,157.93438,null,173.0514,null,null,null,null,null,null,154.52833333333334,null,null,null,null,null,null,null,null,157.31693749999999,{"$f":"+INDEX(D956:AF956,1,aux_pr_ue!$P$2)","v":0},{"$f":"+INDEX(D956:AF956,1,aux_pr_ue!$Q$2)","v":0}]
["Feed Barley1991/02","Feed Barley","1991/02",153.62550000000002,149.20883333333336,null,null,152.07060000000001,147.55346666666668,null,155.11294000000004,180.065,153.0312375,154.46305454545453,null,166.47911428571427,null,null,null,null,null,null,153.15103333333334,null,null,null,null,null,null,null,null,153.20287500000001,{"$f":"+INDEX(D957:AF957,1,aux_pr_ue!$P$2)","v":0},{"$f":"+INDEX(D957:AF957,1,aux_pr_ue!$Q$2)","v":0}]
["Feed Barley1991/01","Feed Barley","1991/01",154.13550000000001,149.66754,null,null,151.72800000000001,147.48366250000001,null,154.84854000000001,177.89600000000002,154.54402500000003,151.8945888888889,null,166.50672857142857,null,null,null,null,null,null,152.58066666666664,null,null,null,null,null,null,null,null,152.68383750000004,{"$f":"+INDEX(D958:AF958,1,aux_pr_ue!$P$2)","v":0},{"$f":"+INDEX(D958:AF958,1,aux_pr_ue!$Q$2)","v":0}]
["Malting Barley2017/07","Malting Barley","2017/07",180.02960000000002,null,null,null,null,205.47127500000002,null,null,184.414075,174.64517499999999,177.41899999999998,null,null,null,190,null,null,null,null,null,null,155.26600000000002,181.51610000000002,148.0805,null,null,150,null,152.131,{"$f":"+INDEX(D959:AF959,1,aux_pr_ue!$P$2)","v":181.51610000000002},{"$f":"+INDEX(D959:AF959,1,aux_pr_ue!$Q$2)","v":150}]
["Malting Barley2017/06","Malting Barley","2017/06",174.59720000000002,null,null,null,null,203.21366666666668,null,null,186.98716666666667,169.13832500000001,177,null,null,null,null,null,null,null,null,null,null,175.8382,160,null,null,null,150,null,159.24540000000002,{"$f":"+INDEX(D960:AF960,1,aux_pr_ue!$P$2)","v":160},{"$f":"+INDEX(D960:AF960,1,aux_pr_ue!$Q$2)","v":150}]
["Malting Barley2017/05","Malting Barley","2017/05",175.4759,null,null,null,null,201.77149999999997,null,null,185,165.29395,177.05,null,null,null,null,171.74,null,null,null,null,null,174.7645,null,null,null,null,150,null,165.8322,{"$f":"+INDEX(D961:AF961,1,aux_pr_ue!$P$2)","v":0},{"$f":"+INDEX(D961:AF961,1,aux_pr_ue!$Q$2)","v":150}]
["Malting Barley2017/04","Malting Barley","2017/04",172.20320000000001,null,null,191.71200000000002,null,199.634175,null,null,186.66670000000002,156.68,182.35288000000003,null,null,null,null,166.39,null,null,null,null,null,168.553,null,null,null,null,150,null,166.0848,{"$f":"+INDEX(D962:AF962,1,aux_pr_ue!$P$2)","v":0},{"$f":"+INDEX(D962:AF962,1,aux_pr_ue!$Q$2)","v":150}]
["Malting Barley2017/03","Malting Barley","2017/03",173.8922,null,null,181.78450000000001,null,190.50298000000004,null,null,180,156.02257500000002,184.56987500000002,null,null,null,148.1,169.79,null,null,null,null,null,163.55330000000001,null,null,null,null,150,null,162.23760000000001,{"$f":"+INDEX(D963:AF963,1,aux_pr_ue!$P$2)","v":0},{"$f":"+INDEX(D963:AF963,1,aux_pr_ue!$Q$2)","v":150}]
["Malting Barley2017/02","Malting Barley","2017/02",174.63300000000001,null,null,null,null,198.19675000000001,null,null,196.07140000000001,155.90357499999999,183.55107500000003,null,null,null,null,161.47560000000001,null,null,null,null,null,162.70140000000001,null,null,null,null,148.58250000000001,null,163.38760000000002,{"$f":"+INDEX(D964:AF964,1,aux_pr_ue!$P$2)","v":0},{"$f":"+INDEX(D964:AF964,1,aux_pr_ue!$Q$2)","v":148.58250000000001}]
["Malting Barley2017/01","Malting Barley","2017/01",170.65780000000001,null,null,null,null,199.43915000000001,null,null,183.61110000000002,155.37097499999999,183.80285000000001,null,null,null,null,null,null,null,null,null,null,154.09200000000001,null,null,null,null,150,null,160.88380000000001,{"$f":"+INDEX(D965:AF965,1,aux_pr_ue!$P$2)","v":0},{"$f":"+INDEX(D965:AF965,1,aux_pr_ue!$Q$2)","v":150}]
["Malting Barley2016/12","Malting Barley","2016/12",166.08970000000002,null,null,null,null,200.07582500000001,null,null,180,155.21775,182.4,null,null,null,110,157.63500000000002,null,null,null,null,null,154.23860000000002,null,null,null,null,150.04259999999999,null,162.6609,{"$f":"+INDEX(D966:AF966,1,aux_pr_ue!$P$2)","v":0},{"$f":"+INDEX(D966:AF966,1,aux_pr_ue!$Q$2)","v":150.04259999999999}]
["Malting Barley2016/11","Malting Barley","2016/11",168.2115,null,null,null,null,199.98020000000002,null,154.5,175,152.23332499999998,178.845,null,null,null,null,null,null,null,null,null,null,154.23430000000002,null,null,null,null,150.03300000000002,null,158.9299,{"$f":"+INDEX(D967:AF967,1,aux_pr_ue!$P$2)","v":0},{"$f":"+INDEX(D967:AF967,1,aux_pr_ue!$Q$2)","v":150.03300000000002}]
["Malting Barley2016/10","Malting Barley","2016/10",167.48099999999999,null,null,null,null,196.752725,null,null,186.5,150.03225,176.10127499999999,null,null,null,130.85,161.47499999999999,null,null,null,null,null,163.6491,null,null,null,null,150,null,140.51140000000001,{"$f":"+INDEX(D968:AF968,1,aux_pr_ue!$P$2)","v":0},{"$f":"+INDEX(D968:AF968,1,aux_pr_ue!$Q$2)","v":150}]
["Malting Barley2016/09","Malting Barley","2016/09",167.9057,null,null,null,null,197.34332499999999,null,null,189.66670000000002,151.42500000000001,184.41755000000001,null,null,null,100,146.29,null,null,null,null,null,160.61690000000002,190,null,null,null,151.83330000000001,null,148.86660000000001,{"$f":"+INDEX(D969:AF969,1,aux_pr_ue!$P$2)","v":190},{"$f":"+INDEX(D969:AF969,1,aux_pr_ue!$Q$2)","v":151.83330000000001}]
["Malting Barley2016/08","Malting Barley","2016/08",172.08950000000002,null,null,null,null,193.33475000000001,null,null,190,152.02182500000001,188.69045,null,null,null,123.25,146.4753,null,null,null,null,null,159.983,190,133.49420000000001,null,null,145.21350000000001,null,144.11260000000001,{"$f":"+INDEX(D970:AF970,1,aux_pr_ue!$P$2)","v":190},{"$f":"+INDEX(D970:AF970,1,aux_pr_ue!$Q$2)","v":145.21350000000001}]
["Malting Barley2016/07","Malting Barley","2016/07",170.3098,null,null,208.8321,null,182.62197500000002,null,150,190,162.14515,183.625,null,null,null,null,152.89000000000001,null,null,null,null,null,145.89850000000001,190,null,null,null,132.33000000000001,null,132.78229999999999,{"$f":"+INDEX(D971:AF971,1,aux_pr_ue!$P$2)","v":190},{"$f":"+INDEX(D971:AF971,1,aux_pr_ue!$Q$2)","v":132.33000000000001}]
["Malting Barley2016/06","Malting Barley","2016/06",166.15450000000001,null,null,208.5693,null,174.62292500000001,null,150,185,168.23330000000001,159.90559999999999,null,null,null,null,155.9,null,null,null,null,null,163.41130000000001,null,null,null,null,132.33000000000001,null,146.10140000000001,{"$f":"+INDEX(D972:AF972,1,aux_pr_ue!$P$2)","v":0},{"$f":"+INDEX(D972:AF972,1,aux_pr_ue!$Q$2)","v":132.33000000000001}]
["Malting Barley2016/05","Malting Barley","2016/05",161.47300000000001,null,null,null,null,173.30556666666666,null,null,180,170.91323333333332,155.63287500000001,null,null,null,null,164.71100000000001,null,null,null,null,null,158.6934,null,null,null,null,132.30520000000001,null,143.67619999999999,{"$f":"+INDEX(D973:AF973,1,aux_pr_ue!$P$2)","v":0},{"$f":"+INDEX(D973:AF973,1,aux_pr_ue!$Q$2)","v":132.30520000000001}]
["Malting Barley2016/04","Malting Barley","2016/04",162.8098,null,null,null,null,174.089225,null,null,180,173.02223333333336,155.36032499999999,null,null,null,null,157.79089999999999,null,null,null,null,null,164.26260000000002,null,null,null,null,132.0197,null,137.11080000000001,{"$f":"+INDEX(D974:AF974,1,aux_pr_ue!$P$2)","v":0},{"$f":"+INDEX(D974:AF974,1,aux_pr_ue!$Q$2)","v":132.0197}]
["Malting Barley2016/03","Malting Barley","2016/03",165.02790000000002,null,null,null,null,174.00749999999999,136,null,184.7,177.88816666666665,157.18552499999998,null,null,null,null,160.2972,null,null,null,null,null,159.77450000000002,null,null,null,null,132.02970000000002,null,138.29519999999999,{"$f":"+INDEX(D975:AF975,1,aux_pr_ue!$P$2)","v":0},{"$f":"+INDEX(D975:AF975,1,aux_pr_ue!$Q$2)","v":132.02970000000002}]
["Malting Barley2016/02","Malting Barley","2016/02",166.52430000000001,null,null,152.82340000000002,null,175.07689999999999,136,null,188,181.06666666666669,165.20876666666666,null,null,null,null,166.02670000000001,null,null,null,null,null,164.0001,null,null,null,null,135.63210000000001,null,138.69720000000001,{"$f":"+INDEX(D976:AF976,1,aux_pr_ue!$P$2)","v":0},{"$f":"+INDEX(D976:AF976,1,aux_pr_ue!$Q$2)","v":135.63210000000001}]
["Malting Barley2016/01","Malting Barley","2016/01",171.65120000000002,null,null,153.89490000000001,null,181.552075,127,null,null,176.41666666666666,170.377825,null,null,null,null,170.66679999999999,null,null,null,null,null,165.12790000000001,null,null,null,null,142.0968,null,147.3254,{"$f":"+INDEX(D977:AF977,1,aux_pr_ue!$P$2)","v":0},{"$f":"+INDEX(D977:AF977,1,aux_pr_ue!$Q$2)","v":142.0968}]
["Malting Barley2015/12","Malting Barley","2015/12",177.13030000000001,null,null,153.7234,null,187.66883333333337,131,null,null,184.88890000000001,175.69620000000003,null,null,null,null,162.86100000000002,null,null,null,null,null,172.9075,null,null,null,null,147.6935,null,153.00810000000001,{"$f":"+INDEX(D978:AF978,1,aux_pr_ue!$P$2)","v":0},{"$f":"+INDEX(D978:AF978,1,aux_pr_ue!$Q$2)","v":147.6935}]
["Malting Barley2015/11","Malting Barley","2015/11",177.35500000000002,null,null,156.42500000000001,null,192.03787500000001,140.625,null,null,185.57776666666666,177.12177500000001,null,null,null,null,157.56640000000002,null,null,null,null,null,174.29250000000002,null,null,null,null,152.81820000000002,null,158.6541,{"$f":"+INDEX(D979:AF979,1,aux_pr_ue!$P$2)","v":0},{"$f":"+INDEX(D979:AF979,1,aux_pr_ue!$Q$2)","v":152.81820000000002}]
["Malting Barley2015/10","Malting Barley","2015/10",177.97970000000001,null,null,158.23420000000002,null,194.53527500000001,null,null,null,182.41666666666666,179.60180000000003,null,null,null,null,163.16,null,null,null,null,null,161.80959999999999,null,null,null,null,158,null,151.80080000000001,{"$f":"+INDEX(D980:AF980,1,aux_pr_ue!$P$2)","v":0},{"$f":"+INDEX(D980:AF980,1,aux_pr_ue!$Q$2)","v":158}]
["Malting Barley2015/09","Malting Barley","2015/09",175.8638,null,null,157.208,null,193.81720000000001,null,null,null,179.73333333333335,172.61,null,null,null,null,152.14870000000002,null,null,null,null,null,167.20940000000002,null,154.0231,null,null,162,null,148.21800000000002,{"$f":"+INDEX(D981:AF981,1,aux_pr_ue!$P$2)","v":0},{"$f":"+INDEX(D981:AF981,1,aux_pr_ue!$Q$2)","v":162}]
["Malting Barley2015/08","Malting Barley","2015/08",178.92060000000001,null,null,167.56400000000002,null,197.30410000000001,null,null,null,181,184.84023333333334,null,null,null,null,142.5633,null,null,null,null,null,166.90620000000001,null,157.24830000000003,null,null,null,null,151.9376,{"$f":"+INDEX(D982:AF982,1,aux_pr_ue!$P$2)","v":0},{"$f":"+INDEX(D982:AF982,1,aux_pr_ue!$Q$2)","v":0}]
["Malting Barley2015/07","Malting Barley","2015/07",178.52710000000002,null,null,165.52590000000001,null,203.54577500000002,null,null,null,180,194.73522499999999,null,null,null,null,155.78,null,null,null,null,null,160.5624,null,148.4691,null,null,145,null,177.2098,{"$f":"+INDEX(D983:AF983,1,aux_pr_ue!$P$2)","v":0},{"$f":"+INDEX(D983:AF983,1,aux_pr_ue!$Q$2)","v":145}]
["Malting Barley2015/06","Malting Barley","2015/06",168.5198,null,null,161.63460000000001,null,197.395825,null,null,null,180,197.52907499999998,null,null,null,null,88.494700000000009,null,null,null,null,null,165.85130000000001,null,null,null,null,147.5,null,164.39320000000001,{"$f":"+INDEX(D984:AF984,1,aux_pr_ue!$P$2)","v":0},{"$f":"+INDEX(D984:AF984,1,aux_pr_ue!$Q$2)","v":147.5}]
["Malting Barley2015/05","Malting Barley","2015/05",177.47310000000002,null,null,161.6276,null,194.55217500000001,null,null,null,180,182.76446666666666,null,null,null,null,173.94,null,null,null,null,null,166.95800000000003,null,null,null,null,149.72580000000002,null,162.54170000000002,{"$f":"+INDEX(D985:AF985,1,aux_pr_ue!$P$2)","v":0},{"$f":"+INDEX(D985:AF985,1,aux_pr_ue!$Q$2)","v":149.72580000000002}]
["Malting Barley2015/04","Malting Barley","2015/04",179.04400000000001,null,null,163.8262,null,194.63525000000001,null,null,null,182.375,183.91345000000001,null,null,null,null,175.0437,null,null,null,null,null,177.6465,null,null,null,null,152.23330000000001,null,168.19150000000002,{"$f":"+INDEX(D986:AF986,1,aux_pr_ue!$P$2)","v":0},{"$f":"+INDEX(D986:AF986,1,aux_pr_ue!$Q$2)","v":152.23330000000001}]
["Malting Barley2015/03","Malting Barley","2015/03",180.89600000000002,null,null,172.0155,null,196.29570000000001,null,null,null,182.6377,184.34739999999999,null,null,null,null,170.4503,null,null,null,null,null,173.28970000000001,null,null,null,null,154.56450000000001,null,169.09970000000001,{"$f":"+INDEX(D987:AF987,1,aux_pr_ue!$P$2)","v":0},{"$f":"+INDEX(D987:AF987,1,aux_pr_ue!$Q$2)","v":154.56450000000001}]
["Malting Barley2015/02","Malting Barley","2015/02",183.3338,null,null,173.0223,null,199.62303333333332,null,null,null,180,185.43000000000004,null,null,null,null,183.91040000000001,null,null,null,null,null,174.17695000000003,null,null,null,null,158.41070000000002,null,173.9271,{"$f":"+INDEX(D988:AF988,1,aux_pr_ue!$P$2)","v":0},{"$f":"+INDEX(D988:AF988,1,aux_pr_ue!$Q$2)","v":158.41070000000002}]
["Malting Barley2015/01","Malting Barley","2015/01",188.16580000000002,null,null,169.45080000000002,null,209.30022500000001,null,null,null,180,195.27213333333336,null,null,null,null,204.68290000000002,null,null,null,null,null,172.14940000000001,null,null,null,null,160.62290000000002,null,177.60150000000002,{"$f":"+INDEX(D989:AF989,1,aux_pr_ue!$P$2)","v":0},{"$f":"+INDEX(D989:AF989,1,aux_pr_ue!$Q$2)","v":160.62290000000002}]
["Malting Barley2014/12","Malting Barley","2014/12",185.16250000000002,null,null,169.10400000000001,null,211.55790000000002,null,null,null,176,197.06030000000001,null,null,null,null,177.82310000000001,null,null,null,null,null,176.86270000000002,null,null,null,null,157.48390000000001,null,169.0505,{"$f":"+INDEX(D990:AF990,1,aux_pr_ue!$P$2)","v":0},{"$f":"+INDEX(D990:AF990,1,aux_pr_ue!$Q$2)","v":157.48390000000001}]
["Malting Barley2014/11","Malting Barley","2014/11",181.83440000000002,null,null,165.72320000000002,194.10560000000001,202.25467499999999,null,null,null,173.36815000000001,191.70780000000002,null,null,null,null,171.08500000000001,null,null,null,null,null,167.2466,null,null,null,null,152.827,null,160.26050000000001,{"$f":"+INDEX(D991:AF991,1,aux_pr_ue!$P$2)","v":0},{"$f":"+INDEX(D991:AF991,1,aux_pr_ue!$Q$2)","v":152.827}]
["Malting Barley2014/10","Malting Barley","2014/10",174.58,null,null,168.81460000000001,178.2817,194.61347499999999,null,null,null,170.72579999999999,177.12305000000001,null,null,null,null,158.10339999999999,null,null,null,null,null,165.90145000000001,null,null,null,null,148.95160000000001,null,149.76140000000001,{"$f":"+INDEX(D992:AF992,1,aux_pr_ue!$P$2)","v":0},{"$f":"+INDEX(D992:AF992,1,aux_pr_ue!$Q$2)","v":148.95160000000001}]
["Malting Barley2014/09","Malting Barley","2014/09",171.82580000000002,null,null,161.73700000000002,175.6217,194.02777500000002,null,null,null,168.5,166.533075,null,null,null,null,152.60830000000001,null,null,null,null,172.5,171.8888,null,null,null,null,149.91670000000002,null,157.58466666666666,{"$f":"+INDEX(D993:AF993,1,aux_pr_ue!$P$2)","v":0},{"$f":"+INDEX(D993:AF993,1,aux_pr_ue!$Q$2)","v":149.91670000000002}]
["Malting Barley2014/08","Malting Barley","2014/08",174.4657,null,null,175.64285000000001,181.09020000000001,198.90290000000002,null,null,null,180,175.68,null,null,null,null,160.61620000000002,null,null,null,null,null,170.47720000000001,null,null,null,null,152.26,null,157.16162,{"$f":"+INDEX(D994:AF994,1,aux_pr_ue!$P$2)","v":0},{"$f":"+INDEX(D994:AF994,1,aux_pr_ue!$Q$2)","v":152.26}]
["Malting Barley2014/07","Malting Barley","2014/07",184.7561,null,null,178.15700000000001,181.7098,209.99895000000001,null,null,null,175,175.375,161.4658,null,null,null,190.77370000000002,null,null,null,null,null,165.66750000000002,null,162.89610000000002,null,null,163,null,174.29753333333338,{"$f":"+INDEX(D995:AF995,1,aux_pr_ue!$P$2)","v":0},{"$f":"+INDEX(D995:AF995,1,aux_pr_ue!$Q$2)","v":163}]
["Malting Barley2014/06","Malting Barley","2014/06",192.4127,null,null,184.79150000000001,184.03890000000001,216.00113333333334,null,null,null,176.1,null,null,null,null,null,189.50800000000001,null,null,null,null,null,198.6705,null,null,null,null,160.80430000000001,null,null,{"$f":"+INDEX(D996:AF996,1,aux_pr_ue!$P$2)","v":0},{"$f":"+INDEX(D996:AF996,1,aux_pr_ue!$Q$2)","v":160.80430000000001}]
["Malting Barley2014/05","Malting Barley","2014/05",197.40110000000001,null,null,186.27530000000002,187.5026,221.71472500000002,null,null,null,178,200.21665000000002,null,null,null,null,190.41740000000001,null,null,null,null,null,194.5445,null,null,null,null,161.39320000000001,null,null,{"$f":"+INDEX(D997:AF997,1,aux_pr_ue!$P$2)","v":0},{"$f":"+INDEX(D997:AF997,1,aux_pr_ue!$Q$2)","v":161.39320000000001}]
["Malting Barley2014/04","Malting Barley","2014/04",194.41420000000002,null,null,188.9813,191.54180000000002,222.2826,null,null,null,191,199.80520000000001,null,null,null,null,191.30850000000001,null,null,null,null,null,194.9821,null,null,null,null,158.6883,null,185.98940000000002,{"$f":"+INDEX(D998:AF998,1,aux_pr_ue!$P$2)","v":0},{"$f":"+INDEX(D998:AF998,1,aux_pr_ue!$Q$2)","v":158.6883}]
["Malting Barley2014/03","Malting Barley","2014/03",193.47540000000001,null,null,184.87115,187.45270000000002,214.63405,null,null,null,185.12903333333335,195.43943333333334,null,null,null,null,194.95060000000001,null,null,null,null,null,194.7311,null,239.02800000000002,null,null,155.77080000000001,null,180.84520000000001,{"$f":"+INDEX(D999:AF999,1,aux_pr_ue!$P$2)","v":0},{"$f":"+INDEX(D999:AF999,1,aux_pr_ue!$Q$2)","v":155.77080000000001}]
["Malting Barley2014/02","Malting Barley","2014/02",186.0701,null,null,184.2722,177.48910000000001,209.14830000000001,null,null,null,176.05360000000002,185.39303333333336,null,null,null,null,181.46260000000001,null,null,null,null,null,198.1671,null,239.02800000000002,null,null,152.76920000000001,null,180.5838,{"$f":"+INDEX(D1000:AF1000,1,aux_pr_ue!$P$2)","v":0},{"$f":"+INDEX(D1000:AF1000,1,aux_pr_ue!$Q$2)","v":152.76920000000001}]
["Malting Barley2014/01","Malting Barley","2014/01",188.05549999999999,null,null,192.67995000000002,178.07830000000001,209.48137500000001,null,null,null,181.322575,184.66333333333333,null,null,null,null,183.63590000000002,null,null,null,null,null,208.07590000000002,null,null,null,null,154.95230000000001,null,181.49325000000002,{"$f":"+INDEX(D1001:AF1001,1,aux_pr_ue!$P$2)","v":0},{"$f":"+INDEX(D1001:AF1001,1,aux_pr_ue!$Q$2)","v":154.95230000000001}]
["Malting Barley2013/12","Malting Barley","2013/12",192.86270000000002,null,null,206.46260000000001,181.00810000000001,212.155,null,null,null,179.03225,185.65,null,null,null,null,194.49280000000002,null,null,null,null,null,201.50570000000002,null,156.6942,null,null,158.06190000000001,null,null,{"$f":"+INDEX(D1002:AF1002,1,aux_pr_ue!$P$2)","v":0},{"$f":"+INDEX(D1002:AF1002,1,aux_pr_ue!$Q$2)","v":158.06190000000001}]
["Malting Barley2013/09","Malting Barley","2013/09",184.5138,null,null,197.80875,185.96600000000001,205.02917500000001,null,null,null,174,184.99436,null,null,null,null,177.01600000000002,null,null,null,null,null,187.8664,null,161.9753,null,null,162.97830000000002,null,173.9444666666667,{"$f":"+INDEX(D1005:AF1005,1,aux_pr_ue!$P$2)","v":0},{"$f":"+INDEX(D1005:AF1005,1,aux_pr_ue!$Q$2)","v":162.97830000000002}]
["Malting Barley2013/08","Malting Barley","2013/08",185.333,null,null,208.06049999999999,195.08920000000001,205.16666666666666,null,null,null,175.35480000000001,188.33183333333332,null,null,null,null,182.26650000000001,null,null,null,null,null,190.29410000000001,null,167.37523333333334,null,null,173.4674,null,173.13418000000001,{"$f":"+INDEX(D1006:AF1006,1,aux_pr_ue!$P$2)","v":0},{"$f":"+INDEX(D1006:AF1006,1,aux_pr_ue!$Q$2)","v":173.4674}]
["Malting Barley2013/05","Malting Barley","2013/05",240.16380000000001,null,null,218.39330000000001,234.5436,239.88666000000003,null,null,null,252.36781666666664,218.77834999999999,null,null,null,null,250.57375000000002,null,null,null,null,null,234.16953333333333,null,238.94720000000001,null,null,203.51310000000001,null,null,{"$f":"+INDEX(D1009:AF1009,1,aux_pr_ue!$P$2)","v":0},{"$f":"+INDEX(D1009:AF1009,1,aux_pr_ue!$Q$2)","v":203.51310000000001}]
["Malting Barley2013/04","Malting Barley","2013/04",244.05090000000001,null,null,231.53120000000001,236.19070000000002,245.06915000000001,null,null,null,258.59999999999997,225.3596,null,null,null,null,251.2792,null,null,null,null,null,231.02280000000002,null,237.22160000000002,null,null,209.43300000000002,null,null,{"$f":"+INDEX(D1010:AF1010,1,aux_pr_ue!$P$2)","v":0},{"$f":"+INDEX(D1010:AF1010,1,aux_pr_ue!$Q$2)","v":209.43300000000002}]
["Malting Barley2013/01","Malting Barley","2013/01",252.66640000000001,null,null,225.42380000000003,225.7278,249.61336666666671,null,null,null,271.34410000000003,241.016425,null,null,null,null,240.02500000000001,null,null,null,null,null,243.77915000000002,null,null,null,null,225.33520000000001,null,null,{"$f":"+INDEX(D1013:AF1013,1,aux_pr_ue!$P$2)","v":0},{"$f":"+INDEX(D1013:AF1013,1,aux_pr_ue!$Q$2)","v":225.33520000000001}]
["Malting Barley2012/12","Malting Barley","2012/12",258.57130000000001,null,null,226.79435000000001,null,257.93786666666665,null,null,null,274.91935000000001,249.37223333333336,null,null,null,null,234.44930000000002,null,null,null,null,261.5,241.19659999999999,null,null,null,null,225.19390000000001,null,255.11970000000002,{"$f":"+INDEX(D1014:AF1014,1,aux_pr_ue!$P$2)","v":0},{"$f":"+INDEX(D1014:AF1014,1,aux_pr_ue!$Q$2)","v":225.19390000000001}]
["Malting Barley2012/09","Malting Barley","2012/09",246.9599,null,null,221.7167,null,250.66110000000003,null,null,null,263.8611166666667,245.82767142857142,null,null,null,null,223.07550000000001,null,null,null,null,null,226.50690000000003,null,null,null,null,219.76670000000001,null,247.99781999999999,{"$f":"+INDEX(D1017:AF1017,1,aux_pr_ue!$P$2)","v":0},{"$f":"+INDEX(D1017:AF1017,1,aux_pr_ue!$Q$2)","v":219.76670000000001}]
["Malting Barley2012/08","Malting Barley","2012/08",245.3956,null,null,216.00094999999999,null,240.01202499999999,null,null,null,269.36560000000003,242.41471666666666,null,null,null,null,213.2782,null,null,null,null,null,222.7672,null,216.21555000000001,null,null,209.2903,null,233.55553333333333,{"$f":"+INDEX(D1018:AF1018,1,aux_pr_ue!$P$2)","v":0},{"$f":"+INDEX(D1018:AF1018,1,aux_pr_ue!$Q$2)","v":209.2903}]
["Malting Barley2012/05","Malting Barley","2012/05",226.93170000000001,null,null,208.10275000000001,225.119,228.8125,null,null,null,243.30106666666666,220.60599999999997,null,null,null,null,226.0369,null,null,null,null,null,226.57730000000001,null,null,null,null,200.0806,null,null,{"$f":"+INDEX(D1021:AF1021,1,aux_pr_ue!$P$2)","v":0},{"$f":"+INDEX(D1021:AF1021,1,aux_pr_ue!$Q$2)","v":200.0806}]
["Malting Barley2012/04","Malting Barley","2012/04",233.60900000000001,null,null,209.36400000000003,227.15520000000001,229.6788,null,null,null,245.47223333333332,231.70697777777781,null,null,null,null,230.23660000000001,null,null,null,null,null,228.35300000000001,null,null,null,null,211.05,null,null,{"$f":"+INDEX(D1022:AF1022,1,aux_pr_ue!$P$2)","v":0},{"$f":"+INDEX(D1022:AF1022,1,aux_pr_ue!$Q$2)","v":211.05}]
["Malting Barley2012/01","Malting Barley","2012/01",231.97800000000001,null,null,205.2971,233.4034,254.36574999999999,null,null,null,222.56449999999998,251.63094000000001,null,null,null,null,217.8511,null,null,null,null,null,209.28035,null,null,null,null,215.54840000000002,null,null,{"$f":"+INDEX(D1025:AF1025,1,aux_pr_ue!$P$2)","v":0},{"$f":"+INDEX(D1025:AF1025,1,aux_pr_ue!$Q$2)","v":215.54840000000002}]
["Malting Barley2011/12","Malting Barley","2011/12",219.42160000000001,null,null,207.8587,227.93280000000001,252.61109999999999,null,null,null,217.63438333333337,249.18900000000002,null,null,null,null,165.13980000000001,null,null,null,null,null,201.00040000000001,null,null,null,null,209.69970000000001,null,236.53423333333333,{"$f":"+INDEX(D1026:AF1026,1,aux_pr_ue!$P$2)","v":0},{"$f":"+INDEX(D1026:AF1026,1,aux_pr_ue!$Q$2)","v":209.69970000000001}]
["Malting Barley2011/09","Malting Barley","2011/09",225.036,null,null,211.84910000000002,231.95520000000002,264.93119999999999,null,null,null,220.14443333333335,243.04401999999999,null,null,null,null,207.04160000000002,null,null,null,null,233.5,198.40280000000001,null,173.95353333333335,null,null,222.01270000000002,null,240.00221999999999,{"$f":"+INDEX(D1029:AF1029,1,aux_pr_ue!$P$2)","v":0},{"$f":"+INDEX(D1029:AF1029,1,aux_pr_ue!$Q$2)","v":222.01270000000002}]
["Malting Barley2011/08","Malting Barley","2011/08",223.47320000000002,null,null,202.12050000000002,null,258.57387499999999,null,null,null,217.98388333333332,246.26095000000004,null,null,null,null,206.0994,null,null,null,null,null,203.15415000000002,null,194.36653333333334,null,null,204.76,null,223.00650000000002,{"$f":"+INDEX(D1030:AF1030,1,aux_pr_ue!$P$2)","v":0},{"$f":"+INDEX(D1030:AF1030,1,aux_pr_ue!$Q$2)","v":204.76}]
["Malting Barley2011/06","Malting Barley","2011/06",248.52180000000001,null,null,208.42790000000002,278.0231,273.2174,null,null,null,227.17224999999999,274.79834,null,null,null,null,null,null,null,null,null,null,235.60040000000001,null,195.6704,null,null,210.01670000000001,null,null,{"$f":"+INDEX(D1032:AF1032,1,aux_pr_ue!$P$2)","v":0},{"$f":"+INDEX(D1032:AF1032,1,aux_pr_ue!$Q$2)","v":210.01670000000001}]
["Malting Barley2011/05","Malting Barley","2011/05",242.55250000000001,null,null,198.50750000000002,243.70050000000001,257.629525,null,null,null,233.91396666666671,277.35528000000005,null,null,null,null,null,null,null,null,null,223,219.96235000000001,null,null,null,null,191,null,null,{"$f":"+INDEX(D1033:AF1033,1,aux_pr_ue!$P$2)","v":0},{"$f":"+INDEX(D1033:AF1033,1,aux_pr_ue!$Q$2)","v":191}]
["Malting Barley2011/02","Malting Barley","2011/02",234.5985,null,null,211.13840000000002,234.2997,262.12104999999997,null,null,null,241.36310000000003,228.0656444444445,null,null,null,null,202.25030000000001,null,null,null,null,267.5,222.90520000000001,null,null,null,null,201.11610000000002,null,null,{"$f":"+INDEX(D1036:AF1036,1,aux_pr_ue!$P$2)","v":0},{"$f":"+INDEX(D1036:AF1036,1,aux_pr_ue!$Q$2)","v":201.11610000000002}]
["Malting Barley2011/01","Malting Barley","2011/01",234.04740000000001,null,null,199.7577,245.59690000000001,268.60527500000001,null,null,null,235.57526666666669,234.79503333333338,null,null,null,null,182.28910000000002,null,null,null,null,261.61760000000004,204.66040000000001,null,null,null,null,196.6371,null,null,{"$f":"+INDEX(D1037:AF1037,1,aux_pr_ue!$P$2)","v":0},{"$f":"+INDEX(D1037:AF1037,1,aux_pr_ue!$Q$2)","v":196.6371}]
["Malting Barley2010/10","Malting Barley","2010/10",196.089,null,null,184.52030000000002,204.97310000000002,223.05867499999999,null,null,null,197.51073333333332,197.74599999999998,null,null,null,null,182.50040000000001,null,null,null,null,null,159.21915000000001,null,null,null,null,184.27420000000001,null,183.23583333333332,{"$f":"+INDEX(D1040:AF1040,1,aux_pr_ue!$P$2)","v":0},{"$f":"+INDEX(D1040:AF1040,1,aux_pr_ue!$Q$2)","v":184.27420000000001}]
["Malting Barley2010/09","Malting Barley","2010/09",195.69040000000001,null,null,170.44550000000001,213.2373,229.13333333333333,null,null,null,191.99721666666667,207.49318888888891,null,null,null,null,176.39530000000002,null,null,null,null,null,149.79670000000002,null,null,null,null,182.3047,null,192.40848333333335,{"$f":"+INDEX(D1041:AF1041,1,aux_pr_ue!$P$2)","v":0},{"$f":"+INDEX(D1041:AF1041,1,aux_pr_ue!$Q$2)","v":182.3047}]
["Malting Barley2010/06","Malting Barley","2010/06",126.87690000000001,null,null,112.86605,125.23260000000001,125.92223333333334,null,null,null,137.09166666666667,122.06333333333333,null,null,null,null,123.2697,null,null,null,null,null,124.76780000000002,null,124.3978,null,null,109,null,null,{"$f":"+INDEX(D1044:AF1044,1,aux_pr_ue!$P$2)","v":0},{"$f":"+INDEX(D1044:AF1044,1,aux_pr_ue!$Q$2)","v":109}]
["Malting Barley2010/05","Malting Barley","2010/05",121.489,null,null,112.27340000000001,115.97490000000001,124.59660000000001,null,null,null,138.63975000000002,108.8044,null,null,null,null,130.1301,null,null,null,null,null,116.87425000000002,null,109.52875,null,null,107.16130000000001,null,110.34200000000001,{"$f":"+INDEX(D1045:AF1045,1,aux_pr_ue!$P$2)","v":0},{"$f":"+INDEX(D1045:AF1045,1,aux_pr_ue!$Q$2)","v":107.16130000000001}]
["Malting Barley2010/02","Malting Barley","2010/02",121.1854,null,null,108.70445000000001,108.23700000000001,119.297325,null,null,null,138.3916833333333,109.4982,null,null,null,null,105.3708,null,null,null,null,null,134.94135,null,123.83603333333333,null,null,99.642900000000012,null,null,{"$f":"+INDEX(D1048:AF1048,1,aux_pr_ue!$P$2)","v":0},{"$f":"+INDEX(D1048:AF1048,1,aux_pr_ue!$Q$2)","v":99.642900000000012}]
["Malting Barley2010/01","Malting Barley","2010/01",121.0569,null,null,108.35935000000001,110.9097,120.59077500000001,null,null,null,143.68966666666668,109.59704444444446,null,null,null,null,130.7047,null,null,null,null,null,125.56480000000001,null,112.62085,null,null,98.032300000000006,null,null,{"$f":"+INDEX(D1049:AF1049,1,aux_pr_ue!$P$2)","v":0},{"$f":"+INDEX(D1049:AF1049,1,aux_pr_ue!$Q$2)","v":98.032300000000006}]
["Malting Barley2009/10","Malting Barley","2009/10",116.21910000000001,null,null,132.58580000000001,109.3857,114.725475,null,null,null,142.41130000000001,107.72586666666666,null,null,null,84.717600000000004,103.2414,null,null,null,null,null,117.6387,null,92.869349999999997,null,null,97.838700000000003,null,null,{"$f":"+INDEX(D1052:AF1052,1,aux_pr_ue!$P$2)","v":0},{"$f":"+INDEX(D1052:AF1052,1,aux_pr_ue!$Q$2)","v":97.838700000000003}]
["Malting Barley2009/09","Malting Barley","2009/09",112.59320000000001,null,null,109.35765000000001,109.51950000000001,112.869575,null,null,null,141.92265,104.66926666666667,null,null,null,118.039,102.98150000000001,null,null,null,null,null,113.67185000000001,null,97.27203333333334,null,null,98.6,null,97.002680000000012,{"$f":"+INDEX(D1053:AF1053,1,aux_pr_ue!$P$2)","v":0},{"$f":"+INDEX(D1053:AF1053,1,aux_pr_ue!$Q$2)","v":98.6}]
["Malting Barley2009/06","Malting Barley","2009/06",143.68870000000001,null,null,129.2285,145.28040000000001,137.77680000000001,null,null,null,156.39776666666668,136.34121111111114,null,null,null,null,130.84190000000001,null,null,null,null,null,137.53319999999999,null,120.78720000000001,null,null,null,null,null,{"$f":"+INDEX(D1056:AF1056,1,aux_pr_ue!$P$2)","v":0},{"$f":"+INDEX(D1056:AF1056,1,aux_pr_ue!$Q$2)","v":0}]
["Malting Barley2009/05","Malting Barley","2009/05",137.2629,null,null,121.92965000000001,138.37780000000001,134.45564999999999,null,null,null,155.04840000000002,131.08822222222224,null,null,null,null,139.81470000000002,null,null,null,null,null,150.37739999999999,null,111.1677,null,null,null,null,null,{"$f":"+INDEX(D1057:AF1057,1,aux_pr_ue!$P$2)","v":0},{"$f":"+INDEX(D1057:AF1057,1,aux_pr_ue!$Q$2)","v":0}]
["Malting Barley2009/02","Malting Barley","2009/02",141.53280000000001,null,null,123.7817,148.13849999999999,143.552075,null,null,null,154.74620000000002,134.77035000000001,null,null,null,null,136.26330000000002,null,null,null,null,null,138.82830000000001,null,115.95600000000002,null,null,null,null,137.1618,{"$f":"+INDEX(D1060:AF1060,1,aux_pr_ue!$P$2)","v":0},{"$f":"+INDEX(D1060:AF1060,1,aux_pr_ue!$Q$2)","v":0}]
["Malting Barley2009/01","Malting Barley","2009/01",139.3425,null,null,131.99029999999999,146.21210000000002,143.57656666666668,null,null,null,153.09645000000003,131.03988333333334,null,null,null,null,172.2602,null,null,null,null,null,152.79270000000002,null,116.15870000000001,null,null,null,null,126.08924999999999,{"$f":"+INDEX(D1061:AF1061,1,aux_pr_ue!$P$2)","v":0},{"$f":"+INDEX(D1061:AF1061,1,aux_pr_ue!$Q$2)","v":0}]
["Malting Barley2008/10","Malting Barley","2008/10",159.59100000000001,null,null,162.59470000000002,175.46010000000001,170.25621666666666,null,null,null,173.29291666666668,142.07041111111113,null,null,null,120.1559,173.17160000000001,null,null,null,null,null,192.24485000000001,null,147.62555000000003,null,null,null,null,166.94839999999999,{"$f":"+INDEX(D1064:AF1064,1,aux_pr_ue!$P$2)","v":0},{"$f":"+INDEX(D1064:AF1064,1,aux_pr_ue!$Q$2)","v":0}]
["Malting Barley2008/09","Malting Barley","2008/09",178.75560000000002,null,null,178.30815000000001,197.71620000000001,193.49130000000002,null,null,null,192.53586000000001,168.24600000000001,null,null,null,127.28,174.70010000000002,null,null,null,null,null,205.34075000000001,null,135.68813333333333,null,null,192,null,176.04196666666667,{"$f":"+INDEX(D1065:AF1065,1,aux_pr_ue!$P$2)","v":0},{"$f":"+INDEX(D1065:AF1065,1,aux_pr_ue!$Q$2)","v":192}]
["Malting Barley2008/07","Malting Barley","2008/07",209.99100000000001,null,null,251.9144,261.86439999999999,243.39585,null,null,null,218.64645000000004,212.53470000000002,null,null,null,null,241.52860000000001,null,null,null,null,null,216.4871,null,143.76143333333334,null,null,221,null,176.15005000000002,{"$f":"+INDEX(D1067:AF1067,1,aux_pr_ue!$P$2)","v":0},{"$f":"+INDEX(D1067:AF1067,1,aux_pr_ue!$Q$2)","v":221}]
["Malting Barley2008/06","Malting Barley","2008/06",225.96200000000002,null,null,248.64430000000002,258.0283,252.47137499999999,null,null,null,221.4,232.98753333333337,null,null,null,null,241.38860000000003,null,null,null,null,null,273.07920000000001,null,146.92973333333336,null,null,221.13330000000002,null,null,{"$f":"+INDEX(D1068:AF1068,1,aux_pr_ue!$P$2)","v":0},{"$f":"+INDEX(D1068:AF1068,1,aux_pr_ue!$Q$2)","v":221.13330000000002}]
["Malting Barley2008/03","Malting Barley","2008/03",262.1361,null,null,265.23090000000002,297.69940000000003,306.76508000000001,null,null,null,250.68703333333337,266.9394666666667,null,null,null,266.17760000000004,249.65480000000002,null,null,null,null,null,255.46199999999999,null,154.18594999999999,null,null,257.77,null,null,{"$f":"+INDEX(D1071:AF1071,1,aux_pr_ue!$P$2)","v":0},{"$f":"+INDEX(D1071:AF1071,1,aux_pr_ue!$Q$2)","v":257.77}]
["Malting Barley2008/02","Malting Barley","2008/02",267.18360000000001,null,null,270.95450000000005,318.07510000000002,327.27317500000004,null,null,null,255.81601666666666,277.54196666666672,null,null,null,236.7337,249.03240000000002,null,null,null,null,null,252.9273,null,153.20236666666665,null,null,265.34690000000001,null,283.76825000000002,{"$f":"+INDEX(D1072:AF1072,1,aux_pr_ue!$P$2)","v":0},{"$f":"+INDEX(D1072:AF1072,1,aux_pr_ue!$Q$2)","v":265.34690000000001}]
["Malting Barley2007/11","Malting Barley","2007/11",266.72239999999999,null,null,248.81765000000001,314.06650000000002,319.60334,null,null,null,253.63541666666666,293.319525,null,null,null,236.13840000000002,237.33620000000002,null,null,null,null,null,232.34485000000001,null,149.86036666666666,null,null,264.45330000000001,null,null,{"$f":"+INDEX(D1075:AF1075,1,aux_pr_ue!$P$2)","v":0},{"$f":"+INDEX(D1075:AF1075,1,aux_pr_ue!$Q$2)","v":264.45330000000001}]
["Malting Barley2007/10","Malting Barley","2007/10",265.77930000000003,null,null,229.40793333333332,325.81380000000001,320.71800000000002,null,null,null,268.89440000000002,311.71930000000003,null,null,null,191.06970000000001,256.25819999999999,null,null,null,null,null,224.55779999999999,null,152.0138,null,null,263.76130000000001,null,null,{"$f":"+INDEX(D1076:AF1076,1,aux_pr_ue!$P$2)","v":0},{"$f":"+INDEX(D1076:AF1076,1,aux_pr_ue!$Q$2)","v":263.76130000000001}]
["Malting Barley2007/07","Malting Barley","2007/07",191.58170000000001,null,null,156.93520000000001,240.54920000000001,240.70589999999999,null,null,null,181.22096666666667,233.54556666666667,null,null,null,null,null,null,null,null,null,null,154.65705,null,141.4023,null,null,153.80000000000001,null,null,{"$f":"+INDEX(D1079:AF1079,1,aux_pr_ue!$P$2)","v":0},{"$f":"+INDEX(D1079:AF1079,1,aux_pr_ue!$Q$2)","v":153.80000000000001}]
["Malting Barley2007/06","Malting Barley","2007/06",192.03560000000002,null,null,153.50630000000001,240.0103,234.15556666666666,null,null,null,183.37028333333333,220.09470000000002,null,null,null,null,null,null,null,null,null,null,184.68960000000001,null,133.41763333333333,null,null,151.59030000000001,null,null,{"$f":"+INDEX(D1080:AF1080,1,aux_pr_ue!$P$2)","v":0},{"$f":"+INDEX(D1080:AF1080,1,aux_pr_ue!$Q$2)","v":151.59030000000001}]
["Malting Barley2007/03","Malting Barley","2007/03",188.93350000000001,null,null,149.04755,229.16210000000001,240.86556666666669,null,null,null,170.45493333333334,206.57825000000003,null,null,null,null,null,null,null,null,null,null,204.56120000000001,null,141.14055000000002,null,null,148.6935,null,197.23990000000001,{"$f":"+INDEX(D1083:AF1083,1,aux_pr_ue!$P$2)","v":0},{"$f":"+INDEX(D1083:AF1083,1,aux_pr_ue!$Q$2)","v":148.6935}]
["Malting Barley2007/02","Malting Barley","2007/02",182.66849999999999,null,null,144.15170000000001,227.31900000000002,242.125,null,null,null,170.28083333333333,203.43571428571431,null,null,null,null,null,null,null,null,null,null,162.54734999999999,null,107.12520000000001,null,null,146.52000000000001,null,192.72210000000001,{"$f":"+INDEX(D1084:AF1084,1,aux_pr_ue!$P$2)","v":0},{"$f":"+INDEX(D1084:AF1084,1,aux_pr_ue!$Q$2)","v":146.52000000000001}]
["Malting Barley2006/11","Malting Barley","2006/11",173.99450000000002,null,null,130.0016,222.03720000000001,217.96719999999999,null,null,null,162.85588333333331,200.31362857142858,null,null,null,91.938900000000004,135.90970000000002,null,null,null,null,null,138.24335000000002,null,null,null,null,134.4973,null,172.78226666666669,{"$f":"+INDEX(D1087:AF1087,1,aux_pr_ue!$P$2)","v":0},{"$f":"+INDEX(D1087:AF1087,1,aux_pr_ue!$Q$2)","v":134.4973}]
["Malting Barley2006/10","Malting Barley","2006/10",158.33410000000001,null,null,120.5351,203.7653,176.80036000000001,null,null,null,156.53581666666668,172.58306250000001,null,null,null,91.944200000000009,123.56480000000001,null,null,null,null,null,126.21985000000001,null,null,null,null,128.71420000000001,null,152.67292000000003,{"$f":"+INDEX(D1088:AF1088,1,aux_pr_ue!$P$2)","v":0},{"$f":"+INDEX(D1088:AF1088,1,aux_pr_ue!$Q$2)","v":128.71420000000001}]
["Malting Barley2006/07","Malting Barley","2006/07",133.18010000000001,null,null,109.97640000000001,134.05350000000001,136.69783333333334,null,null,null,139.75805,null,null,null,null,107.75200000000001,133.1627,null,null,null,null,null,114.29135000000001,null,null,null,null,null,null,119.24430000000001,{"$f":"+INDEX(D1091:AF1091,1,aux_pr_ue!$P$2)","v":0},{"$f":"+INDEX(D1091:AF1091,1,aux_pr_ue!$Q$2)","v":0}]
["Malting Barley2006/06","Malting Barley","2006/06",133.80270000000002,null,null,110.55305000000001,132.85890000000001,144.721,null,null,null,140,null,null,null,null,107.75200000000001,136.9016,null,null,null,null,null,114.6738,null,null,null,null,null,null,null,{"$f":"+INDEX(D1092:AF1092,1,aux_pr_ue!$P$2)","v":0},{"$f":"+INDEX(D1092:AF1092,1,aux_pr_ue!$Q$2)","v":0}]
["Malting Barley2006/03","Malting Barley","2006/03",133.4348,null,null,109.27465000000001,127.17570000000001,137.13903333333334,null,null,null,148.45698333333334,125.03360000000001,null,null,null,null,124.57680000000001,null,null,null,null,null,114.35715000000002,null,null,null,null,null,null,123.6661,{"$f":"+INDEX(D1095:AF1095,1,aux_pr_ue!$P$2)","v":0},{"$f":"+INDEX(D1095:AF1095,1,aux_pr_ue!$Q$2)","v":0}]
["Malting Barley2006/02","Malting Barley","2006/02",130.55780000000001,null,null,108.12660000000001,124.1572,130.65523999999999,null,null,null,150.80160000000001,123.685,null,null,null,null,126.18640000000001,null,null,null,null,null,117.93530000000001,null,null,null,null,null,null,117.31040000000002,{"$f":"+INDEX(D1096:AF1096,1,aux_pr_ue!$P$2)","v":0},{"$f":"+INDEX(D1096:AF1096,1,aux_pr_ue!$Q$2)","v":0}]
["Malting Barley2005/12","Malting Barley","2005/12",133.7698,null,null,106.48240000000001,125.60470000000001,134.35015000000001,null,null,null,155.32333333333335,124.15,null,null,null,null,117.3503,null,null,null,null,null,114.23785000000001,null,null,null,null,null,null,122.1208,{"$f":"+INDEX(D1098:AF1098,1,aux_pr_ue!$P$2)","v":0},{"$f":"+INDEX(D1098:AF1098,1,aux_pr_ue!$Q$2)","v":0}]
["Malting Barley2005/11","Malting Barley","2005/11",132.02790000000002,null,null,107.6412,127.49520000000001,130.70571999999999,null,null,null,153.98443333333333,119.31375,null,null,null,86.151300000000006,114.0167,null,null,null,null,null,110.64975000000001,null,null,null,null,null,null,119.4237,{"$f":"+INDEX(D1099:AF1099,1,aux_pr_ue!$P$2)","v":0},{"$f":"+INDEX(D1099:AF1099,1,aux_pr_ue!$Q$2)","v":0}]
["Malting Barley2005/08","Malting Barley","2005/08",129.02970000000002,null,null,101.41890000000001,null,122.37096666666667,null,null,null,151.77333333333334,122.05500000000001,null,null,null,86.203400000000002,108.60760000000001,null,null,null,null,null,102.77520000000001,null,null,null,null,null,null,114.35507142857143,{"$f":"+INDEX(D1102:AF1102,1,aux_pr_ue!$P$2)","v":0},{"$f":"+INDEX(D1102:AF1102,1,aux_pr_ue!$Q$2)","v":0}]
["Malting Barley2005/07","Malting Barley","2005/07",134.6969,null,null,99.342250000000007,null,119.97800000000001,null,null,null,149.43128333333334,122.93,null,null,null,null,128.73609999999999,null,null,null,null,null,110.10050000000001,null,null,null,null,null,null,109.0782,{"$f":"+INDEX(D1103:AF1103,1,aux_pr_ue!$P$2)","v":0},{"$f":"+INDEX(D1103:AF1103,1,aux_pr_ue!$Q$2)","v":0}]
["Malting Barley2005/04","Malting Barley","2005/04",124.2098,null,null,111.59703333333334,129.0617,118.67084,null,null,null,134.55041666666668,113.37,null,null,null,null,132.2791,null,null,null,null,null,127.79545,null,null,null,null,null,null,125.70320000000001,{"$f":"+INDEX(D1106:AF1106,1,aux_pr_ue!$P$2)","v":0},{"$f":"+INDEX(D1106:AF1106,1,aux_pr_ue!$Q$2)","v":0}]
["Malting Barley2005/03","Malting Barley","2005/03",123.2681,null,null,113.46420000000001,129.9906,119.16361999999999,null,null,null,132.6,114.17705000000001,null,null,null,null,130.17019999999999,null,null,null,null,null,131.89635000000001,null,null,null,null,null,null,123.7835,{"$f":"+INDEX(D1107:AF1107,1,aux_pr_ue!$P$2)","v":0},{"$f":"+INDEX(D1107:AF1107,1,aux_pr_ue!$Q$2)","v":0}]
["Malting Barley2004/12","Malting Barley","2004/12",123.78540000000001,null,null,118.49943333333334,137.5624,121.21333999999999,null,null,null,null,114.82600000000001,null,null,null,null,124.85040000000001,null,null,null,null,null,124.87580000000001,null,null,null,null,null,null,117.5667,{"$f":"+INDEX(D1110:AF1110,1,aux_pr_ue!$P$2)","v":0},{"$f":"+INDEX(D1110:AF1110,1,aux_pr_ue!$Q$2)","v":0}]
["Malting Barley2004/11","Malting Barley","2004/11",120.21120000000001,null,null,120.68413333333335,133.69730000000001,120.62826,null,null,null,null,113.67314999999999,null,null,null,null,125.16930000000001,null,null,null,null,null,123.99565000000001,null,null,null,null,null,null,112.36670000000001,{"$f":"+INDEX(D1111:AF1111,1,aux_pr_ue!$P$2)","v":0},{"$f":"+INDEX(D1111:AF1111,1,aux_pr_ue!$Q$2)","v":0}]
["Malting Barley2004/08","Malting Barley","2004/08",118.867,null,null,117.96120000000001,null,122.682175,null,null,null,122.58169999999998,111.10398333333335,null,null,null,null,null,null,null,null,null,null,116.64234999999999,null,null,null,null,null,null,114.23313333333334,{"$f":"+INDEX(D1114:AF1114,1,aux_pr_ue!$P$2)","v":0},{"$f":"+INDEX(D1114:AF1114,1,aux_pr_ue!$Q$2)","v":0}]
["Malting Barley2004/07","Malting Barley","2004/07",122.1705,null,null,127.94720000000001,null,133.92337499999999,null,null,null,121.52927142857143,115.6973,null,null,null,null,null,null,null,null,null,null,137.96430000000001,null,null,null,null,null,null,111.20106666666668,{"$f":"+INDEX(D1115:AF1115,1,aux_pr_ue!$P$2)","v":0},{"$f":"+INDEX(D1115:AF1115,1,aux_pr_ue!$Q$2)","v":0}]
["Malting Barley2004/04","Malting Barley","2004/04",154.49280000000002,null,null,null,143,151.26331999999999,null,null,null,160.08260000000001,126.37,null,null,null,null,null,null,null,null,null,null,153.68610000000001,null,null,null,null,null,null,null,{"$f":"+INDEX(D1118:AF1118,1,aux_pr_ue!$P$2)","v":0},{"$f":"+INDEX(D1118:AF1118,1,aux_pr_ue!$Q$2)","v":0}]
["Malting Barley2004/03","Malting Barley","2004/03",154.37050000000002,null,null,null,146.48390000000001,155.74791999999999,null,null,null,161.71895714285716,130.83865,null,null,null,null,null,null,null,null,null,null,null,null,null,null,null,null,null,145.0035,{"$f":"+INDEX(D1119:AF1119,1,aux_pr_ue!$P$2)","v":0},{"$f":"+INDEX(D1119:AF1119,1,aux_pr_ue!$Q$2)","v":0}]
["Malting Barley2003/12","Malting Barley","2003/12",152.4263,null,null,null,155.8235,158.87132500000001,null,null,null,151.30041428571425,152.15,null,null,null,null,null,null,null,null,null,null,null,null,null,null,null,null,null,145.0164,{"$f":"+INDEX(D1122:AF1122,1,aux_pr_ue!$P$2)","v":0},{"$f":"+INDEX(D1122:AF1122,1,aux_pr_ue!$Q$2)","v":0}]
["Malting Barley2003/11","Malting Barley","2003/11",145.64250000000001,null,null,null,154.72,150.69999999999999,null,null,null,144.02827142857143,141.59281666666666,null,null,null,null,null,null,null,null,null,null,null,null,null,null,null,null,null,134.7243,{"$f":"+INDEX(D1123:AF1123,1,aux_pr_ue!$P$2)","v":0},{"$f":"+INDEX(D1123:AF1123,1,aux_pr_ue!$Q$2)","v":0}]
["Malting Barley2003/08","Malting Barley","2003/08",122.14550000000001,null,null,null,null,141.00536666666667,null,null,null,116.90861428571429,124.60230000000001,null,null,null,null,null,null,null,null,null,null,null,null,null,null,null,null,null,116.80162857142859,{"$f":"+INDEX(D1126:AF1126,1,aux_pr_ue!$P$2)","v":0},{"$f":"+INDEX(D1126:AF1126,1,aux_pr_ue!$Q$2)","v":0}]
["Malting Barley2003/07","Malting Barley","2003/07",118.22840000000001,null,null,null,null,144.22726666666668,null,null,null,115.28294285714286,119.90097777777777,null,null,null,null,null,null,null,null,null,null,null,null,null,null,null,null,null,111.52791666666667,{"$f":"+INDEX(D1127:AF1127,1,aux_pr_ue!$P$2)","v":0},{"$f":"+INDEX(D1127:AF1127,1,aux_pr_ue!$Q$2)","v":0}]
["Malting Barley2003/04","Malting Barley","2003/04",127.20010000000001,null,null,null,140.5667,146.97500000000002,null,null,null,118.88948571428571,130.6617,null,null,null,null,null,null,null,null,null,null,null,null,null,null,null,null,null,null,{"$f":"+INDEX(D1130:AF1130,1,aux_pr_ue!$P$2)","v":0},{"$f":"+INDEX(D1130:AF1130,1,aux_pr_ue!$Q$2)","v":0}]
["Malting Barley2003/03","Malting Barley","2003/03",132.93370000000002,null,null,null,147.54840000000002,155.67812500000002,null,null,null,121.86931428571428,136.29725000000002,null,null,null,null,null,null,null,null,null,null,null,null,null,null,null,null,null,129.28190000000001,{"$f":"+INDEX(D1131:AF1131,1,aux_pr_ue!$P$2)","v":0},{"$f":"+INDEX(D1131:AF1131,1,aux_pr_ue!$Q$2)","v":0}]
["Malting Barley2003/01","Malting Barley","2003/01",137.21720000000002,null,null,null,167.2,162.18332000000001,null,null,null,120.31037142857143,142.15290000000002,null,null,null,null,null,null,null,null,null,null,null,null,null,null,null,null,null,128.6634,{"$f":"+INDEX(D1133:AF1133,1,aux_pr_ue!$P$2)","v":0},{"$f":"+INDEX(D1133:AF1133,1,aux_pr_ue!$Q$2)","v":0}]
["Malting Barley2002/12","Malting Barley","2002/12",131.85330000000002,null,null,null,172.88890000000001,165.01387500000001,null,null,null,120.34737142857144,143.57723333333334,null,null,null,null,null,null,null,null,null,null,null,null,null,null,null,null,null,null,{"$f":"+INDEX(D1134:AF1134,1,aux_pr_ue!$P$2)","v":0},{"$f":"+INDEX(D1134:AF1134,1,aux_pr_ue!$Q$2)","v":0}]
["Malting Barley2002/09","Malting Barley","2002/09",125.29320000000001,null,null,null,170,139.89532000000003,null,null,null,117.12514285714285,129.55843333333334,null,null,null,null,null,null,null,null,null,null,null,null,null,null,null,null,null,117.20779999999999,{"$f":"+INDEX(D1137:AF1137,1,aux_pr_ue!$P$2)","v":0},{"$f":"+INDEX(D1137:AF1137,1,aux_pr_ue!$Q$2)","v":0}]
["Malting Barley2002/08","Malting Barley","2002/08",115.3113,null,null,null,null,135.61767499999999,null,null,null,115.48262857142858,118.25900000000001,null,null,null,null,null,null,null,null,null,null,null,null,null,null,null,null,null,101.81780000000001,{"$f":"+INDEX(D1138:AF1138,1,aux_pr_ue!$P$2)","v":0},{"$f":"+INDEX(D1138:AF1138,1,aux_pr_ue!$Q$2)","v":0}]
["Malting Barley2002/05","Malting Barley","2002/05",132.45410000000001,null,null,null,127.625,138.34187499999999,null,null,null,132.27265714285718,124.68774999999999,null,null,null,null,null,null,null,null,null,null,null,null,null,null,null,null,null,null,{"$f":"+INDEX(D1141:AF1141,1,aux_pr_ue!$P$2)","v":0},{"$f":"+INDEX(D1141:AF1141,1,aux_pr_ue!$Q$2)","v":0}]
["Malting Barley2002/04","Malting Barley","2002/04",135.9821,null,null,null,null,145.72275000000002,null,null,null,135.46828571428571,126.48150000000001,null,null,null,null,null,null,null,null,null,null,null,null,null,null,null,null,null,121.95,{"$f":"+INDEX(D1142:AF1142,1,aux_pr_ue!$P$2)","v":0},{"$f":"+INDEX(D1142:AF1142,1,aux_pr_ue!$Q$2)","v":0}]
["Malting Barley2002/01","Malting Barley","2002/01",142.12020000000001,null,null,null,null,153.11840000000001,null,null,null,141.23171428571428,131.84180000000001,null,null,null,null,null,null,null,null,null,null,null,null,null,null,null,null,null,134.605975,{"$f":"+INDEX(D1145:AF1145,1,aux_pr_ue!$P$2)","v":0},{"$f":"+INDEX(D1145:AF1145,1,aux_pr_ue!$Q$2)","v":0}]
["Malting Barley2001/12","Malting Barley","2001/12",140.46940000000001,null,null,null,null,154.037575,null,null,null,136.8757285714286,131.34639999999999,null,null,null,null,null,null,null,null,null,null,null,null,null,null,null,null,null,134.04349999999999,{"$f":"+INDEX(D1146:AF1146,1,aux_pr_ue!$P$2)","v":0},{"$f":"+INDEX(D1146:AF1146,1,aux_pr_ue!$Q$2)","v":0}]
["Malting Barley2001/09","Malting Barley","2001/09",139.4032,null,null,null,null,157.32132000000001,null,null,null,137.13162857142856,131.31793333333334,null,null,null,null,null,null,null,null,null,null,null,null,null,null,null,null,null,128.43415000000002,{"$f":"+INDEX(D1149:AF1149,1,aux_pr_ue!$P$2)","v":0},{"$f":"+INDEX(D1149:AF1149,1,aux_pr_ue!$Q$2)","v":0}]
["Malting Barley2001/08","Malting Barley","2001/08",138.2226,null,null,null,null,159.2328,null,null,null,137.02125714285714,131.0198,null,null,null,null,null,null,null,null,null,null,null,null,null,null,null,null,null,127.22864000000001,{"$f":"+INDEX(D1150:AF1150,1,aux_pr_ue!$P$2)","v":0},{"$f":"+INDEX(D1150:AF1150,1,aux_pr_ue!$Q$2)","v":0}]
["Malting Barley2001/05","Malting Barley","2001/05",135.30250000000001,null,null,null,null,155.76952,null,null,null,118.89985714285714,135.23326666666668,null,null,null,null,null,null,null,null,null,143.8922,null,null,null,null,null,null,null,null,{"$f":"+INDEX(D1153:AF1153,1,aux_pr_ue!$P$2)","v":0},{"$f":"+INDEX(D1153:AF1153,1,aux_pr_ue!$Q$2)","v":0}]
["Malting Barley2001/04","Malting Barley","2001/04",132.81040000000002,null,null,null,null,157.92468333333335,null,null,null,113.35805714285716,141.73259999999999,null,null,null,null,null,null,null,null,null,176.595,null,null,null,null,null,null,null,null,{"$f":"+INDEX(D1154:AF1154,1,aux_pr_ue!$P$2)","v":0},{"$f":"+INDEX(D1154:AF1154,1,aux_pr_ue!$Q$2)","v":0}]
["Malting Barley2001/01","Malting Barley","2001/01",139.14109999999999,null,null,null,null,173.19493333333335,null,null,null,115.75984285714286,149.55250000000001,null,null,null,null,null,null,null,null,null,178.04840000000002,null,null,null,null,null,null,null,133.65440000000001,{"$f":"+INDEX(D1157:AF1157,1,aux_pr_ue!$P$2)","v":0},{"$f":"+INDEX(D1157:AF1157,1,aux_pr_ue!$Q$2)","v":0}]
["Malting Barley2000/12","Malting Barley","2000/12",139.62470000000002,null,null,null,null,172.51627999999999,null,null,null,114.59214285714286,144.95320000000001,null,null,null,null,null,null,null,null,null,null,null,null,null,null,null,null,null,null,{"$f":"+INDEX(D1158:AF1158,1,aux_pr_ue!$P$2)","v":0},{"$f":"+INDEX(D1158:AF1158,1,aux_pr_ue!$Q$2)","v":0}]
["Malting Barley2000/09","Malting Barley","2000/09",129.0453,null,null,null,null,161.63234,null,null,null,108.95075714285714,133.33716666666666,null,null,null,null,null,null,null,null,null,null,null,null,null,null,null,null,null,130.97783333333336,{"$f":"+INDEX(D1161:AF1161,1,aux_pr_ue!$P$2)","v":0},{"$f":"+INDEX(D1161:AF1161,1,aux_pr_ue!$Q$2)","v":0}]
["Malting Barley2000/08","Malting Barley","2000/08",120.62780000000001,null,null,null,null,158.78596000000002,null,null,null,106.91665714285715,null,null,null,null,null,null,null,null,null,null,null,null,null,null,null,null,null,null,121.8845,{"$f":"+INDEX(D1162:AF1162,1,aux_pr_ue!$P$2)","v":0},{"$f":"+INDEX(D1162:AF1162,1,aux_pr_ue!$Q$2)","v":0}]
["Malting Barley2000/06","Malting Barley","2000/06",127.78450000000001,null,null,null,null,158.92656666666667,null,null,null,121.78255714285714,137.23103333333333,null,null,null,null,null,null,null,null,null,null,null,null,null,null,null,null,null,null,{"$f":"+INDEX(D1164:AF1164,1,aux_pr_ue!$P$2)","v":0},{"$f":"+INDEX(D1164:AF1164,1,aux_pr_ue!$Q$2)","v":0}]
["Malting Barley2000/05","Malting Barley","2000/05",143.93370000000002,null,null,null,null,156.80505000000002,null,null,null,135.1498,143.41470000000001,null,null,null,null,null,null,null,null,null,null,null,null,null,null,null,null,null,null,{"$f":"+INDEX(D1165:AF1165,1,aux_pr_ue!$P$2)","v":0},{"$f":"+INDEX(D1165:AF1165,1,aux_pr_ue!$Q$2)","v":0}]
["Malting Barley2000/02","Malting Barley","2000/02",140.99809999999999,null,null,null,null,154.75243333333336,null,null,null,130.92475714285715,140.35206666666667,null,null,null,null,null,null,null,null,null,null,null,null,null,null,null,null,null,142.4845,{"$f":"+INDEX(D1168:AF1168,1,aux_pr_ue!$P$2)","v":0},{"$f":"+INDEX(D1168:AF1168,1,aux_pr_ue!$Q$2)","v":0}]
["Malting Barley2000/01","Malting Barley","2000/01",null,null,null,null,null,null,null,null,null,null,null,null,null,null,null,null,null,null,null,null,null,null,null,null,null,null,null,null,null,{"$f":"+INDEX(D1169:AF1169,1,aux_pr_ue!$P$2)","v":0},{"$f":"+INDEX(D1169:AF1169,1,aux_pr_ue!$Q$2)","v":0}]
["Malting Barley1999/10","Malting Barley","1999/10",129.96809999999999,null,null,null,null,135.97753333333333,null,null,null,124.37582857142857,129.8126,null,null,null,null,null,null,null,null,null,null,null,null,null,null,null,null,null,129.61862500000001,{"$f":"+INDEX(D1172:AF1172,1,aux_pr_ue!$P$2)","v":0},{"$f":"+INDEX(D1172:AF1172,1,aux_pr_ue!$Q$2)","v":0}]
["Malting Barley1999/09","Malting Barley","1999/09",125.62560000000001,123.327,null,null,null,130.27645000000001,null,null,null,122.41844285714286,137.15530000000001,null,null,null,null,null,null,null,null,null,null,null,null,null,null,null,null,null,129.801725,{"$f":"+INDEX(D1173:AF1173,1,aux_pr_ue!$P$2)","v":0},{"$f":"+INDEX(D1173:AF1173,1,aux_pr_ue!$Q$2)","v":0}]
["Malting Barley1999/06","Malting Barley","1999/06",124.56670000000001,null,null,null,null,131.01850000000002,null,null,null,123.01598571428573,null,null,null,null,null,null,null,null,null,null,null,null,null,null,null,null,null,null,null,{"$f":"+INDEX(D1176:AF1176,1,aux_pr_ue!$P$2)","v":0},{"$f":"+INDEX(D1176:AF1176,1,aux_pr_ue!$Q$2)","v":0}]
["Malting Barley1999/05","Malting Barley","1999/05",127.30890000000001,null,null,null,null,137.29160000000002,null,null,null,123.49768571428572,null,null,null,null,null,null,null,null,null,null,null,null,null,null,null,null,null,null,null,{"$f":"+INDEX(D1177:AF1177,1,aux_pr_ue!$P$2)","v":0},{"$f":"+INDEX(D1177:AF1177,1,aux_pr_ue!$Q$2)","v":0}]
["Malting Barley1999/02","Malting Barley","1999/02",127.79480000000001,null,null,null,null,139.2218,null,null,null,121.46885714285715,null,null,null,null,null,null,null,null,null,null,137.352,null,null,null,null,null,null,null,null,{"$f":"+INDEX(D1180:AF1180,1,aux_pr_ue!$P$2)","v":0},{"$f":"+INDEX(D1180:AF1180,1,aux_pr_ue!$Q$2)","v":0}]
["Malting Barley1999/01","Malting Barley","1999/01",126.8806,null,null,null,null,148.5472,null,null,null,120.77675714285716,null,null,null,null,null,null,null,null,null,null,136.9359,null,null,null,null,null,null,null,null,{"$f":"+INDEX(D1181:AF1181,1,aux_pr_ue!$P$2)","v":0},{"$f":"+INDEX(D1181:AF1181,1,aux_pr_ue!$Q$2)","v":0}]
["Malting Barley1998/10","Malting Barley","1998/10",121.2009,null,null,null,null,149.9359,null,null,null,112.65174285714286,null,null,null,null,null,null,null,null,null,null,134.9042,null,null,null,null,null,null,null,133.86790000000002,{"$f":"+INDEX(D1184:AF1184,1,aux_pr_ue!$P$2)","v":0},{"$f":"+INDEX(D1184:AF1184,1,aux_pr_ue!$Q$2)","v":0}]
["Malting Barley1998/09","Malting Barley","1998/09",125.78720000000001,null,null,null,null,147.92608000000001,null,null,null,112.00195714285714,null,null,null,null,null,null,null,null,null,null,134.2885,null,null,null,null,null,null,null,132.87100000000001,{"$f":"+INDEX(D1185:AF1185,1,aux_pr_ue!$P$2)","v":0},{"$f":"+INDEX(D1185:AF1185,1,aux_pr_ue!$Q$2)","v":0}]
["Malting Barley1998/06","Malting Barley","1998/06",124.36320000000001,null,null,null,null,123.03150000000002,null,null,null,121.06294285714287,null,null,null,null,null,null,null,null,null,null,null,null,null,null,null,null,null,null,null,{"$f":"+INDEX(D1188:AF1188,1,aux_pr_ue!$P$2)","v":0},{"$f":"+INDEX(D1188:AF1188,1,aux_pr_ue!$Q$2)","v":0}]
["Malting Barley1998/05","Malting Barley","1998/05",129.21559999999999,null,null,null,null,143.56505999999999,null,null,null,123.34135714285716,null,null,null,null,null,null,null,null,null,null,null,null,null,null,null,null,null,null,124.751,{"$f":"+INDEX(D1189:AF1189,1,aux_pr_ue!$P$2)","v":0},{"$f":"+INDEX(D1189:AF1189,1,aux_pr_ue!$Q$2)","v":0}]
["Malting Barley1998/02","Malting Barley","1998/02",139.2184,null,null,null,null,145.51257500000003,null,null,null,133.73834285714287,null,null,null,null,null,null,null,null,null,null,160.62700000000001,null,null,null,null,null,null,null,127.87400000000001,{"$f":"+INDEX(D1192:AF1192,1,aux_pr_ue!$P$2)","v":0},{"$f":"+INDEX(D1192:AF1192,1,aux_pr_ue!$Q$2)","v":0}]
["Malting Barley1998/01","Malting Barley","1998/01",138.89440000000002,null,null,null,null,141.27208333333331,null,null,null,135.48181428571431,null,null,null,null,null,null,null,null,null,null,158.297,null,null,null,null,null,null,null,null,{"$f":"+INDEX(D1193:AF1193,1,aux_pr_ue!$P$2)","v":0},{"$f":"+INDEX(D1193:AF1193,1,aux_pr_ue!$Q$2)","v":0}]
["Malting Barley1997/10","Malting Barley","1997/10",136.85900000000001,null,null,null,null,140.16123333333334,null,null,null,133.32375714285715,null,null,null,null,null,null,null,null,null,null,153.565,null,null,null,null,null,null,null,139.99600000000001,{"$f":"+INDEX(D1196:AF1196,1,aux_pr_ue!$P$2)","v":0},{"$f":"+INDEX(D1196:AF1196,1,aux_pr_ue!$Q$2)","v":0}]
["Malting Barley1997/09","Malting Barley","1997/09",135.77809999999999,null,null,null,null,137.632375,null,null,null,133.41234285714287,null,null,null,null,null,null,null,null,null,null,141.83965000000001,null,null,null,null,null,null,null,135.68430000000001,{"$f":"+INDEX(D1197:AF1197,1,aux_pr_ue!$P$2)","v":0},{"$f":"+INDEX(D1197:AF1197,1,aux_pr_ue!$Q$2)","v":0}]
["Malting Barley1997/07","Malting Barley","1997/07",135.45820000000001,null,null,null,null,120.01118000000001,null,null,null,137.38017142857143,null,null,null,null,null,null,null,null,null,null,145.9495,null,null,null,null,null,null,null,103.908,{"$f":"+INDEX(D1199:AF1199,1,aux_pr_ue!$P$2)","v":0},{"$f":"+INDEX(D1199:AF1199,1,aux_pr_ue!$Q$2)","v":0}]
["Malting Barley1997/06","Malting Barley","1997/06",140.66550000000001,null,null,null,null,129.1285,null,null,null,139.95497142857144,null,null,null,null,null,null,null,null,null,null,154.81100000000001,null,null,null,null,null,null,null,null,{"$f":"+INDEX(D1200:AF1200,1,aux_pr_ue!$P$2)","v":0},{"$f":"+INDEX(D1200:AF1200,1,aux_pr_ue!$Q$2)","v":0}]
["Malting Barley1997/03","Malting Barley","1997/03",141.01920000000001,142.6,null,null,null,159.26162000000002,null,null,null,131.39531428571428,null,null,null,null,null,null,null,null,null,null,null,null,null,null,null,null,139.55440000000002,null,null,{"$f":"+INDEX(D1203:AF1203,1,aux_pr_ue!$P$2)","v":0},{"$f":"+INDEX(D1203:AF1203,1,aux_pr_ue!$Q$2)","v":139.55440000000002}]
["Malting Barley1997/02","Malting Barley","1997/02",140.27450000000002,null,null,null,null,158.61006,null,null,null,129.12784285714287,null,null,null,null,null,null,null,null,null,null,186.57,null,null,null,null,null,141.1558,null,149.70500000000001,{"$f":"+INDEX(D1204:AF1204,1,aux_pr_ue!$P$2)","v":0},{"$f":"+INDEX(D1204:AF1204,1,aux_pr_ue!$Q$2)","v":141.1558}]
["Malting Barley1996/11","Malting Barley","1996/11",144.68120000000002,null,null,null,null,162.73032000000001,null,null,null,130.22724285714284,null,null,null,null,null,null,null,null,null,null,185.05450000000002,null,null,null,null,null,null,null,null,{"$f":"+INDEX(D1207:AF1207,1,aux_pr_ue!$P$2)","v":0},{"$f":"+INDEX(D1207:AF1207,1,aux_pr_ue!$Q$2)","v":0}]
["Malting Barley1996/10","Malting Barley","1996/10",144.75200000000001,null,null,null,null,165.74795,null,null,null,130.82381428571426,null,null,null,null,null,null,null,null,null,null,183.50320000000002,null,null,null,null,null,142.333,null,157.708,{"$f":"+INDEX(D1208:AF1208,1,aux_pr_ue!$P$2)","v":0},{"$f":"+INDEX(D1208:AF1208,1,aux_pr_ue!$Q$2)","v":142.333}]
["Malting Barley1996/07","Malting Barley","1996/07",139.41460000000001,null,null,null,null,190.65100000000004,null,null,null,124.79420000000002,null,null,null,null,null,null,null,null,null,null,172.23750000000001,null,null,null,null,null,142.66500000000002,null,null,{"$f":"+INDEX(D1211:AF1211,1,aux_pr_ue!$P$2)","v":0},{"$f":"+INDEX(D1211:AF1211,1,aux_pr_ue!$Q$2)","v":142.66500000000002}]
["Malting Barley1996/06","Malting Barley","1996/06",148.25990000000002,163.19200000000001,null,null,null,195.81824,null,null,null,134.47085714285714,null,null,null,null,null,null,null,null,null,null,null,null,null,null,null,null,144.2047,null,null,{"$f":"+INDEX(D1212:AF1212,1,aux_pr_ue!$P$2)","v":0},{"$f":"+INDEX(D1212:AF1212,1,aux_pr_ue!$Q$2)","v":144.2047}]
["Malting Barley1996/03","Malting Barley","1996/03",170.05170000000001,null,null,null,null,199.00211999999999,null,null,null,153.47171428571431,null,null,null,null,null,null,null,null,null,null,196.8869,null,null,null,null,null,146.17350000000002,null,null,{"$f":"+INDEX(D1215:AF1215,1,aux_pr_ue!$P$2)","v":0},{"$f":"+INDEX(D1215:AF1215,1,aux_pr_ue!$Q$2)","v":146.17350000000002}]
["Malting Barley1996/02","Malting Barley","1996/02",170.64160000000001,null,null,null,null,186.22002000000003,null,null,null,156.00224285714287,null,null,null,null,null,null,null,null,null,null,193.93180000000001,null,null,null,null,null,154.422,null,null,{"$f":"+INDEX(D1216:AF1216,1,aux_pr_ue!$P$2)","v":0},{"$f":"+INDEX(D1216:AF1216,1,aux_pr_ue!$Q$2)","v":154.422}]
["Malting Barley1995/11","Malting Barley","1995/11",171.50390000000002,null,null,null,null,197.87065999999999,null,null,null,160.3848142857143,null,null,null,null,null,null,null,null,null,null,187.79300000000001,null,null,null,null,null,142.4547,null,142.89700000000002,{"$f":"+INDEX(D1219:AF1219,1,aux_pr_ue!$P$2)","v":0},{"$f":"+INDEX(D1219:AF1219,1,aux_pr_ue!$Q$2)","v":142.4547}]
["Malting Barley1995/10","Malting Barley","1995/10",167.9802,null,null,null,null,189.97725,null,null,null,157.02425714285715,null,null,null,null,null,null,null,null,null,null,185.48100000000002,null,null,null,null,null,141.83700000000002,null,183.12650000000002,{"$f":"+INDEX(D1220:AF1220,1,aux_pr_ue!$P$2)","v":0},{"$f":"+INDEX(D1220:AF1220,1,aux_pr_ue!$Q$2)","v":141.83700000000002}]
["Malting Barley1995/07","Malting Barley","1995/07",146.09739999999999,null,null,null,null,155.80604,null,null,null,141.42287142857143,null,null,null,null,null,null,null,null,null,null,180.857,null,null,null,null,null,146.76900000000001,null,165.43819999999999,{"$f":"+INDEX(D1223:AF1223,1,aux_pr_ue!$P$2)","v":0},{"$f":"+INDEX(D1223:AF1223,1,aux_pr_ue!$Q$2)","v":146.76900000000001}]
["Malting Barley1995/06","Malting Barley","1995/06",142.66040000000001,null,null,null,null,183.2954,null,null,null,138.87380000000002,null,null,null,null,null,null,null,null,null,null,null,null,null,null,null,null,146.76900000000001,null,null,{"$f":"+INDEX(D1224:AF1224,1,aux_pr_ue!$P$2)","v":0},{"$f":"+INDEX(D1224:AF1224,1,aux_pr_ue!$Q$2)","v":146.76900000000001}]
["Malting Barley1995/03","Malting Barley","1995/03",176.96120000000002,null,null,null,null,207.608,null,null,null,143.49742857142857,null,null,null,null,null,null,null,null,null,null,185.14500000000001,null,null,null,null,null,144.7499,null,null,{"$f":"+INDEX(D1227:AF1227,1,aux_pr_ue!$P$2)","v":0},{"$f":"+INDEX(D1227:AF1227,1,aux_pr_ue!$Q$2)","v":144.7499}]
["Malting Barley1995/02","Malting Barley","1995/02",166.8064,null,null,null,null,202.50322,null,null,null,145.48595714285716,null,null,null,null,null,null,null,null,null,null,182.41480000000001,null,null,null,null,null,143.5411,null,null,{"$f":"+INDEX(D1228:AF1228,1,aux_pr_ue!$P$2)","v":0},{"$f":"+INDEX(D1228:AF1228,1,aux_pr_ue!$Q$2)","v":143.5411}]
["Malting Barley1994/12","Malting Barley","1994/12",136.02020000000002,null,null,null,null,155.20540000000003,null,null,null,121.9329,null,null,null,null,null,null,null,null,null,null,null,null,null,null,null,null,null,null,null,{"$f":"+INDEX(D1230:AF1230,1,aux_pr_ue!$P$2)","v":0},{"$f":"+INDEX(D1230:AF1230,1,aux_pr_ue!$Q$2)","v":0}]
["Malting Barley1994/11","Malting Barley","1994/11",135.9014,112.56,null,null,null,154.68253333333334,null,null,null,121.08442857142859,null,null,null,null,null,null,null,null,null,null,null,null,null,null,null,null,null,null,null,{"$f":"+INDEX(D1231:AF1231,1,aux_pr_ue!$P$2)","v":0},{"$f":"+INDEX(D1231:AF1231,1,aux_pr_ue!$Q$2)","v":0}]
["Malting Barley1994/08","Malting Barley","1994/08",118.57870000000001,null,null,null,null,127.98083333333334,null,null,null,111.46742857142858,null,null,null,null,null,null,null,null,null,null,null,null,null,null,null,null,null,null,133.64770000000001,{"$f":"+INDEX(D1234:AF1234,1,aux_pr_ue!$P$2)","v":0},{"$f":"+INDEX(D1234:AF1234,1,aux_pr_ue!$Q$2)","v":0}]
["Malting Barley1994/07","Malting Barley","1994/07",120.1414,null,null,null,null,131.92482000000001,null,null,null,106.79191428571427,null,null,null,null,null,null,null,null,null,null,null,null,null,null,null,null,null,null,133.24780000000001,{"$f":"+INDEX(D1235:AF1235,1,aux_pr_ue!$P$2)","v":0},{"$f":"+INDEX(D1235:AF1235,1,aux_pr_ue!$Q$2)","v":0}]
["Malting Barley1994/04","Malting Barley","1994/04",129.61600000000001,null,null,null,null,145.57929999999999,null,null,null,119.7713,null,null,null,null,null,null,null,null,null,null,null,null,null,null,null,null,null,null,null,{"$f":"+INDEX(D1238:AF1238,1,aux_pr_ue!$P$2)","v":0},{"$f":"+INDEX(D1238:AF1238,1,aux_pr_ue!$Q$2)","v":0}]
["Malting Barley1994/03","Malting Barley","1994/03",129.0455,null,null,null,null,145.26078333333336,null,null,null,117.19908571428572,null,null,null,null,null,null,null,null,null,null,null,null,null,null,null,null,null,null,null,{"$f":"+INDEX(D1239:AF1239,1,aux_pr_ue!$P$2)","v":0},{"$f":"+INDEX(D1239:AF1239,1,aux_pr_ue!$Q$2)","v":0}]
["Malting Barley1993/12","Malting Barley","1993/12",125.6605,116.616,null,null,null,139.38133999999999,null,null,null,121.90147142857144,null,null,null,null,null,null,null,null,null,null,null,null,null,null,null,null,null,null,131.39270000000002,{"$f":"+INDEX(D1242:AF1242,1,aux_pr_ue!$P$2)","v":0},{"$f":"+INDEX(D1242:AF1242,1,aux_pr_ue!$Q$2)","v":0}]
["Malting Barley1993/11","Malting Barley","1993/11",127.87190000000001,116.19850000000001,null,null,null,140.00945999999999,null,null,null,120.47718571428571,null,null,null,null,null,null,null,null,null,null,null,null,null,null,null,null,null,null,133.89449999999999,{"$f":"+INDEX(D1243:AF1243,1,aux_pr_ue!$P$2)","v":0},{"$f":"+INDEX(D1243:AF1243,1,aux_pr_ue!$Q$2)","v":0}]
["Malting Barley1993/08","Malting Barley","1993/08",119.38650000000001,112.241,null,null,null,141.80068,null,null,null,104.28224285714286,null,null,null,null,null,null,null,null,null,null,null,null,null,null,null,null,null,null,129.13079999999999,{"$f":"+INDEX(D1246:AF1246,1,aux_pr_ue!$P$2)","v":0},{"$f":"+INDEX(D1246:AF1246,1,aux_pr_ue!$Q$2)","v":0}]
["Malting Barley1993/07","Malting Barley","1993/07",111.6598,null,null,null,null,147.22033333333334,null,null,null,106.42314285714288,null,null,null,null,null,null,null,null,null,null,null,null,null,null,null,null,null,null,128.2893,{"$f":"+INDEX(D1247:AF1247,1,aux_pr_ue!$P$2)","v":0},{"$f":"+INDEX(D1247:AF1247,1,aux_pr_ue!$Q$2)","v":0}]
["Malting Barley1993/04","Malting Barley","1993/04",159.81270000000001,null,null,null,null,170.84886666666668,null,null,null,156.36237142857144,null,null,null,null,null,null,null,null,null,null,null,null,null,null,null,null,null,null,null,{"$f":"+INDEX(D1250:AF1250,1,aux_pr_ue!$P$2)","v":0},{"$f":"+INDEX(D1250:AF1250,1,aux_pr_ue!$Q$2)","v":0}]
["Malting Barley1993/03","Malting Barley","1993/03",160.2731,null,null,null,null,179.04214999999999,null,null,null,151.38634285714286,null,null,null,null,null,null,null,null,null,null,null,null,null,null,null,null,null,null,null,{"$f":"+INDEX(D1251:AF1251,1,aux_pr_ue!$P$2)","v":0},{"$f":"+INDEX(D1251:AF1251,1,aux_pr_ue!$Q$2)","v":0}]
["Malting Barley1992/12","Malting Barley","1992/12",165.28530000000001,null,null,null,null,181.13567500000002,null,null,null,155.05767142857144,null,null,null,null,null,null,null,null,null,null,null,null,null,null,null,null,null,null,null,{"$f":"+INDEX(D1254:AF1254,1,aux_pr_ue!$P$2)","v":0},{"$f":"+INDEX(D1254:AF1254,1,aux_pr_ue!$Q$2)","v":0}]
["Malting Barley1992/11","Malting Barley","1992/11",162.96630000000002,null,null,null,null,182.20235000000002,null,null,null,155.50415714285717,null,null,null,null,null,null,null,null,null,null,null,null,null,null,null,null,null,null,null,{"$f":"+INDEX(D1255:AF1255,1,aux_pr_ue!$P$2)","v":0},{"$f":"+INDEX(D1255:AF1255,1,aux_pr_ue!$Q$2)","v":0}]
["Malting Barley1992/08","Malting Barley","1992/08",153.4366,null,null,null,null,141.22823333333332,null,null,null,146.21237142857143,null,null,null,null,null,null,null,null,null,null,null,null,null,null,null,null,null,null,157.75290000000001,{"$f":"+INDEX(D1258:AF1258,1,aux_pr_ue!$P$2)","v":0},{"$f":"+INDEX(D1258:AF1258,1,aux_pr_ue!$Q$2)","v":0}]
["Malting Barley1992/07","Malting Barley","1992/07",155.56310000000002,null,null,null,null,164.70356666666669,null,null,null,151.4152,null,null,null,null,null,null,null,null,null,null,null,null,null,null,null,null,null,null,153.20090000000002,{"$f":"+INDEX(D1259:AF1259,1,aux_pr_ue!$P$2)","v":0},{"$f":"+INDEX(D1259:AF1259,1,aux_pr_ue!$Q$2)","v":0}]
["Malting Barley1992/04","Malting Barley","1992/04",159.55370000000002,null,null,null,null,164.42586666666668,null,null,null,158.07854285714285,null,null,null,null,null,null,null,null,null,null,null,null,null,null,null,null,null,null,null,{"$f":"+INDEX(D1262:AF1262,1,aux_pr_ue!$P$2)","v":0},{"$f":"+INDEX(D1262:AF1262,1,aux_pr_ue!$Q$2)","v":0}]
["Malting Barley1992/03","Malting Barley","1992/03",159.9211,null,null,null,null,171.99512500000003,null,null,null,156.14658571428572,null,null,null,null,null,null,null,null,null,null,null,null,null,null,null,null,null,null,null,{"$f":"+INDEX(D1263:AF1263,1,aux_pr_ue!$P$2)","v":0},{"$f":"+INDEX(D1263:AF1263,1,aux_pr_ue!$Q$2)","v":0}]
["Malting Barley1992/01","Malting Barley","1992/01",159.2276,153.43,null,null,null,175.39257500000002,null,null,null,154.3152,null,null,null,null,null,null,null,null,null,null,null,null,null,null,null,null,null,null,166.452,{"$f":"+INDEX(D1265:AF1265,1,aux_pr_ue!$P$2)","v":0},{"$f":"+INDEX(D1265:AF1265,1,aux_pr_ue!$Q$2)","v":0}]
["Malting Barley1991/12","Malting Barley","1991/12",153.6532,152.4,null,null,null,null,null,null,null,153.67284285714285,null,null,null,null,null,null,null,null,null,null,null,null,null,null,null,null,null,null,null,{"$f":"+INDEX(D1266:AF1266,1,aux_pr_ue!$P$2)","v":0},{"$f":"+INDEX(D1266:AF1266,1,aux_pr_ue!$Q$2)","v":0}]
["Malting Barley1991/09","Malting Barley","1991/09",150.2165,null,null,null,null,170.60062500000001,null,null,null,146.0140142857143,null,null,null,null,null,null,null,null,null,null,null,null,null,null,null,null,null,null,163.2302,{"$f":"+INDEX(D1269:AF1269,1,aux_pr_ue!$P$2)","v":0},{"$f":"+INDEX(D1269:AF1269,1,aux_pr_ue!$Q$2)","v":0}]
["Malting Barley1991/08","Malting Barley","1991/08",145.3477,135.92400000000001,null,null,null,null,null,null,null,142.72312857142859,null,null,null,null,null,null,null,null,null,null,null,null,null,null,null,null,null,null,166.57230000000001,{"$f":"+INDEX(D1270:AF1270,1,aux_pr_ue!$P$2)","v":0},{"$f":"+INDEX(D1270:AF1270,1,aux_pr_ue!$Q$2)","v":0}]
["Malting Barley1991/05","Malting Barley","1991/05",163.08350000000002,null,null,null,null,179.14790000000002,null,null,null,161.76991428571429,null,null,null,null,null,null,null,null,null,null,null,null,null,null,null,null,null,null,null,{"$f":"+INDEX(D1273:AF1273,1,aux_pr_ue!$P$2)","v":0},{"$f":"+INDEX(D1273:AF1273,1,aux_pr_ue!$Q$2)","v":0}]
["Malting Barley1991/04","Malting Barley","1991/04",155.9555,null,null,null,null,179.053,null,null,null,155.28318571428574,null,null,null,null,null,null,null,null,null,null,null,null,null,null,null,null,null,null,null,{"$f":"+INDEX(D1274:AF1274,1,aux_pr_ue!$P$2)","v":0},{"$f":"+INDEX(D1274:AF1274,1,aux_pr_ue!$Q$2)","v":0}]
["Malting Barley1991/01","Malting Barley","1991/01",155.31110000000001,null,null,null,null,178.52600000000001,null,null,null,153.62654285714285,null,null,null,null,null,null,null,null,null,null,null,null,null,null,null,null,null,null,null,{"$f":"+INDEX(D1277:AF1277,1,aux_pr_ue!$P$2)","v":0},{"$f":"+INDEX(D1277:AF1277,1,aux_pr_ue!$Q$2)","v":0}]
["Durum Wheat2017/07","Durum Wheat","2017/07",222.46130000000002,null,null,null,null,null,null,null,192.25666000000001,226.75807500000002,244.83440000000002,null,230.87838000000002,242.5806,null,null,null,null,null,null,null,null,230,null,null,null,null,null,null,{"$f":"+INDEX(D1278:AF1278,1,aux_pr_ue!$P$2)","v":230},{"$f":"+INDEX(D1278:AF1278,1,aux_pr_ue!$Q$2)","v":0}]
["Durum Wheat2017/04","Durum Wheat","2017/04",206.8614,null,null,null,null,null,null,null,203.75556666666668,204.92500000000001,null,null,198.93029999999999,280,null,null,null,null,null,null,null,null,null,null,null,null,null,null,null,{"$f":"+INDEX(D1281:AF1281,1,aux_pr_ue!$P$2)","v":0},{"$f":"+INDEX(D1281:AF1281,1,aux_pr_ue!$Q$2)","v":0}]
["Durum Wheat2017/03","Durum Wheat","2017/03",210.2388,null,null,null,null,null,null,null,202.25143333333335,208.5,null,null,205.36096666666671,280,null,null,null,null,null,null,null,null,null,null,null,null,null,null,null,{"$f":"+INDEX(D1282:AF1282,1,aux_pr_ue!$P$2)","v":0},{"$f":"+INDEX(D1282:AF1282,1,aux_pr_ue!$Q$2)","v":0}]
["Durum Wheat2016/12","Durum Wheat","2016/12",225.1327,null,null,null,null,null,null,null,203.37213333333332,231.064525,254.65,null,212.85554000000002,280,null,null,null,null,null,null,null,null,null,null,null,null,null,null,null,{"$f":"+INDEX(D1285:AF1285,1,aux_pr_ue!$P$2)","v":0},{"$f":"+INDEX(D1285:AF1285,1,aux_pr_ue!$Q$2)","v":0}]
["Durum Wheat2016/11","Durum Wheat","2016/11",224.31310000000002,null,null,null,null,null,null,null,204.37776666666664,233.35834999999997,null,null,221.23750000000001,280,null,null,null,null,null,null,null,null,null,null,null,null,null,null,null,{"$f":"+INDEX(D1286:AF1286,1,aux_pr_ue!$P$2)","v":0},{"$f":"+INDEX(D1286:AF1286,1,aux_pr_ue!$Q$2)","v":0}]
["Durum Wheat2016/08","Durum Wheat","2016/08",209.85740000000001,null,null,null,null,null,null,null,159.31990000000002,214.90325000000001,216.93,null,184.58333333333334,280,null,null,null,null,null,null,195,null,235,null,null,null,null,null,null,{"$f":"+INDEX(D1289:AF1289,1,aux_pr_ue!$P$2)","v":235},{"$f":"+INDEX(D1289:AF1289,1,aux_pr_ue!$Q$2)","v":0}]
["Durum Wheat2016/07","Durum Wheat","2016/07",209.18260000000001,null,null,null,null,null,null,null,166.80556666666666,225.07395000000002,220,null,194.55869999999999,280,null,null,null,null,null,null,null,null,235,null,null,null,null,null,null,{"$f":"+INDEX(D1290:AF1290,1,aux_pr_ue!$P$2)","v":235},{"$f":"+INDEX(D1290:AF1290,1,aux_pr_ue!$Q$2)","v":0}]
["Durum Wheat2016/04","Durum Wheat","2016/04",245.73260000000002,null,null,null,null,null,null,null,212.86086,229.72500000000002,249.24870000000001,null,234.83221666666665,471,null,null,null,null,null,null,null,null,null,null,null,null,null,null,null,{"$f":"+INDEX(D1293:AF1293,1,aux_pr_ue!$P$2)","v":0},{"$f":"+INDEX(D1293:AF1293,1,aux_pr_ue!$Q$2)","v":0}]
["Durum Wheat2016/03","Durum Wheat","2016/03",248.25220000000002,null,null,null,null,null,null,null,220.81525000000002,233.91130000000001,238.37055000000001,null,234.27775,471,null,null,null,null,null,null,null,null,null,null,null,null,null,null,null,{"$f":"+INDEX(D1294:AF1294,1,aux_pr_ue!$P$2)","v":0},{"$f":"+INDEX(D1294:AF1294,1,aux_pr_ue!$Q$2)","v":0}]
["Durum Wheat2016/01","Durum Wheat","2016/01",271.86529999999999,null,null,null,null,null,null,null,240.83335,254.15322500000002,266.86925000000002,null,257.44865714285714,471,null,null,null,null,null,null,null,null,null,null,null,null,null,null,null,{"$f":"+INDEX(D1296:AF1296,1,aux_pr_ue!$P$2)","v":0},{"$f":"+INDEX(D1296:AF1296,1,aux_pr_ue!$Q$2)","v":0}]
["Durum Wheat2015/12","Durum Wheat","2015/12",272.50310000000002,null,null,null,null,null,null,null,241.53846666666666,259.16665,270.58,null,268.65584285714283,471,null,null,null,null,null,null,null,null,null,null,null,null,null,null,null,{"$f":"+INDEX(D1297:AF1297,1,aux_pr_ue!$P$2)","v":0},{"$f":"+INDEX(D1297:AF1297,1,aux_pr_ue!$Q$2)","v":0}]
["Durum Wheat2015/09","Durum Wheat","2015/09",303.45730000000003,null,null,null,null,null,null,null,251.52175,312.182075,310.65165000000002,null,291.17212857142857,473,null,null,null,null,null,null,301,null,280,null,null,null,null,null,null,{"$f":"+INDEX(D1300:AF1300,1,aux_pr_ue!$P$2)","v":280},{"$f":"+INDEX(D1300:AF1300,1,aux_pr_ue!$Q$2)","v":0}]
["Durum Wheat2015/08","Durum Wheat","2015/08",327.8621,null,null,null,null,null,null,null,255,319.435475,337.61225000000002,null,311.6615142857143,473,null,null,null,null,null,null,312.25,null,280,null,null,null,null,null,null,{"$f":"+INDEX(D1301:AF1301,1,aux_pr_ue!$P$2)","v":280},{"$f":"+INDEX(D1301:AF1301,1,aux_pr_ue!$Q$2)","v":0}]
["Durum Wheat2015/05","Durum Wheat","2015/05",299.53140000000002,null,null,null,null,null,null,null,297.5,296.92473333333334,null,null,286.37846666666672,473,null,null,null,null,null,null,null,null,null,null,null,null,null,null,null,{"$f":"+INDEX(D1304:AF1304,1,aux_pr_ue!$P$2)","v":0},{"$f":"+INDEX(D1304:AF1304,1,aux_pr_ue!$Q$2)","v":0}]
["Durum Wheat2015/04","Durum Wheat","2015/04",315.28270000000003,null,null,null,null,null,null,null,298.16665,288.2,298.37,null,315.21912000000003,473,null,null,null,null,null,null,null,null,null,null,null,null,null,null,null,{"$f":"+INDEX(D1305:AF1305,1,aux_pr_ue!$P$2)","v":0},{"$f":"+INDEX(D1305:AF1305,1,aux_pr_ue!$Q$2)","v":0}]
["Durum Wheat2015/01","Durum Wheat","2015/01",381.37720000000002,null,null,null,null,null,null,null,355.4838666666667,388.76343333333335,null,null,369.43200000000002,473.33870000000002,null,null,null,null,null,null,null,null,null,null,null,null,null,null,null,{"$f":"+INDEX(D1308:AF1308,1,aux_pr_ue!$P$2)","v":0},{"$f":"+INDEX(D1308:AF1308,1,aux_pr_ue!$Q$2)","v":0}]
["Durum Wheat2014/12","Durum Wheat","2014/12",373.76769999999999,null,null,null,null,null,null,null,338.88886666666667,395.96773333333334,416.15,null,376.91193333333331,362.5,null,null,null,null,null,null,null,null,null,null,null,null,null,null,null,{"$f":"+INDEX(D1309:AF1309,1,aux_pr_ue!$P$2)","v":0},{"$f":"+INDEX(D1309:AF1309,1,aux_pr_ue!$Q$2)","v":0}]
["Durum Wheat2014/09","Durum Wheat","2014/09",294.06260000000003,null,null,null,null,null,null,null,248.49760000000001,307.08643333333333,337.69335000000001,null,291.83396666666664,318.5,null,null,null,null,null,null,308.38330000000002,null,230,null,null,null,null,null,null,{"$f":"+INDEX(D1312:AF1312,1,aux_pr_ue!$P$2)","v":230},{"$f":"+INDEX(D1312:AF1312,1,aux_pr_ue!$Q$2)","v":0}]
["Durum Wheat2014/08","Durum Wheat","2014/08",288.87280000000004,null,null,null,null,null,null,null,238.33333333333334,301.60493333333335,320.13065000000006,null,302.67200000000003,318.5,null,null,null,null,null,null,292.79410000000001,null,230,null,null,null,null,null,null,{"$f":"+INDEX(D1313:AF1313,1,aux_pr_ue!$P$2)","v":230},{"$f":"+INDEX(D1313:AF1313,1,aux_pr_ue!$Q$2)","v":0}]
["Durum Wheat2014/05","Durum Wheat","2014/05",262.99760000000003,null,null,null,null,null,null,null,232.08335,249.1182666666667,269.25160000000005,null,278.69729999999998,248.16670000000002,null,null,null,null,null,null,null,null,null,null,null,null,null,null,null,{"$f":"+INDEX(D1316:AF1316,1,aux_pr_ue!$P$2)","v":0},{"$f":"+INDEX(D1316:AF1316,1,aux_pr_ue!$Q$2)","v":0}]
["Durum Wheat2014/04","Durum Wheat","2014/04",259.95100000000002,null,null,null,null,null,null,null,230,236.13335000000001,277.43664999999999,null,277.44004285714288,300.63040000000001,null,null,null,null,null,null,264,null,null,null,null,null,null,null,null,{"$f":"+INDEX(D1317:AF1317,1,aux_pr_ue!$P$2)","v":0},{"$f":"+INDEX(D1317:AF1317,1,aux_pr_ue!$Q$2)","v":0}]
["Durum Wheat2014/01","Durum Wheat","2014/01",247.95580000000001,null,null,null,null,null,null,null,234.843975,226.03227500000003,263.18870000000004,null,266.10435000000001,300.5,null,null,null,null,null,null,261.75,null,null,null,null,null,null,null,null,{"$f":"+INDEX(D1320:AF1320,1,aux_pr_ue!$P$2)","v":0},{"$f":"+INDEX(D1320:AF1320,1,aux_pr_ue!$Q$2)","v":0}]
["Durum Wheat2013/12","Durum Wheat","2013/12",243.83360000000002,null,null,null,null,null,null,null,224.43549999999999,222.59677500000001,258.62225000000001,null,256.65522857142861,301.27420000000001,null,null,null,null,null,null,250,null,null,null,null,null,null,null,null,{"$f":"+INDEX(D1321:AF1321,1,aux_pr_ue!$P$2)","v":0},{"$f":"+INDEX(D1321:AF1321,1,aux_pr_ue!$Q$2)","v":0}]
["Durum Wheat2013/09","Durum Wheat","2013/09",252.03650000000002,null,null,null,null,null,null,null,220.91665,220.36702499999998,254.34830000000002,null,267.26240000000001,310.83330000000001,null,null,null,null,null,null,252.18180000000001,null,240,null,null,null,null,null,null,{"$f":"+INDEX(D1324:AF1324,1,aux_pr_ue!$P$2)","v":240},{"$f":"+INDEX(D1324:AF1324,1,aux_pr_ue!$Q$2)","v":0}]
["Durum Wheat2013/08","Durum Wheat","2013/08",249.99550000000002,null,null,null,null,null,null,null,222.8125,222.41130000000001,269.40710000000001,null,273.13630000000001,323.5,null,null,null,null,null,null,249,null,231.25,null,null,null,null,null,null,{"$f":"+INDEX(D1325:AF1325,1,aux_pr_ue!$P$2)","v":231.25},{"$f":"+INDEX(D1325:AF1325,1,aux_pr_ue!$Q$2)","v":0}]
["Durum Wheat2013/05","Durum Wheat","2013/05",272.56139999999999,null,null,null,null,null,null,null,255,251.33188750000002,269.76819999999998,null,282.58226666666667,321.75810000000001,null,null,null,null,null,null,285.625,null,null,null,null,null,null,null,null,{"$f":"+INDEX(D1328:AF1328,1,aux_pr_ue!$P$2)","v":0},{"$f":"+INDEX(D1328:AF1328,1,aux_pr_ue!$Q$2)","v":0}]
["Durum Wheat2013/04","Durum Wheat","2013/04",276.89,null,null,null,null,null,null,null,255.25,261.04165,267.1617,null,282.85166666666669,359.5,null,null,null,null,null,null,286.09379999999999,null,null,null,null,null,null,null,null,{"$f":"+INDEX(D1329:AF1329,1,aux_pr_ue!$P$2)","v":0},{"$f":"+INDEX(D1329:AF1329,1,aux_pr_ue!$Q$2)","v":0}]
["Durum Wheat2013/02","Durum Wheat","2013/02",278.01890000000003,null,null,null,null,null,null,null,261.78570000000002,264.27402499999999,272.54320000000001,null,279.80565000000001,359.5,null,null,null,null,null,null,276.5,null,null,null,null,null,null,null,null,{"$f":"+INDEX(D1331:AF1331,1,aux_pr_ue!$P$2)","v":0},{"$f":"+INDEX(D1331:AF1331,1,aux_pr_ue!$Q$2)","v":0}]
["Durum Wheat2013/01","Durum Wheat","2013/01",279.96030000000002,null,null,null,null,null,null,null,261.37094999999999,273.60782499999999,283.64655000000005,null,280.97213333333337,359.5,null,null,null,null,null,null,286,null,null,null,null,null,null,null,null,{"$f":"+INDEX(D1332:AF1332,1,aux_pr_ue!$P$2)","v":0},{"$f":"+INDEX(D1332:AF1332,1,aux_pr_ue!$Q$2)","v":0}]
["Durum Wheat2012/10","Durum Wheat","2012/10",284.13339999999999,null,null,null,null,null,null,null,265.80645000000004,274.97500000000002,303.56450000000001,null,280.05445000000003,334.5,null,null,null,null,null,null,null,null,null,null,null,null,null,null,null,{"$f":"+INDEX(D1335:AF1335,1,aux_pr_ue!$P$2)","v":0},{"$f":"+INDEX(D1335:AF1335,1,aux_pr_ue!$Q$2)","v":0}]
["Durum Wheat2012/09","Durum Wheat","2012/09",289.80160000000001,null,null,null,null,null,null,null,265.4348,282.48710000000005,309.84780000000001,null,288.02778333333339,334.5,null,null,null,null,null,null,308.5,null,280,null,null,null,null,null,null,{"$f":"+INDEX(D1336:AF1336,1,aux_pr_ue!$P$2)","v":280},{"$f":"+INDEX(D1336:AF1336,1,aux_pr_ue!$Q$2)","v":0}]
["Durum Wheat2012/06","Durum Wheat","2012/06",265.82670000000002,null,null,null,null,null,null,null,209.11765000000003,263.84752500000002,271.31455,null,261.88468333333338,336,null,null,null,null,null,null,267.5,null,null,null,null,null,null,null,null,{"$f":"+INDEX(D1339:AF1339,1,aux_pr_ue!$P$2)","v":0},{"$f":"+INDEX(D1339:AF1339,1,aux_pr_ue!$Q$2)","v":0}]
["Durum Wheat2012/05","Durum Wheat","2012/05",273.34660000000002,null,null,null,null,null,null,null,229.7414,276.82035000000002,276.89690000000002,null,270.39679999999998,336,null,null,null,null,null,null,278,null,null,null,null,null,null,null,null,{"$f":"+INDEX(D1340:AF1340,1,aux_pr_ue!$P$2)","v":0},{"$f":"+INDEX(D1340:AF1340,1,aux_pr_ue!$Q$2)","v":0}]
["Durum Wheat2012/02","Durum Wheat","2012/02",280.125,null,null,null,null,null,null,null,244.10505000000001,266.85795000000002,280.38166666666666,null,281.40585000000004,365.84480000000002,null,null,null,null,null,null,295.84090000000003,null,null,null,null,null,null,null,null,{"$f":"+INDEX(D1343:AF1343,1,aux_pr_ue!$P$2)","v":0},{"$f":"+INDEX(D1343:AF1343,1,aux_pr_ue!$Q$2)","v":0}]
["Durum Wheat2012/01","Durum Wheat","2012/01",283.66000000000003,null,null,null,null,null,null,null,239.36080000000001,266.53227500000003,294.50194999999997,null,282.3429857142857,396.5,null,null,null,null,null,null,289,null,null,null,null,null,null,null,null,{"$f":"+INDEX(D1344:AF1344,1,aux_pr_ue!$P$2)","v":0},{"$f":"+INDEX(D1344:AF1344,1,aux_pr_ue!$Q$2)","v":0}]
["Durum Wheat2011/10","Durum Wheat","2011/10",298.78030000000001,null,null,null,null,null,null,null,256.18420000000003,278.23467500000004,327.39160000000004,null,290.47434285714286,396.5,null,null,null,null,null,null,null,null,null,null,null,null,null,null,null,{"$f":"+INDEX(D1347:AF1347,1,aux_pr_ue!$P$2)","v":0},{"$f":"+INDEX(D1347:AF1347,1,aux_pr_ue!$Q$2)","v":0}]
["Durum Wheat2011/09","Durum Wheat","2011/09",302.40710000000001,null,null,null,null,null,null,null,259.44443333333334,284.88959999999997,335.72353333333336,null,298.58475714285714,396.5,null,null,null,null,null,null,307.75,null,null,null,null,null,null,null,null,{"$f":"+INDEX(D1348:AF1348,1,aux_pr_ue!$P$2)","v":0},{"$f":"+INDEX(D1348:AF1348,1,aux_pr_ue!$Q$2)","v":0}]
["Durum Wheat2011/06","Durum Wheat","2011/06",283.48349999999999,null,null,null,null,null,null,null,240.46296666666669,274.61082499999998,345.1,null,283.17051428571432,290,null,null,null,null,null,null,null,null,null,null,null,null,null,null,null,{"$f":"+INDEX(D1351:AF1351,1,aux_pr_ue!$P$2)","v":0},{"$f":"+INDEX(D1351:AF1351,1,aux_pr_ue!$Q$2)","v":0}]
["Durum Wheat2011/05","Durum Wheat","2011/05",260.75760000000002,null,null,null,null,null,null,null,226.7647,259.66695000000004,280.88335000000001,null,259.74067142857143,275.09680000000003,null,null,null,null,null,null,277,null,null,null,null,null,null,null,null,{"$f":"+INDEX(D1352:AF1352,1,aux_pr_ue!$P$2)","v":0},{"$f":"+INDEX(D1352:AF1352,1,aux_pr_ue!$Q$2)","v":0}]
["Durum Wheat2011/02","Durum Wheat","2011/02",293.51990000000001,null,null,null,null,null,null,null,278.6507666666667,280.26605000000001,322.17337500000002,null,293.67079999999999,290,null,null,null,null,null,null,317.5,null,null,null,null,null,null,null,null,{"$f":"+INDEX(D1355:AF1355,1,aux_pr_ue!$P$2)","v":0},{"$f":"+INDEX(D1355:AF1355,1,aux_pr_ue!$Q$2)","v":0}]
["Durum Wheat2011/01","Durum Wheat","2011/01",271.46230000000003,null,null,null,null,null,null,null,228.61109999999999,254.316125,323.37520000000001,null,285.65255714285723,290,null,null,null,null,null,null,306.41669999999999,null,null,null,null,null,null,null,null,{"$f":"+INDEX(D1356:AF1356,1,aux_pr_ue!$P$2)","v":0},{"$f":"+INDEX(D1356:AF1356,1,aux_pr_ue!$Q$2)","v":0}]
["Durum Wheat2010/10","Durum Wheat","2010/10",215.28710000000001,null,null,null,null,null,null,null,174.86109999999999,212.06572499999999,240.52,null,216.91871428571426,262.84000000000003,null,null,null,null,null,null,null,null,null,null,null,null,null,null,null,{"$f":"+INDEX(D1359:AF1359,1,aux_pr_ue!$P$2)","v":0},{"$f":"+INDEX(D1359:AF1359,1,aux_pr_ue!$Q$2)","v":0}]
["Durum Wheat2010/09","Durum Wheat","2010/09",209.41070000000002,null,null,null,null,null,null,null,173.88890000000001,204.17667500000002,244.32550000000001,null,219.15511428571429,224,null,null,null,null,null,null,null,null,179.31030000000001,null,null,null,null,null,null,{"$f":"+INDEX(D1360:AF1360,1,aux_pr_ue!$P$2)","v":179.31030000000001},{"$f":"+INDEX(D1360:AF1360,1,aux_pr_ue!$Q$2)","v":0}]
["Durum Wheat2010/07","Durum Wheat","2010/07",172.0899,null,null,null,null,null,null,null,126.66666666666667,164.383475,201.10952500000002,null,175.65720000000002,224,null,null,null,null,null,null,null,null,null,null,null,null,null,null,null,{"$f":"+INDEX(D1362:AF1362,1,aux_pr_ue!$P$2)","v":0},{"$f":"+INDEX(D1362:AF1362,1,aux_pr_ue!$Q$2)","v":0}]
["Durum Wheat2010/06","Durum Wheat","2010/06",158.90940000000001,null,null,null,null,null,null,null,129.44443333333334,159.78332500000002,177.82262499999999,null,160.4585857142857,194,null,null,null,null,null,null,null,null,null,null,null,null,null,null,null,{"$f":"+INDEX(D1363:AF1363,1,aux_pr_ue!$P$2)","v":0},{"$f":"+INDEX(D1363:AF1363,1,aux_pr_ue!$Q$2)","v":0}]
["Durum Wheat2010/03","Durum Wheat","2010/03",157.13750000000002,null,null,null,null,null,null,null,141.82796666666667,148.74115,152.42895000000001,null,152.10142857142858,283,null,null,null,null,null,null,155.52940000000001,null,null,null,null,null,null,null,null,{"$f":"+INDEX(D1366:AF1366,1,aux_pr_ue!$P$2)","v":0},{"$f":"+INDEX(D1366:AF1366,1,aux_pr_ue!$Q$2)","v":0}]
["Durum Wheat2010/02","Durum Wheat","2010/02",161.60080000000002,null,null,null,null,null,null,null,143.33333333333334,153.07945000000001,150.44327500000003,null,161.19617142857143,283,null,null,null,null,null,null,158,null,null,null,null,null,null,null,null,{"$f":"+INDEX(D1367:AF1367,1,aux_pr_ue!$P$2)","v":0},{"$f":"+INDEX(D1367:AF1367,1,aux_pr_ue!$Q$2)","v":0}]
["Durum Wheat2009/11","Durum Wheat","2009/11",176.91840000000002,null,null,null,null,null,null,null,163.38890000000001,167.62417500000001,167.3263,null,178.15151428571428,283,null,null,null,null,null,null,178.25,null,null,null,null,null,null,null,null,{"$f":"+INDEX(D1370:AF1370,1,aux_pr_ue!$P$2)","v":0},{"$f":"+INDEX(D1370:AF1370,1,aux_pr_ue!$Q$2)","v":0}]
["Durum Wheat2009/10","Durum Wheat","2009/10",184.6653,null,null,null,null,null,null,null,174.02776666666668,173.62282499999998,171.28600000000003,null,181.74387142857145,283,null,null,null,null,null,null,179,null,null,null,null,null,null,null,null,{"$f":"+INDEX(D1371:AF1371,1,aux_pr_ue!$P$2)","v":0},{"$f":"+INDEX(D1371:AF1371,1,aux_pr_ue!$Q$2)","v":0}]
["Durum Wheat2009/07","Durum Wheat","2009/07",223.1712,null,null,null,null,null,null,null,196.39783333333335,202.38049999999998,235.70949999999999,null,241.25021666666666,273.5,null,null,null,null,null,null,null,null,228,null,null,null,null,null,null,{"$f":"+INDEX(D1374:AF1374,1,aux_pr_ue!$P$2)","v":228},{"$f":"+INDEX(D1374:AF1374,1,aux_pr_ue!$Q$2)","v":0}]
["Durum Wheat2009/06","Durum Wheat","2009/06",219.3194,null,null,null,null,null,null,null,197.66666666666666,204.01365000000001,237.5,null,238.37562857142856,268.76670000000001,null,null,null,null,null,null,null,null,228,null,null,null,null,null,null,{"$f":"+INDEX(D1375:AF1375,1,aux_pr_ue!$P$2)","v":228},{"$f":"+INDEX(D1375:AF1375,1,aux_pr_ue!$Q$2)","v":0}]
["Durum Wheat2009/03","Durum Wheat","2009/03",209.46340000000001,null,null,null,null,null,null,null,213.09676666666667,185.59670000000003,216.35962000000001,null,223.78774999999996,247.54840000000002,null,null,null,null,null,null,null,null,null,null,null,null,null,null,null,{"$f":"+INDEX(D1378:AF1378,1,aux_pr_ue!$P$2)","v":0},{"$f":"+INDEX(D1378:AF1378,1,aux_pr_ue!$Q$2)","v":0}]
["Durum Wheat2009/02","Durum Wheat","2009/02",218.79500000000002,null,null,null,null,null,null,null,212.88096666666669,194.22340000000003,224.08480000000003,null,232.78741249999999,253,null,null,null,null,null,null,null,null,null,null,null,null,null,null,null,{"$f":"+INDEX(D1379:AF1379,1,aux_pr_ue!$P$2)","v":0},{"$f":"+INDEX(D1379:AF1379,1,aux_pr_ue!$Q$2)","v":0}]
["Durum Wheat2008/11","Durum Wheat","2008/11",241.0412,null,null,null,null,null,null,null,233.55553333333333,221.13825,235.87840000000003,null,243.13250000000005,361,null,null,null,null,null,null,292.5,null,null,null,null,null,null,null,null,{"$f":"+INDEX(D1382:AF1382,1,aux_pr_ue!$P$2)","v":0},{"$f":"+INDEX(D1382:AF1382,1,aux_pr_ue!$Q$2)","v":0}]
["Durum Wheat2008/10","Durum Wheat","2008/10",272.04230000000001,null,null,null,null,null,null,null,239.677425,250.99017499999999,261.51013999999998,null,278.00510000000003,380.6968,null,null,null,null,null,null,292.5,null,null,null,null,null,null,null,null,{"$f":"+INDEX(D1383:AF1383,1,aux_pr_ue!$P$2)","v":0},{"$f":"+INDEX(D1383:AF1383,1,aux_pr_ue!$Q$2)","v":0}]
["Durum Wheat2008/07","Durum Wheat","2008/07",328.60540000000003,null,null,null,null,null,null,null,262.8125,320.30202500000001,326.83085999999997,null,332.97222857142862,573.54840000000002,null,null,null,null,null,null,null,null,266.36360000000002,null,null,null,null,null,null,{"$f":"+INDEX(D1386:AF1386,1,aux_pr_ue!$P$2)","v":266.36360000000002},{"$f":"+INDEX(D1386:AF1386,1,aux_pr_ue!$Q$2)","v":0}]
["Durum Wheat2008/06","Durum Wheat","2008/06",349.78300000000002,null,null,null,null,null,null,null,323.833325,324.25492500000001,316.71420000000001,null,360.05925000000002,566.06670000000008,null,null,null,null,null,null,null,null,null,null,null,null,null,null,null,{"$f":"+INDEX(D1387:AF1387,1,aux_pr_ue!$P$2)","v":0},{"$f":"+INDEX(D1387:AF1387,1,aux_pr_ue!$Q$2)","v":0}]
["Durum Wheat2008/03","Durum Wheat","2008/03",463.10150000000004,null,null,null,null,null,null,null,353.95162500000004,455.88670000000002,507.85939999999999,null,515.81897142857144,453.12420000000003,null,null,null,null,null,null,null,null,null,null,null,null,null,null,null,{"$f":"+INDEX(D1390:AF1390,1,aux_pr_ue!$P$2)","v":0},{"$f":"+INDEX(D1390:AF1390,1,aux_pr_ue!$Q$2)","v":0}]
["Durum Wheat2008/02","Durum Wheat","2008/02",457.37190000000004,null,null,null,null,null,null,null,345.51724999999999,440.56132500000001,509.47758000000005,null,508.40295714285719,377.02379999999999,null,null,null,null,null,null,null,null,null,null,null,null,null,null,null,{"$f":"+INDEX(D1391:AF1391,1,aux_pr_ue!$P$2)","v":0},{"$f":"+INDEX(D1391:AF1391,1,aux_pr_ue!$Q$2)","v":0}]
["Durum Wheat2007/11","Durum Wheat","2007/11",403.68890000000005,null,null,null,null,null,null,null,334.583325,384.42312500000003,428.04267500000003,null,449.49400000000003,279.64230000000003,null,null,null,null,null,null,null,null,null,null,null,null,null,null,null,{"$f":"+INDEX(D1394:AF1394,1,aux_pr_ue!$P$2)","v":0},{"$f":"+INDEX(D1394:AF1394,1,aux_pr_ue!$Q$2)","v":0}]
["Durum Wheat2007/10","Durum Wheat","2007/10",372.6549,null,null,null,null,null,null,null,280.60485,356.013375,443.103925,null,422.60015000000004,233.65290000000002,null,null,null,null,null,null,null,null,210,null,null,null,null,null,null,{"$f":"+INDEX(D1395:AF1395,1,aux_pr_ue!$P$2)","v":210},{"$f":"+INDEX(D1395:AF1395,1,aux_pr_ue!$Q$2)","v":0}]
["Durum Wheat2007/08","Durum Wheat","2007/08",249.3493,null,null,null,null,null,null,null,221.63045,245.78332500000002,277.65945000000005,null,270.6751625,233.65290000000002,null,null,null,null,null,null,null,null,210,null,null,null,null,null,null,{"$f":"+INDEX(D1397:AF1397,1,aux_pr_ue!$P$2)","v":210},{"$f":"+INDEX(D1397:AF1397,1,aux_pr_ue!$Q$2)","v":0}]
["Durum Wheat2007/07","Durum Wheat","2007/07",211.83200000000002,null,null,null,null,null,null,null,164.99,205.40540000000001,235.779,null,234.3352428571429,233.69140000000002,null,null,null,null,null,null,null,null,210,null,null,null,null,null,null,{"$f":"+INDEX(D1398:AF1398,1,aux_pr_ue!$P$2)","v":210},{"$f":"+INDEX(D1398:AF1398,1,aux_pr_ue!$Q$2)","v":0}]
["Durum Wheat2007/04","Durum Wheat","2007/04",184.9247,null,null,null,null,null,null,null,166.59614999999999,177.00132500000001,181.68446666666668,null,190.75935000000001,239.14780000000002,null,null,null,null,null,null,null,null,null,null,null,null,null,null,null,{"$f":"+INDEX(D1401:AF1401,1,aux_pr_ue!$P$2)","v":0},{"$f":"+INDEX(D1401:AF1401,1,aux_pr_ue!$Q$2)","v":0}]
["Durum Wheat2007/03","Durum Wheat","2007/03",185.0668,null,null,null,null,null,null,null,164.5625,174.00717500000002,184.71280000000002,null,192.531825,239.73260000000002,null,null,null,null,null,null,null,null,null,null,null,null,null,null,null,{"$f":"+INDEX(D1402:AF1402,1,aux_pr_ue!$P$2)","v":0},{"$f":"+INDEX(D1402:AF1402,1,aux_pr_ue!$Q$2)","v":0}]
["Durum Wheat2006/12","Durum Wheat","2006/12",182.25630000000001,null,null,null,null,null,null,null,153.9375,172.11475000000002,188.33625000000001,null,192.17402499999997,219.37030000000001,null,null,null,null,null,null,null,null,null,null,null,null,null,null,null,{"$f":"+INDEX(D1405:AF1405,1,aux_pr_ue!$P$2)","v":0},{"$f":"+INDEX(D1405:AF1405,1,aux_pr_ue!$Q$2)","v":0}]
["Durum Wheat2006/11","Durum Wheat","2006/11",176.45090000000002,null,null,null,null,null,null,null,146.125,169.63932500000001,189.51399999999998,null,188.6595375,218.76220000000001,null,null,null,null,null,null,null,null,null,null,null,null,null,null,null,{"$f":"+INDEX(D1406:AF1406,1,aux_pr_ue!$P$2)","v":0},{"$f":"+INDEX(D1406:AF1406,1,aux_pr_ue!$Q$2)","v":0}]
["Durum Wheat2006/08","Durum Wheat","2006/08",147.19670000000002,null,null,null,null,null,null,null,109.42645000000002,137.824275,167.07587500000002,null,162.69312499999998,210.63150000000002,null,null,null,null,null,null,152.5,null,126,null,null,null,null,null,null,{"$f":"+INDEX(D1409:AF1409,1,aux_pr_ue!$P$2)","v":126},{"$f":"+INDEX(D1409:AF1409,1,aux_pr_ue!$Q$2)","v":0}]
["Durum Wheat2006/07","Durum Wheat","2006/07",147.68880000000001,null,null,null,null,null,null,null,114.5,135.49742499999999,161.5283,null,160.71771428571427,211.07865000000001,null,null,null,null,null,null,null,null,126,null,null,null,null,null,null,{"$f":"+INDEX(D1410:AF1410,1,aux_pr_ue!$P$2)","v":126},{"$f":"+INDEX(D1410:AF1410,1,aux_pr_ue!$Q$2)","v":0}]
["Durum Wheat2006/04","Durum Wheat","2006/04",153.9451,null,null,null,null,null,null,null,135,138.4811,161.38884999999999,null,165.53031428571427,213.06310000000002,null,null,null,null,null,null,null,null,null,null,null,null,null,null,null,{"$f":"+INDEX(D1413:AF1413,1,aux_pr_ue!$P$2)","v":0},{"$f":"+INDEX(D1413:AF1413,1,aux_pr_ue!$Q$2)","v":0}]
["Durum Wheat2006/03","Durum Wheat","2006/03",158.8981,null,null,null,null,null,null,null,135.8871,147.871925,159.45262500000001,null,169.00132500000001,213.39590000000001,null,null,null,null,null,null,null,null,null,null,null,null,null,null,null,{"$f":"+INDEX(D1414:AF1414,1,aux_pr_ue!$P$2)","v":0},{"$f":"+INDEX(D1414:AF1414,1,aux_pr_ue!$Q$2)","v":0}]
["Durum Wheat2005/12","Durum Wheat","2005/12",158.2389,null,null,null,null,null,null,null,133,153.251475,164.02876666666668,null,157.24272500000001,235.42060000000001,null,null,null,null,null,null,null,null,null,null,null,null,null,null,null,{"$f":"+INDEX(D1417:AF1417,1,aux_pr_ue!$P$2)","v":0},{"$f":"+INDEX(D1417:AF1417,1,aux_pr_ue!$Q$2)","v":0}]
["Durum Wheat2005/11","Durum Wheat","2005/11",152.05350000000001,null,null,null,null,null,null,null,132.96665000000002,157.17760000000001,162.45526666666669,null,154.74667499999998,174.37010000000001,null,null,null,null,null,null,167.5,null,null,null,null,null,null,null,null,{"$f":"+INDEX(D1418:AF1418,1,aux_pr_ue!$P$2)","v":0},{"$f":"+INDEX(D1418:AF1418,1,aux_pr_ue!$Q$2)","v":0}]
["Durum Wheat2005/08","Durum Wheat","2005/08",156.32510000000002,null,null,null,null,null,null,null,126.25,156.24119999999999,166.13085000000001,null,148.61632500000002,180.03300000000002,null,null,null,null,null,null,167.5,null,140,null,null,null,null,null,null,{"$f":"+INDEX(D1421:AF1421,1,aux_pr_ue!$P$2)","v":140},{"$f":"+INDEX(D1421:AF1421,1,aux_pr_ue!$Q$2)","v":0}]
["Durum Wheat2005/07","Durum Wheat","2005/07",151.90290000000002,null,null,null,null,null,null,null,124.64517499999999,155.209825,166.0488,null,145.11346250000003,178.67270000000002,null,null,null,null,null,null,null,null,140,null,null,null,null,null,null,{"$f":"+INDEX(D1422:AF1422,1,aux_pr_ue!$P$2)","v":140},{"$f":"+INDEX(D1422:AF1422,1,aux_pr_ue!$Q$2)","v":0}]
["Durum Wheat2005/04","Durum Wheat","2005/04",146.43600000000001,null,null,null,null,null,null,null,124.25,141.61605,152.6234,null,139.07471249999998,232.83150000000001,null,null,null,null,null,null,null,null,null,null,null,null,null,null,null,{"$f":"+INDEX(D1425:AF1425,1,aux_pr_ue!$P$2)","v":0},{"$f":"+INDEX(D1425:AF1425,1,aux_pr_ue!$Q$2)","v":0}]
["Durum Wheat2005/03","Durum Wheat","2005/03",150.5796,null,null,null,null,null,null,null,123.72825,139.26339999999999,150.8603,null,137.98746249999999,232.41606666666667,null,null,null,null,null,null,null,null,null,null,null,null,null,null,null,{"$f":"+INDEX(D1426:AF1426,1,aux_pr_ue!$P$2)","v":0},{"$f":"+INDEX(D1426:AF1426,1,aux_pr_ue!$Q$2)","v":0}]
["Durum Wheat2005/01","Durum Wheat","2005/01",144.6414,null,null,null,null,null,null,null,123.66130000000001,137.13195000000002,145.75052500000001,null,136.22139999999999,230.83933333333334,null,null,null,null,null,null,null,null,null,null,null,null,null,null,null,{"$f":"+INDEX(D1428:AF1428,1,aux_pr_ue!$P$2)","v":0},{"$f":"+INDEX(D1428:AF1428,1,aux_pr_ue!$Q$2)","v":0}]
["Durum Wheat2004/12","Durum Wheat","2004/12",157.73050000000001,null,null,null,null,null,null,null,127.99412500000001,138.05879999999999,147.38713333333337,null,136.2319875,241.90360000000001,null,null,null,120.14410000000001,null,null,null,null,null,null,null,null,null,null,null,{"$f":"+INDEX(D1429:AF1429,1,aux_pr_ue!$P$2)","v":0},{"$f":"+INDEX(D1429:AF1429,1,aux_pr_ue!$Q$2)","v":0}]
["Durum Wheat2004/09","Durum Wheat","2004/09",155.83520000000001,null,null,null,null,null,null,null,129.39083333333335,142.823825,148.55535,null,137.62923750000002,247.99690000000004,null,null,null,123.92415,null,null,134.5,null,138,null,null,null,null,null,null,{"$f":"+INDEX(D1432:AF1432,1,aux_pr_ue!$P$2)","v":138},{"$f":"+INDEX(D1432:AF1432,1,aux_pr_ue!$Q$2)","v":0}]
["Durum Wheat2004/08","Durum Wheat","2004/08",166.4682,null,null,null,null,null,null,null,136.66666666666666,144.03347500000001,146.13293333333334,null,138.959475,247.50052499999998,null,null,null,127.83285000000001,null,null,134.5,null,139.16130000000001,null,null,null,null,null,null,{"$f":"+INDEX(D1433:AF1433,1,aux_pr_ue!$P$2)","v":139.16130000000001},{"$f":"+INDEX(D1433:AF1433,1,aux_pr_ue!$Q$2)","v":0}]
["Durum Wheat2004/05","Durum Wheat","2004/05",179.36060000000001,null,null,null,null,null,null,null,181.48609999999999,179.25057500000003,165.89210000000003,null,180.37796666666668,null,null,null,null,null,null,null,null,null,null,null,null,null,null,null,null,{"$f":"+INDEX(D1436:AF1436,1,aux_pr_ue!$P$2)","v":0},{"$f":"+INDEX(D1436:AF1436,1,aux_pr_ue!$Q$2)","v":0}]
["Durum Wheat2004/04","Durum Wheat","2004/04",176.58880000000002,null,null,null,null,null,null,null,184.14493333333334,172.287575,170.15603333333334,null,179.85883333333337,null,null,null,null,null,null,null,null,null,null,null,null,null,null,null,null,{"$f":"+INDEX(D1437:AF1437,1,aux_pr_ue!$P$2)","v":0},{"$f":"+INDEX(D1437:AF1437,1,aux_pr_ue!$Q$2)","v":0}]
["Durum Wheat2004/01","Durum Wheat","2004/01",182.79650000000001,null,null,null,null,null,null,null,193.19443333333334,179.5943,172.34656666666669,null,187.69685000000001,null,null,null,null,null,null,null,null,null,null,null,null,null,null,null,null,{"$f":"+INDEX(D1440:AF1440,1,aux_pr_ue!$P$2)","v":0},{"$f":"+INDEX(D1440:AF1440,1,aux_pr_ue!$Q$2)","v":0}]
["Durum Wheat2003/12","Durum Wheat","2003/12",183.65990000000002,null,null,null,null,null,null,null,189.39213333333336,177.26409999999998,172.55,null,190.5471285714286,null,null,null,null,null,null,null,183.5,null,null,null,null,null,null,null,null,{"$f":"+INDEX(D1441:AF1441,1,aux_pr_ue!$P$2)","v":0},{"$f":"+INDEX(D1441:AF1441,1,aux_pr_ue!$Q$2)","v":0}]
["Durum Wheat2003/09","Durum Wheat","2003/09",181.6138,null,null,null,null,null,null,null,180.26666666666668,168.18275,187.51616666666666,null,189.86188571428573,null,null,null,null,null,null,null,180.85,null,179.27890000000002,null,null,null,null,null,null,{"$f":"+INDEX(D1444:AF1444,1,aux_pr_ue!$P$2)","v":179.27890000000002},{"$f":"+INDEX(D1444:AF1444,1,aux_pr_ue!$Q$2)","v":0}]
["Durum Wheat2003/08","Durum Wheat","2003/08",170.58150000000001,null,null,null,null,null,null,null,172.22223333333332,155.80025000000001,180.46933333333334,null,176.92397142857141,null,null,null,null,null,null,null,179.5,null,176.01,null,null,null,null,null,null,{"$f":"+INDEX(D1445:AF1445,1,aux_pr_ue!$P$2)","v":176.01},{"$f":"+INDEX(D1445:AF1445,1,aux_pr_ue!$Q$2)","v":0}]
["Durum Wheat2003/05","Durum Wheat","2003/05",173.7098,null,null,null,null,null,null,null,123,164.566125,null,null,173.81254285714286,null,null,null,null,null,null,null,null,null,194.19499999999999,null,null,null,null,null,null,{"$f":"+INDEX(D1448:AF1448,1,aux_pr_ue!$P$2)","v":194.19499999999999},{"$f":"+INDEX(D1448:AF1448,1,aux_pr_ue!$Q$2)","v":0}]
["Durum Wheat2003/04","Durum Wheat","2003/04",174.9392,null,null,null,null,null,null,null,164.8116,171.22857500000001,159.69815,null,181.68804285714288,null,null,null,null,null,null,null,null,null,194.19499999999999,null,null,null,null,null,null,{"$f":"+INDEX(D1449:AF1449,1,aux_pr_ue!$P$2)","v":194.19499999999999},{"$f":"+INDEX(D1449:AF1449,1,aux_pr_ue!$Q$2)","v":0}]
["Durum Wheat2003/01","Durum Wheat","2003/01",182.7165,null,null,null,null,null,null,null,178.33333333333334,170.68652499999999,180.38963333333334,null,190.7240625,null,null,null,null,null,null,null,null,null,194.19499999999999,null,null,null,null,null,null,{"$f":"+INDEX(D1452:AF1452,1,aux_pr_ue!$P$2)","v":194.19499999999999},{"$f":"+INDEX(D1452:AF1452,1,aux_pr_ue!$Q$2)","v":0}]
["Durum Wheat2002/12","Durum Wheat","2002/12",180.91849999999999,null,null,null,null,null,null,null,162.24997500000001,169.9171,196.48500000000001,null,187.8186,null,null,null,null,null,null,null,null,null,194.19499999999999,null,null,null,null,null,null,{"$f":"+INDEX(D1453:AF1453,1,aux_pr_ue!$P$2)","v":194.19499999999999},{"$f":"+INDEX(D1453:AF1453,1,aux_pr_ue!$Q$2)","v":0}]
["Durum Wheat2002/09","Durum Wheat","2002/09",162.31370000000001,null,null,null,null,null,null,null,136.04000000000002,163.69775000000001,167.85045000000002,null,163.3542625,null,null,null,null,null,null,null,167.34,null,172.79666666666665,null,null,null,null,null,null,{"$f":"+INDEX(D1456:AF1456,1,aux_pr_ue!$P$2)","v":172.79666666666665},{"$f":"+INDEX(D1456:AF1456,1,aux_pr_ue!$Q$2)","v":0}]
["Durum Wheat2002/08","Durum Wheat","2002/08",154.46550000000002,null,null,null,null,null,null,null,133.8854,154.588775,158.44366666666667,null,154.3819,null,null,null,null,null,null,null,161.87100000000001,null,172.79666666666665,null,null,null,null,null,null,{"$f":"+INDEX(D1457:AF1457,1,aux_pr_ue!$P$2)","v":172.79666666666665},{"$f":"+INDEX(D1457:AF1457,1,aux_pr_ue!$Q$2)","v":0}]
["Durum Wheat2002/05","Durum Wheat","2002/05",177.5137,null,null,null,null,null,null,null,152.48150000000001,185.07672500000001,null,null,173.8789142857143,null,null,null,null,null,null,null,null,null,194.19815,null,null,null,null,null,null,{"$f":"+INDEX(D1460:AF1460,1,aux_pr_ue!$P$2)","v":194.19815},{"$f":"+INDEX(D1460:AF1460,1,aux_pr_ue!$Q$2)","v":0}]
["Durum Wheat2002/04","Durum Wheat","2002/04",191.4186,null,null,null,null,null,null,null,165.4375,203.81167500000001,166.495,null,193.05205714285714,null,null,null,null,null,null,null,null,null,194.19835,null,null,null,null,null,null,{"$f":"+INDEX(D1461:AF1461,1,aux_pr_ue!$P$2)","v":194.19835},{"$f":"+INDEX(D1461:AF1461,1,aux_pr_ue!$Q$2)","v":0}]
["Durum Wheat2002/02","Durum Wheat","2002/02",200.58620000000002,null,null,null,null,null,null,null,169.55360000000002,205.57017500000001,190.96166666666667,null,212.90880000000001,null,null,null,null,null,null,null,null,null,185.04284999999999,null,null,null,null,null,null,{"$f":"+INDEX(D1463:AF1463,1,aux_pr_ue!$P$2)","v":185.04284999999999},{"$f":"+INDEX(D1463:AF1463,1,aux_pr_ue!$Q$2)","v":0}]
["Durum Wheat2002/01","Durum Wheat","2002/01",197.32810000000001,null,null,null,null,null,null,null,182.10116666666667,198.92755,195.65065000000001,null,207.43961249999998,null,null,null,null,null,null,null,null,null,185.30830000000003,null,null,null,null,null,null,{"$f":"+INDEX(D1464:AF1464,1,aux_pr_ue!$P$2)","v":185.30830000000003},{"$f":"+INDEX(D1464:AF1464,1,aux_pr_ue!$Q$2)","v":0}]
["Durum Wheat2001/10","Durum Wheat","2001/10",185.0395,null,null,null,null,null,null,null,167.47230000000002,177.59562499999998,179.40835000000001,null,196.99565000000001,null,null,null,null,null,null,null,null,null,182.31060000000002,null,null,null,null,null,null,{"$f":"+INDEX(D1467:AF1467,1,aux_pr_ue!$P$2)","v":182.31060000000002},{"$f":"+INDEX(D1467:AF1467,1,aux_pr_ue!$Q$2)","v":0}]
["Durum Wheat2001/09","Durum Wheat","2001/09",182.97740000000002,null,null,null,null,null,null,null,166.86340000000001,176.13085000000001,178.285425,null,194.14173750000003,null,null,null,null,null,null,null,null,null,169.73650000000001,null,null,null,null,null,null,{"$f":"+INDEX(D1468:AF1468,1,aux_pr_ue!$P$2)","v":169.73650000000001},{"$f":"+INDEX(D1468:AF1468,1,aux_pr_ue!$Q$2)","v":0}]
["Durum Wheat2001/06","Durum Wheat","2001/06",159.8245,null,null,null,null,null,null,null,149.31524999999999,149.80629999999999,167.69390000000001,null,182.99717142857142,null,null,null,null,null,null,null,null,null,180.77265,null,null,null,null,null,null,{"$f":"+INDEX(D1471:AF1471,1,aux_pr_ue!$P$2)","v":180.77265},{"$f":"+INDEX(D1471:AF1471,1,aux_pr_ue!$Q$2)","v":0}]
["Durum Wheat2001/05","Durum Wheat","2001/05",168.07500000000002,null,null,null,null,null,null,null,150.11478,158.00207499999999,null,null,186.27041428571428,null,null,null,null,null,null,null,null,null,180.06600000000003,null,null,null,null,null,null,{"$f":"+INDEX(D1472:AF1472,1,aux_pr_ue!$P$2)","v":180.06600000000003},{"$f":"+INDEX(D1472:AF1472,1,aux_pr_ue!$Q$2)","v":0}]
["Durum Wheat2001/02","Durum Wheat","2001/02",152.98869999999999,null,null,null,null,null,null,null,144.09388000000001,146.181175,138.64653333333334,null,162.03221428571428,null,null,null,null,null,null,null,150.7961,null,178.72555,null,null,null,null,null,null,{"$f":"+INDEX(D1475:AF1475,1,aux_pr_ue!$P$2)","v":178.72555},{"$f":"+INDEX(D1475:AF1475,1,aux_pr_ue!$Q$2)","v":0}]
["Durum Wheat2001/01","Durum Wheat","2001/01",152.38040000000001,null,null,null,null,null,null,null,142.33302000000003,145.06397500000003,146.10155,null,160.88308749999999,null,null,null,null,null,null,null,150.7961,null,177.32265000000001,null,null,null,null,null,null,{"$f":"+INDEX(D1476:AF1476,1,aux_pr_ue!$P$2)","v":177.32265000000001},{"$f":"+INDEX(D1476:AF1476,1,aux_pr_ue!$Q$2)","v":0}]
["Durum Wheat2000/10","Durum Wheat","2000/10",145.54650000000001,null,null,null,null,null,null,null,135.41994,139.36927500000002,144.39664999999999,null,154.24630000000002,null,null,null,null,null,null,null,150.7961,null,null,null,null,null,null,null,null,{"$f":"+INDEX(D1479:AF1479,1,aux_pr_ue!$P$2)","v":0},{"$f":"+INDEX(D1479:AF1479,1,aux_pr_ue!$Q$2)","v":0}]
["Durum Wheat2000/09","Durum Wheat","2000/09",141.04040000000001,null,null,null,null,null,null,null,133.00594000000001,132.43100000000001,137.11420000000001,null,152.204275,null,null,null,null,null,null,null,148.50700000000001,null,121.3326,null,null,null,null,null,null,{"$f":"+INDEX(D1480:AF1480,1,aux_pr_ue!$P$2)","v":121.3326},{"$f":"+INDEX(D1480:AF1480,1,aux_pr_ue!$Q$2)","v":0}]
["Durum Wheat2000/06","Durum Wheat","2000/06",137.07650000000001,null,null,null,null,null,null,null,123.54682,136.81215000000003,139.32085999999998,null,147.74304285714285,null,null,null,null,null,null,null,null,null,null,null,null,null,null,null,null,{"$f":"+INDEX(D1483:AF1483,1,aux_pr_ue!$P$2)","v":0},{"$f":"+INDEX(D1483:AF1483,1,aux_pr_ue!$Q$2)","v":0}]
["Durum Wheat2000/05","Durum Wheat","2000/05",157.69710000000001,null,null,null,null,null,null,null,157.6429,151.57275000000001,152.7647,null,163.50012857142858,null,null,null,null,null,null,null,143.52880000000002,null,null,null,null,null,null,null,null,{"$f":"+INDEX(D1484:AF1484,1,aux_pr_ue!$P$2)","v":0},{"$f":"+INDEX(D1484:AF1484,1,aux_pr_ue!$Q$2)","v":0}]
["Durum Wheat2000/02","Durum Wheat","2000/02",158.31810000000002,null,null,null,null,null,null,null,149.56283333333334,162.48195000000001,154.60599999999999,null,161.484825,null,null,null,null,null,null,null,143.52880000000002,null,null,null,null,null,null,null,null,{"$f":"+INDEX(D1487:AF1487,1,aux_pr_ue!$P$2)","v":0},{"$f":"+INDEX(D1487:AF1487,1,aux_pr_ue!$Q$2)","v":0}]
["Durum Wheat2000/01","Durum Wheat","2000/01",null,null,null,null,null,null,null,null,null,null,null,null,null,null,null,null,null,null,null,null,null,null,null,null,null,null,null,null,null,{"$f":"+INDEX(D1488:AF1488,1,aux_pr_ue!$P$2)","v":0},{"$f":"+INDEX(D1488:AF1488,1,aux_pr_ue!$Q$2)","v":0}]
["Durum Wheat1999/10","Durum Wheat","1999/10",151.3665,null,null,null,null,null,null,null,133.82026666666667,157.94745,156.49902500000002,null,157.2939125,null,null,null,null,null,null,null,141.2431,null,null,null,null,null,null,null,null,{"$f":"+INDEX(D1491:AF1491,1,aux_pr_ue!$P$2)","v":0},{"$f":"+INDEX(D1491:AF1491,1,aux_pr_ue!$Q$2)","v":0}]
["Durum Wheat1999/09","Durum Wheat","1999/09",151.62470000000002,null,null,null,null,null,null,null,130.30845714285715,154.85820000000001,158.06772000000001,null,155.4226625,null,null,null,null,null,null,null,138.07810000000001,null,null,null,null,null,null,null,null,{"$f":"+INDEX(D1492:AF1492,1,aux_pr_ue!$P$2)","v":0},{"$f":"+INDEX(D1492:AF1492,1,aux_pr_ue!$Q$2)","v":0}]
["Durum Wheat1999/07","Durum Wheat","1999/07",146.58450000000002,null,null,null,null,null,null,null,126.65500000000002,156.45075000000003,156.87950000000001,null,151.450875,null,null,null,null,null,null,null,null,null,null,null,null,null,null,null,null,{"$f":"+INDEX(D1494:AF1494,1,aux_pr_ue!$P$2)","v":0},{"$f":"+INDEX(D1494:AF1494,1,aux_pr_ue!$Q$2)","v":0}]
["Durum Wheat1999/06","Durum Wheat","1999/06",153.54730000000001,null,null,null,null,null,null,null,null,155.1738,143.55600000000001,null,150.20836250000002,null,null,null,null,null,null,null,null,null,null,null,null,null,null,null,null,{"$f":"+INDEX(D1495:AF1495,1,aux_pr_ue!$P$2)","v":0},{"$f":"+INDEX(D1495:AF1495,1,aux_pr_ue!$Q$2)","v":0}]
["Durum Wheat1999/03","Durum Wheat","1999/03",141.17410000000001,null,null,null,null,null,null,null,126.29025,146.5232,137.52500000000001,null,142.93752499999999,null,null,null,null,null,null,null,null,null,null,null,null,null,null,null,null,{"$f":"+INDEX(D1498:AF1498,1,aux_pr_ue!$P$2)","v":0},{"$f":"+INDEX(D1498:AF1498,1,aux_pr_ue!$Q$2)","v":0}]
["Durum Wheat1999/02","Durum Wheat","1999/02",139.6771,null,null,null,null,null,null,null,124.50687500000001,146.71462500000001,134.79784000000001,null,145.44648749999999,null,null,null,null,null,null,null,null,null,null,null,null,null,null,null,null,{"$f":"+INDEX(D1499:AF1499,1,aux_pr_ue!$P$2)","v":0},{"$f":"+INDEX(D1499:AF1499,1,aux_pr_ue!$Q$2)","v":0}]
["Durum Wheat1998/11","Durum Wheat","1998/11",146.5275,null,null,null,null,null,null,null,117.73899999999999,148.615375,144.67824999999999,null,151.96713750000001,null,null,null,null,null,null,null,173.74100000000001,null,null,null,null,null,null,null,null,{"$f":"+INDEX(D1502:AF1502,1,aux_pr_ue!$P$2)","v":0},{"$f":"+INDEX(D1502:AF1502,1,aux_pr_ue!$Q$2)","v":0}]
["Durum Wheat1998/10","Durum Wheat","1998/10",144.28740000000002,null,null,null,null,null,null,null,121.20323333333333,146.61060000000001,144.87526666666665,null,153.84938750000001,null,null,null,null,null,null,null,173.74100000000001,null,null,null,null,null,null,null,null,{"$f":"+INDEX(D1503:AF1503,1,aux_pr_ue!$P$2)","v":0},{"$f":"+INDEX(D1503:AF1503,1,aux_pr_ue!$Q$2)","v":0}]
["Durum Wheat1998/07","Durum Wheat","1998/07",145.90170000000001,null,null,null,null,null,null,null,132.30407499999998,145.10660000000001,141.30632,null,152.2453625,null,null,null,null,null,null,null,null,null,141.49799999999999,null,null,null,null,null,null,{"$f":"+INDEX(D1506:AF1506,1,aux_pr_ue!$P$2)","v":141.49799999999999},{"$f":"+INDEX(D1506:AF1506,1,aux_pr_ue!$Q$2)","v":0}]
["Durum Wheat1998/06","Durum Wheat","1998/06",164.2107,null,null,null,null,null,null,null,137.97399999999999,161.23820000000001,122.42600000000002,null,167.6261428571429,null,null,null,null,null,null,null,null,null,null,null,null,null,null,null,null,{"$f":"+INDEX(D1507:AF1507,1,aux_pr_ue!$P$2)","v":0},{"$f":"+INDEX(D1507:AF1507,1,aux_pr_ue!$Q$2)","v":0}]
["Durum Wheat1998/03","Durum Wheat","1998/03",199.6858,null,null,null,null,null,null,null,223.3612,198.01997499999999,178.8056,null,208.11501428571427,null,null,null,null,null,null,null,null,null,139.9385,null,null,null,null,null,null,{"$f":"+INDEX(D1510:AF1510,1,aux_pr_ue!$P$2)","v":139.9385},{"$f":"+INDEX(D1510:AF1510,1,aux_pr_ue!$Q$2)","v":0}]
["Durum Wheat1998/02","Durum Wheat","1998/02",206.00700000000001,null,null,null,null,null,null,null,229.1585,203.05865,192.0248,null,213.04037142857143,null,null,null,null,null,null,null,124.56550000000001,null,null,null,null,null,null,null,null,{"$f":"+INDEX(D1511:AF1511,1,aux_pr_ue!$P$2)","v":0},{"$f":"+INDEX(D1511:AF1511,1,aux_pr_ue!$Q$2)","v":0}]
["Durum Wheat1997/11","Durum Wheat","1997/11",211.06230000000002,null,null,null,null,null,null,null,224.6181,193.09795000000003,213.22186666666667,null,217.28377142857147,null,null,null,null,null,null,null,null,null,null,null,null,null,null,null,null,{"$f":"+INDEX(D1514:AF1514,1,aux_pr_ue!$P$2)","v":0},{"$f":"+INDEX(D1514:AF1514,1,aux_pr_ue!$Q$2)","v":0}]
["Durum Wheat1997/10","Durum Wheat","1997/10",207.44160000000002,null,null,null,null,null,null,null,203.69227500000002,187.78805,212.14143333333334,null,218.17714285714285,null,null,null,null,null,null,null,null,null,null,null,null,null,null,null,null,{"$f":"+INDEX(D1515:AF1515,1,aux_pr_ue!$P$2)","v":0},{"$f":"+INDEX(D1515:AF1515,1,aux_pr_ue!$Q$2)","v":0}]
["Durum Wheat1997/07","Durum Wheat","1997/07",171.76130000000001,null,null,null,null,null,null,null,169.41326666666669,167.46960000000001,184.0308,null,176.29478571428575,null,null,null,null,null,null,null,null,null,160.61500000000001,null,null,null,null,null,null,{"$f":"+INDEX(D1518:AF1518,1,aux_pr_ue!$P$2)","v":160.61500000000001},{"$f":"+INDEX(D1518:AF1518,1,aux_pr_ue!$Q$2)","v":0}]
["Durum Wheat1997/06","Durum Wheat","1997/06",170.9451,null,null,null,null,null,null,null,157.40210000000002,165.361625,182.48285000000001,null,172.19957142857146,null,null,null,null,null,null,null,null,null,null,null,null,null,null,null,null,{"$f":"+INDEX(D1519:AF1519,1,aux_pr_ue!$P$2)","v":0},{"$f":"+INDEX(D1519:AF1519,1,aux_pr_ue!$Q$2)","v":0}]
["Durum Wheat1997/03","Durum Wheat","1997/03",169.6961,null,null,null,null,null,null,null,160.38,169.36895000000001,179.57769999999999,null,166.75090000000003,null,null,null,null,null,null,null,null,null,null,null,null,null,null,null,null,{"$f":"+INDEX(D1522:AF1522,1,aux_pr_ue!$P$2)","v":0},{"$f":"+INDEX(D1522:AF1522,1,aux_pr_ue!$Q$2)","v":0}]
["Durum Wheat1997/02","Durum Wheat","1997/02",164.0017,null,null,null,null,null,null,null,165.77429999999998,159.94725,174.63685000000001,null,159.33002500000003,null,null,null,null,null,null,null,188.38800000000001,null,null,null,null,null,null,null,null,{"$f":"+INDEX(D1523:AF1523,1,aux_pr_ue!$P$2)","v":0},{"$f":"+INDEX(D1523:AF1523,1,aux_pr_ue!$Q$2)","v":0}]
["Durum Wheat1996/11","Durum Wheat","1996/11",157.99160000000001,null,null,null,null,null,null,null,152.25363333333334,154.23262499999998,162.16070000000002,null,157.75716250000002,null,null,null,null,null,null,null,186.80440000000002,null,165.01615000000001,null,null,null,null,null,null,{"$f":"+INDEX(D1526:AF1526,1,aux_pr_ue!$P$2)","v":165.01615000000001},{"$f":"+INDEX(D1526:AF1526,1,aux_pr_ue!$Q$2)","v":0}]
["Durum Wheat1996/10","Durum Wheat","1996/10",158.03560000000002,null,null,null,null,null,null,null,147.54915,154.339675,160.596,null,160.43831249999999,null,null,null,null,null,null,null,185.16990000000001,null,158.11255,null,null,null,null,null,null,{"$f":"+INDEX(D1527:AF1527,1,aux_pr_ue!$P$2)","v":158.11255},{"$f":"+INDEX(D1527:AF1527,1,aux_pr_ue!$Q$2)","v":0}]
["Durum Wheat1996/08","Durum Wheat","1996/08",158.72499999999999,null,null,null,null,null,null,null,152.20016000000001,155.46057500000001,163.31285000000003,null,161.6876125,null,null,null,null,null,null,null,181.65,null,155.38890000000001,null,null,null,null,null,null,{"$f":"+INDEX(D1529:AF1529,1,aux_pr_ue!$P$2)","v":155.38890000000001},{"$f":"+INDEX(D1529:AF1529,1,aux_pr_ue!$Q$2)","v":0}]
["Durum Wheat1996/07","Durum Wheat","1996/07",159.2807,null,null,null,null,null,null,null,150.4051,157.56812500000001,166.21370000000002,null,163.20916250000002,null,null,null,null,null,null,null,null,null,159.62060000000002,null,null,null,null,null,null,{"$f":"+INDEX(D1530:AF1530,1,aux_pr_ue!$P$2)","v":159.62060000000002},{"$f":"+INDEX(D1530:AF1530,1,aux_pr_ue!$Q$2)","v":0}]
["Durum Wheat1996/04","Durum Wheat","1996/04",178.9051,null,null,null,null,null,null,null,173.21,172.23435000000001,193.23700000000002,null,185.8942857142857,null,null,null,null,null,null,null,184.959,null,null,null,null,null,null,null,null,{"$f":"+INDEX(D1533:AF1533,1,aux_pr_ue!$P$2)","v":0},{"$f":"+INDEX(D1533:AF1533,1,aux_pr_ue!$Q$2)","v":0}]
["Durum Wheat1996/03","Durum Wheat","1996/03",182.86260000000001,null,null,null,null,null,null,null,179.625,175.4811,190.52603333333334,null,189.00978571428573,null,null,null,null,null,null,null,184.21300000000002,null,null,null,null,null,null,null,null,{"$f":"+INDEX(D1534:AF1534,1,aux_pr_ue!$P$2)","v":0},{"$f":"+INDEX(D1534:AF1534,1,aux_pr_ue!$Q$2)","v":0}]
["Durum Wheat1995/12","Durum Wheat","1995/12",185.91580000000002,null,null,null,null,null,null,null,166.95740000000001,186.25825,189.73166666666665,null,196.01728571428572,null,null,null,null,null,null,null,175.52775000000003,null,null,null,null,null,null,null,null,{"$f":"+INDEX(D1537:AF1537,1,aux_pr_ue!$P$2)","v":0},{"$f":"+INDEX(D1537:AF1537,1,aux_pr_ue!$Q$2)","v":0}]
["Durum Wheat1995/11","Durum Wheat","1995/11",191.25660000000002,null,null,null,null,null,null,null,177.76580000000001,188.46067500000004,201.12960000000001,null,197.99860000000001,null,null,null,null,null,null,null,173.39850000000001,null,null,null,null,null,null,null,null,{"$f":"+INDEX(D1538:AF1538,1,aux_pr_ue!$P$2)","v":0},{"$f":"+INDEX(D1538:AF1538,1,aux_pr_ue!$Q$2)","v":0}]
["Durum Wheat1995/08","Durum Wheat","1995/08",183.96520000000001,null,null,null,null,null,null,null,177.14918,190.58267499999999,194.18300000000002,null,185.1502428571429,null,null,null,null,null,null,null,170.22900000000001,null,166.49700000000001,null,null,null,null,null,null,{"$f":"+INDEX(D1541:AF1541,1,aux_pr_ue!$P$2)","v":166.49700000000001},{"$f":"+INDEX(D1541:AF1541,1,aux_pr_ue!$Q$2)","v":0}]
["Durum Wheat1995/07","Durum Wheat","1995/07",179.65010000000001,null,null,null,null,null,null,null,186.50324000000001,193.62490000000003,178.13350000000003,null,177.83250000000004,null,null,null,null,null,null,null,172.60765000000001,null,163.87479999999999,null,null,null,null,null,null,{"$f":"+INDEX(D1542:AF1542,1,aux_pr_ue!$P$2)","v":163.87479999999999},{"$f":"+INDEX(D1542:AF1542,1,aux_pr_ue!$Q$2)","v":0}]
["Durum Wheat1995/04","Durum Wheat","1995/04",175.37870000000001,null,null,null,null,null,null,null,null,184.98035000000002,166.83,null,171.3548375,null,null,null,null,null,null,null,173.8237,null,null,null,null,null,null,null,null,{"$f":"+INDEX(D1545:AF1545,1,aux_pr_ue!$P$2)","v":0},{"$f":"+INDEX(D1545:AF1545,1,aux_pr_ue!$Q$2)","v":0}]
["Durum Wheat1995/03","Durum Wheat","1995/03",180.10900000000001,null,null,null,null,null,null,null,188.875,187.90305000000001,184.053,null,180.07003750000004,null,null,null,null,null,null,null,173.482,null,null,null,null,null,null,null,null,{"$f":"+INDEX(D1546:AF1546,1,aux_pr_ue!$P$2)","v":0},{"$f":"+INDEX(D1546:AF1546,1,aux_pr_ue!$Q$2)","v":0}]
["Durum Wheat1994/12","Durum Wheat","1994/12",149.5942,null,null,null,null,122.58500000000001,null,null,139.04390000000001,149.29602500000001,153.19162500000002,null,151.73126250000001,null,null,null,null,null,null,null,null,null,null,null,null,null,null,null,null,{"$f":"+INDEX(D1549:AF1549,1,aux_pr_ue!$P$2)","v":0},{"$f":"+INDEX(D1549:AF1549,1,aux_pr_ue!$Q$2)","v":0}]
["Durum Wheat1994/11","Durum Wheat","1994/11",145.1199,null,null,null,null,123.58600000000001,null,null,130.285,148.49600000000001,151.23382500000002,null,147.03627500000002,null,null,null,null,null,null,null,null,null,null,null,null,null,null,null,null,{"$f":"+INDEX(D1550:AF1550,1,aux_pr_ue!$P$2)","v":0},{"$f":"+INDEX(D1550:AF1550,1,aux_pr_ue!$Q$2)","v":0}]
["Durum Wheat1994/08","Durum Wheat","1994/08",126.813,null,null,null,null,129.5428,null,null,113.48553333333335,130.9734,132.5153,null,130.8362625,null,null,null,null,null,null,null,null,null,114.90400000000001,null,null,null,null,null,null,{"$f":"+INDEX(D1553:AF1553,1,aux_pr_ue!$P$2)","v":114.90400000000001},{"$f":"+INDEX(D1553:AF1553,1,aux_pr_ue!$Q$2)","v":0}]
["Durum Wheat1994/07","Durum Wheat","1994/07",123.0621,null,null,null,null,143.36199999999999,null,null,109.6155,123.59020000000001,null,null,129.05907500000001,null,null,null,null,null,null,null,null,null,114.38150000000002,null,null,null,null,null,null,{"$f":"+INDEX(D1554:AF1554,1,aux_pr_ue!$P$2)","v":114.38150000000002},{"$f":"+INDEX(D1554:AF1554,1,aux_pr_ue!$Q$2)","v":0}]
["Durum Wheat1994/04","Durum Wheat","1994/04",145.8013,null,null,null,null,null,null,null,136.20280000000002,147.73169999999999,null,null,147.02365000000003,null,null,null,null,null,null,null,null,null,null,null,null,null,null,null,null,{"$f":"+INDEX(D1557:AF1557,1,aux_pr_ue!$P$2)","v":0},{"$f":"+INDEX(D1557:AF1557,1,aux_pr_ue!$Q$2)","v":0}]
["Durum Wheat1994/03","Durum Wheat","1994/03",149.87430000000001,null,null,null,null,null,null,null,138.34775000000002,146.92875000000001,null,null,154.09065000000001,null,null,null,null,null,null,null,null,null,null,null,null,null,null,null,null,{"$f":"+INDEX(D1558:AF1558,1,aux_pr_ue!$P$2)","v":0},{"$f":"+INDEX(D1558:AF1558,1,aux_pr_ue!$Q$2)","v":0}]
["Durum Wheat1994/01","Durum Wheat","1994/01",160.4735,null,null,null,null,null,null,null,138.31540000000001,163.32452500000002,156.556825,null,163.92076250000002,null,null,null,null,null,null,null,null,null,null,null,null,null,null,null,null,{"$f":"+INDEX(D1560:AF1560,1,aux_pr_ue!$P$2)","v":0},{"$f":"+INDEX(D1560:AF1560,1,aux_pr_ue!$Q$2)","v":0}]
["Durum Wheat1993/12","Durum Wheat","1993/12",165.26580000000001,null,null,null,null,null,null,null,130.684,167.46890000000002,155.46220000000002,null,162.30902499999999,null,null,null,null,null,null,null,null,null,null,null,null,null,null,null,null,{"$f":"+INDEX(D1561:AF1561,1,aux_pr_ue!$P$2)","v":0},{"$f":"+INDEX(D1561:AF1561,1,aux_pr_ue!$Q$2)","v":0}]
["Durum Wheat1993/09","Durum Wheat","1993/09",162.42330000000001,null,null,null,null,null,null,null,153.1217,160.18672500000002,162.58449999999999,null,165.13401249999998,null,null,null,null,null,null,null,null,null,122.39700000000001,null,null,null,null,null,null,{"$f":"+INDEX(D1564:AF1564,1,aux_pr_ue!$P$2)","v":122.39700000000001},{"$f":"+INDEX(D1564:AF1564,1,aux_pr_ue!$Q$2)","v":0}]
["Durum Wheat1993/08","Durum Wheat","1993/08",163.24980000000002,null,null,null,null,null,null,null,153.31483333333335,161.99600000000001,163.84565000000003,null,168.0727875,null,null,null,null,null,null,null,null,null,122.39700000000001,null,null,null,null,null,null,{"$f":"+INDEX(D1565:AF1565,1,aux_pr_ue!$P$2)","v":122.39700000000001},{"$f":"+INDEX(D1565:AF1565,1,aux_pr_ue!$Q$2)","v":0}]
["Durum Wheat1993/05","Durum Wheat","1993/05",238.73950000000002,null,null,null,null,null,null,null,null,185.7,172.28200000000001,null,243.15510000000003,null,null,null,null,null,null,null,null,null,null,null,null,null,null,null,null,{"$f":"+INDEX(D1568:AF1568,1,aux_pr_ue!$P$2)","v":0},{"$f":"+INDEX(D1568:AF1568,1,aux_pr_ue!$Q$2)","v":0}]
["Durum Wheat1993/04","Durum Wheat","1993/04",236.58350000000002,null,null,null,null,null,null,null,null,null,null,null,236.63467142857144,null,null,null,null,null,null,null,null,null,null,null,null,null,null,null,null,{"$f":"+INDEX(D1569:AF1569,1,aux_pr_ue!$P$2)","v":0},{"$f":"+INDEX(D1569:AF1569,1,aux_pr_ue!$Q$2)","v":0}]
["Durum Wheat1993/01","Durum Wheat","1993/01",205.16370000000001,null,null,null,null,null,null,null,204.1182666666667,202.46780000000001,211.9693,null,205.93787499999999,null,null,null,null,null,null,null,null,null,null,null,null,null,null,null,null,{"$f":"+INDEX(D1572:AF1572,1,aux_pr_ue!$P$2)","v":0},{"$f":"+INDEX(D1572:AF1572,1,aux_pr_ue!$Q$2)","v":0}]
["Durum Wheat1992/12","Durum Wheat","1992/12",205.18790000000001,null,null,null,null,null,null,null,null,204.60540000000003,213.80800000000002,null,206.09651250000002,null,null,null,null,null,null,null,null,null,null,null,null,null,null,null,null,{"$f":"+INDEX(D1573:AF1573,1,aux_pr_ue!$P$2)","v":0},{"$f":"+INDEX(D1573:AF1573,1,aux_pr_ue!$Q$2)","v":0}]
["Durum Wheat1992/09","Durum Wheat","1992/09",196.44970000000001,null,null,null,null,null,null,null,199.37450000000001,191.89387500000001,206.13,null,198.10027500000001,null,null,null,null,null,null,null,null,null,null,null,null,null,null,null,null,{"$f":"+INDEX(D1576:AF1576,1,aux_pr_ue!$P$2)","v":0},{"$f":"+INDEX(D1576:AF1576,1,aux_pr_ue!$Q$2)","v":0}]
["Durum Wheat1992/08","Durum Wheat","1992/08",197.19200000000001,null,null,null,null,null,null,null,197.55349999999999,187.27449999999999,207.7825,null,198.21233750000002,null,null,null,null,null,null,null,null,null,null,null,null,null,null,null,null,{"$f":"+INDEX(D1577:AF1577,1,aux_pr_ue!$P$2)","v":0},{"$f":"+INDEX(D1577:AF1577,1,aux_pr_ue!$Q$2)","v":0}]
["Durum Wheat1992/05","Durum Wheat","1992/05",212.661,null,null,null,null,null,null,null,null,204.56757500000001,202.60104999999999,null,223.01636250000004,null,null,null,null,null,null,null,null,null,null,null,null,null,null,null,null,{"$f":"+INDEX(D1580:AF1580,1,aux_pr_ue!$P$2)","v":0},{"$f":"+INDEX(D1580:AF1580,1,aux_pr_ue!$Q$2)","v":0}]
["Durum Wheat1992/04","Durum Wheat","1992/04",211.37570000000002,null,null,null,null,null,null,null,null,205.38265000000001,201.24705,null,218.60838749999999,null,null,null,null,null,null,null,null,null,null,null,null,null,null,null,null,{"$f":"+INDEX(D1581:AF1581,1,aux_pr_ue!$P$2)","v":0},{"$f":"+INDEX(D1581:AF1581,1,aux_pr_ue!$Q$2)","v":0}]
["Durum Wheat1992/01","Durum Wheat","1992/01",210.65770000000001,null,null,null,null,null,null,null,202.03575000000001,205.17744999999999,207.28129999999999,null,217.2328875,null,null,null,null,null,null,null,null,null,null,null,null,null,null,null,null,{"$f":"+INDEX(D1584:AF1584,1,aux_pr_ue!$P$2)","v":0},{"$f":"+INDEX(D1584:AF1584,1,aux_pr_ue!$Q$2)","v":0}]
["Durum Wheat1991/12","Durum Wheat","1991/12",205.58290000000002,null,null,null,null,null,null,null,212.86100000000002,198.15842499999999,209.80560000000003,null,214.84427500000001,null,null,null,null,null,null,null,null,null,null,null,null,null,null,null,null,{"$f":"+INDEX(D1585:AF1585,1,aux_pr_ue!$P$2)","v":0},{"$f":"+INDEX(D1585:AF1585,1,aux_pr_ue!$Q$2)","v":0}]
["Durum Wheat1991/09","Durum Wheat","1991/09",208.35340000000002,null,null,null,null,null,null,null,207.82397500000002,189.36133333333336,203.23043333333331,null,209.75403750000004,null,null,null,null,null,null,null,null,null,null,null,null,null,null,null,null,{"$f":"+INDEX(D1588:AF1588,1,aux_pr_ue!$P$2)","v":0},{"$f":"+INDEX(D1588:AF1588,1,aux_pr_ue!$Q$2)","v":0}]
["Durum Wheat1991/08","Durum Wheat","1991/08",204.70160000000001,null,null,null,null,null,null,null,205.29166000000001,null,200.58965000000001,null,207.31480000000002,null,null,null,null,null,null,null,null,null,null,null,null,null,null,null,null,{"$f":"+INDEX(D1589:AF1589,1,aux_pr_ue!$P$2)","v":0},{"$f":"+INDEX(D1589:AF1589,1,aux_pr_ue!$Q$2)","v":0}]
["Durum Wheat1991/05","Durum Wheat","1991/05",237.66570000000002,null,null,null,null,null,null,null,null,null,231.1481,null,238.5266,null,null,null,null,null,null,null,null,null,null,null,null,null,null,null,null,{"$f":"+INDEX(D1592:AF1592,1,aux_pr_ue!$P$2)","v":0},{"$f":"+INDEX(D1592:AF1592,1,aux_pr_ue!$Q$2)","v":0}]
["Durum Wheat1991/04","Durum Wheat","1991/04",236.62980000000002,null,null,null,null,null,null,null,null,null,236.37905000000001,null,238.3214625,null,null,null,null,null,null,null,null,null,null,null,null,null,null,null,null,{"$f":"+INDEX(D1593:AF1593,1,aux_pr_ue!$P$2)","v":0},{"$f":"+INDEX(D1593:AF1593,1,aux_pr_ue!$Q$2)","v":0}]
["Durum Wheat1991/02","Durum Wheat","1991/02",236.85150000000002,null,null,null,null,null,null,null,225.62400000000002,null,226.25750000000002,null,239.70572500000003,null,null,null,null,null,null,null,null,null,null,null,null,null,null,null,null,{"$f":"+INDEX(D1595:AF1595,1,aux_pr_ue!$P$2)","v":0},{"$f":"+INDEX(D1595:AF1595,1,aux_pr_ue!$Q$2)","v":0}]
["Durum Wheat1991/01","Durum Wheat","1991/01",234.43900000000002,null,null,null,null,null,null,null,221.285,null,224.9623,null,238.2236375,null,null,null,null,null,null,null,null,null,null,null,null,null,null,null,null,{"$f":"+INDEX(D1596:AF1596,1,aux_pr_ue!$P$2)","v":0},{"$f":"+INDEX(D1596:AF1596,1,aux_pr_ue!$Q$2)","v":0}]
["Bread Rye2017/05","Bread Rye","2017/05",160.5915,null,null,163.0592,null,168.92338749999999,130,null,null,null,null,null,null,null,125.94120000000001,null,null,null,null,null,160,149.65780000000001,null,null,null,null,null,null,null,{"$f":"+INDEX(D1599:AF1599,1,aux_pr_ue!$P$2)","v":0},{"$f":"+INDEX(D1599:AF1599,1,aux_pr_ue!$Q$2)","v":0}]
["Bread Rye2017/04","Bread Rye","2017/04",155.06530000000001,null,null,150.7132,null,163.95193750000001,117,null,null,null,null,null,null,null,117.33333333333333,null,null,null,null,null,null,139.5051,null,null,null,null,null,null,null,{"$f":"+INDEX(D1600:AF1600,1,aux_pr_ue!$P$2)","v":0},{"$f":"+INDEX(D1600:AF1600,1,aux_pr_ue!$Q$2)","v":0}]
["Bread Rye2017/01","Bread Rye","2017/01",144.452,null,null,149.9948,null,151.1262625,130,null,null,null,null,null,null,null,null,null,null,null,null,null,154,126.72246666666668,null,null,null,null,null,null,null,{"$f":"+INDEX(D1603:AF1603,1,aux_pr_ue!$P$2)","v":0},{"$f":"+INDEX(D1603:AF1603,1,aux_pr_ue!$Q$2)","v":0}]
["Bread Rye2016/12","Bread Rye","2016/12",138.96450000000002,null,null,131.3759,null,149.66200000000001,100,null,null,null,null,null,null,null,124.60055,116.11,null,null,null,null,153.5,120.78366666666666,null,null,null,null,null,null,null,{"$f":"+INDEX(D1604:AF1604,1,aux_pr_ue!$P$2)","v":0},{"$f":"+INDEX(D1604:AF1604,1,aux_pr_ue!$Q$2)","v":0}]
["Bread Rye2016/09","Bread Rye","2016/09",132.68129999999999,null,null,139.65880000000001,null,140.81931,108.64500000000001,null,null,null,null,null,null,null,112.28176666666668,104.43,null,null,null,null,153,119.1384,null,null,null,null,null,null,null,{"$f":"+INDEX(D1607:AF1607,1,aux_pr_ue!$P$2)","v":0},{"$f":"+INDEX(D1607:AF1607,1,aux_pr_ue!$Q$2)","v":0}]
["Bread Rye2016/08","Bread Rye","2016/08",134.786,null,null,143.59480000000002,null,141.43645555555557,115.64230000000001,null,null,null,null,null,null,null,110.40933333333334,108.22460000000001,null,null,null,null,150.66130000000001,112.18860000000001,200,null,null,null,null,null,null,{"$f":"+INDEX(D1608:AF1608,1,aux_pr_ue!$P$2)","v":200},{"$f":"+INDEX(D1608:AF1608,1,aux_pr_ue!$Q$2)","v":0}]
["Bread Rye2016/05","Bread Rye","2016/05",136.2345,null,null,144.24460000000002,null,141.41282857142858,115.125,null,null,null,null,null,null,null,null,112.08,null,null,null,null,146,120.50060000000001,null,null,null,null,null,null,null,{"$f":"+INDEX(D1611:AF1611,1,aux_pr_ue!$P$2)","v":0},{"$f":"+INDEX(D1611:AF1611,1,aux_pr_ue!$Q$2)","v":0}]
["Bread Rye2016/04","Bread Rye","2016/04",135.77880000000002,null,null,147.0728,null,138.69154,130,null,null,null,null,null,null,null,93.25,null,null,null,null,null,145.65,123.67070000000001,null,null,null,null,null,null,null,{"$f":"+INDEX(D1612:AF1612,1,aux_pr_ue!$P$2)","v":0},{"$f":"+INDEX(D1612:AF1612,1,aux_pr_ue!$Q$2)","v":0}]
["Bread Rye2016/01","Bread Rye","2016/01",140.26230000000001,null,null,133.2336,null,147.00178888888888,118.35900000000001,null,null,null,null,null,null,null,113.55000000000001,103.6,null,null,null,null,146.33330000000001,121.62960000000001,null,null,null,null,null,null,null,{"$f":"+INDEX(D1615:AF1615,1,aux_pr_ue!$P$2)","v":0},{"$f":"+INDEX(D1615:AF1615,1,aux_pr_ue!$Q$2)","v":0}]
["Bread Rye2015/12","Bread Rye","2015/12",138.49010000000001,null,null,143.55170000000001,null,153.20989999999998,113.98690000000001,null,null,null,null,null,null,null,117.88590000000001,117.7838,null,null,null,null,150.23075,124.37530000000001,null,null,null,null,null,null,null,{"$f":"+INDEX(D1616:AF1616,1,aux_pr_ue!$P$2)","v":0},{"$f":"+INDEX(D1616:AF1616,1,aux_pr_ue!$Q$2)","v":0}]
["Bread Rye2015/09","Bread Rye","2015/09",135.04480000000001,null,null,144.12085000000002,null,149.45170999999999,114.3027,null,null,null,null,null,null,null,113.43640000000001,114.122,null,null,null,null,151.25,120.97215,null,null,null,null,null,null,null,{"$f":"+INDEX(D1619:AF1619,1,aux_pr_ue!$P$2)","v":0},{"$f":"+INDEX(D1619:AF1619,1,aux_pr_ue!$Q$2)","v":0}]
["Bread Rye2015/08","Bread Rye","2015/08",135.5395,null,null,143.61850000000001,null,150.58057777777776,119.40690000000001,null,null,null,null,null,null,null,112.24250000000001,110.3027,null,null,null,null,149.91935000000001,119.05936000000001,200,null,null,null,null,null,null,{"$f":"+INDEX(D1620:AF1620,1,aux_pr_ue!$P$2)","v":200},{"$f":"+INDEX(D1620:AF1620,1,aux_pr_ue!$Q$2)","v":0}]
["Bread Rye2015/05","Bread Rye","2015/05",132.94390000000001,null,null,146.9289,null,145.72097500000001,125.12580000000001,null,null,null,null,null,null,null,112.05,null,null,null,null,null,null,115.4973,null,null,null,null,null,null,null,{"$f":"+INDEX(D1623:AF1623,1,aux_pr_ue!$P$2)","v":0},{"$f":"+INDEX(D1623:AF1623,1,aux_pr_ue!$Q$2)","v":0}]
["Bread Rye2015/04","Bread Rye","2015/04",137.9812,null,null,147.19705000000002,null,151.54990000000001,117.03930000000001,null,null,null,null,null,null,null,105.61500000000001,108.25,null,null,null,null,148.73330000000001,121.63356000000002,null,null,null,null,null,null,null,{"$f":"+INDEX(D1624:AF1624,1,aux_pr_ue!$P$2)","v":0},{"$f":"+INDEX(D1624:AF1624,1,aux_pr_ue!$Q$2)","v":0}]
["Bread Rye2015/02","Bread Rye","2015/02",143.01949999999999,null,null,145.87715,null,156.07445000000001,140,null,null,null,null,null,null,null,127.983,117.29,null,null,null,null,148,128.02444,null,null,null,null,null,null,null,{"$f":"+INDEX(D1626:AF1626,1,aux_pr_ue!$P$2)","v":0},{"$f":"+INDEX(D1626:AF1626,1,aux_pr_ue!$Q$2)","v":0}]
["Bread Rye2015/01","Bread Rye","2015/01",143.57900000000001,null,null,148.7903,null,159.18286666666668,null,null,null,null,null,null,null,null,130.80330000000001,null,null,null,null,null,null,126.61476,null,null,null,null,null,null,null,{"$f":"+INDEX(D1627:AF1627,1,aux_pr_ue!$P$2)","v":0},{"$f":"+INDEX(D1627:AF1627,1,aux_pr_ue!$Q$2)","v":0}]
["Bread Rye2014/10","Bread Rye","2014/10",132.61330000000001,null,null,143.1669,null,147.07203333333334,115.05290000000001,null,null,null,null,null,null,null,108.89490000000001,143.08440000000002,null,null,null,null,153.5,115.82326,null,null,null,null,null,null,null,{"$f":"+INDEX(D1630:AF1630,1,aux_pr_ue!$P$2)","v":0},{"$f":"+INDEX(D1630:AF1630,1,aux_pr_ue!$Q$2)","v":0}]
["Bread Rye2014/09","Bread Rye","2014/09",133.83950000000002,null,null,140.85735,null,152.76043750000002,115.77030000000001,null,null,null,null,null,null,null,114.14015000000001,115.7402,null,null,null,null,152.7826,118.22978000000001,null,null,null,null,null,null,null,{"$f":"+INDEX(D1631:AF1631,1,aux_pr_ue!$P$2)","v":0},{"$f":"+INDEX(D1631:AF1631,1,aux_pr_ue!$Q$2)","v":0}]
["Bread Rye2014/06","Bread Rye","2014/06",155.27960000000002,null,null,147.87720000000002,null,169.59360000000001,null,null,null,null,null,null,null,null,null,null,null,null,null,null,null,138.26226000000003,null,null,null,null,null,null,null,{"$f":"+INDEX(D1634:AF1634,1,aux_pr_ue!$P$2)","v":0},{"$f":"+INDEX(D1634:AF1634,1,aux_pr_ue!$Q$2)","v":0}]
["Bread Rye2014/05","Bread Rye","2014/05",161.2604,null,null,157.53415000000001,null,177.5919111111111,null,null,null,null,null,null,null,null,148.04,136.941,null,null,null,null,null,137.09444000000002,null,null,null,null,null,null,null,{"$f":"+INDEX(D1635:AF1635,1,aux_pr_ue!$P$2)","v":0},{"$f":"+INDEX(D1635:AF1635,1,aux_pr_ue!$Q$2)","v":0}]
["Bread Rye2014/02","Bread Rye","2014/02",150.89090000000002,null,null,142.06470000000002,null,164.42612222222226,150,null,null,null,null,null,null,null,138.965,130.5129,null,null,null,null,150.00895,135.53119999999998,null,null,null,null,null,null,null,{"$f":"+INDEX(D1638:AF1638,1,aux_pr_ue!$P$2)","v":0},{"$f":"+INDEX(D1638:AF1638,1,aux_pr_ue!$Q$2)","v":0}]
["Bread Rye2014/01","Bread Rye","2014/01",150.39449999999999,null,null,136.92644999999999,null,167.28062500000001,null,null,null,null,null,null,null,null,148.6875,147.4659,null,null,null,null,150.20314999999999,132.48230000000001,null,null,null,null,null,null,null,{"$f":"+INDEX(D1639:AF1639,1,aux_pr_ue!$P$2)","v":0},{"$f":"+INDEX(D1639:AF1639,1,aux_pr_ue!$Q$2)","v":0}]
["Bread Rye2013/10","Bread Rye","2013/10",138.81640000000002,null,null,142.55889999999999,null,153.30218888888888,141.93790000000001,null,null,null,null,null,null,null,126.32835,132.86020000000002,null,null,null,null,145.3646,120.30930000000001,null,null,null,null,null,null,null,{"$f":"+INDEX(D1642:AF1642,1,aux_pr_ue!$P$2)","v":0},{"$f":"+INDEX(D1642:AF1642,1,aux_pr_ue!$Q$2)","v":0}]
["Bread Rye2013/09","Bread Rye","2013/09",136.98070000000001,null,null,141.14845,null,147.9803,141.69970000000001,null,null,null,null,null,null,null,134.97880000000001,123.1507,null,null,null,null,145.53334999999998,111.31532,210,null,null,null,null,null,null,{"$f":"+INDEX(D1643:AF1643,1,aux_pr_ue!$P$2)","v":210},{"$f":"+INDEX(D1643:AF1643,1,aux_pr_ue!$Q$2)","v":0}]
["Bread Rye2013/06","Bread Rye","2013/06",163.39830000000001,null,null,206.15113333333338,null,177.92857142857142,null,null,null,null,null,null,null,null,null,168.69500000000002,null,null,null,null,null,147.67158000000001,null,null,null,null,null,null,null,{"$f":"+INDEX(D1646:AF1646,1,aux_pr_ue!$P$2)","v":0},{"$f":"+INDEX(D1646:AF1646,1,aux_pr_ue!$Q$2)","v":0}]
["Bread Rye2013/05","Bread Rye","2013/05",177.5421,null,null,203.68655000000001,null,192.76971,177.5,null,null,null,null,null,null,null,172.28925000000001,37.4878,null,null,null,null,null,158.42631111111112,null,null,null,null,null,null,null,{"$f":"+INDEX(D1647:AF1647,1,aux_pr_ue!$P$2)","v":0},{"$f":"+INDEX(D1647:AF1647,1,aux_pr_ue!$Q$2)","v":0}]
["Bread Rye2013/02","Bread Rye","2013/02",201.24360000000001,null,null,216.52895000000001,null,220.10374285714283,null,null,null,null,null,null,null,null,177.10930000000002,182.33090000000001,null,null,null,null,221,178.72052000000002,null,null,null,null,null,null,null,{"$f":"+INDEX(D1650:AF1650,1,aux_pr_ue!$P$2)","v":0},{"$f":"+INDEX(D1650:AF1650,1,aux_pr_ue!$Q$2)","v":0}]
["Bread Rye2013/01","Bread Rye","2013/01",199.86970000000002,null,null,213.51845000000003,null,225.27553750000001,185.34570000000002,null,null,null,null,null,null,null,187.57814999999999,177.39610000000002,null,null,null,null,null,180.62956000000003,null,null,null,null,null,null,null,{"$f":"+INDEX(D1651:AF1651,1,aux_pr_ue!$P$2)","v":0},{"$f":"+INDEX(D1651:AF1651,1,aux_pr_ue!$Q$2)","v":0}]
["Bread Rye2012/10","Bread Rye","2012/10",196.85770000000002,null,null,216.12549999999999,null,222.00038750000002,186.06870000000001,null,null,null,null,null,null,null,181.2791666666667,164.66655,null,null,null,null,221.5,172.21235999999999,null,null,null,null,null,null,null,{"$f":"+INDEX(D1654:AF1654,1,aux_pr_ue!$P$2)","v":0},{"$f":"+INDEX(D1654:AF1654,1,aux_pr_ue!$Q$2)","v":0}]
["Bread Rye2012/09","Bread Rye","2012/09",201.47060000000002,null,null,222.04065000000003,null,222.61623749999998,189.649,null,null,null,null,null,null,null,188.8348,181.10660000000001,null,null,null,null,229.05770000000001,171.29900000000004,210,null,null,null,null,null,null,{"$f":"+INDEX(D1655:AF1655,1,aux_pr_ue!$P$2)","v":210},{"$f":"+INDEX(D1655:AF1655,1,aux_pr_ue!$Q$2)","v":0}]
["Bread Rye2012/07","Bread Rye","2012/07",212.65200000000002,null,null,213.21700000000001,null,232.75451666666672,191.46,null,null,null,null,null,null,null,null,179.99590000000001,null,null,null,null,null,197.47126,200,null,null,null,null,null,null,{"$f":"+INDEX(D1657:AF1657,1,aux_pr_ue!$P$2)","v":200},{"$f":"+INDEX(D1657:AF1657,1,aux_pr_ue!$Q$2)","v":0}]
["Bread Rye2012/06","Bread Rye","2012/06",222.2586,null,null,225.97995000000003,null,243.17238333333333,186.2996,null,null,null,null,null,null,null,186.33410000000001,178.82300000000001,null,null,null,null,null,208.3742,null,null,null,null,null,null,null,{"$f":"+INDEX(D1658:AF1658,1,aux_pr_ue!$P$2)","v":0},{"$f":"+INDEX(D1658:AF1658,1,aux_pr_ue!$Q$2)","v":0}]
["Bread Rye2012/03","Bread Rye","2012/03",232.66660000000002,null,null,225.71705,null,244.28427500000001,null,null,null,null,null,null,null,null,null,175.41990000000001,null,null,null,null,248,213.56635,null,null,null,null,null,null,null,{"$f":"+INDEX(D1661:AF1661,1,aux_pr_ue!$P$2)","v":0},{"$f":"+INDEX(D1661:AF1661,1,aux_pr_ue!$Q$2)","v":0}]
["Bread Rye2012/02","Bread Rye","2012/02",222.18820000000002,null,null,216.34775000000002,null,236.76877142857145,172.38,null,null,null,null,null,null,null,177.35570000000001,188.25880000000001,null,null,null,null,241.4375,208.33557999999999,null,null,null,null,null,null,null,{"$f":"+INDEX(D1662:AF1662,1,aux_pr_ue!$P$2)","v":0},{"$f":"+INDEX(D1662:AF1662,1,aux_pr_ue!$Q$2)","v":0}]
["Bread Rye2011/11","Bread Rye","2011/11",204.05590000000001,null,null,214.14895000000001,null,218.83124999999998,null,null,null,null,null,null,null,null,167.26066666666668,181.24710000000002,null,null,null,null,228.75,184.65802500000001,null,null,null,null,null,null,null,{"$f":"+INDEX(D1665:AF1665,1,aux_pr_ue!$P$2)","v":0},{"$f":"+INDEX(D1665:AF1665,1,aux_pr_ue!$Q$2)","v":0}]
["Bread Rye2011/10","Bread Rye","2011/10",206.13200000000001,null,null,221.90145000000001,null,222.71406250000001,180.91470000000001,null,null,null,null,null,null,null,175.394125,175.3073,null,null,null,null,238.30265,193.97336000000001,null,null,null,null,null,null,null,{"$f":"+INDEX(D1666:AF1666,1,aux_pr_ue!$P$2)","v":0},{"$f":"+INDEX(D1666:AF1666,1,aux_pr_ue!$Q$2)","v":0}]
["Bread Rye2011/07","Bread Rye","2011/07",195.74770000000001,null,null,225.15340000000003,null,203.9912875,172.03,null,null,null,null,null,null,null,181.11260000000001,165.7003,null,null,null,null,null,187.49824000000001,160,null,null,null,null,null,null,{"$f":"+INDEX(D1669:AF1669,1,aux_pr_ue!$P$2)","v":160},{"$f":"+INDEX(D1669:AF1669,1,aux_pr_ue!$Q$2)","v":0}]
["Bread Rye2011/06","Bread Rye","2011/06",214.35140000000001,null,null,236.29165,null,226.18518571428572,193.6,null,null,null,null,null,null,null,193.84530000000001,230.96040000000002,null,null,null,null,null,204.11612,null,null,null,null,null,null,null,{"$f":"+INDEX(D1670:AF1670,1,aux_pr_ue!$P$2)","v":0},{"$f":"+INDEX(D1670:AF1670,1,aux_pr_ue!$Q$2)","v":0}]
["Bread Rye2011/03","Bread Rye","2011/03",212.44280000000001,null,null,241.47035,null,220.76365555555557,187.5,null,null,null,null,null,null,null,190.5538,210.76490000000001,null,null,null,null,249.125,197.90451999999999,null,null,null,null,null,null,null,{"$f":"+INDEX(D1673:AF1673,1,aux_pr_ue!$P$2)","v":0},{"$f":"+INDEX(D1673:AF1673,1,aux_pr_ue!$Q$2)","v":0}]
["Bread Rye2011/02","Bread Rye","2011/02",223.59990000000002,null,null,235.4117,null,230.47470000000001,166.17,null,null,null,null,null,null,null,186.39753333333337,230.99130000000002,null,null,null,null,246.5,211.79041999999998,null,null,null,null,null,null,null,{"$f":"+INDEX(D1674:AF1674,1,aux_pr_ue!$P$2)","v":0},{"$f":"+INDEX(D1674:AF1674,1,aux_pr_ue!$Q$2)","v":0}]
["Bread Rye2010/11","Bread Rye","2010/11",185.0138,null,null,195.49885,null,202.494,160.27549999999999,null,null,null,null,null,null,null,154.3954,150.17670000000001,null,null,null,null,237.5,164.57912000000002,null,null,null,null,null,null,null,{"$f":"+INDEX(D1677:AF1677,1,aux_pr_ue!$P$2)","v":0},{"$f":"+INDEX(D1677:AF1677,1,aux_pr_ue!$Q$2)","v":0}]
["Bread Rye2010/10","Bread Rye","2010/10",182.81360000000001,null,null,196.05295000000001,null,203.40209999999999,152.50990000000002,null,null,null,null,null,null,null,147.39500000000001,157.40309999999999,null,null,null,null,238.11110000000002,162.63806,150,null,null,null,null,null,null,{"$f":"+INDEX(D1678:AF1678,1,aux_pr_ue!$P$2)","v":150},{"$f":"+INDEX(D1678:AF1678,1,aux_pr_ue!$Q$2)","v":0}]
["Bread Rye2010/07","Bread Rye","2010/07",112.2847,null,null,106.17600000000002,null,135.90178571428572,95.547899999999998,null,null,null,null,null,null,null,null,101.41040000000001,null,null,null,null,149,88.906739999999999,150,null,null,null,null,null,null,{"$f":"+INDEX(D1681:AF1681,1,aux_pr_ue!$P$2)","v":150},{"$f":"+INDEX(D1681:AF1681,1,aux_pr_ue!$Q$2)","v":0}]
["Bread Rye2010/06","Bread Rye","2010/06",102.66590000000001,null,null,104.10430000000001,null,121.40416666666668,87.950699999999998,null,null,null,null,null,null,null,null,88.836800000000011,null,null,null,null,null,86.697839999999999,null,null,null,null,null,null,null,{"$f":"+INDEX(D1682:AF1682,1,aux_pr_ue!$P$2)","v":0},{"$f":"+INDEX(D1682:AF1682,1,aux_pr_ue!$Q$2)","v":0}]
["Bread Rye2010/03","Bread Rye","2010/03",93.063800000000001,null,null,93.677600000000012,null,104.16331250000002,80.720399999999998,null,null,null,null,null,null,null,76.558633333333333,81.546599999999998,null,null,null,null,101,79.886179999999996,null,null,null,null,null,null,null,{"$f":"+INDEX(D1685:AF1685,1,aux_pr_ue!$P$2)","v":0},{"$f":"+INDEX(D1685:AF1685,1,aux_pr_ue!$Q$2)","v":0}]
["Bread Rye2010/02","Bread Rye","2010/02",93.015799999999999,null,null,89.163550000000015,null,104.05543750000001,92.141800000000003,null,null,null,null,null,null,null,76.680000000000007,78.58850000000001,null,null,null,null,101,80.416340000000019,null,null,null,null,null,null,null,{"$f":"+INDEX(D1686:AF1686,1,aux_pr_ue!$P$2)","v":0},{"$f":"+INDEX(D1686:AF1686,1,aux_pr_ue!$Q$2)","v":0}]
["Bread Rye2009/11","Bread Rye","2009/11",82.388900000000007,null,null,92.415250000000015,null,96.087737500000017,75.272800000000004,null,null,null,null,null,null,null,75.760250000000013,60.088200000000001,null,null,null,null,100.6,67.613939999999999,null,null,null,null,null,null,null,{"$f":"+INDEX(D1689:AF1689,1,aux_pr_ue!$P$2)","v":0},{"$f":"+INDEX(D1689:AF1689,1,aux_pr_ue!$Q$2)","v":0}]
["Bread Rye2009/10","Bread Rye","2009/10",78.363,null,null,91.044749999999993,null,92.821155555555549,72.783900000000003,null,null,null,null,null,null,null,74.628950000000003,63.415000000000006,null,null,null,null,100,62.512520000000009,null,null,null,null,null,null,null,{"$f":"+INDEX(D1690:AF1690,1,aux_pr_ue!$P$2)","v":0},{"$f":"+INDEX(D1690:AF1690,1,aux_pr_ue!$Q$2)","v":0}]
["Bread Rye2009/08","Bread Rye","2009/08",83.889099999999999,null,null,98.177050000000008,null,92.875777777777785,84.023700000000005,null,null,null,null,null,null,null,78.400800000000004,64.787300000000002,null,null,null,null,null,67.979940000000013,120,null,null,null,null,null,null,{"$f":"+INDEX(D1692:AF1692,1,aux_pr_ue!$P$2)","v":120},{"$f":"+INDEX(D1692:AF1692,1,aux_pr_ue!$Q$2)","v":0}]
["Bread Rye2009/07","Bread Rye","2009/07",97.829700000000003,null,null,110.67895000000001,null,106.677125,90.264099999999999,null,null,null,null,null,null,null,null,77.039400000000001,null,null,null,null,null,80.794960000000003,137.5,null,null,null,null,null,null,{"$f":"+INDEX(D1693:AF1693,1,aux_pr_ue!$P$2)","v":137.5},{"$f":"+INDEX(D1693:AF1693,1,aux_pr_ue!$Q$2)","v":0}]
["Bread Rye2009/04","Bread Rye","2009/04",97.240099999999998,null,null,110.60395,null,112.04435000000001,89.678400000000011,null,null,null,null,null,null,null,106.3263,87.171400000000006,null,null,null,null,null,79.398659999999992,null,null,null,null,null,null,null,{"$f":"+INDEX(D1696:AF1696,1,aux_pr_ue!$P$2)","v":0},{"$f":"+INDEX(D1696:AF1696,1,aux_pr_ue!$Q$2)","v":0}]
["Bread Rye2009/03","Bread Rye","2009/03",102.53750000000001,null,null,114.4152,null,114.27851000000001,102.1464,null,null,null,null,null,null,null,115.0913,91.6066,null,null,null,null,null,85.034500000000008,null,null,null,null,null,null,null,{"$f":"+INDEX(D1697:AF1697,1,aux_pr_ue!$P$2)","v":0},{"$f":"+INDEX(D1697:AF1697,1,aux_pr_ue!$Q$2)","v":0}]
["Bread Rye2008/12","Bread Rye","2008/12",99.082300000000004,null,null,132.35485,null,118.08933750000001,96.005499999999998,null,null,null,null,null,null,null,91.849450000000004,88.31280000000001,null,null,null,null,132.375,91.111580000000004,null,null,null,null,null,null,null,{"$f":"+INDEX(D1700:AF1700,1,aux_pr_ue!$P$2)","v":0},{"$f":"+INDEX(D1700:AF1700,1,aux_pr_ue!$Q$2)","v":0}]
["Bread Rye2008/11","Bread Rye","2008/11",116.11760000000001,null,null,154.6541,null,125.3078,117.42830000000001,null,null,null,null,null,null,null,95.432700000000011,102.0586,null,null,null,null,143.55835000000002,93.180199999999999,null,null,null,null,null,null,null,{"$f":"+INDEX(D1701:AF1701,1,aux_pr_ue!$P$2)","v":0},{"$f":"+INDEX(D1701:AF1701,1,aux_pr_ue!$Q$2)","v":0}]
["Bread Rye2008/08","Bread Rye","2008/08",155.1037,null,null,165.72475000000003,null,154.49841428571426,135.88400000000001,null,null,null,null,null,null,null,121.51655000000001,140.7217,null,null,null,null,183.72219999999999,146.43164000000002,200,null,null,null,null,null,null,{"$f":"+INDEX(D1704:AF1704,1,aux_pr_ue!$P$2)","v":200},{"$f":"+INDEX(D1704:AF1704,1,aux_pr_ue!$Q$2)","v":0}]
["Bread Rye2008/07","Bread Rye","2008/07",194.67830000000001,null,null,235.68280000000001,null,180.31236666666666,null,null,null,null,null,null,null,null,null,151.00790000000001,null,null,null,null,null,185.9579,190.66670000000002,null,null,null,null,null,null,{"$f":"+INDEX(D1705:AF1705,1,aux_pr_ue!$P$2)","v":190.66670000000002},{"$f":"+INDEX(D1705:AF1705,1,aux_pr_ue!$Q$2)","v":0}]
["Bread Rye2008/04","Bread Rye","2008/04",219.21870000000001,null,null,230.75325000000001,null,213.42499999999998,207.71290000000002,null,null,null,null,null,null,null,214.56550000000001,186.2022,null,null,null,null,240.5,219.67600000000002,null,null,null,null,null,null,null,{"$f":"+INDEX(D1708:AF1708,1,aux_pr_ue!$P$2)","v":0},{"$f":"+INDEX(D1708:AF1708,1,aux_pr_ue!$Q$2)","v":0}]
["Bread Rye2008/03","Bread Rye","2008/03",227.09350000000001,null,null,231.68635,null,239.36917142857146,null,null,null,null,null,null,null,null,null,186.14940000000001,null,null,null,null,240.29170000000002,214.30825000000002,null,null,null,null,null,null,null,{"$f":"+INDEX(D1709:AF1709,1,aux_pr_ue!$P$2)","v":0},{"$f":"+INDEX(D1709:AF1709,1,aux_pr_ue!$Q$2)","v":0}]
["Bread Rye2007/12","Bread Rye","2007/12",204.4563,null,null,222.02789999999999,null,238.81734285714285,178.1942,null,null,null,null,null,null,null,189.24076666666667,180.1902,null,null,null,null,230.6053,194.64122500000002,null,null,null,null,null,null,null,{"$f":"+INDEX(D1712:AF1712,1,aux_pr_ue!$P$2)","v":0},{"$f":"+INDEX(D1712:AF1712,1,aux_pr_ue!$Q$2)","v":0}]
["Bread Rye2007/11","Bread Rye","2007/11",213.9503,null,null,211.63035000000002,null,238.58322857142858,187.345,null,null,null,null,null,null,null,187.74680000000001,179.1448,null,null,null,null,231.6,194.33097500000002,null,null,null,null,null,null,null,{"$f":"+INDEX(D1713:AF1713,1,aux_pr_ue!$P$2)","v":0},{"$f":"+INDEX(D1713:AF1713,1,aux_pr_ue!$Q$2)","v":0}]
["Bread Rye2007/08","Bread Rye","2007/08",178.95420000000001,null,null,162.51325000000003,null,212.12651,166.7748,null,null,null,null,null,null,null,163.52506666666667,155.3905,null,null,null,null,201.13040000000001,150.97182000000004,159.5455,null,null,null,null,null,null,{"$f":"+INDEX(D1716:AF1716,1,aux_pr_ue!$P$2)","v":159.5455},{"$f":"+INDEX(D1716:AF1716,1,aux_pr_ue!$Q$2)","v":0}]
["Bread Rye2007/07","Bread Rye","2007/07",152.2843,null,null,157.98110000000003,null,169.52855,null,null,null,null,null,null,null,null,null,134.47060000000002,null,null,null,null,null,131.04164,144.61539999999999,null,null,null,null,null,null,{"$f":"+INDEX(D1717:AF1717,1,aux_pr_ue!$P$2)","v":144.61539999999999},{"$f":"+INDEX(D1717:AF1717,1,aux_pr_ue!$Q$2)","v":0}]
["Bread Rye2007/04","Bread Rye","2007/04",156.8434,null,null,169.06184999999999,null,159.01340000000002,137.41,null,null,null,null,null,null,null,null,null,null,null,null,null,null,153.71675000000002,null,null,null,null,null,null,null,{"$f":"+INDEX(D1720:AF1720,1,aux_pr_ue!$P$2)","v":0},{"$f":"+INDEX(D1720:AF1720,1,aux_pr_ue!$Q$2)","v":0}]
["Bread Rye2007/03","Bread Rye","2007/03",159.76820000000001,null,null,180.03085000000002,null,159.55098750000002,null,null,null,null,null,null,null,null,null,145.13830000000002,null,null,null,null,null,155.80815000000001,null,null,null,null,null,null,null,{"$f":"+INDEX(D1721:AF1721,1,aux_pr_ue!$P$2)","v":0},{"$f":"+INDEX(D1721:AF1721,1,aux_pr_ue!$Q$2)","v":0}]
["Bread Rye2007/01","Bread Rye","2007/01",153.6936,null,null,167.74530000000001,null,156.66361818181821,130.78880000000001,null,null,null,null,null,null,null,null,136.14760000000001,null,null,null,null,164.5,155.06390000000002,null,null,null,null,null,null,null,{"$f":"+INDEX(D1723:AF1723,1,aux_pr_ue!$P$2)","v":0},{"$f":"+INDEX(D1723:AF1723,1,aux_pr_ue!$Q$2)","v":0}]
["Bread Rye2006/12","Bread Rye","2006/12",150.78220000000002,null,null,163.28845000000001,null,156.30081250000001,121.96340000000001,null,null,null,null,null,null,null,115.8541,134.57150000000001,null,null,null,null,163.27780000000001,152.96628000000001,null,null,null,null,null,null,null,{"$f":"+INDEX(D1724:AF1724,1,aux_pr_ue!$P$2)","v":0},{"$f":"+INDEX(D1724:AF1724,1,aux_pr_ue!$Q$2)","v":0}]
["Bread Rye2006/09","Bread Rye","2006/09",122.74460000000001,null,null,126.1669,null,144.72571818181817,107.77300000000001,null,null,null,null,null,null,null,95.85915,109.0535,null,null,null,null,160.5,118.96632500000001,null,null,null,null,null,null,null,{"$f":"+INDEX(D1727:AF1727,1,aux_pr_ue!$P$2)","v":0},{"$f":"+INDEX(D1727:AF1727,1,aux_pr_ue!$Q$2)","v":0}]
["Bread Rye2006/08","Bread Rye","2006/08",104.8497,null,null,115.07285000000002,null,117.15712000000001,106.16730000000001,null,null,null,null,null,null,null,96.187275,90.517499999999998,null,null,null,null,null,88.48912,120,null,null,null,null,null,null,{"$f":"+INDEX(D1728:AF1728,1,aux_pr_ue!$P$2)","v":120},{"$f":"+INDEX(D1728:AF1728,1,aux_pr_ue!$Q$2)","v":0}]
["Bread Rye2006/05","Bread Rye","2006/05",111.31280000000001,null,null,107.90115,null,122.66751428571429,103.5369,null,null,null,null,null,null,null,null,114.27730000000001,null,null,null,null,null,97.932050000000004,null,null,null,null,null,null,null,{"$f":"+INDEX(D1731:AF1731,1,aux_pr_ue!$P$2)","v":0},{"$f":"+INDEX(D1731:AF1731,1,aux_pr_ue!$Q$2)","v":0}]
["Bread Rye2006/04","Bread Rye","2006/04",110.8366,null,null,103.16035000000001,null,124.41875,103.0043,null,null,null,null,null,null,null,127.8631,99.169700000000006,null,null,null,null,null,99.627300000000005,null,null,null,null,null,null,null,{"$f":"+INDEX(D1732:AF1732,1,aux_pr_ue!$P$2)","v":0},{"$f":"+INDEX(D1732:AF1732,1,aux_pr_ue!$Q$2)","v":0}]
["Bread Rye2006/01","Bread Rye","2006/01",103.9385,null,null,94.135050000000007,null,117.78574,92.671900000000008,null,null,null,null,null,null,null,null,97.452500000000001,null,null,null,null,99.5,87.083500000000001,null,null,null,null,null,null,null,{"$f":"+INDEX(D1735:AF1735,1,aux_pr_ue!$P$2)","v":0},{"$f":"+INDEX(D1735:AF1735,1,aux_pr_ue!$Q$2)","v":0}]
["Bread Rye2005/12","Bread Rye","2005/12",99.849699999999999,null,null,90.712549999999993,null,112.49390000000001,null,null,null,null,null,null,null,null,93.092166666666685,89.0899,null,null,null,null,99.5,78.657524999999993,null,null,null,null,null,null,null,{"$f":"+INDEX(D1736:AF1736,1,aux_pr_ue!$P$2)","v":0},{"$f":"+INDEX(D1736:AF1736,1,aux_pr_ue!$Q$2)","v":0}]
["Bread Rye2005/09","Bread Rye","2005/09",89.232700000000008,null,null,80.495000000000005,null,107.65001111111111,null,null,null,null,null,null,null,null,82.637725000000003,74.902000000000001,null,null,null,null,96.45,68.230379999999997,null,null,null,null,null,null,null,{"$f":"+INDEX(D1739:AF1739,1,aux_pr_ue!$P$2)","v":0},{"$f":"+INDEX(D1739:AF1739,1,aux_pr_ue!$Q$2)","v":0}]
["Bread Rye2005/08","Bread Rye","2005/08",82.729900000000001,null,null,75.654700000000005,null,94.994745454545452,null,null,null,null,null,null,null,null,80.005233333333337,78.885300000000001,null,53.624800000000008,null,null,92.5,60.596739999999997,120,null,null,null,null,null,null,{"$f":"+INDEX(D1740:AF1740,1,aux_pr_ue!$P$2)","v":120},{"$f":"+INDEX(D1740:AF1740,1,aux_pr_ue!$Q$2)","v":0}]
["Bread Rye2005/05","Bread Rye","2005/05",88.354300000000009,null,null,77.076250000000002,null,96.853730000000013,null,null,null,null,null,null,null,null,91.94080000000001,92.822000000000003,null,null,null,null,94,70.065899999999999,null,null,null,null,null,null,null,{"$f":"+INDEX(D1743:AF1743,1,aux_pr_ue!$P$2)","v":0},{"$f":"+INDEX(D1743:AF1743,1,aux_pr_ue!$Q$2)","v":0}]
["Bread Rye2005/04","Bread Rye","2005/04",87.494100000000003,null,null,80.499150000000014,null,93.791663636363637,null,null,null,null,null,null,null,null,91.954800000000006,93.821400000000011,null,null,null,null,93.45,71.863500000000002,null,null,null,null,null,null,null,{"$f":"+INDEX(D1744:AF1744,1,aux_pr_ue!$P$2)","v":0},{"$f":"+INDEX(D1744:AF1744,1,aux_pr_ue!$Q$2)","v":0}]
["Bread Rye2005/01","Bread Rye","2005/01",87.427900000000008,null,null,82.254000000000005,null,90.682060000000007,null,null,null,null,null,null,null,null,91.098300000000009,93.977100000000007,null,null,null,null,92.5,76.163966666666667,null,null,null,null,null,null,null,{"$f":"+INDEX(D1747:AF1747,1,aux_pr_ue!$P$2)","v":0},{"$f":"+INDEX(D1747:AF1747,1,aux_pr_ue!$Q$2)","v":0}]
["Bread Rye2004/12","Bread Rye","2004/12",85.662199999999999,null,null,90.008400000000009,null,89.244644444444447,null,null,null,null,null,null,null,null,90.09235000000001,91.816800000000001,null,85.558599999999998,null,null,92.5,74.916799999999995,null,null,null,null,null,null,null,{"$f":"+INDEX(D1748:AF1748,1,aux_pr_ue!$P$2)","v":0},{"$f":"+INDEX(D1748:AF1748,1,aux_pr_ue!$Q$2)","v":0}]
["Bread Rye2004/09","Bread Rye","2004/09",84.707800000000006,null,null,96.278800000000004,null,86.796162500000008,null,null,null,null,null,null,null,null,88.706750000000014,87.465299999999999,null,67.940633333333338,null,null,94.45,73.042200000000008,null,null,null,null,null,null,null,{"$f":"+INDEX(D1751:AF1751,1,aux_pr_ue!$P$2)","v":0},{"$f":"+INDEX(D1751:AF1751,1,aux_pr_ue!$Q$2)","v":0}]
["Bread Rye2004/08","Bread Rye","2004/08",88.508800000000008,null,null,112.05370000000001,null,88.007120000000015,null,null,null,null,null,null,null,null,91.40570000000001,87.898700000000005,null,71.894450000000006,null,null,97.1,72.954560000000001,130,null,null,null,null,null,null,{"$f":"+INDEX(D1752:AF1752,1,aux_pr_ue!$P$2)","v":130},{"$f":"+INDEX(D1752:AF1752,1,aux_pr_ue!$Q$2)","v":0}]
["Bread Rye2004/05","Bread Rye","2004/05",118.3052,null,null,null,null,122.86167500000001,null,null,null,null,null,null,null,null,106.2008,105.08840000000001,null,null,null,null,null,110.11055,164.6,null,null,null,null,null,null,{"$f":"+INDEX(D1755:AF1755,1,aux_pr_ue!$P$2)","v":164.6},{"$f":"+INDEX(D1755:AF1755,1,aux_pr_ue!$Q$2)","v":0}]
["Bread Rye2004/04","Bread Rye","2004/04",124.622,null,null,null,null,123.03767142857143,null,null,null,null,null,null,null,null,null,119.0338,null,null,null,null,null,103.75753333333334,164.6,null,null,null,null,null,null,{"$f":"+INDEX(D1756:AF1756,1,aux_pr_ue!$P$2)","v":164.6},{"$f":"+INDEX(D1756:AF1756,1,aux_pr_ue!$Q$2)","v":0}]
["Bread Rye2004/02","Bread Rye","2004/02",132.89060000000001,null,null,null,null,127.48547000000001,null,null,null,null,null,null,null,null,null,null,null,null,null,null,null,null,175,null,null,null,null,null,null,{"$f":"+INDEX(D1758:AF1758,1,aux_pr_ue!$P$2)","v":175},{"$f":"+INDEX(D1758:AF1758,1,aux_pr_ue!$Q$2)","v":0}]
["Bread Rye2004/01","Bread Rye","2004/01",136.6688,null,null,null,null,132.91942,null,null,null,null,null,null,null,null,null,null,null,null,null,null,null,null,175,null,null,null,null,null,null,{"$f":"+INDEX(D1759:AF1759,1,aux_pr_ue!$P$2)","v":175},{"$f":"+INDEX(D1759:AF1759,1,aux_pr_ue!$Q$2)","v":0}]
["Bread Rye2003/10","Bread Rye","2003/10",127.86930000000001,null,null,null,null,128.41560000000001,null,null,null,null,null,null,null,null,null,null,null,null,null,null,140.45160000000001,null,137.5,null,null,null,null,115.46550000000001,null,{"$f":"+INDEX(D1762:AF1762,1,aux_pr_ue!$P$2)","v":137.5},{"$f":"+INDEX(D1762:AF1762,1,aux_pr_ue!$Q$2)","v":0}]
["Bread Rye2003/09","Bread Rye","2003/09",126.98610000000001,null,null,null,null,126.56047777777778,null,null,null,null,null,null,null,null,null,null,null,null,null,null,130.60000000000002,null,137.5,null,null,null,null,114.61200000000001,null,{"$f":"+INDEX(D1763:AF1763,1,aux_pr_ue!$P$2)","v":137.5},{"$f":"+INDEX(D1763:AF1763,1,aux_pr_ue!$Q$2)","v":0}]
["Bread Rye2003/06","Bread Rye","2003/06",125.5261,null,null,null,null,122.46001428571428,null,null,null,null,null,null,null,null,null,null,null,null,null,null,null,null,148.68439999999998,null,null,null,null,null,null,{"$f":"+INDEX(D1766:AF1766,1,aux_pr_ue!$P$2)","v":148.68439999999998},{"$f":"+INDEX(D1766:AF1766,1,aux_pr_ue!$Q$2)","v":0}]
["Bread Rye2003/05","Bread Rye","2003/05",131.0949,null,null,null,null,119.50204285714285,null,null,null,null,null,null,null,null,null,null,null,null,null,null,null,null,151.75,null,null,null,null,null,null,{"$f":"+INDEX(D1767:AF1767,1,aux_pr_ue!$P$2)","v":151.75},{"$f":"+INDEX(D1767:AF1767,1,aux_pr_ue!$Q$2)","v":0}]
["Bread Rye2003/02","Bread Rye","2003/02",123.5091,null,null,null,null,116.83862222222223,null,null,null,null,null,null,null,null,null,null,null,null,null,null,118.5,null,151.75,null,null,null,null,111.0338,null,{"$f":"+INDEX(D1770:AF1770,1,aux_pr_ue!$P$2)","v":151.75},{"$f":"+INDEX(D1770:AF1770,1,aux_pr_ue!$Q$2)","v":0}]
["Bread Rye2003/01","Bread Rye","2003/01",122.0274,null,null,null,null,113.76923333333333,null,null,null,null,null,null,null,null,null,null,null,null,null,null,117.56670000000001,null,151.75,null,null,null,null,112.32820000000001,null,{"$f":"+INDEX(D1771:AF1771,1,aux_pr_ue!$P$2)","v":151.75},{"$f":"+INDEX(D1771:AF1771,1,aux_pr_ue!$Q$2)","v":0}]
["Bread Rye2002/10","Bread Rye","2002/10",117.804,null,null,null,null,108.13038000000002,null,null,null,null,null,null,null,null,null,null,null,null,null,null,111.32640000000001,null,152.35500000000002,null,null,null,null,117.45060000000001,null,{"$f":"+INDEX(D1774:AF1774,1,aux_pr_ue!$P$2)","v":152.35500000000002},{"$f":"+INDEX(D1774:AF1774,1,aux_pr_ue!$Q$2)","v":0}]
["Bread Rye2002/09","Bread Rye","2002/09",114.12880000000001,null,null,null,null,103.90833333333335,null,null,null,null,null,null,null,null,null,null,null,null,null,null,107.86670000000001,null,142.99466666666669,null,null,null,null,116.71860000000001,null,{"$f":"+INDEX(D1775:AF1775,1,aux_pr_ue!$P$2)","v":142.99466666666669},{"$f":"+INDEX(D1775:AF1775,1,aux_pr_ue!$Q$2)","v":0}]
["Bread Rye2002/06","Bread Rye","2002/06",122.42660000000001,null,null,null,null,107.09443999999999,null,null,null,null,null,null,null,null,null,null,null,null,null,null,111,null,151.75,null,null,null,null,null,null,{"$f":"+INDEX(D1778:AF1778,1,aux_pr_ue!$P$2)","v":151.75},{"$f":"+INDEX(D1778:AF1778,1,aux_pr_ue!$Q$2)","v":0}]
["Bread Rye2002/05","Bread Rye","2002/05",118.68990000000001,null,null,null,null,107.8403,null,null,null,null,null,null,null,null,null,null,null,null,null,null,111.75,null,153.0625,null,null,null,null,null,null,{"$f":"+INDEX(D1779:AF1779,1,aux_pr_ue!$P$2)","v":153.0625},{"$f":"+INDEX(D1779:AF1779,1,aux_pr_ue!$Q$2)","v":0}]
["Bread Rye2002/02","Bread Rye","2002/02",118.7154,null,null,null,null,108.5376625,null,null,null,null,null,null,null,null,null,null,null,null,null,null,114.01609999999999,null,153.85,null,null,null,null,null,null,{"$f":"+INDEX(D1782:AF1782,1,aux_pr_ue!$P$2)","v":153.85},{"$f":"+INDEX(D1782:AF1782,1,aux_pr_ue!$Q$2)","v":0}]
["Bread Rye2002/01","Bread Rye","2002/01",118.7081,null,null,null,null,109.12165555555556,null,null,null,null,null,null,null,null,null,null,null,null,null,null,113.04635,null,153.87895,null,null,null,null,null,null,{"$f":"+INDEX(D1783:AF1783,1,aux_pr_ue!$P$2)","v":153.87895},{"$f":"+INDEX(D1783:AF1783,1,aux_pr_ue!$Q$2)","v":0}]
["Bread Rye2001/10","Bread Rye","2001/10",117.73060000000001,null,null,null,null,107.40513333333334,null,null,null,null,null,null,null,null,null,null,null,null,null,null,113.00625000000001,null,151.21370000000002,null,null,null,null,null,null,{"$f":"+INDEX(D1786:AF1786,1,aux_pr_ue!$P$2)","v":151.21370000000002},{"$f":"+INDEX(D1786:AF1786,1,aux_pr_ue!$Q$2)","v":0}]
["Bread Rye2001/09","Bread Rye","2001/09",115.8386,null,null,null,null,107.4469090909091,null,null,null,null,null,null,null,null,null,null,null,null,null,null,112.86090000000002,null,150.79910000000001,null,null,null,null,null,null,{"$f":"+INDEX(D1787:AF1787,1,aux_pr_ue!$P$2)","v":150.79910000000001},{"$f":"+INDEX(D1787:AF1787,1,aux_pr_ue!$Q$2)","v":0}]
["Bread Rye2001/07","Bread Rye","2001/07",129.4727,null,null,null,null,113.82188333333335,null,null,null,null,null,null,null,null,null,null,null,null,null,null,128.99430000000001,null,141.82483333333334,null,null,null,null,null,null,{"$f":"+INDEX(D1789:AF1789,1,aux_pr_ue!$P$2)","v":141.82483333333334},{"$f":"+INDEX(D1789:AF1789,1,aux_pr_ue!$Q$2)","v":0}]
["Bread Rye2001/06","Bread Rye","2001/06",138.07660000000001,null,null,null,null,118.45638333333335,null,null,null,null,null,null,null,null,null,null,null,null,null,null,null,null,153.53000000000003,null,null,null,null,null,null,{"$f":"+INDEX(D1790:AF1790,1,aux_pr_ue!$P$2)","v":153.53000000000003},{"$f":"+INDEX(D1790:AF1790,1,aux_pr_ue!$Q$2)","v":0}]
["Bread Rye2001/03","Bread Rye","2001/03",127.5985,null,null,null,null,120.42318571428574,null,null,null,null,null,null,null,null,null,null,null,null,null,null,137.5275,null,147.16149999999999,null,null,null,null,116.96040000000001,null,{"$f":"+INDEX(D1793:AF1793,1,aux_pr_ue!$P$2)","v":147.16149999999999},{"$f":"+INDEX(D1793:AF1793,1,aux_pr_ue!$Q$2)","v":0}]
["Bread Rye2001/02","Bread Rye","2001/02",126.05630000000001,null,null,null,null,121.17404999999999,null,null,null,null,null,null,null,null,null,null,null,null,null,null,137.35169999999999,null,141.15980000000002,null,null,null,null,118.07570000000001,null,{"$f":"+INDEX(D1794:AF1794,1,aux_pr_ue!$P$2)","v":141.15980000000002},{"$f":"+INDEX(D1794:AF1794,1,aux_pr_ue!$Q$2)","v":0}]
["Bread Rye2000/11","Bread Rye","2000/11",125.91420000000001,null,null,null,null,121.55051111111112,null,null,null,null,null,null,null,null,null,null,null,null,null,null,137.35169999999999,null,137.90039999999999,null,null,null,null,122.69300000000001,null,{"$f":"+INDEX(D1797:AF1797,1,aux_pr_ue!$P$2)","v":137.90039999999999},{"$f":"+INDEX(D1797:AF1797,1,aux_pr_ue!$Q$2)","v":0}]
["Bread Rye2000/10","Bread Rye","2000/10",126.2915,null,null,null,null,122.63903999999999,null,null,null,null,null,null,null,null,null,null,null,null,null,null,137.35169999999999,null,133.42840000000001,null,null,null,null,123.93185,null,{"$f":"+INDEX(D1798:AF1798,1,aux_pr_ue!$P$2)","v":133.42840000000001},{"$f":"+INDEX(D1798:AF1798,1,aux_pr_ue!$Q$2)","v":0}]
["Bread Rye2000/07","Bread Rye","2000/07",121.51530000000001,null,null,null,null,114.2578,null,null,null,null,null,null,null,null,null,null,null,null,null,null,121.727,null,126.06710000000002,null,null,null,null,null,null,{"$f":"+INDEX(D1801:AF1801,1,aux_pr_ue!$P$2)","v":126.06710000000002},{"$f":"+INDEX(D1801:AF1801,1,aux_pr_ue!$Q$2)","v":0}]
["Bread Rye2000/06","Bread Rye","2000/06",130.3262,null,null,null,null,127.63061428571429,null,null,null,null,null,null,null,null,null,null,null,null,null,null,128.6309,null,135.50675000000001,null,null,null,null,138.48070000000001,null,{"$f":"+INDEX(D1802:AF1802,1,aux_pr_ue!$P$2)","v":135.50675000000001},{"$f":"+INDEX(D1802:AF1802,1,aux_pr_ue!$Q$2)","v":0}]
["Bread Rye2000/03","Bread Rye","2000/03",130.99360000000001,null,null,null,null,129.4415181818182,null,null,null,null,null,null,null,null,null,null,null,null,null,null,130.6294,null,132.04285000000002,null,null,null,null,139.22050000000002,null,{"$f":"+INDEX(D1805:AF1805,1,aux_pr_ue!$P$2)","v":132.04285000000002},{"$f":"+INDEX(D1805:AF1805,1,aux_pr_ue!$Q$2)","v":0}]
["Bread Rye2000/02","Bread Rye","2000/02",130.06380000000001,null,null,null,null,128.48662727272725,null,null,null,null,null,null,null,null,null,null,null,null,null,null,130.6294,null,null,null,null,null,null,137.31819999999999,null,{"$f":"+INDEX(D1806:AF1806,1,aux_pr_ue!$P$2)","v":0},{"$f":"+INDEX(D1806:AF1806,1,aux_pr_ue!$Q$2)","v":0}]
["Bread Rye1999/11","Bread Rye","1999/11",127.05720000000001,null,null,null,null,124.99674000000002,null,null,null,null,null,null,null,null,null,null,null,null,null,null,129.14570000000001,null,null,null,null,null,null,134.0026,null,{"$f":"+INDEX(D1809:AF1809,1,aux_pr_ue!$P$2)","v":0},{"$f":"+INDEX(D1809:AF1809,1,aux_pr_ue!$Q$2)","v":0}]
["Bread Rye1999/10","Bread Rye","1999/10",125.35220000000001,null,null,null,null,122.20892727272729,null,null,null,null,null,null,null,null,null,null,null,null,null,null,127.24785,null,null,null,null,null,null,132.75835000000001,null,{"$f":"+INDEX(D1810:AF1810,1,aux_pr_ue!$P$2)","v":0},{"$f":"+INDEX(D1810:AF1810,1,aux_pr_ue!$Q$2)","v":0}]
["Bread Rye1999/07","Bread Rye","1999/07",131.6489,null,null,null,null,110.95012500000001,null,null,null,null,null,null,null,null,null,null,null,null,null,null,128.994,null,null,null,null,null,null,134.76460000000003,null,{"$f":"+INDEX(D1813:AF1813,1,aux_pr_ue!$P$2)","v":0},{"$f":"+INDEX(D1813:AF1813,1,aux_pr_ue!$Q$2)","v":0}]
["Bread Rye1999/06","Bread Rye","1999/06",131.31790000000001,null,null,null,null,129.1187875,null,null,null,null,null,null,null,null,null,null,null,null,null,null,130.81100000000001,null,null,null,null,null,143.464,133.29700000000003,null,{"$f":"+INDEX(D1814:AF1814,1,aux_pr_ue!$P$2)","v":0},{"$f":"+INDEX(D1814:AF1814,1,aux_pr_ue!$Q$2)","v":143.464}]
["Bread Rye1999/03","Bread Rye","1999/03",126.691,null,null,null,null,124.18492222222224,null,null,null,null,null,null,null,null,null,null,null,null,null,null,132.62799999999999,null,null,null,null,null,143.31280000000001,129.3612,null,{"$f":"+INDEX(D1817:AF1817,1,aux_pr_ue!$P$2)","v":0},{"$f":"+INDEX(D1817:AF1817,1,aux_pr_ue!$Q$2)","v":143.31280000000001}]
["Bread Rye1999/02","Bread Rye","1999/02",127.6585,null,null,null,null,123.37489000000002,null,null,null,null,null,null,null,null,null,null,null,null,null,null,131.97905,null,null,null,null,null,142.96,130.1386,null,{"$f":"+INDEX(D1818:AF1818,1,aux_pr_ue!$P$2)","v":0},{"$f":"+INDEX(D1818:AF1818,1,aux_pr_ue!$Q$2)","v":142.96}]
["Bread Rye1998/11","Bread Rye","1998/11",124.33280000000001,null,null,null,null,118.84491111111112,null,null,null,null,null,null,null,null,null,null,null,null,null,null,127.94120000000001,null,null,null,null,null,141.006,122.0951,null,{"$f":"+INDEX(D1821:AF1821,1,aux_pr_ue!$P$2)","v":0},{"$f":"+INDEX(D1821:AF1821,1,aux_pr_ue!$Q$2)","v":141.006}]
["Bread Rye1998/10","Bread Rye","1998/10",119.7317,null,null,null,null,115.93815000000002,null,null,null,null,null,null,null,null,null,null,null,null,null,null,128.06650000000002,null,null,null,null,null,141.006,120.5184,null,{"$f":"+INDEX(D1822:AF1822,1,aux_pr_ue!$P$2)","v":0},{"$f":"+INDEX(D1822:AF1822,1,aux_pr_ue!$Q$2)","v":141.006}]
["Bread Rye1998/08","Bread Rye","1998/08",114.0425,null,null,null,null,109.95269,null,null,null,null,null,null,null,null,null,null,null,null,null,null,129.57185000000001,null,null,null,null,null,null,126.88065,null,{"$f":"+INDEX(D1824:AF1824,1,aux_pr_ue!$P$2)","v":0},{"$f":"+INDEX(D1824:AF1824,1,aux_pr_ue!$Q$2)","v":0}]
["Bread Rye1998/07","Bread Rye","1998/07",121.2569,null,null,null,null,114.25721249999999,null,null,null,null,null,null,null,null,null,null,null,null,null,null,139.88800000000001,null,null,null,null,null,null,132.49100000000001,null,{"$f":"+INDEX(D1825:AF1825,1,aux_pr_ue!$P$2)","v":0},{"$f":"+INDEX(D1825:AF1825,1,aux_pr_ue!$Q$2)","v":0}]
["Bread Rye1998/04","Bread Rye","1998/04",133.40030000000002,null,null,null,null,127.20168999999999,null,null,null,null,null,null,null,null,null,null,null,null,null,null,141.59723333333332,null,null,null,null,null,149.14005,133.36255,null,{"$f":"+INDEX(D1828:AF1828,1,aux_pr_ue!$P$2)","v":0},{"$f":"+INDEX(D1828:AF1828,1,aux_pr_ue!$Q$2)","v":149.14005}]
["Bread Rye1998/03","Bread Rye","1998/03",132.0547,null,null,null,null,126.49664999999997,null,null,null,null,null,null,null,null,null,null,null,null,null,null,138.80315000000002,null,null,null,null,null,148.16820000000001,133.66470000000001,null,{"$f":"+INDEX(D1829:AF1829,1,aux_pr_ue!$P$2)","v":0},{"$f":"+INDEX(D1829:AF1829,1,aux_pr_ue!$Q$2)","v":148.16820000000001}]
["Bread Rye1997/12","Bread Rye","1997/12",129.85490000000001,null,null,null,null,124.21050000000001,null,null,null,null,null,null,null,null,null,null,null,null,null,null,135.84365,null,null,null,null,null,145.9452,132.12665000000001,null,{"$f":"+INDEX(D1832:AF1832,1,aux_pr_ue!$P$2)","v":0},{"$f":"+INDEX(D1832:AF1832,1,aux_pr_ue!$Q$2)","v":145.9452}]
["Bread Rye1997/11","Bread Rye","1997/11",128.4862,null,null,null,null,123.01815555555557,null,null,null,null,null,null,null,null,null,null,null,null,null,null,130.73694999999998,null,null,null,null,null,145.73085000000003,131.2029,null,{"$f":"+INDEX(D1833:AF1833,1,aux_pr_ue!$P$2)","v":0},{"$f":"+INDEX(D1833:AF1833,1,aux_pr_ue!$Q$2)","v":145.73085000000003}]
["Bread Rye1997/08","Bread Rye","1997/08",124.1439,null,null,null,null,119.80289999999999,null,null,null,null,null,null,null,null,null,null,null,null,null,null,128.57066666666665,null,null,null,null,null,145.982,128.6164,null,{"$f":"+INDEX(D1836:AF1836,1,aux_pr_ue!$P$2)","v":0},{"$f":"+INDEX(D1836:AF1836,1,aux_pr_ue!$Q$2)","v":145.982}]
["Bread Rye1997/07","Bread Rye","1997/07",130.79230000000001,null,null,null,null,128.27792500000001,null,null,null,null,null,null,null,null,null,null,null,null,null,null,133.84380000000002,null,null,null,null,null,null,130.20690000000002,null,{"$f":"+INDEX(D1837:AF1837,1,aux_pr_ue!$P$2)","v":0},{"$f":"+INDEX(D1837:AF1837,1,aux_pr_ue!$Q$2)","v":0}]
["Bread Rye1997/04","Bread Rye","1997/04",140.19480000000001,null,null,null,null,140.39165555555553,null,null,null,null,null,null,null,null,null,null,null,null,null,null,140.07915,null,null,null,null,null,147.54425000000001,132.87664999999998,null,{"$f":"+INDEX(D1840:AF1840,1,aux_pr_ue!$P$2)","v":0},{"$f":"+INDEX(D1840:AF1840,1,aux_pr_ue!$Q$2)","v":147.54425000000001}]
["Bread Rye1997/03","Bread Rye","1997/03",141.1276,null,null,null,null,138.7145888888889,null,null,null,null,null,null,null,null,null,null,null,null,null,null,156.07355000000001,null,null,null,null,null,145.85640000000001,131.9264,null,{"$f":"+INDEX(D1841:AF1841,1,aux_pr_ue!$P$2)","v":0},{"$f":"+INDEX(D1841:AF1841,1,aux_pr_ue!$Q$2)","v":145.85640000000001}]
["Bread Rye1996/12","Bread Rye","1996/12",142.3826,null,null,null,null,137.08285000000001,null,null,null,null,null,null,null,null,null,null,null,null,null,null,157.01440000000002,null,null,null,null,null,144.87725,132.4545,null,{"$f":"+INDEX(D1844:AF1844,1,aux_pr_ue!$P$2)","v":0},{"$f":"+INDEX(D1844:AF1844,1,aux_pr_ue!$Q$2)","v":144.87725}]
["Bread Rye1996/11","Bread Rye","1996/11",140.49160000000001,null,null,null,null,139.04620000000003,null,null,null,null,null,null,null,null,null,null,null,null,null,null,156.53565,null,null,null,null,null,144.84985,132.56780000000001,null,{"$f":"+INDEX(D1845:AF1845,1,aux_pr_ue!$P$2)","v":0},{"$f":"+INDEX(D1845:AF1845,1,aux_pr_ue!$Q$2)","v":144.84985}]
["Bread Rye1996/08","Bread Rye","1996/08",135.7457,null,null,null,null,134.40245555555555,null,null,null,null,null,null,null,null,null,null,null,null,null,null,146.43200000000002,null,null,null,null,null,145.1525,133.90065000000001,null,{"$f":"+INDEX(D1848:AF1848,1,aux_pr_ue!$P$2)","v":0},{"$f":"+INDEX(D1848:AF1848,1,aux_pr_ue!$Q$2)","v":145.1525}]
["Bread Rye1996/07","Bread Rye","1996/07",136.0538,null,null,null,null,137.47646250000003,null,null,null,null,null,null,null,null,null,null,null,null,null,null,141.88050000000001,null,null,null,null,null,148.71950000000001,null,null,{"$f":"+INDEX(D1849:AF1849,1,aux_pr_ue!$P$2)","v":0},{"$f":"+INDEX(D1849:AF1849,1,aux_pr_ue!$Q$2)","v":148.71950000000001}]
["Bread Rye1996/04","Bread Rye","1996/04",140.4486,null,null,null,null,147.25296250000002,null,null,null,null,null,null,null,null,null,null,null,null,null,null,128.73333333333335,null,null,null,null,null,148.80265000000003,137.34125,null,{"$f":"+INDEX(D1852:AF1852,1,aux_pr_ue!$P$2)","v":0},{"$f":"+INDEX(D1852:AF1852,1,aux_pr_ue!$Q$2)","v":148.80265000000003}]
["Bread Rye1996/03","Bread Rye","1996/03",136.04750000000001,null,null,null,null,137.65860000000004,null,null,null,null,null,null,null,null,null,null,null,null,null,null,127.49886666666667,null,null,null,null,null,144.60035000000002,136.22250000000003,null,{"$f":"+INDEX(D1853:AF1853,1,aux_pr_ue!$P$2)","v":0},{"$f":"+INDEX(D1853:AF1853,1,aux_pr_ue!$Q$2)","v":144.60035000000002}]
["Bread Rye1996/01","Bread Rye","1996/01",132.32760000000002,null,null,null,null,133.54310000000004,null,null,null,null,null,null,null,null,null,null,null,null,null,null,125.29466666666667,null,null,null,null,null,135.39789999999999,133.63479999999998,null,{"$f":"+INDEX(D1855:AF1855,1,aux_pr_ue!$P$2)","v":0},{"$f":"+INDEX(D1855:AF1855,1,aux_pr_ue!$Q$2)","v":135.39789999999999}]
["Bread Rye1995/12","Bread Rye","1995/12",129.43460000000002,null,null,null,null,132.03348888888888,null,null,null,null,null,null,null,null,null,null,null,null,null,null,124.973,null,null,null,null,null,145.45050000000001,131.43279999999999,null,{"$f":"+INDEX(D1856:AF1856,1,aux_pr_ue!$P$2)","v":0},{"$f":"+INDEX(D1856:AF1856,1,aux_pr_ue!$Q$2)","v":145.45050000000001}]
["Bread Rye1995/09","Bread Rye","1995/09",124.82250000000001,null,null,null,null,124.07820000000001,null,null,null,null,null,null,null,null,null,null,null,null,null,null,120.49363333333334,null,null,null,null,null,132.738,130.48484999999999,null,{"$f":"+INDEX(D1859:AF1859,1,aux_pr_ue!$P$2)","v":0},{"$f":"+INDEX(D1859:AF1859,1,aux_pr_ue!$Q$2)","v":132.738}]
["Bread Rye1995/08","Bread Rye","1995/08",125.18820000000001,null,null,null,null,121.10616999999999,null,null,null,null,null,null,null,null,null,null,null,null,null,null,125.17016666666666,null,null,null,null,null,136.57585,133.46545,null,{"$f":"+INDEX(D1860:AF1860,1,aux_pr_ue!$P$2)","v":0},{"$f":"+INDEX(D1860:AF1860,1,aux_pr_ue!$Q$2)","v":136.57585}]
["Bread Rye1995/05","Bread Rye","1995/05",144.4777,null,null,null,null,142.29541111111109,null,null,null,null,null,null,null,null,null,null,null,null,null,null,145.78300000000002,null,null,null,null,null,156.84735000000001,141.26609999999999,null,{"$f":"+INDEX(D1863:AF1863,1,aux_pr_ue!$P$2)","v":0},{"$f":"+INDEX(D1863:AF1863,1,aux_pr_ue!$Q$2)","v":156.84735000000001}]
["Bread Rye1995/04","Bread Rye","1995/04",144.1754,null,null,null,null,141.17684,null,null,null,null,null,null,null,null,null,null,null,null,null,null,147.57473333333334,null,null,null,null,null,154.67860000000002,139.86955,null,{"$f":"+INDEX(D1864:AF1864,1,aux_pr_ue!$P$2)","v":0},{"$f":"+INDEX(D1864:AF1864,1,aux_pr_ue!$Q$2)","v":154.67860000000002}]
["Bread Rye1995/01","Bread Rye","1995/01",117.83380000000001,null,null,null,null,117.96019000000001,null,null,null,null,null,null,null,null,null,null,null,null,null,null,124.22680000000001,null,null,null,null,null,null,121.34195,null,{"$f":"+INDEX(D1867:AF1867,1,aux_pr_ue!$P$2)","v":0},{"$f":"+INDEX(D1867:AF1867,1,aux_pr_ue!$Q$2)","v":0}]
["Bread Rye1994/12","Bread Rye","1994/12",114.6263,null,null,null,null,114.66291999999999,null,null,null,null,null,null,null,null,null,null,null,null,null,null,null,null,null,null,null,null,null,null,null,{"$f":"+INDEX(D1868:AF1868,1,aux_pr_ue!$P$2)","v":0},{"$f":"+INDEX(D1868:AF1868,1,aux_pr_ue!$Q$2)","v":0}]
["Bread Rye1994/09","Bread Rye","1994/09",111.9602,null,null,null,null,111.72925000000001,null,null,null,null,null,null,null,null,null,null,null,null,null,null,null,null,null,null,null,null,null,null,null,{"$f":"+INDEX(D1871:AF1871,1,aux_pr_ue!$P$2)","v":0},{"$f":"+INDEX(D1871:AF1871,1,aux_pr_ue!$Q$2)","v":0}]
["Bread Rye1994/08","Bread Rye","1994/08",111.1397,null,null,null,null,111.19205000000002,null,null,null,null,null,null,null,null,null,null,null,null,null,null,null,null,null,null,null,null,null,null,null,{"$f":"+INDEX(D1872:AF1872,1,aux_pr_ue!$P$2)","v":0},{"$f":"+INDEX(D1872:AF1872,1,aux_pr_ue!$Q$2)","v":0}]
["Bread Rye1994/05","Bread Rye","1994/05",131.97669999999999,null,null,null,null,133.09658750000003,null,null,null,null,null,null,null,null,null,null,null,null,null,null,null,null,null,null,null,null,null,null,null,{"$f":"+INDEX(D1875:AF1875,1,aux_pr_ue!$P$2)","v":0},{"$f":"+INDEX(D1875:AF1875,1,aux_pr_ue!$Q$2)","v":0}]
["Bread Rye1994/04","Bread Rye","1994/04",131.56020000000001,null,null,null,null,131.6635,null,null,null,null,null,null,null,null,null,null,null,null,null,null,null,null,null,null,null,null,null,null,null,{"$f":"+INDEX(D1876:AF1876,1,aux_pr_ue!$P$2)","v":0},{"$f":"+INDEX(D1876:AF1876,1,aux_pr_ue!$Q$2)","v":0}]
["Bread Rye1994/01","Bread Rye","1994/01",129.56010000000001,null,null,null,null,129.7107,null,null,null,null,null,null,null,null,null,null,null,null,null,null,null,null,null,null,null,null,null,null,null,{"$f":"+INDEX(D1879:AF1879,1,aux_pr_ue!$P$2)","v":0},{"$f":"+INDEX(D1879:AF1879,1,aux_pr_ue!$Q$2)","v":0}]
["Bread Rye1993/12","Bread Rye","1993/12",126.51620000000001,null,null,null,null,126.65650000000001,null,null,null,null,null,null,null,null,null,null,null,null,null,null,null,null,null,null,null,null,null,null,null,{"$f":"+INDEX(D1880:AF1880,1,aux_pr_ue!$P$2)","v":0},{"$f":"+INDEX(D1880:AF1880,1,aux_pr_ue!$Q$2)","v":0}]
["Bread Rye1993/09","Bread Rye","1993/09",120.86760000000001,null,null,null,null,118.77847000000001,null,null,null,null,null,null,null,null,null,null,null,null,null,null,null,null,null,null,null,null,null,null,null,{"$f":"+INDEX(D1883:AF1883,1,aux_pr_ue!$P$2)","v":0},{"$f":"+INDEX(D1883:AF1883,1,aux_pr_ue!$Q$2)","v":0}]
["Bread Rye1993/08","Bread Rye","1993/08",116.211,null,null,null,null,109.07979,null,null,null,null,null,null,null,null,null,null,null,null,null,null,null,null,null,null,null,null,null,null,null,{"$f":"+INDEX(D1884:AF1884,1,aux_pr_ue!$P$2)","v":0},{"$f":"+INDEX(D1884:AF1884,1,aux_pr_ue!$Q$2)","v":0}]
["Bread Rye1993/05","Bread Rye","1993/05",160.55880000000002,null,null,null,null,161.32486666666671,null,null,null,null,null,null,null,null,null,null,null,null,null,null,null,null,null,null,null,null,null,null,null,{"$f":"+INDEX(D1887:AF1887,1,aux_pr_ue!$P$2)","v":0},{"$f":"+INDEX(D1887:AF1887,1,aux_pr_ue!$Q$2)","v":0}]
["Bread Rye1993/04","Bread Rye","1993/04",161.006,null,null,null,null,160.86182500000001,null,null,null,null,null,null,null,null,null,null,null,null,null,null,null,null,null,null,null,null,null,null,null,{"$f":"+INDEX(D1888:AF1888,1,aux_pr_ue!$P$2)","v":0},{"$f":"+INDEX(D1888:AF1888,1,aux_pr_ue!$Q$2)","v":0}]
["Bread Rye1993/02","Bread Rye","1993/02",157.08700000000002,null,null,null,null,157.25801999999999,null,null,null,null,null,null,null,null,null,null,null,null,null,null,null,null,null,null,null,null,null,null,null,{"$f":"+INDEX(D1890:AF1890,1,aux_pr_ue!$P$2)","v":0},{"$f":"+INDEX(D1890:AF1890,1,aux_pr_ue!$Q$2)","v":0}]
["Bread Rye1993/01","Bread Rye","1993/01",152.05160000000001,null,null,null,null,151.69276000000002,null,null,null,null,null,null,null,null,null,null,null,null,null,null,null,null,null,null,null,null,null,null,null,{"$f":"+INDEX(D1891:AF1891,1,aux_pr_ue!$P$2)","v":0},{"$f":"+INDEX(D1891:AF1891,1,aux_pr_ue!$Q$2)","v":0}]
["Bread Rye1992/10","Bread Rye","1992/10",149.36700000000002,null,null,null,null,149.34577999999999,null,null,null,null,null,null,null,null,null,null,null,null,null,null,null,null,null,null,null,null,null,null,null,{"$f":"+INDEX(D1894:AF1894,1,aux_pr_ue!$P$2)","v":0},{"$f":"+INDEX(D1894:AF1894,1,aux_pr_ue!$Q$2)","v":0}]
["Bread Rye1992/09","Bread Rye","1992/09",145.8459,null,null,null,null,145.91391000000002,null,null,null,null,null,null,null,null,null,null,null,null,null,null,null,null,null,null,null,null,null,null,null,{"$f":"+INDEX(D1895:AF1895,1,aux_pr_ue!$P$2)","v":0},{"$f":"+INDEX(D1895:AF1895,1,aux_pr_ue!$Q$2)","v":0}]
["Bread Rye1992/06","Bread Rye","1992/06",162.09540000000001,null,null,null,null,160.48588749999999,null,null,null,null,null,null,null,null,null,null,null,null,null,null,null,null,null,null,null,null,null,null,null,{"$f":"+INDEX(D1898:AF1898,1,aux_pr_ue!$P$2)","v":0},{"$f":"+INDEX(D1898:AF1898,1,aux_pr_ue!$Q$2)","v":0}]
["Bread Rye1992/05","Bread Rye","1992/05",163.4178,null,null,null,null,163.34121111111111,null,null,null,null,null,null,null,null,null,null,null,null,null,null,null,null,null,null,null,null,null,null,null,{"$f":"+INDEX(D1899:AF1899,1,aux_pr_ue!$P$2)","v":0},{"$f":"+INDEX(D1899:AF1899,1,aux_pr_ue!$Q$2)","v":0}]
["Bread Rye1992/02","Bread Rye","1992/02",157.7807,null,null,null,null,157.84163999999998,null,null,null,null,null,null,null,null,null,null,null,null,null,null,null,null,null,null,null,null,null,null,null,{"$f":"+INDEX(D1902:AF1902,1,aux_pr_ue!$P$2)","v":0},{"$f":"+INDEX(D1902:AF1902,1,aux_pr_ue!$Q$2)","v":0}]
["Bread Rye1992/01","Bread Rye","1992/01",155.1482,null,null,null,null,155.10399999999998,null,null,null,null,null,null,null,null,null,null,null,null,null,null,null,null,null,null,null,null,null,null,null,{"$f":"+INDEX(D1903:AF1903,1,aux_pr_ue!$P$2)","v":0},{"$f":"+INDEX(D1903:AF1903,1,aux_pr_ue!$Q$2)","v":0}]
["Bread Rye1991/10","Bread Rye","1991/10",146.59550000000002,null,null,null,null,146.22679000000002,null,null,null,null,null,null,null,null,null,null,null,null,null,null,null,null,null,null,null,null,null,null,null,{"$f":"+INDEX(D1906:AF1906,1,aux_pr_ue!$P$2)","v":0},{"$f":"+INDEX(D1906:AF1906,1,aux_pr_ue!$Q$2)","v":0}]
["Bread Rye1991/09","Bread Rye","1991/09",142.76750000000001,null,null,null,null,142.96021000000002,null,null,null,null,null,null,null,null,null,null,null,null,null,null,null,null,null,null,null,null,null,null,null,{"$f":"+INDEX(D1907:AF1907,1,aux_pr_ue!$P$2)","v":0},{"$f":"+INDEX(D1907:AF1907,1,aux_pr_ue!$Q$2)","v":0}]
["Bread Rye1991/06","Bread Rye","1991/06",166.53810000000001,178.143,null,null,null,161.87644285714288,null,null,null,null,null,null,null,null,null,null,null,null,null,null,null,null,null,null,null,null,null,null,null,{"$f":"+INDEX(D1910:AF1910,1,aux_pr_ue!$P$2)","v":0},{"$f":"+INDEX(D1910:AF1910,1,aux_pr_ue!$Q$2)","v":0}]
["Bread Rye1991/05","Bread Rye","1991/05",163.37800000000001,null,null,null,null,162.38204285714286,null,null,null,null,null,null,null,null,null,null,null,null,null,null,null,null,null,null,null,null,null,null,null,{"$f":"+INDEX(D1911:AF1911,1,aux_pr_ue!$P$2)","v":0},{"$f":"+INDEX(D1911:AF1911,1,aux_pr_ue!$Q$2)","v":0}]
["Bread Rye1991/02","Bread Rye","1991/02",157.63509999999999,null,null,null,null,157.65688333333333,null,null,null,null,null,null,null,null,null,null,null,null,null,null,null,null,null,null,null,null,null,null,null,{"$f":"+INDEX(D1914:AF1914,1,aux_pr_ue!$P$2)","v":0},{"$f":"+INDEX(D1914:AF1914,1,aux_pr_ue!$Q$2)","v":0}]
["Bread Rye1991/01","Bread Rye","1991/01",157.07500000000002,null,null,null,null,156.88931428571428,null,null,null,null,null,null,null,null,null,null,null,null,null,null,null,null,null,null,null,null,null,null,null,{"$f":"+INDEX(D1915:AF1915,1,aux_pr_ue!$P$2)","v":0},{"$f":"+INDEX(D1915:AF1915,1,aux_pr_ue!$Q$2)","v":0}]
["Feed Rye2017/05","Feed Rye","2017/05",153.31,null,null,null,null,162.26666666666668,null,null,null,null,null,null,null,null,null,null,null,null,null,null,null,141.60330000000002,null,null,null,null,null,null,null,{"$f":"+INDEX(D1918:AF1918,1,aux_pr_ue!$P$2)","v":0},{"$f":"+INDEX(D1918:AF1918,1,aux_pr_ue!$Q$2)","v":0}]
["Feed Rye2017/04","Feed Rye","2017/04",147.77710000000002,null,null,null,null,160.875,121,null,null,null,null,null,null,null,124.80334999999999,137.17000000000002,null,null,null,null,null,133.0377,null,null,null,null,null,null,null,{"$f":"+INDEX(D1919:AF1919,1,aux_pr_ue!$P$2)","v":0},{"$f":"+INDEX(D1919:AF1919,1,aux_pr_ue!$Q$2)","v":0}]
["Feed Rye2017/02","Feed Rye","2017/02",138.05690000000001,null,null,null,null,151.41014999999999,null,null,null,null,null,null,null,null,null,120.91,null,null,null,null,null,130.07230000000001,null,null,null,null,null,null,null,{"$f":"+INDEX(D1921:AF1921,1,aux_pr_ue!$P$2)","v":0},{"$f":"+INDEX(D1921:AF1921,1,aux_pr_ue!$Q$2)","v":0}]
["Feed Rye2017/01","Feed Rye","2017/01",133.03450000000001,null,null,null,null,152.98610000000002,91,null,null,null,null,null,null,null,null,129.92000000000002,null,null,null,null,null,127.65190000000001,null,null,null,null,null,null,null,{"$f":"+INDEX(D1922:AF1922,1,aux_pr_ue!$P$2)","v":0},{"$f":"+INDEX(D1922:AF1922,1,aux_pr_ue!$Q$2)","v":0}]
["Feed Rye2016/10","Feed Rye","2016/10",98.340699999999998,null,null,null,null,139.6,94.500900000000001,null,null,null,null,null,null,null,95.61836666666666,58.804300000000005,null,null,null,null,null,110.04700000000001,null,null,null,null,null,null,null,{"$f":"+INDEX(D1925:AF1925,1,aux_pr_ue!$P$2)","v":0},{"$f":"+INDEX(D1925:AF1925,1,aux_pr_ue!$Q$2)","v":0}]
["Feed Rye2016/09","Feed Rye","2016/09",101.8439,null,null,null,null,131.38890000000001,94.345700000000008,null,null,null,null,null,null,null,94.059900000000013,92.28370000000001,null,null,null,null,null,114.25160000000001,null,null,null,null,null,null,null,{"$f":"+INDEX(D1926:AF1926,1,aux_pr_ue!$P$2)","v":0},{"$f":"+INDEX(D1926:AF1926,1,aux_pr_ue!$Q$2)","v":0}]
["Feed Rye2016/06","Feed Rye","2016/06",115.76390000000001,null,null,null,null,136.0909,70,null,null,null,null,null,null,null,null,103.16500000000001,null,null,null,null,null,119.9098,null,null,null,null,null,null,null,{"$f":"+INDEX(D1929:AF1929,1,aux_pr_ue!$P$2)","v":0},{"$f":"+INDEX(D1929:AF1929,1,aux_pr_ue!$Q$2)","v":0}]
["Feed Rye2016/05","Feed Rye","2016/05",117.2617,null,null,null,null,136.73335,89.75,null,null,null,null,null,null,null,null,99.07,null,null,null,null,null,120.4337,null,null,null,null,null,null,null,{"$f":"+INDEX(D1930:AF1930,1,aux_pr_ue!$P$2)","v":0},{"$f":"+INDEX(D1930:AF1930,1,aux_pr_ue!$Q$2)","v":0}]
["Feed Rye2016/02","Feed Rye","2016/02",121.2403,null,null,null,null,129.91666666666666,null,null,null,null,null,null,null,null,95,104.5,null,null,null,null,null,121.5472,null,null,null,null,null,null,null,{"$f":"+INDEX(D1933:AF1933,1,aux_pr_ue!$P$2)","v":0},{"$f":"+INDEX(D1933:AF1933,1,aux_pr_ue!$Q$2)","v":0}]
["Feed Rye2016/01","Feed Rye","2016/01",129.17310000000001,null,null,null,null,134.333325,86,null,null,null,null,null,null,null,147.63,null,null,null,null,null,null,121.1588,null,null,null,null,null,null,null,{"$f":"+INDEX(D1934:AF1934,1,aux_pr_ue!$P$2)","v":0},{"$f":"+INDEX(D1934:AF1934,1,aux_pr_ue!$Q$2)","v":0}]
["Feed Rye2015/10","Feed Rye","2015/10",113.12260000000001,null,null,null,null,null,98.411799999999999,null,null,null,null,null,null,null,106.81400000000001,106.0925,null,null,null,null,null,120.39767500000001,null,null,null,null,null,null,null,{"$f":"+INDEX(D1937:AF1937,1,aux_pr_ue!$P$2)","v":0},{"$f":"+INDEX(D1937:AF1937,1,aux_pr_ue!$Q$2)","v":0}]
["Feed Rye2015/09","Feed Rye","2015/09",108.3074,null,null,null,null,null,99.21390000000001,null,null,null,null,null,null,null,94.133333333333326,106.49170000000001,null,null,null,null,null,119.4794,null,null,null,null,null,null,null,{"$f":"+INDEX(D1938:AF1938,1,aux_pr_ue!$P$2)","v":0},{"$f":"+INDEX(D1938:AF1938,1,aux_pr_ue!$Q$2)","v":0}]
["Feed Rye2015/06","Feed Rye","2015/06",109.0634,null,null,null,null,null,119,null,null,null,null,null,null,null,null,79.1858,null,null,null,null,null,115.71033333333334,null,null,null,null,null,null,null,{"$f":"+INDEX(D1941:AF1941,1,aux_pr_ue!$P$2)","v":0},{"$f":"+INDEX(D1941:AF1941,1,aux_pr_ue!$Q$2)","v":0}]
["Feed Rye2015/05","Feed Rye","2015/05",116.77170000000001,null,null,null,null,null,120,null,null,null,null,null,null,null,null,116.59740000000001,null,null,null,null,null,118.34407500000002,null,null,null,null,null,null,null,{"$f":"+INDEX(D1942:AF1942,1,aux_pr_ue!$P$2)","v":0},{"$f":"+INDEX(D1942:AF1942,1,aux_pr_ue!$Q$2)","v":0}]
["Feed Rye2015/02","Feed Rye","2015/02",121.5206,null,null,null,null,null,null,null,null,null,null,null,null,null,null,116.94710000000001,null,null,null,null,null,121.43430000000001,null,null,null,null,null,null,null,{"$f":"+INDEX(D1945:AF1945,1,aux_pr_ue!$P$2)","v":0},{"$f":"+INDEX(D1945:AF1945,1,aux_pr_ue!$Q$2)","v":0}]
["Feed Rye2015/01","Feed Rye","2015/01",119.9843,null,null,null,null,null,95,null,null,null,null,null,null,null,132.82500000000002,105.82,null,null,null,null,null,119.573275,null,null,null,null,null,null,null,{"$f":"+INDEX(D1946:AF1946,1,aux_pr_ue!$P$2)","v":0},{"$f":"+INDEX(D1946:AF1946,1,aux_pr_ue!$Q$2)","v":0}]
["Feed Rye2014/10","Feed Rye","2014/10",110.12610000000001,null,null,null,null,null,92.782600000000002,null,null,null,null,null,null,null,97.005633333333336,98.951999999999998,null,null,null,null,null,120.80435,null,null,null,null,null,null,null,{"$f":"+INDEX(D1949:AF1949,1,aux_pr_ue!$P$2)","v":0},{"$f":"+INDEX(D1949:AF1949,1,aux_pr_ue!$Q$2)","v":0}]
["Feed Rye2014/09","Feed Rye","2014/09",111.459,null,null,null,null,null,106.25,null,null,null,null,null,null,null,102.72686666666668,95.073700000000002,null,null,null,null,116.75,122.139875,null,null,null,null,null,null,null,{"$f":"+INDEX(D1950:AF1950,1,aux_pr_ue!$P$2)","v":0},{"$f":"+INDEX(D1950:AF1950,1,aux_pr_ue!$Q$2)","v":0}]
["Feed Rye2014/06","Feed Rye","2014/06",142.38240000000002,null,null,null,null,null,102,null,null,null,null,null,null,null,null,145.80340000000001,null,null,null,null,156.5,143.42315000000002,null,null,null,null,null,null,null,{"$f":"+INDEX(D1953:AF1953,1,aux_pr_ue!$P$2)","v":0},{"$f":"+INDEX(D1953:AF1953,1,aux_pr_ue!$Q$2)","v":0}]
["Feed Rye2014/05","Feed Rye","2014/05",145.30440000000002,null,null,null,null,null,105,null,null,null,null,null,null,null,null,153.4238,null,null,null,null,null,145.80452500000001,null,null,null,null,null,null,null,{"$f":"+INDEX(D1954:AF1954,1,aux_pr_ue!$P$2)","v":0},{"$f":"+INDEX(D1954:AF1954,1,aux_pr_ue!$Q$2)","v":0}]
["Feed Rye2014/03","Feed Rye","2014/03",136.54660000000001,null,null,null,null,null,null,null,null,null,null,null,null,null,100,131.16679999999999,null,null,null,null,145.36840000000001,138.75487500000003,null,null,null,null,null,null,null,{"$f":"+INDEX(D1956:AF1956,1,aux_pr_ue!$P$2)","v":0},{"$f":"+INDEX(D1956:AF1956,1,aux_pr_ue!$Q$2)","v":0}]
["Feed Rye2014/02","Feed Rye","2014/02",137.50900000000001,null,null,null,null,null,null,null,null,null,null,null,null,null,null,135.75110000000001,null,null,null,null,144.34380000000002,135.745025,null,null,null,null,null,null,null,{"$f":"+INDEX(D1957:AF1957,1,aux_pr_ue!$P$2)","v":0},{"$f":"+INDEX(D1957:AF1957,1,aux_pr_ue!$Q$2)","v":0}]
["Feed Rye2013/11","Feed Rye","2013/11",126.57230000000001,null,null,null,null,null,120,null,null,null,null,null,null,null,103.05645000000001,123.1957,null,null,null,null,null,130.42815000000002,null,null,null,null,null,null,null,{"$f":"+INDEX(D1960:AF1960,1,aux_pr_ue!$P$2)","v":0},{"$f":"+INDEX(D1960:AF1960,1,aux_pr_ue!$Q$2)","v":0}]
["Feed Rye2013/10","Feed Rye","2013/10",121.8857,null,null,null,null,null,145,null,null,null,null,null,null,null,113.66950000000001,116.91030000000001,null,null,null,null,null,119.612025,null,null,null,null,null,null,null,{"$f":"+INDEX(D1961:AF1961,1,aux_pr_ue!$P$2)","v":0},{"$f":"+INDEX(D1961:AF1961,1,aux_pr_ue!$Q$2)","v":0}]
["Feed Rye2013/07","Feed Rye","2013/07",127.3901,null,null,null,null,null,157,null,null,null,null,null,null,null,135.2176,92.894600000000011,null,null,null,null,null,139.74484999999999,null,null,null,null,null,null,null,{"$f":"+INDEX(D1964:AF1964,1,aux_pr_ue!$P$2)","v":0},{"$f":"+INDEX(D1964:AF1964,1,aux_pr_ue!$Q$2)","v":0}]
["Feed Rye2013/06","Feed Rye","2013/06",153.8991,null,null,null,null,null,null,null,null,null,null,null,null,null,164.14205000000001,161.50540000000001,null,null,null,null,null,153.137325,null,null,null,null,null,null,null,{"$f":"+INDEX(D1965:AF1965,1,aux_pr_ue!$P$2)","v":0},{"$f":"+INDEX(D1965:AF1965,1,aux_pr_ue!$Q$2)","v":0}]
["Feed Rye2013/03","Feed Rye","2013/03",171.32550000000001,null,null,null,null,null,160,null,null,null,null,null,null,null,null,170.95670000000001,null,null,null,null,null,173.56026666666671,null,null,null,null,null,null,null,{"$f":"+INDEX(D1968:AF1968,1,aux_pr_ue!$P$2)","v":0},{"$f":"+INDEX(D1968:AF1968,1,aux_pr_ue!$Q$2)","v":0}]
["Feed Rye2013/02","Feed Rye","2013/02",177.9657,null,null,null,null,null,179,null,null,null,null,null,null,null,164.3528,166.38490000000002,null,null,null,null,null,185.88535000000002,null,null,null,null,null,null,null,{"$f":"+INDEX(D1969:AF1969,1,aux_pr_ue!$P$2)","v":0},{"$f":"+INDEX(D1969:AF1969,1,aux_pr_ue!$Q$2)","v":0}]
["Feed Rye2012/11","Feed Rye","2012/11",178.49180000000001,null,null,null,null,null,null,null,null,null,null,null,null,null,170.39580000000001,161.40710000000001,null,null,null,null,216,184.37306666666666,null,null,null,null,null,null,null,{"$f":"+INDEX(D1972:AF1972,1,aux_pr_ue!$P$2)","v":0},{"$f":"+INDEX(D1972:AF1972,1,aux_pr_ue!$Q$2)","v":0}]
["Feed Rye2012/10","Feed Rye","2012/10",172.26820000000001,null,null,null,null,null,null,null,null,null,null,null,null,null,167.22543333333331,159.3528,null,null,null,null,null,174.59907499999997,null,null,null,null,null,null,null,{"$f":"+INDEX(D1973:AF1973,1,aux_pr_ue!$P$2)","v":0},{"$f":"+INDEX(D1973:AF1973,1,aux_pr_ue!$Q$2)","v":0}]
["Feed Rye2012/07","Feed Rye","2012/07",182.2081,null,null,null,null,null,null,null,null,null,null,null,null,null,null,162.66040000000001,null,null,null,null,null,184.40110000000001,null,null,null,null,null,null,null,{"$f":"+INDEX(D1976:AF1976,1,aux_pr_ue!$P$2)","v":0},{"$f":"+INDEX(D1976:AF1976,1,aux_pr_ue!$Q$2)","v":0}]
["Feed Rye2012/06","Feed Rye","2012/06",181.91849999999999,null,null,null,null,null,null,null,null,null,null,null,null,null,null,162.6669,null,null,null,null,null,185.67215000000002,null,null,null,null,null,null,null,{"$f":"+INDEX(D1977:AF1977,1,aux_pr_ue!$P$2)","v":0},{"$f":"+INDEX(D1977:AF1977,1,aux_pr_ue!$Q$2)","v":0}]
["Feed Rye2012/03","Feed Rye","2012/03",175.72400000000002,null,null,null,null,null,null,null,null,null,null,null,null,null,169.34210000000002,164.16040000000001,null,null,null,null,180,170.66714999999999,null,null,null,null,null,null,null,{"$f":"+INDEX(D1980:AF1980,1,aux_pr_ue!$P$2)","v":0},{"$f":"+INDEX(D1980:AF1980,1,aux_pr_ue!$Q$2)","v":0}]
["Feed Rye2012/02","Feed Rye","2012/02",171.2252,null,null,null,null,null,null,null,null,null,null,null,null,null,null,164.75470000000001,null,null,null,null,157.5,172.91970000000001,null,null,null,null,null,null,null,{"$f":"+INDEX(D1981:AF1981,1,aux_pr_ue!$P$2)","v":0},{"$f":"+INDEX(D1981:AF1981,1,aux_pr_ue!$Q$2)","v":0}]
["Feed Rye2011/11","Feed Rye","2011/11",148.5043,null,null,null,null,null,null,null,null,null,null,null,null,null,null,154.52710000000002,null,null,null,null,160,141.11619999999999,null,null,null,null,null,null,null,{"$f":"+INDEX(D1984:AF1984,1,aux_pr_ue!$P$2)","v":0},{"$f":"+INDEX(D1984:AF1984,1,aux_pr_ue!$Q$2)","v":0}]
["Feed Rye2011/10","Feed Rye","2011/10",149.17270000000002,null,null,null,null,null,null,null,null,null,null,null,null,null,156.39465000000001,147.01650000000001,null,null,null,null,155,144.69076666666666,null,null,null,null,null,null,null,{"$f":"+INDEX(D1985:AF1985,1,aux_pr_ue!$P$2)","v":0},{"$f":"+INDEX(D1985:AF1985,1,aux_pr_ue!$Q$2)","v":0}]
["Feed Rye2011/08","Feed Rye","2011/08",148.4469,null,null,null,null,null,null,null,null,null,null,null,null,null,148.43119999999999,144.58790000000002,null,null,null,null,155,147.81089999999998,null,null,null,null,null,null,null,{"$f":"+INDEX(D1987:AF1987,1,aux_pr_ue!$P$2)","v":0},{"$f":"+INDEX(D1987:AF1987,1,aux_pr_ue!$Q$2)","v":0}]
["Feed Rye2011/07","Feed Rye","2011/07",188.1951,null,null,null,null,null,null,null,null,null,null,null,null,null,145.20189999999999,146.7852,null,null,null,null,null,194.71046666666669,null,null,null,null,null,null,null,{"$f":"+INDEX(D1988:AF1988,1,aux_pr_ue!$P$2)","v":0},{"$f":"+INDEX(D1988:AF1988,1,aux_pr_ue!$Q$2)","v":0}]
["Feed Rye2011/04","Feed Rye","2011/04",198.48170000000002,null,null,null,null,null,null,null,null,null,null,null,null,null,null,208.04560000000001,null,null,null,null,null,196.47630000000001,null,null,null,null,null,null,null,{"$f":"+INDEX(D1991:AF1991,1,aux_pr_ue!$P$2)","v":0},{"$f":"+INDEX(D1991:AF1991,1,aux_pr_ue!$Q$2)","v":0}]
["Feed Rye2011/03","Feed Rye","2011/03",191.97930000000002,null,null,null,null,null,null,null,null,null,null,null,null,null,null,218.74010000000001,null,null,null,null,null,184.65626666666665,null,null,null,null,null,null,null,{"$f":"+INDEX(D1992:AF1992,1,aux_pr_ue!$P$2)","v":0},{"$f":"+INDEX(D1992:AF1992,1,aux_pr_ue!$Q$2)","v":0}]
["Feed Rye2010/12","Feed Rye","2010/12",157.57310000000001,null,null,null,null,null,null,null,null,null,null,null,null,null,138.77746666666667,171.13300000000001,null,null,null,null,null,150.70679999999999,null,null,null,null,null,null,null,{"$f":"+INDEX(D1995:AF1995,1,aux_pr_ue!$P$2)","v":0},{"$f":"+INDEX(D1995:AF1995,1,aux_pr_ue!$Q$2)","v":0}]
["Feed Rye2010/11","Feed Rye","2010/11",130.93440000000001,null,null,null,null,null,null,null,null,null,null,null,null,null,113.12586666666668,138.27800000000002,null,null,null,null,null,131.61496666666667,null,null,null,null,null,null,null,{"$f":"+INDEX(D1996:AF1996,1,aux_pr_ue!$P$2)","v":0},{"$f":"+INDEX(D1996:AF1996,1,aux_pr_ue!$Q$2)","v":0}]
["Feed Rye2010/08","Feed Rye","2010/08",111.06570000000001,null,null,null,null,null,null,null,null,null,null,null,null,null,107.7017,111.48220000000001,null,null,null,null,137.5,113.51389999999999,null,null,null,null,null,null,null,{"$f":"+INDEX(D1999:AF1999,1,aux_pr_ue!$P$2)","v":0},{"$f":"+INDEX(D1999:AF1999,1,aux_pr_ue!$Q$2)","v":0}]
["Feed Rye2010/07","Feed Rye","2010/07",91.805300000000003,null,null,null,null,null,null,null,null,null,null,null,null,null,null,93.161900000000003,null,null,null,null,null,91.360550000000003,null,null,null,null,null,null,null,{"$f":"+INDEX(D2000:AF2000,1,aux_pr_ue!$P$2)","v":0},{"$f":"+INDEX(D2000:AF2000,1,aux_pr_ue!$Q$2)","v":0}]
["Feed Rye2010/04","Feed Rye","2010/04",80.522300000000001,null,null,null,null,null,null,null,null,null,null,null,null,null,64.646200000000007,82.796199999999999,null,null,null,null,null,82.720950000000002,null,null,null,null,null,null,null,{"$f":"+INDEX(D2003:AF2003,1,aux_pr_ue!$P$2)","v":0},{"$f":"+INDEX(D2003:AF2003,1,aux_pr_ue!$Q$2)","v":0}]
["Feed Rye2010/03","Feed Rye","2010/03",81.069200000000009,null,null,null,null,null,null,null,null,null,null,null,null,null,null,82.452800000000011,null,null,null,null,null,78.816266666666664,null,null,null,null,null,null,null,{"$f":"+INDEX(D2004:AF2004,1,aux_pr_ue!$P$2)","v":0},{"$f":"+INDEX(D2004:AF2004,1,aux_pr_ue!$Q$2)","v":0}]
["Feed Rye2009/12","Feed Rye","2009/12",70.234000000000009,null,null,null,null,null,null,null,null,null,null,null,null,null,63.607300000000002,61.625900000000001,null,null,null,null,null,78.015166666666673,null,null,null,null,null,null,null,{"$f":"+INDEX(D2007:AF2007,1,aux_pr_ue!$P$2)","v":0},{"$f":"+INDEX(D2007:AF2007,1,aux_pr_ue!$Q$2)","v":0}]
["Feed Rye2009/11","Feed Rye","2009/11",68.341499999999996,null,null,null,null,null,null,null,null,null,null,null,null,null,65.829166666666666,55.207000000000001,null,null,null,null,null,75.704066666666662,null,null,null,null,null,null,null,{"$f":"+INDEX(D2008:AF2008,1,aux_pr_ue!$P$2)","v":0},{"$f":"+INDEX(D2008:AF2008,1,aux_pr_ue!$Q$2)","v":0}]
["Feed Rye2009/08","Feed Rye","2009/08",70.253,null,null,null,null,null,null,null,null,null,null,null,null,null,72.167599999999993,57.9544,null,null,null,null,null,72.922200000000004,null,null,null,null,null,null,null,{"$f":"+INDEX(D2011:AF2011,1,aux_pr_ue!$P$2)","v":0},{"$f":"+INDEX(D2011:AF2011,1,aux_pr_ue!$Q$2)","v":0}]
["Feed Rye2009/07","Feed Rye","2009/07",81.596600000000009,null,null,null,null,null,null,null,null,null,null,null,null,null,71.507400000000004,69.273499999999999,null,null,null,null,null,85.646000000000001,null,null,null,null,null,null,null,{"$f":"+INDEX(D2012:AF2012,1,aux_pr_ue!$P$2)","v":0},{"$f":"+INDEX(D2012:AF2012,1,aux_pr_ue!$Q$2)","v":0}]
["Feed Rye2009/04","Feed Rye","2009/04",80.852400000000003,null,null,null,null,null,null,null,null,null,null,null,null,null,null,82.305900000000008,null,null,null,null,null,82.964600000000004,null,null,null,null,null,null,null,{"$f":"+INDEX(D2015:AF2015,1,aux_pr_ue!$P$2)","v":0},{"$f":"+INDEX(D2015:AF2015,1,aux_pr_ue!$Q$2)","v":0}]
["Feed Rye2009/03","Feed Rye","2009/03",82.952600000000004,null,null,null,null,null,null,null,null,null,null,null,null,null,null,75.2333,null,null,null,null,null,87.807966666666672,null,null,null,null,null,null,null,{"$f":"+INDEX(D2016:AF2016,1,aux_pr_ue!$P$2)","v":0},{"$f":"+INDEX(D2016:AF2016,1,aux_pr_ue!$Q$2)","v":0}]
["Feed Rye2008/12","Feed Rye","2008/12",89.240900000000011,null,null,null,null,null,null,null,null,null,null,null,null,null,77.214550000000003,91.050700000000006,null,null,null,null,null,91.722399999999993,null,null,null,null,null,null,null,{"$f":"+INDEX(D2019:AF2019,1,aux_pr_ue!$P$2)","v":0},{"$f":"+INDEX(D2019:AF2019,1,aux_pr_ue!$Q$2)","v":0}]
["Feed Rye2008/11","Feed Rye","2008/11",91.017400000000009,null,null,null,null,null,null,null,null,null,null,null,null,null,75.054600000000008,92.953600000000009,null,null,null,null,115,92.465850000000003,null,null,null,null,null,null,null,{"$f":"+INDEX(D2020:AF2020,1,aux_pr_ue!$P$2)","v":0},{"$f":"+INDEX(D2020:AF2020,1,aux_pr_ue!$Q$2)","v":0}]
["Feed Rye2008/09","Feed Rye","2008/09",108.7907,null,null,null,null,null,null,null,null,null,null,null,null,null,103.46113333333334,107.432,null,null,null,null,120,114.6872,null,null,null,null,null,null,null,{"$f":"+INDEX(D2022:AF2022,1,aux_pr_ue!$P$2)","v":0},{"$f":"+INDEX(D2022:AF2022,1,aux_pr_ue!$Q$2)","v":0}]
["Feed Rye2008/08","Feed Rye","2008/08",125.48480000000001,null,null,null,null,null,null,null,null,null,null,null,null,null,106.47396666666668,129.25030000000001,null,null,null,null,135,141.30970000000002,null,null,null,null,null,null,null,{"$f":"+INDEX(D2023:AF2023,1,aux_pr_ue!$P$2)","v":0},{"$f":"+INDEX(D2023:AF2023,1,aux_pr_ue!$Q$2)","v":0}]
["Feed Rye2008/05","Feed Rye","2008/05",202.94380000000001,null,null,null,null,null,null,null,null,null,null,null,null,null,143.32810000000001,168.22840000000002,null,null,null,null,null,216.13993333333335,null,null,null,null,null,null,null,{"$f":"+INDEX(D2026:AF2026,1,aux_pr_ue!$P$2)","v":0},{"$f":"+INDEX(D2026:AF2026,1,aux_pr_ue!$Q$2)","v":0}]
["Feed Rye2008/04","Feed Rye","2008/04",205.49800000000002,null,null,null,null,null,null,null,null,null,null,null,null,null,null,157.2612,null,null,null,null,null,220.16703333333331,null,null,null,null,null,null,null,{"$f":"+INDEX(D2027:AF2027,1,aux_pr_ue!$P$2)","v":0},{"$f":"+INDEX(D2027:AF2027,1,aux_pr_ue!$Q$2)","v":0}]
["Feed Rye2008/01","Feed Rye","2008/01",179.57040000000001,null,null,null,null,null,null,null,null,null,null,null,null,null,155.00639999999999,159.24430000000001,null,null,null,null,null,199.18350000000001,null,null,null,null,null,null,null,{"$f":"+INDEX(D2030:AF2030,1,aux_pr_ue!$P$2)","v":0},{"$f":"+INDEX(D2030:AF2030,1,aux_pr_ue!$Q$2)","v":0}]
["Feed Rye2007/12","Feed Rye","2007/12",167.9939,null,null,null,null,null,null,null,null,null,null,null,null,null,150.88216666666668,166.4272,null,null,null,null,null,183.84913333333336,null,null,null,null,null,null,null,{"$f":"+INDEX(D2031:AF2031,1,aux_pr_ue!$P$2)","v":0},{"$f":"+INDEX(D2031:AF2031,1,aux_pr_ue!$Q$2)","v":0}]
["Feed Rye2007/09","Feed Rye","2007/09",160.25310000000002,null,null,null,null,null,null,null,null,null,null,null,null,null,134.50242500000002,158.8614,null,null,null,null,null,173.48960000000002,null,null,null,null,null,null,null,{"$f":"+INDEX(D2034:AF2034,1,aux_pr_ue!$P$2)","v":0},{"$f":"+INDEX(D2034:AF2034,1,aux_pr_ue!$Q$2)","v":0}]
["Feed Rye2007/08","Feed Rye","2007/08",134.05010000000001,null,null,null,null,null,null,null,null,null,null,null,null,null,122.26323333333335,133.8596,null,null,null,null,null,145.05163333333334,null,null,null,null,null,null,null,{"$f":"+INDEX(D2035:AF2035,1,aux_pr_ue!$P$2)","v":0},{"$f":"+INDEX(D2035:AF2035,1,aux_pr_ue!$Q$2)","v":0}]
["Feed Rye2007/05","Feed Rye","2007/05",140.94570000000002,null,null,null,null,null,null,null,null,null,null,null,null,null,null,142.5256,null,null,null,null,null,139.63294999999999,null,null,null,null,null,null,null,{"$f":"+INDEX(D2038:AF2038,1,aux_pr_ue!$P$2)","v":0},{"$f":"+INDEX(D2038:AF2038,1,aux_pr_ue!$Q$2)","v":0}]
["Feed Rye2007/04","Feed Rye","2007/04",139.7414,null,null,null,null,null,null,null,null,null,null,null,null,null,null,139.4752,null,null,null,null,null,140.36070000000001,null,null,null,null,null,null,null,{"$f":"+INDEX(D2039:AF2039,1,aux_pr_ue!$P$2)","v":0},{"$f":"+INDEX(D2039:AF2039,1,aux_pr_ue!$Q$2)","v":0}]
["Feed Rye2007/01","Feed Rye","2007/01",125.354,null,null,null,null,null,null,null,null,null,null,null,null,null,116.1528,124.22080000000001,null,null,null,null,null,138.30289999999999,null,null,null,null,null,null,null,{"$f":"+INDEX(D2042:AF2042,1,aux_pr_ue!$P$2)","v":0},{"$f":"+INDEX(D2042:AF2042,1,aux_pr_ue!$Q$2)","v":0}]
["Feed Rye2006/12","Feed Rye","2006/12",123.92890000000001,null,null,null,null,null,null,null,null,null,null,null,null,null,115.67580000000001,127.44030000000001,null,null,null,null,null,117.35680000000001,null,null,null,null,null,null,null,{"$f":"+INDEX(D2043:AF2043,1,aux_pr_ue!$P$2)","v":0},{"$f":"+INDEX(D2043:AF2043,1,aux_pr_ue!$Q$2)","v":0}]
["Feed Rye2006/09","Feed Rye","2006/09",88.940300000000008,null,null,null,null,null,null,null,null,null,null,null,null,null,82.101900000000001,97.989100000000008,null,null,null,null,null,88.16106666666667,null,null,null,null,null,null,null,{"$f":"+INDEX(D2046:AF2046,1,aux_pr_ue!$P$2)","v":0},{"$f":"+INDEX(D2046:AF2046,1,aux_pr_ue!$Q$2)","v":0}]
["Feed Rye2006/08","Feed Rye","2006/08",80.03,null,null,null,null,null,null,null,null,null,null,null,null,null,76.647433333333339,77.61160000000001,null,null,null,null,null,82.22760000000001,null,null,null,null,null,null,null,{"$f":"+INDEX(D2047:AF2047,1,aux_pr_ue!$P$2)","v":0},{"$f":"+INDEX(D2047:AF2047,1,aux_pr_ue!$Q$2)","v":0}]
["Feed Rye2006/05","Feed Rye","2006/05",82.616600000000005,null,null,null,null,null,null,null,null,null,null,null,null,null,null,77.363100000000003,null,null,null,null,null,89.254599999999996,null,null,null,null,null,null,null,{"$f":"+INDEX(D2050:AF2050,1,aux_pr_ue!$P$2)","v":0},{"$f":"+INDEX(D2050:AF2050,1,aux_pr_ue!$Q$2)","v":0}]
["Feed Rye2006/04","Feed Rye","2006/04",82.849900000000005,null,null,null,null,null,null,null,null,null,null,null,null,null,null,81.254800000000003,null,null,null,null,null,86.829700000000003,null,null,null,null,null,null,null,{"$f":"+INDEX(D2051:AF2051,1,aux_pr_ue!$P$2)","v":0},{"$f":"+INDEX(D2051:AF2051,1,aux_pr_ue!$Q$2)","v":0}]
["Feed Rye2006/02","Feed Rye","2006/02",78.746400000000008,null,null,null,null,null,null,null,null,null,null,null,null,null,83.318200000000004,72.532200000000003,null,null,null,null,null,85.506550000000004,null,null,null,null,null,null,null,{"$f":"+INDEX(D2053:AF2053,1,aux_pr_ue!$P$2)","v":0},{"$f":"+INDEX(D2053:AF2053,1,aux_pr_ue!$Q$2)","v":0}]
["Feed Rye2006/01","Feed Rye","2006/01",75.190200000000004,null,null,null,null,null,null,null,null,null,null,null,null,null,72.626900000000006,71.625900000000001,null,null,null,null,null,83.149299999999997,null,null,null,null,null,null,null,{"$f":"+INDEX(D2054:AF2054,1,aux_pr_ue!$P$2)","v":0},{"$f":"+INDEX(D2054:AF2054,1,aux_pr_ue!$Q$2)","v":0}]
["Feed Rye2005/10","Feed Rye","2005/10",68.960700000000003,null,null,null,null,null,null,null,null,null,null,null,null,null,65.153400000000005,64.902900000000002,null,null,null,null,null,72.148066666666665,null,null,null,null,null,null,null,{"$f":"+INDEX(D2057:AF2057,1,aux_pr_ue!$P$2)","v":0},{"$f":"+INDEX(D2057:AF2057,1,aux_pr_ue!$Q$2)","v":0}]
["Feed Rye2005/09","Feed Rye","2005/09",71.799500000000009,null,null,null,null,null,null,null,null,null,null,null,null,null,61.745600000000003,65.648099999999999,null,null,null,null,null,75.546466666666674,null,null,null,null,null,null,null,{"$f":"+INDEX(D2058:AF2058,1,aux_pr_ue!$P$2)","v":0},{"$f":"+INDEX(D2058:AF2058,1,aux_pr_ue!$Q$2)","v":0}]
["Feed Rye2005/06","Feed Rye","2005/06",80.788200000000003,null,null,null,null,null,null,null,null,null,null,null,null,null,84.751000000000005,93.452400000000011,null,null,null,null,null,72.568700000000007,null,null,null,null,null,null,null,{"$f":"+INDEX(D2061:AF2061,1,aux_pr_ue!$P$2)","v":0},{"$f":"+INDEX(D2061:AF2061,1,aux_pr_ue!$Q$2)","v":0}]
["Feed Rye2005/05","Feed Rye","2005/05",70.083100000000002,null,null,null,null,null,null,null,null,null,null,null,null,null,null,62.352800000000002,null,null,null,null,null,73.03906666666667,null,null,null,null,null,null,null,{"$f":"+INDEX(D2062:AF2062,1,aux_pr_ue!$P$2)","v":0},{"$f":"+INDEX(D2062:AF2062,1,aux_pr_ue!$Q$2)","v":0}]
["Feed Rye2005/02","Feed Rye","2005/02",83.728999999999999,null,null,null,null,null,null,null,null,null,null,null,null,null,null,82.698999999999998,null,null,null,null,90.5,80.949750000000009,null,null,null,null,null,null,null,{"$f":"+INDEX(D2065:AF2065,1,aux_pr_ue!$P$2)","v":0},{"$f":"+INDEX(D2065:AF2065,1,aux_pr_ue!$Q$2)","v":0}]
["Feed Rye2005/01","Feed Rye","2005/01",81.787599999999998,null,null,null,null,null,null,null,null,null,null,null,null,null,null,80.340699999999998,null,null,null,null,90.5,79.149433333333334,null,null,null,null,null,null,null,{"$f":"+INDEX(D2066:AF2066,1,aux_pr_ue!$P$2)","v":0},{"$f":"+INDEX(D2066:AF2066,1,aux_pr_ue!$Q$2)","v":0}]
["Feed Rye2004/10","Feed Rye","2004/10",74.604600000000005,null,null,null,null,null,null,null,null,null,null,null,null,null,null,79.938900000000004,null,null,null,null,null,72.539133333333339,null,null,null,null,null,null,null,{"$f":"+INDEX(D2069:AF2069,1,aux_pr_ue!$P$2)","v":0},{"$f":"+INDEX(D2069:AF2069,1,aux_pr_ue!$Q$2)","v":0}]
["Feed Rye2004/09","Feed Rye","2004/09",72.559399999999997,null,null,null,null,null,null,null,null,null,null,null,null,null,null,81.563800000000001,null,null,null,null,null,69.702866666666665,null,null,null,null,null,null,null,{"$f":"+INDEX(D2070:AF2070,1,aux_pr_ue!$P$2)","v":0},{"$f":"+INDEX(D2070:AF2070,1,aux_pr_ue!$Q$2)","v":0}]
["Feed Rye2004/06","Feed Rye","2004/06",121.01700000000001,null,null,133.18389999999999,null,null,null,null,null,null,null,null,null,null,114.6914,122.35350000000001,null,null,null,null,null,116.82766666666667,null,null,null,null,null,null,null,{"$f":"+INDEX(D2073:AF2073,1,aux_pr_ue!$P$2)","v":0},{"$f":"+INDEX(D2073:AF2073,1,aux_pr_ue!$Q$2)","v":0}]
["Feed Rye2004/05","Feed Rye","2004/05",116.4898,null,null,130.3244,null,null,null,null,null,null,null,null,null,null,128.47409999999999,107.0762,null,null,null,null,null,117.74270000000001,null,null,null,null,null,null,null,{"$f":"+INDEX(D2074:AF2074,1,aux_pr_ue!$P$2)","v":0},{"$f":"+INDEX(D2074:AF2074,1,aux_pr_ue!$Q$2)","v":0}]
["Feed Rye2004/02","Feed Rye","2004/02",null,null,null,null,null,null,null,null,null,null,null,null,null,null,null,null,null,null,null,null,null,null,null,null,null,null,null,null,null,{"$f":"+INDEX(D2077:AF2077,1,aux_pr_ue!$P$2)","v":0},{"$f":"+INDEX(D2077:AF2077,1,aux_pr_ue!$Q$2)","v":0}]
["Feed Rye2004/01","Feed Rye","2004/01",null,null,null,null,null,null,null,null,null,null,null,null,null,null,null,null,null,null,null,null,null,null,null,null,null,null,null,null,null,{"$f":"+INDEX(D2078:AF2078,1,aux_pr_ue!$P$2)","v":0},{"$f":"+INDEX(D2078:AF2078,1,aux_pr_ue!$Q$2)","v":0}]
["Feed Rye2003/10","Feed Rye","2003/10",null,null,null,null,null,null,null,null,null,null,null,null,null,null,null,null,null,null,null,null,null,null,null,null,null,null,null,null,null,{"$f":"+INDEX(D2081:AF2081,1,aux_pr_ue!$P$2)","v":0},{"$f":"+INDEX(D2081:AF2081,1,aux_pr_ue!$Q$2)","v":0}]
["Feed Rye2003/09","Feed Rye","2003/09",null,null,null,null,null,null,null,null,null,null,null,null,null,null,null,null,null,null,null,null,null,null,null,null,null,null,null,null,null,{"$f":"+INDEX(D2082:AF2082,1,aux_pr_ue!$P$2)","v":0},{"$f":"+INDEX(D2082:AF2082,1,aux_pr_ue!$Q$2)","v":0}]
["Feed Rye2003/06","Feed Rye","2003/06",94.066700000000012,94.066700000000012,null,null,null,null,null,null,null,null,null,null,null,null,null,null,null,null,null,null,null,null,null,null,null,null,null,null,null,{"$f":"+INDEX(D2085:AF2085,1,aux_pr_ue!$P$2)","v":0},{"$f":"+INDEX(D2085:AF2085,1,aux_pr_ue!$Q$2)","v":0}]
["Feed Rye2003/05","Feed Rye","2003/05",94.951599999999999,94.951599999999999,null,null,null,null,null,null,null,null,null,null,null,null,null,null,null,null,null,null,null,null,null,null,null,null,null,null,null,{"$f":"+INDEX(D2086:AF2086,1,aux_pr_ue!$P$2)","v":0},{"$f":"+INDEX(D2086:AF2086,1,aux_pr_ue!$Q$2)","v":0}]
["Feed Rye2003/03","Feed Rye","2003/03",92.629000000000005,92.629000000000005,null,null,null,null,null,null,null,null,null,null,null,null,null,null,null,null,null,null,null,null,null,null,null,null,null,null,null,{"$f":"+INDEX(D2088:AF2088,1,aux_pr_ue!$P$2)","v":0},{"$f":"+INDEX(D2088:AF2088,1,aux_pr_ue!$Q$2)","v":0}]
["Feed Rye2003/02","Feed Rye","2003/02",93.5,93.5,null,null,null,null,null,null,null,null,null,null,null,null,null,null,null,null,null,null,null,null,null,null,null,null,null,null,null,{"$f":"+INDEX(D2089:AF2089,1,aux_pr_ue!$P$2)","v":0},{"$f":"+INDEX(D2089:AF2089,1,aux_pr_ue!$Q$2)","v":0}]
["Feed Rye2002/11","Feed Rye","2002/11",94.216700000000003,94.216700000000003,null,null,null,null,null,null,null,null,null,null,null,null,null,null,null,null,null,null,null,null,null,null,null,null,null,null,null,{"$f":"+INDEX(D2092:AF2092,1,aux_pr_ue!$P$2)","v":0},{"$f":"+INDEX(D2092:AF2092,1,aux_pr_ue!$Q$2)","v":0}]
["Feed Rye2002/10","Feed Rye","2002/10",94.235300000000009,94.235300000000009,null,null,null,null,null,null,null,null,null,null,null,null,null,null,null,null,null,null,null,null,null,null,null,null,null,null,null,{"$f":"+INDEX(D2093:AF2093,1,aux_pr_ue!$P$2)","v":0},{"$f":"+INDEX(D2093:AF2093,1,aux_pr_ue!$Q$2)","v":0}]
["Feed Rye2002/07","Feed Rye","2002/07",88.1,88.1,null,null,null,null,null,null,null,null,null,null,null,null,null,null,null,null,null,null,null,null,null,null,null,null,null,null,null,{"$f":"+INDEX(D2096:AF2096,1,aux_pr_ue!$P$2)","v":0},{"$f":"+INDEX(D2096:AF2096,1,aux_pr_ue!$Q$2)","v":0}]
["Feed Rye2002/06","Feed Rye","2002/06",87.9,87.9,null,null,null,null,null,null,null,null,null,null,null,null,null,null,null,null,null,null,null,null,null,null,null,null,null,null,null,{"$f":"+INDEX(D2097:AF2097,1,aux_pr_ue!$P$2)","v":0},{"$f":"+INDEX(D2097:AF2097,1,aux_pr_ue!$Q$2)","v":0}]
["Feed Rye2002/03","Feed Rye","2002/03",97.225800000000007,97.225800000000007,null,null,null,null,null,null,null,null,null,null,null,null,null,null,null,null,null,null,null,null,null,null,null,null,null,null,null,{"$f":"+INDEX(D2100:AF2100,1,aux_pr_ue!$P$2)","v":0},{"$f":"+INDEX(D2100:AF2100,1,aux_pr_ue!$Q$2)","v":0}]
["Feed Rye2002/02","Feed Rye","2002/02",103.25,103.25,null,null,null,null,null,null,null,null,null,null,null,null,null,null,null,null,null,null,null,null,null,null,null,null,null,null,null,{"$f":"+INDEX(D2101:AF2101,1,aux_pr_ue!$P$2)","v":0},{"$f":"+INDEX(D2101:AF2101,1,aux_pr_ue!$Q$2)","v":0}]
["Feed Rye2001/11","Feed Rye","2001/11",105.60340000000001,105.60340000000001,null,null,null,null,null,null,null,null,null,null,null,null,null,null,null,null,null,null,null,null,null,null,null,null,null,null,null,{"$f":"+INDEX(D2104:AF2104,1,aux_pr_ue!$P$2)","v":0},{"$f":"+INDEX(D2104:AF2104,1,aux_pr_ue!$Q$2)","v":0}]
["Feed Rye2001/10","Feed Rye","2001/10",107.1251,107.1251,null,null,null,null,null,null,null,null,null,null,null,null,null,null,null,null,null,null,null,null,null,null,null,null,null,null,null,{"$f":"+INDEX(D2105:AF2105,1,aux_pr_ue!$P$2)","v":0},{"$f":"+INDEX(D2105:AF2105,1,aux_pr_ue!$Q$2)","v":0}]
["Feed Rye2001/07","Feed Rye","2001/07",110.3126,110.3126,null,null,null,null,null,null,null,null,null,null,null,null,null,null,null,null,null,null,null,null,null,null,null,null,null,null,null,{"$f":"+INDEX(D2108:AF2108,1,aux_pr_ue!$P$2)","v":0},{"$f":"+INDEX(D2108:AF2108,1,aux_pr_ue!$Q$2)","v":0}]
["Feed Rye2001/06","Feed Rye","2001/06",110.3126,110.3126,null,null,null,null,null,null,null,null,null,null,null,null,null,null,null,null,null,null,null,null,null,null,null,null,null,null,null,{"$f":"+INDEX(D2109:AF2109,1,aux_pr_ue!$P$2)","v":0},{"$f":"+INDEX(D2109:AF2109,1,aux_pr_ue!$Q$2)","v":0}]
["Feed Rye2001/03","Feed Rye","2001/03",103.43560000000001,103.43560000000001,null,null,null,null,null,null,null,null,null,null,null,null,null,null,null,null,null,null,null,null,null,null,null,null,null,null,null,{"$f":"+INDEX(D2112:AF2112,1,aux_pr_ue!$P$2)","v":0},{"$f":"+INDEX(D2112:AF2112,1,aux_pr_ue!$Q$2)","v":0}]
["Feed Rye2001/02","Feed Rye","2001/02",104.1153,104.1153,null,null,null,null,null,null,null,null,null,null,null,null,null,null,null,null,null,null,null,null,null,null,null,null,null,null,null,{"$f":"+INDEX(D2113:AF2113,1,aux_pr_ue!$P$2)","v":0},{"$f":"+INDEX(D2113:AF2113,1,aux_pr_ue!$Q$2)","v":0}]
["Feed Rye2000/11","Feed Rye","2000/11",100.8433,103.04480000000001,null,null,null,null,null,null,null,null,null,null,null,null,null,null,null,null,null,null,99.627800000000008,null,null,null,null,null,null,null,null,{"$f":"+INDEX(D2116:AF2116,1,aux_pr_ue!$P$2)","v":0},{"$f":"+INDEX(D2116:AF2116,1,aux_pr_ue!$Q$2)","v":0}]
["Feed Rye2000/10","Feed Rye","2000/10",98.890100000000004,100.1986,null,null,null,null,null,null,null,null,null,null,null,null,null,null,null,null,null,null,97.744950000000003,null,null,null,null,null,null,null,null,{"$f":"+INDEX(D2117:AF2117,1,aux_pr_ue!$P$2)","v":0},{"$f":"+INDEX(D2117:AF2117,1,aux_pr_ue!$Q$2)","v":0}]
["Feed Rye2000/08","Feed Rye","2000/08",97.823100000000011,97.917900000000003,null,null,null,null,null,null,null,null,null,null,null,null,null,null,null,null,null,null,93.748000000000005,null,null,null,null,null,null,null,null,{"$f":"+INDEX(D2119:AF2119,1,aux_pr_ue!$P$2)","v":0},{"$f":"+INDEX(D2119:AF2119,1,aux_pr_ue!$Q$2)","v":0}]
["Feed Rye2000/07","Feed Rye","2000/07",117.74940000000001,117.74940000000001,null,null,null,null,null,null,null,null,null,null,null,null,null,null,null,null,null,null,null,null,null,null,null,null,null,null,null,{"$f":"+INDEX(D2120:AF2120,1,aux_pr_ue!$P$2)","v":0},{"$f":"+INDEX(D2120:AF2120,1,aux_pr_ue!$Q$2)","v":0}]
["Feed Rye2000/04","Feed Rye","2000/04",123.03060000000001,123.03060000000001,null,null,null,null,null,null,null,null,null,null,null,null,null,null,null,null,null,null,null,null,null,null,null,null,null,null,null,{"$f":"+INDEX(D2123:AF2123,1,aux_pr_ue!$P$2)","v":0},{"$f":"+INDEX(D2123:AF2123,1,aux_pr_ue!$Q$2)","v":0}]
["Feed Rye2000/03","Feed Rye","2000/03",120.1631,117.94930000000001,null,null,null,null,null,null,null,null,null,null,null,null,null,null,null,null,null,null,121.727,null,135.92239999999998,null,null,null,null,null,null,{"$f":"+INDEX(D2124:AF2124,1,aux_pr_ue!$P$2)","v":135.92239999999998},{"$f":"+INDEX(D2124:AF2124,1,aux_pr_ue!$Q$2)","v":0}]
["Feed Rye1999/12","Feed Rye","1999/12",null,null,null,null,null,null,null,null,null,null,null,null,null,null,null,null,null,null,null,null,null,null,null,null,null,null,null,null,null,{"$f":"+INDEX(D2127:AF2127,1,aux_pr_ue!$P$2)","v":0},{"$f":"+INDEX(D2127:AF2127,1,aux_pr_ue!$Q$2)","v":0}]
["Feed Rye1999/11","Feed Rye","1999/11",121.47940000000001,114.89870000000001,null,null,null,null,null,null,null,null,null,null,null,null,null,null,null,null,null,null,null,null,123.4525,null,null,null,null,null,null,{"$f":"+INDEX(D2128:AF2128,1,aux_pr_ue!$P$2)","v":123.4525},{"$f":"+INDEX(D2128:AF2128,1,aux_pr_ue!$Q$2)","v":0}]
["Feed Rye1999/08","Feed Rye","1999/08",139.6224,139.6224,null,null,null,null,null,null,null,null,null,null,null,null,null,null,null,null,null,null,null,null,null,null,null,null,null,null,null,{"$f":"+INDEX(D2131:AF2131,1,aux_pr_ue!$P$2)","v":0},{"$f":"+INDEX(D2131:AF2131,1,aux_pr_ue!$Q$2)","v":0}]
["Feed Rye1999/07","Feed Rye","1999/07",null,null,null,null,null,null,null,null,null,null,null,null,null,null,null,null,null,null,null,null,null,null,null,null,null,null,null,null,null,{"$f":"+INDEX(D2132:AF2132,1,aux_pr_ue!$P$2)","v":0},{"$f":"+INDEX(D2132:AF2132,1,aux_pr_ue!$Q$2)","v":0}]
["Feed Rye1999/04","Feed Rye","1999/04",132.71450000000002,110.04300000000001,null,null,null,null,null,null,null,null,null,null,null,null,null,null,null,null,null,null,null,null,155.386,null,null,null,null,null,null,{"$f":"+INDEX(D2135:AF2135,1,aux_pr_ue!$P$2)","v":155.386},{"$f":"+INDEX(D2135:AF2135,1,aux_pr_ue!$Q$2)","v":0}]
["Feed Rye1999/03","Feed Rye","1999/03",104.68350000000001,104.68350000000001,null,null,null,null,null,null,null,null,null,null,null,null,null,null,null,null,null,null,null,null,null,null,null,null,null,null,null,{"$f":"+INDEX(D2136:AF2136,1,aux_pr_ue!$P$2)","v":0},{"$f":"+INDEX(D2136:AF2136,1,aux_pr_ue!$Q$2)","v":0}]
["Feed Rye1998/12","Feed Rye","1998/12",113.2093,107.495,null,null,null,null,null,null,null,null,null,null,null,null,null,null,null,null,null,null,128.06650000000002,null,null,null,null,null,null,null,null,{"$f":"+INDEX(D2139:AF2139,1,aux_pr_ue!$P$2)","v":0},{"$f":"+INDEX(D2139:AF2139,1,aux_pr_ue!$Q$2)","v":0}]
["Feed Rye1998/11","Feed Rye","1998/11",108.40950000000001,107.49520000000001,null,null,null,null,null,null,null,null,null,null,null,null,null,null,null,null,null,null,128.06650000000002,null,null,null,null,null,null,null,null,{"$f":"+INDEX(D2140:AF2140,1,aux_pr_ue!$P$2)","v":0},{"$f":"+INDEX(D2140:AF2140,1,aux_pr_ue!$Q$2)","v":0}]
["Feed Rye1998/08","Feed Rye","1998/08",110.22670000000001,101.0154,null,null,null,null,null,null,null,null,null,null,null,null,null,null,null,null,null,null,null,null,115.65900000000001,null,null,null,null,null,null,{"$f":"+INDEX(D2143:AF2143,1,aux_pr_ue!$P$2)","v":115.65900000000001},{"$f":"+INDEX(D2143:AF2143,1,aux_pr_ue!$Q$2)","v":0}]
["Feed Rye1998/07","Feed Rye","1998/07",114.29830000000001,107.495,null,null,null,null,null,null,null,null,null,null,null,null,null,null,null,null,null,null,null,null,115.65900000000001,null,null,null,null,null,null,{"$f":"+INDEX(D2144:AF2144,1,aux_pr_ue!$P$2)","v":115.65900000000001},{"$f":"+INDEX(D2144:AF2144,1,aux_pr_ue!$Q$2)","v":0}]
["Feed Rye1998/04","Feed Rye","1998/04",111.6485,111.6485,null,null,null,null,null,null,null,null,null,null,null,null,null,null,null,null,null,null,null,null,null,null,null,null,null,null,null,{"$f":"+INDEX(D2147:AF2147,1,aux_pr_ue!$P$2)","v":0},{"$f":"+INDEX(D2147:AF2147,1,aux_pr_ue!$Q$2)","v":0}]
["Feed Rye1998/03","Feed Rye","1998/03",115.07560000000001,115.435,null,null,null,null,null,null,null,null,null,null,null,null,null,null,null,null,null,null,null,null,null,null,null,null,null,null,null,{"$f":"+INDEX(D2148:AF2148,1,aux_pr_ue!$P$2)","v":0},{"$f":"+INDEX(D2148:AF2148,1,aux_pr_ue!$Q$2)","v":0}]
["Feed Rye1997/12","Feed Rye","1997/12",117.6482,117.26700000000001,null,null,null,null,null,null,null,null,null,null,null,null,null,null,null,null,null,null,null,null,119.80800000000001,null,null,null,null,null,null,{"$f":"+INDEX(D2151:AF2151,1,aux_pr_ue!$P$2)","v":119.80800000000001},{"$f":"+INDEX(D2151:AF2151,1,aux_pr_ue!$Q$2)","v":0}]
["Feed Rye1997/11","Feed Rye","1997/11",118.53750000000001,117.26700000000001,null,null,null,null,null,null,null,null,null,null,null,null,null,null,null,null,null,null,null,null,119.80800000000001,null,null,null,null,null,null,{"$f":"+INDEX(D2152:AF2152,1,aux_pr_ue!$P$2)","v":119.80800000000001},{"$f":"+INDEX(D2152:AF2152,1,aux_pr_ue!$Q$2)","v":0}]
["Feed Rye1997/09","Feed Rye","1997/09",116.18170000000001,114.29480000000001,null,null,null,null,null,null,null,null,null,null,null,null,null,null,null,null,null,null,null,null,119.80800000000001,null,null,null,null,null,null,{"$f":"+INDEX(D2154:AF2154,1,aux_pr_ue!$P$2)","v":119.80800000000001},{"$f":"+INDEX(D2154:AF2154,1,aux_pr_ue!$Q$2)","v":0}]
["Feed Rye1997/08","Feed Rye","1997/08",123.19470000000001,114.82400000000001,null,null,null,null,null,null,null,null,null,null,null,null,null,null,null,null,null,null,127.38000000000001,null,null,null,null,null,null,null,null,{"$f":"+INDEX(D2155:AF2155,1,aux_pr_ue!$P$2)","v":0},{"$f":"+INDEX(D2155:AF2155,1,aux_pr_ue!$Q$2)","v":0}]
["Feed Rye1997/05","Feed Rye","1997/05",129.40219999999999,128.62200000000001,null,null,null,null,null,null,null,null,null,null,null,null,null,null,null,null,null,null,129.79949999999999,null,null,null,null,null,null,null,null,{"$f":"+INDEX(D2158:AF2158,1,aux_pr_ue!$P$2)","v":0},{"$f":"+INDEX(D2158:AF2158,1,aux_pr_ue!$Q$2)","v":0}]
["Feed Rye1997/04","Feed Rye","1997/04",132.64950000000002,134.76609999999999,null,null,null,null,null,null,null,null,null,null,null,null,null,null,null,null,null,null,130.06220000000002,null,null,null,null,null,null,null,null,{"$f":"+INDEX(D2159:AF2159,1,aux_pr_ue!$P$2)","v":0},{"$f":"+INDEX(D2159:AF2159,1,aux_pr_ue!$Q$2)","v":0}]
["Feed Rye1997/01","Feed Rye","1997/01",125.76140000000001,125.76140000000001,null,null,null,null,null,null,null,null,null,null,null,null,null,null,null,null,null,null,null,null,null,null,null,null,null,null,null,{"$f":"+INDEX(D2162:AF2162,1,aux_pr_ue!$P$2)","v":0},{"$f":"+INDEX(D2162:AF2162,1,aux_pr_ue!$Q$2)","v":0}]
["Feed Rye1996/12","Feed Rye","1996/12",125.32700000000001,125.32700000000001,null,null,null,null,null,null,null,null,null,null,null,null,null,null,null,null,null,null,null,null,null,null,null,null,null,null,null,{"$f":"+INDEX(D2163:AF2163,1,aux_pr_ue!$P$2)","v":0},{"$f":"+INDEX(D2163:AF2163,1,aux_pr_ue!$Q$2)","v":0}]
["Feed Rye1996/09","Feed Rye","1996/09",133.00470000000001,126.89070000000001,null,null,null,null,null,null,null,null,null,null,null,null,null,null,null,null,null,null,153.99015000000003,null,131.179,null,null,null,null,null,null,{"$f":"+INDEX(D2166:AF2166,1,aux_pr_ue!$P$2)","v":131.179},{"$f":"+INDEX(D2166:AF2166,1,aux_pr_ue!$Q$2)","v":0}]
["Feed Rye1996/08","Feed Rye","1996/08",130.40950000000001,127.771,null,null,null,null,null,null,null,null,null,null,null,null,null,null,null,null,null,null,null,null,131.179,null,null,null,null,null,null,{"$f":"+INDEX(D2167:AF2167,1,aux_pr_ue!$P$2)","v":131.179},{"$f":"+INDEX(D2167:AF2167,1,aux_pr_ue!$Q$2)","v":0}]
["Feed Rye1996/05","Feed Rye","1996/05",146.79670000000002,151.52590000000001,null,null,null,null,null,null,null,null,null,null,null,null,null,null,null,null,null,null,125.9165,null,162.965,null,null,null,null,null,null,{"$f":"+INDEX(D2170:AF2170,1,aux_pr_ue!$P$2)","v":162.965},{"$f":"+INDEX(D2170:AF2170,1,aux_pr_ue!$Q$2)","v":0}]
["Feed Rye1996/04","Feed Rye","1996/04",132.80880000000002,139.57769999999999,null,null,null,null,null,null,null,null,null,null,null,null,null,null,null,null,null,null,126.04,null,null,null,null,null,null,null,null,{"$f":"+INDEX(D2171:AF2171,1,aux_pr_ue!$P$2)","v":0},{"$f":"+INDEX(D2171:AF2171,1,aux_pr_ue!$Q$2)","v":0}]
["Feed Rye1996/01","Feed Rye","1996/01",133.72810000000001,136.524,null,null,null,null,null,null,null,null,null,null,null,null,null,null,null,null,null,null,125.295,null,null,null,null,null,null,null,null,{"$f":"+INDEX(D2174:AF2174,1,aux_pr_ue!$P$2)","v":0},{"$f":"+INDEX(D2174:AF2174,1,aux_pr_ue!$Q$2)","v":0}]
["Feed Rye1995/12","Feed Rye","1995/12",127.14530000000001,139.2825,null,null,null,null,null,null,null,null,null,null,null,null,null,null,null,null,null,null,124.4744,null,null,null,null,null,null,null,null,{"$f":"+INDEX(D2175:AF2175,1,aux_pr_ue!$P$2)","v":0},{"$f":"+INDEX(D2175:AF2175,1,aux_pr_ue!$Q$2)","v":0}]
["Feed Rye1995/09","Feed Rye","1995/09",126.965,132.9101,null,null,null,null,null,null,null,null,null,null,null,null,null,null,null,null,null,null,119.328,null,128.65700000000001,null,null,null,null,null,null,{"$f":"+INDEX(D2178:AF2178,1,aux_pr_ue!$P$2)","v":128.65700000000001},{"$f":"+INDEX(D2178:AF2178,1,aux_pr_ue!$Q$2)","v":0}]
["Feed Rye1995/08","Feed Rye","1995/08",130.57580000000002,127.67370000000001,null,null,null,null,null,null,null,null,null,null,null,null,null,null,null,null,null,null,134.0575,null,128.65700000000001,null,null,null,null,null,null,{"$f":"+INDEX(D2179:AF2179,1,aux_pr_ue!$P$2)","v":128.65700000000001},{"$f":"+INDEX(D2179:AF2179,1,aux_pr_ue!$Q$2)","v":0}]
["Feed Rye1995/05","Feed Rye","1995/05",141.61790000000002,132.40170000000001,null,null,null,null,null,null,null,null,null,null,null,null,null,null,null,null,null,null,144.69000000000003,null,null,null,null,null,null,null,null,{"$f":"+INDEX(D2182:AF2182,1,aux_pr_ue!$P$2)","v":0},{"$f":"+INDEX(D2182:AF2182,1,aux_pr_ue!$Q$2)","v":0}]
["Feed Rye1995/04","Feed Rye","1995/04",134.08250000000001,126.4885,null,null,null,null,null,null,null,null,null,null,null,null,null,null,null,null,null,null,145.25906666666668,null,null,null,null,null,null,null,null,{"$f":"+INDEX(D2183:AF2183,1,aux_pr_ue!$P$2)","v":0},{"$f":"+INDEX(D2183:AF2183,1,aux_pr_ue!$Q$2)","v":0}]
["Feed Rye1995/02","Feed Rye","1995/02",136.78740000000002,129.0729,null,null,null,null,null,null,null,null,null,null,null,null,null,null,null,null,null,null,142.54679999999999,null,null,null,null,null,null,null,null,{"$f":"+INDEX(D2185:AF2185,1,aux_pr_ue!$P$2)","v":0},{"$f":"+INDEX(D2185:AF2185,1,aux_pr_ue!$Q$2)","v":0}]
["Feed Rye1995/01","Feed Rye","1995/01",114.41460000000001,111.50790000000001,null,null,null,null,null,null,null,null,null,null,null,null,null,null,null,null,null,null,123.59530000000001,null,null,null,null,null,null,null,null,{"$f":"+INDEX(D2186:AF2186,1,aux_pr_ue!$P$2)","v":0},{"$f":"+INDEX(D2186:AF2186,1,aux_pr_ue!$Q$2)","v":0}]
["Feed Rye1994/10","Feed Rye","1994/10",106.70780000000001,106.86850000000001,null,null,null,null,null,null,null,null,null,null,null,null,null,null,null,null,null,null,null,null,106.54700000000001,null,null,null,null,null,null,{"$f":"+INDEX(D2189:AF2189,1,aux_pr_ue!$P$2)","v":106.54700000000001},{"$f":"+INDEX(D2189:AF2189,1,aux_pr_ue!$Q$2)","v":0}]
["Feed Rye1994/09","Feed Rye","1994/09",107.0523,107.55760000000001,null,null,null,null,null,null,null,null,null,null,null,null,null,null,null,null,null,null,null,null,106.54700000000001,null,null,null,null,null,null,{"$f":"+INDEX(D2190:AF2190,1,aux_pr_ue!$P$2)","v":106.54700000000001},{"$f":"+INDEX(D2190:AF2190,1,aux_pr_ue!$Q$2)","v":0}]
["Feed Rye1994/06","Feed Rye","1994/06",122.90300000000001,120.33460000000001,null,null,126.2282,null,null,null,null,null,null,null,null,null,null,null,null,null,null,null,null,null,null,null,null,null,null,null,null,{"$f":"+INDEX(D2193:AF2193,1,aux_pr_ue!$P$2)","v":0},{"$f":"+INDEX(D2193:AF2193,1,aux_pr_ue!$Q$2)","v":0}]
["Feed Rye1994/05","Feed Rye","1994/05",123.55710000000001,117.80890000000001,null,null,125.74480000000001,null,null,null,null,null,null,null,null,null,null,null,null,null,null,null,null,null,null,null,null,null,null,null,null,{"$f":"+INDEX(D2194:AF2194,1,aux_pr_ue!$P$2)","v":0},{"$f":"+INDEX(D2194:AF2194,1,aux_pr_ue!$Q$2)","v":0}]
["Feed Rye1994/02","Feed Rye","1994/02",110.1515,106.5484,null,null,113.75450000000001,null,null,null,null,null,null,null,null,null,null,null,null,null,null,null,null,null,null,null,null,null,null,null,null,{"$f":"+INDEX(D2197:AF2197,1,aux_pr_ue!$P$2)","v":0},{"$f":"+INDEX(D2197:AF2197,1,aux_pr_ue!$Q$2)","v":0}]
["Feed Rye1994/01","Feed Rye","1994/01",110.77770000000001,108.13220000000001,null,null,113.34840000000001,null,null,null,null,null,null,null,null,null,null,null,null,null,null,null,null,null,null,null,null,null,null,null,null,{"$f":"+INDEX(D2198:AF2198,1,aux_pr_ue!$P$2)","v":0},{"$f":"+INDEX(D2198:AF2198,1,aux_pr_ue!$Q$2)","v":0}]
["Feed Rye1993/10","Feed Rye","1993/10",107.4804,107.68950000000001,null,null,108.845,null,null,null,null,null,null,null,null,null,null,null,null,null,null,null,null,null,105.515,null,null,null,null,null,null,{"$f":"+INDEX(D2201:AF2201,1,aux_pr_ue!$P$2)","v":105.515},{"$f":"+INDEX(D2201:AF2201,1,aux_pr_ue!$Q$2)","v":0}]
["Feed Rye1993/09","Feed Rye","1993/09",107.03580000000001,108.122,null,null,null,null,null,null,null,null,null,null,null,null,null,null,null,null,null,null,null,null,105.515,null,null,null,null,null,null,{"$f":"+INDEX(D2202:AF2202,1,aux_pr_ue!$P$2)","v":105.515},{"$f":"+INDEX(D2202:AF2202,1,aux_pr_ue!$Q$2)","v":0}]
["Feed Rye1993/06","Feed Rye","1993/06",151.09550000000002,151.09550000000002,null,null,null,null,null,null,null,null,null,null,null,null,null,null,null,null,null,null,null,null,null,null,null,null,null,null,null,{"$f":"+INDEX(D2205:AF2205,1,aux_pr_ue!$P$2)","v":0},{"$f":"+INDEX(D2205:AF2205,1,aux_pr_ue!$Q$2)","v":0}]
["Feed Rye1993/05","Feed Rye","1993/05",150.8389,150.8389,null,null,null,null,null,null,null,null,null,null,null,null,null,null,null,null,null,null,null,null,null,null,null,null,null,null,null,{"$f":"+INDEX(D2206:AF2206,1,aux_pr_ue!$P$2)","v":0},{"$f":"+INDEX(D2206:AF2206,1,aux_pr_ue!$Q$2)","v":0}]
["Feed Rye1993/02","Feed Rye","1993/02",148.6249,143.64700000000002,null,null,165.6054,null,null,null,null,null,null,null,null,null,null,null,null,null,null,null,null,null,null,null,null,null,null,null,null,{"$f":"+INDEX(D2209:AF2209,1,aux_pr_ue!$P$2)","v":0},{"$f":"+INDEX(D2209:AF2209,1,aux_pr_ue!$Q$2)","v":0}]
["Feed Rye1993/01","Feed Rye","1993/01",144.5958,143.9134,null,null,183.744,null,null,null,null,null,null,null,null,null,null,null,null,null,null,null,null,null,null,null,null,null,null,null,null,{"$f":"+INDEX(D2210:AF2210,1,aux_pr_ue!$P$2)","v":0},{"$f":"+INDEX(D2210:AF2210,1,aux_pr_ue!$Q$2)","v":0}]
["Feed Rye1992/10","Feed Rye","1992/10",140.28550000000001,140.28550000000001,null,null,null,null,null,null,null,null,null,null,null,null,null,null,null,null,null,null,null,null,null,null,null,null,null,null,null,{"$f":"+INDEX(D2213:AF2213,1,aux_pr_ue!$P$2)","v":0},{"$f":"+INDEX(D2213:AF2213,1,aux_pr_ue!$Q$2)","v":0}]
["Feed Rye1992/09","Feed Rye","1992/09",138.79570000000001,137.8604,null,null,null,null,null,null,null,null,null,null,null,null,null,null,null,null,null,null,null,null,140.80950000000001,null,null,null,null,null,null,{"$f":"+INDEX(D2214:AF2214,1,aux_pr_ue!$P$2)","v":140.80950000000001},{"$f":"+INDEX(D2214:AF2214,1,aux_pr_ue!$Q$2)","v":0}]
["Feed Rye1992/06","Feed Rye","1992/06",156.17570000000001,156.17570000000001,null,null,null,null,null,null,null,null,null,null,null,null,null,null,null,null,null,null,null,null,null,null,null,null,null,null,null,{"$f":"+INDEX(D2217:AF2217,1,aux_pr_ue!$P$2)","v":0},{"$f":"+INDEX(D2217:AF2217,1,aux_pr_ue!$Q$2)","v":0}]
["Feed Rye1992/05","Feed Rye","1992/05",156.21,156.21,null,null,null,null,null,null,null,null,null,null,null,null,null,null,null,null,null,null,null,null,null,null,null,null,null,null,null,{"$f":"+INDEX(D2218:AF2218,1,aux_pr_ue!$P$2)","v":0},{"$f":"+INDEX(D2218:AF2218,1,aux_pr_ue!$Q$2)","v":0}]
["Feed Rye1992/03","Feed Rye","1992/03",154.55960000000002,154.55960000000002,null,null,null,null,null,null,null,null,null,null,null,null,null,null,null,null,null,null,null,null,null,null,null,null,null,null,null,{"$f":"+INDEX(D2220:AF2220,1,aux_pr_ue!$P$2)","v":0},{"$f":"+INDEX(D2220:AF2220,1,aux_pr_ue!$Q$2)","v":0}]
["Feed Rye1992/02","Feed Rye","1992/02",153.3329,153.43,null,null,150.614,null,null,null,null,null,null,null,null,null,null,null,null,null,null,null,null,null,null,null,null,null,null,null,null,{"$f":"+INDEX(D2221:AF2221,1,aux_pr_ue!$P$2)","v":0},{"$f":"+INDEX(D2221:AF2221,1,aux_pr_ue!$Q$2)","v":0}]
["Feed Rye1991/11","Feed Rye","1991/11",149.9631,149.9631,null,null,null,null,null,null,null,null,null,null,null,null,null,null,null,null,null,null,null,null,null,null,null,null,null,null,null,{"$f":"+INDEX(D2224:AF2224,1,aux_pr_ue!$P$2)","v":0},{"$f":"+INDEX(D2224:AF2224,1,aux_pr_ue!$Q$2)","v":0}]
["Feed Rye1991/10","Feed Rye","1991/10",146.8947,146.8947,null,null,null,null,null,null,null,null,null,null,null,null,null,null,null,null,null,null,null,null,null,null,null,null,null,null,null,{"$f":"+INDEX(D2225:AF2225,1,aux_pr_ue!$P$2)","v":0},{"$f":"+INDEX(D2225:AF2225,1,aux_pr_ue!$Q$2)","v":0}]
["Feed Rye1991/07","Feed Rye","1991/07",null,null,null,null,null,null,null,null,null,null,null,null,null,null,null,null,null,null,null,null,null,null,null,null,null,null,null,null,null,{"$f":"+INDEX(D2228:AF2228,1,aux_pr_ue!$P$2)","v":0},{"$f":"+INDEX(D2228:AF2228,1,aux_pr_ue!$Q$2)","v":0}]
["Feed Rye1991/06","Feed Rye","1991/06",175.00720000000001,175.00720000000001,null,null,null,null,null,null,null,null,null,null,null,null,null,null,null,null,null,null,null,null,null,null,null,null,null,null,null,{"$f":"+INDEX(D2229:AF2229,1,aux_pr_ue!$P$2)","v":0},{"$f":"+INDEX(D2229:AF2229,1,aux_pr_ue!$Q$2)","v":0}]
["Feed Rye1991/03","Feed Rye","1991/03",154.80840000000001,153.66230000000002,null,null,null,null,null,null,null,null,null,null,null,null,null,null,null,null,null,null,null,null,null,null,null,null,null,null,null,{"$f":"+INDEX(D2232:AF2232,1,aux_pr_ue!$P$2)","v":0},{"$f":"+INDEX(D2232:AF2232,1,aux_pr_ue!$Q$2)","v":0}]
["Feed Rye1991/02","Feed Rye","1991/02",151.80000000000001,151.71334999999999,null,null,150.614,null,null,null,null,null,null,null,null,null,null,null,null,null,null,null,null,null,null,null,null,null,null,null,null,{"$f":"+INDEX(D2233:AF2233,1,aux_pr_ue!$P$2)","v":0},{"$f":"+INDEX(D2233:AF2233,1,aux_pr_ue!$Q$2)","v":0}]
["Feed Maize2017/06","Feed Maize","2017/06",167.10680000000002,195.9,149.99190000000002,null,null,176.45695000000001,null,null,186.25,181.32074444444444,170.35560000000001,139.15785,180.34822000000003,null,null,null,null,136.72735,null,176.0333,154.44015000000002,169.7817,171.6,147.79380000000003,159.35500000000002,140.1644,null,null,null,{"$f":"+INDEX(D2236:AF2236,1,aux_pr_ue!$P$2)","v":171.6},{"$f":"+INDEX(D2236:AF2236,1,aux_pr_ue!$Q$2)","v":0}]
["Feed Maize2017/05","Feed Maize","2017/05",165.64430000000002,197.9032,150.82868571428571,null,null,174.27001250000001,null,null,180,179.85090000000002,173.80934999999999,142.62030000000001,178.56404000000003,null,null,null,null,134.94505000000001,null,177.27420000000001,151.69120000000001,163.33550000000002,177.5,146.31450000000001,160.89580000000001,137.6071,null,null,null,{"$f":"+INDEX(D2237:AF2237,1,aux_pr_ue!$P$2)","v":177.5},{"$f":"+INDEX(D2237:AF2237,1,aux_pr_ue!$Q$2)","v":0}]
["Feed Maize2017/02","Feed Maize","2017/02",162.12100000000001,191.8571,150.89862857142859,145.4425,null,169.18618750000002,null,null,175.3571,177.26112222222224,173.70959999999999,136.5421,175.23858000000001,null,null,null,null,133.296325,null,179.05360000000002,146.66665,149.89935,172.66070000000002,145.90190000000001,157.6936,125.0283,null,null,null,{"$f":"+INDEX(D2240:AF2240,1,aux_pr_ue!$P$2)","v":172.66070000000002},{"$f":"+INDEX(D2240:AF2240,1,aux_pr_ue!$Q$2)","v":0}]
["Feed Maize2017/01","Feed Maize","2017/01",159.89760000000001,190,149.9778,null,null,168.18143749999999,null,null,169.03230000000002,176.92616666666669,171.755,129.59985,173.16437000000002,null,null,138.18,null,131.32185000000001,null,178.2097,144.55554999999998,144.92487500000004,172.2097,141.95807500000001,151.9974,118.8938,null,null,null,{"$f":"+INDEX(D2241:AF2241,1,aux_pr_ue!$P$2)","v":172.2097},{"$f":"+INDEX(D2241:AF2241,1,aux_pr_ue!$Q$2)","v":0}]
["Feed Maize2016/10","Feed Maize","2016/10",152.17060000000001,180.64520000000002,138.05364444444447,null,null,157.70642222222222,null,null,157.83870000000002,171.21325555555558,156.87335000000002,119.01895000000002,167.05996000000002,null,null,null,null,123.75257500000001,null,170.53230000000002,136.83335,127.67585,168.56954999999999,137.50467499999999,138.9145,110.07270000000001,null,null,null,{"$f":"+INDEX(D2244:AF2244,1,aux_pr_ue!$P$2)","v":168.56954999999999},{"$f":"+INDEX(D2244:AF2244,1,aux_pr_ue!$Q$2)","v":0}]
["Feed Maize2016/09","Feed Maize","2016/09",157.18040000000002,187.66670000000002,135.20751666666669,null,null,165.08475000000001,null,null,159.16665,174.38887777777779,173.8991,141.75155000000001,167.85001000000003,null,112,null,null,126.57976666666667,null,168.51670000000001,147.78944999999999,146.84365000000003,176.83330000000001,136.316225,156.75,null,null,null,null,{"$f":"+INDEX(D2245:AF2245,1,aux_pr_ue!$P$2)","v":176.83330000000001},{"$f":"+INDEX(D2245:AF2245,1,aux_pr_ue!$Q$2)","v":0}]
["Feed Maize2016/06","Feed Maize","2016/06",172.58780000000002,189.5333,143.74623333333335,null,null,179.81896666666668,null,null,167.583325,179.62500000000003,176.95,147.53915000000001,196.45679999999999,null,null,null,null,154.18212500000001,null,182.11670000000001,160.61110000000002,160.46025,193.76670000000001,153.18565000000001,171.65,145.95099999999999,null,null,null,{"$f":"+INDEX(D2248:AF2248,1,aux_pr_ue!$P$2)","v":193.76670000000001},{"$f":"+INDEX(D2248:AF2248,1,aux_pr_ue!$Q$2)","v":0}]
["Feed Maize2016/05","Feed Maize","2016/05",162.7655,177.8065,134.77968333333334,null,null,172.15473333333333,null,null,158.3871,172.32699090909094,164.9282,146.46514999999999,180.33448999999999,null,null,null,null,147.79250000000002,null,177.6129,157.36110000000002,151.80925000000002,181.77420000000001,144.60230000000001,158.2148,143.0967,null,null,null,{"$f":"+INDEX(D2249:AF2249,1,aux_pr_ue!$P$2)","v":181.77420000000001},{"$f":"+INDEX(D2249:AF2249,1,aux_pr_ue!$Q$2)","v":0}]
["Feed Maize2016/03","Feed Maize","2016/03",154.876,162.03230000000002,133.3620285714286,null,null,160.79503750000001,null,null,160.16666666666666,166.76570909090913,151.93955,139.88455000000002,166.03448000000003,null,null,137.20000000000002,null,135.54247500000002,null,160.03230000000002,135.25,156.93400000000003,168.3871,139.520375,149.38230000000001,153.47550000000001,null,null,null,{"$f":"+INDEX(D2251:AF2251,1,aux_pr_ue!$P$2)","v":168.3871},{"$f":"+INDEX(D2251:AF2251,1,aux_pr_ue!$Q$2)","v":0}]
["Feed Maize2016/02","Feed Maize","2016/02",158.3877,163.34480000000002,137.98792857142857,146.001,null,164.37284999999997,null,null,171.13634999999999,170.68559090909093,153.88165000000001,139.48615000000001,169.81861999999998,null,null,null,null,140.98685,null,161.34480000000002,148,155.47910000000002,168.31030000000001,143.064075,152.0059,150.85500000000002,null,null,null,{"$f":"+INDEX(D2252:AF2252,1,aux_pr_ue!$P$2)","v":168.31030000000001},{"$f":"+INDEX(D2252:AF2252,1,aux_pr_ue!$Q$2)","v":0}]
["Feed Maize2015/11","Feed Maize","2015/11",166.94580000000002,180.78790000000001,140.89144999999999,159.1628,null,178.21816666666666,null,null,172.06666000000001,179.17862727272725,165.8048666666667,135.70895000000002,171.55,null,null,null,null,145.28825000000001,null,172.5455,175.02170000000001,155.11587500000002,173.78787499999999,139.8563,150.18550000000002,148.83180000000002,null,null,null,{"$f":"+INDEX(D2255:AF2255,1,aux_pr_ue!$P$2)","v":173.78787499999999},{"$f":"+INDEX(D2255:AF2255,1,aux_pr_ue!$Q$2)","v":0}]
["Feed Maize2015/10","Feed Maize","2015/10",162.0839,179.8065,139.92128000000002,174.11870000000002,null,175.30341250000001,null,null,167.5,178.97537272727274,159.03053333333335,133.44455000000002,168.05838,null,null,null,null,140.00062499999999,null,168.75810000000001,164.94120000000001,151.31462500000001,173.21775,138.93257499999999,150.4752,145.8518,null,null,null,{"$f":"+INDEX(D2256:AF2256,1,aux_pr_ue!$P$2)","v":173.21775},{"$f":"+INDEX(D2256:AF2256,1,aux_pr_ue!$Q$2)","v":0}]
["Feed Maize2015/07","Feed Maize","2015/07",162.7988,195.22580000000002,139.00241666666668,135.89330000000001,null,172.98393333333334,null,null,165,193.25572727272728,171.19890000000001,130.80265,160.09870999999998,null,null,145.62,null,137.08920000000001,null,186.0806,145,147.194075,194.3871,146.14927500000002,138.21809999999999,127.85770000000001,null,null,null,{"$f":"+INDEX(D2259:AF2259,1,aux_pr_ue!$P$2)","v":194.3871},{"$f":"+INDEX(D2259:AF2259,1,aux_pr_ue!$Q$2)","v":0}]
["Feed Maize2015/06","Feed Maize","2015/06",150.90100000000001,172.23330000000001,142.02766666666668,134.50970000000001,null,161.50332500000002,null,null,165,174.07150909090913,155.99299999999999,130.37495000000001,149.89493999999999,null,null,104.1238,null,124.950275,null,169.55,140.5,137.99267500000002,178.13330000000002,141.17975000000001,135.36870000000002,125.78570000000001,null,null,null,{"$f":"+INDEX(D2260:AF2260,1,aux_pr_ue!$P$2)","v":178.13330000000002},{"$f":"+INDEX(D2260:AF2260,1,aux_pr_ue!$Q$2)","v":0}]
["Feed Maize2015/03","Feed Maize","2015/03",151.03050000000002,167.22580000000002,137.14376666666666,131.37819999999999,null,163.2166,null,null,161.25,171.38709090909092,154.51846666666665,125.41455000000001,152.14252727272731,null,null,null,null,127.4239,null,169.53230000000002,129.5,142.8109,179.1935,137.644825,138.1497,114.94710000000001,null,null,null,{"$f":"+INDEX(D2263:AF2263,1,aux_pr_ue!$P$2)","v":179.1935},{"$f":"+INDEX(D2263:AF2263,1,aux_pr_ue!$Q$2)","v":0}]
["Feed Maize2015/02","Feed Maize","2015/02",150.006,163.78570000000002,136.11831666666666,129.33340000000001,null,163.3657,null,null,158.03570000000002,171.69155454545455,149.98976666666667,123.51610000000001,151.28020000000001,null,null,148.5367,null,126.95430000000002,null,164.375,134.36109999999999,142.53287500000002,173.03570000000002,137.94132500000001,138.52790000000002,112.3446,null,null,null,{"$f":"+INDEX(D2264:AF2264,1,aux_pr_ue!$P$2)","v":173.03570000000002},{"$f":"+INDEX(D2264:AF2264,1,aux_pr_ue!$Q$2)","v":0}]
["Feed Maize2014/11","Feed Maize","2014/11",143.71200000000002,160.4667,119.17256666666668,129.9546,null,155.05333333333331,null,null,145,168.82545454545453,143.94210000000001,115.39595,152.47069090909091,null,null,123.3318,null,119.39297500000001,null,161,130.35939999999999,129.17357500000003,169.083325,119.92012500000001,131.172,108.429,null,null,null,{"$f":"+INDEX(D2267:AF2267,1,aux_pr_ue!$P$2)","v":169.083325},{"$f":"+INDEX(D2267:AF2267,1,aux_pr_ue!$Q$2)","v":0}]
["Feed Maize2014/10","Feed Maize","2014/10",142.57840000000002,157.95650000000001,119.31240000000001,129.39245,null,147.12525555555555,null,null,145,166.79208181818183,139.33320000000001,126.11120000000001,153.9688090909091,null,null,138.23220000000001,null,114.22695,null,156.6129,124.19170000000001,133.73340000000002,164.72696666666667,122.65500000000002,131.67060000000001,107.71440000000001,null,null,null,{"$f":"+INDEX(D2268:AF2268,1,aux_pr_ue!$P$2)","v":164.72696666666667},{"$f":"+INDEX(D2268:AF2268,1,aux_pr_ue!$Q$2)","v":0}]
["Feed Maize2014/07","Feed Maize","2014/07",175.2311,189.77420000000001,155.09423333333336,165.7919,null,187.33518571428573,null,null,175,180.1450090909091,167.78386666666668,157.26765,191.32305454545457,null,null,186.13800000000001,null,152.74805000000001,null,181,170.25,180.440425,179.48390000000001,152.11216666666667,190.62970000000001,null,null,null,null,{"$f":"+INDEX(D2271:AF2271,1,aux_pr_ue!$P$2)","v":179.48390000000001},{"$f":"+INDEX(D2271:AF2271,1,aux_pr_ue!$Q$2)","v":0}]
["Feed Maize2014/06","Feed Maize","2014/06",175.86450000000002,189.0333,155.09423333333334,166.20690000000002,null,184.70473333333334,null,null,166,184.95234000000002,171.78753333333336,163.09545000000003,192.83146363636368,null,null,null,null,156.090475,null,179.15,170.80555000000001,175.05492500000003,186.73330000000001,163.29750000000001,187.33770000000001,161.1217,null,null,null,{"$f":"+INDEX(D2272:AF2272,1,aux_pr_ue!$P$2)","v":186.73330000000001},{"$f":"+INDEX(D2272:AF2272,1,aux_pr_ue!$Q$2)","v":0}]
["Feed Maize2014/03","Feed Maize","2014/03",174.39400000000001,194.25810000000001,152.53773333333334,173.376,null,190.96875555555556,null,null,151.93550000000002,186.17419999999998,182.97709999999998,143.32249999999999,194.14772727272731,null,null,156.49080000000001,null,153.850075,null,193.16130000000001,168.54435000000001,159.89785000000001,193.67740000000001,147.74795,179.47290000000001,153.64610000000002,null,null,null,{"$f":"+INDEX(D2275:AF2275,1,aux_pr_ue!$P$2)","v":193.67740000000001},{"$f":"+INDEX(D2275:AF2275,1,aux_pr_ue!$Q$2)","v":0}]
["Feed Maize2014/02","Feed Maize","2014/02",168.11860000000001,186.3571,146.87690000000001,167.08255,null,183.28354444444446,null,null,150,179.70394000000002,175.39843333333332,142.70519999999999,183.76713000000001,null,null,141.51330000000002,null,147.358925,null,181.30360000000002,167.11905000000002,159.98665,185.42860000000002,140.8732,176.24890000000002,148.64790000000002,null,null,null,{"$f":"+INDEX(D2276:AF2276,1,aux_pr_ue!$P$2)","v":185.42860000000002},{"$f":"+INDEX(D2276:AF2276,1,aux_pr_ue!$Q$2)","v":0}]
["Feed Maize2013/11","Feed Maize","2013/11",167.53370000000001,184.79170000000002,134.25267142857143,155.4769,null,189.6897888888889,null,null,141.83330000000001,178.05266999999998,174.58820000000003,132.15424999999999,186.93874999999997,null,null,138.5376,null,140.28730000000002,null,180.2833,169.18206666666669,155.13835000000003,175.72,131.70137500000001,172.37730000000002,139.32,null,null,null,{"$f":"+INDEX(D2279:AF2279,1,aux_pr_ue!$P$2)","v":175.72},{"$f":"+INDEX(D2279:AF2279,1,aux_pr_ue!$Q$2)","v":0}]
["Feed Maize2013/10","Feed Maize","2013/10",166.4041,null,128.00480000000002,166.80715000000001,null,187.46738888888888,null,null,133.125,181.72525000000002,172.71406666666667,130.45355000000001,185.38053636363637,null,null,129.16200000000001,null,135.92545000000001,null,187.29170000000002,175,156.96595000000002,181.06989999999999,127.94067500000001,160.8081,136.16159999999999,null,null,null,{"$f":"+INDEX(D2280:AF2280,1,aux_pr_ue!$P$2)","v":181.06989999999999},{"$f":"+INDEX(D2280:AF2280,1,aux_pr_ue!$Q$2)","v":0}]
["Feed Maize2013/07","Feed Maize","2013/07",212.2843,218.70830000000001,191.43064000000001,203.81635,null,207.09103333333334,null,null,225.625,234.62967000000003,218.56860000000003,null,224.23623636363638,null,null,127.69930000000001,null,172.27307500000003,null,208.37100000000001,195.35295000000002,198.13715000000002,240.1935,206.14677499999999,218.2294,180,null,null,null,{"$f":"+INDEX(D2283:AF2283,1,aux_pr_ue!$P$2)","v":240.1935},{"$f":"+INDEX(D2283:AF2283,1,aux_pr_ue!$Q$2)","v":0}]
["Feed Maize2013/06","Feed Maize","2013/06",220.95620000000002,231.4667,191.26544000000001,200.31995000000001,null,220.53543333333334,null,null,230,236.69303636363639,224.35066666666668,null,236.76121904761905,null,null,219.75790000000001,null,190.87817500000003,null,226.5667,214.77270000000001,200.16252500000002,242,216.04975000000002,233.76270000000002,194.91150000000002,null,null,null,{"$f":"+INDEX(D2284:AF2284,1,aux_pr_ue!$P$2)","v":242},{"$f":"+INDEX(D2284:AF2284,1,aux_pr_ue!$Q$2)","v":0}]
["Feed Maize2013/04","Feed Maize","2013/04",222.79470000000001,235.63330000000002,191.04431666666667,215.72194999999999,null,231.29328750000002,null,null,230,238.96499000000003,221.84223333333333,null,227.55790000000002,null,null,230.4084,null,199.28025000000002,null,229.89170000000001,213.11540000000002,212.70635000000001,234.83330000000001,223.65142500000002,239.4787,211.0163,null,null,null,{"$f":"+INDEX(D2286:AF2286,1,aux_pr_ue!$P$2)","v":234.83330000000001},{"$f":"+INDEX(D2286:AF2286,1,aux_pr_ue!$Q$2)","v":0}]
["Feed Maize2013/03","Feed Maize","2013/03",222.22150000000002,233.35480000000001,199.72616666666667,224.38420000000002,null,225.1942,null,null,233.22580000000002,237.98871,226.66213333333334,null,226.81289999999998,null,null,143.64619999999999,null,199.80927500000001,null,229.26940000000002,201.75,213.418925,240.93550000000002,225.91072499999999,254.81450000000001,219.48740000000001,null,null,null,{"$f":"+INDEX(D2287:AF2287,1,aux_pr_ue!$P$2)","v":240.93550000000002},{"$f":"+INDEX(D2287:AF2287,1,aux_pr_ue!$Q$2)","v":0}]
["Feed Maize2012/12","Feed Maize","2012/12",241.03240000000002,261.23079999999999,214.91083999999995,223.7877,null,250.66400000000002,null,null,220,256.70807000000002,249.14123333333336,null,255.9044909090909,null,null,198.5882,null,227.43757500000004,null,250.6842,242.5,224.14227500000001,253.6875,219.86343333333335,257.22739999999999,210.91380000000001,null,null,null,{"$f":"+INDEX(D2290:AF2290,1,aux_pr_ue!$P$2)","v":253.6875},{"$f":"+INDEX(D2290:AF2290,1,aux_pr_ue!$Q$2)","v":0}]
["Feed Maize2012/11","Feed Maize","2012/11",237.93090000000001,263.36670000000004,214.41764000000003,234.84555,null,246.34623333333334,null,null,211.25,253.02017000000001,252.03553333333335,null,254.40276363636366,null,null,185.9033,null,226.60812500000003,null,254.81670000000003,240.16665,208.79804999999999,254.73625000000001,211.06825000000003,227.7073,212.4753,null,null,null,{"$f":"+INDEX(D2291:AF2291,1,aux_pr_ue!$P$2)","v":254.73625000000001},{"$f":"+INDEX(D2291:AF2291,1,aux_pr_ue!$Q$2)","v":0}]
["Feed Maize2012/08","Feed Maize","2012/08",246.57640000000001,283.03230000000002,223.29419999999999,206.76100000000002,null,248.49152222222222,null,null,null,263.28273000000002,262.09000000000003,null,258.35426363636367,null,null,null,null,217.35823333333335,null,273.84090000000003,229.75,219.97222500000001,287.90320000000003,198.71275,229.55940000000001,193.41220000000001,null,null,null,{"$f":"+INDEX(D2294:AF2294,1,aux_pr_ue!$P$2)","v":287.90320000000003},{"$f":"+INDEX(D2294:AF2294,1,aux_pr_ue!$Q$2)","v":0}]
["Feed Maize2012/07","Feed Maize","2012/07",225.3938,253.61290000000002,192.76000000000002,197.95600000000002,null,225.03955555555558,null,null,190,247.57192000000001,249.38912500000001,null,229.09467272727269,null,null,null,null,188.50440000000003,null,252.61290000000002,199.11760000000001,211.17750000000001,257.41935000000001,187.17652500000003,202.70420000000001,180.58240000000001,null,null,null,{"$f":"+INDEX(D2295:AF2295,1,aux_pr_ue!$P$2)","v":257.41935000000001},{"$f":"+INDEX(D2295:AF2295,1,aux_pr_ue!$Q$2)","v":0}]
["Feed Maize2012/04","Feed Maize","2012/04",207.30930000000001,229.6,184.08496,186.19675000000001,null,217.96697777777777,null,null,195,233.68765999999999,216.86390000000003,null,211.29312727272728,null,null,192.07920000000001,null,172.99285,null,229.42,184.98500000000001,200.12129999999999,231.83330000000001,182.69867500000004,190.46770000000001,179.548,null,null,null,{"$f":"+INDEX(D2298:AF2298,1,aux_pr_ue!$P$2)","v":231.83330000000001},{"$f":"+INDEX(D2298:AF2298,1,aux_pr_ue!$Q$2)","v":0}]
["Feed Maize2012/03","Feed Maize","2012/03",201.13250000000002,217.41940000000002,192.94139999999999,181.50895000000003,null,205.08297777777776,null,null,185.94120000000001,224.55288999999999,210.38486666666668,null,205.39030909090914,null,null,184.66460000000001,null,169.308525,null,221.2097,175.66665,186.97267500000001,223.55645000000001,180.81319999999999,187.01610000000002,167.46450000000002,null,null,null,{"$f":"+INDEX(D2299:AF2299,1,aux_pr_ue!$P$2)","v":223.55645000000001},{"$f":"+INDEX(D2299:AF2299,1,aux_pr_ue!$Q$2)","v":0}]
["Feed Maize2011/12","Feed Maize","2011/12",181.3134,193.6129,158.94819999999999,149.76915,null,183.61573333333334,null,null,175.88240000000002,207.13935000000001,186.43175000000002,null,188.1340909090909,null,null,161.8578,null,149.79185000000001,null,196.25,170.35290000000001,158.59175000000002,202.96773333333331,177.255325,176.74610000000001,149.8416,null,null,null,{"$f":"+INDEX(D2302:AF2302,1,aux_pr_ue!$P$2)","v":202.96773333333331},{"$f":"+INDEX(D2302:AF2302,1,aux_pr_ue!$Q$2)","v":0}]
["Feed Maize2011/11","Feed Maize","2011/11",180.09950000000001,195,160.17314000000002,143.46700000000001,null,186.26464444444446,null,null,175,208.96734000000001,185.048,null,191.15261818181818,null,null,148.88,null,148.26767500000003,null,199.05,167.66665,147.26332500000001,206.2,171.70052500000003,188.05770000000001,145.1567,null,null,null,{"$f":"+INDEX(D2303:AF2303,1,aux_pr_ue!$P$2)","v":206.2},{"$f":"+INDEX(D2303:AF2303,1,aux_pr_ue!$Q$2)","v":0}]
["Feed Maize2011/08","Feed Maize","2011/08",246.67760000000001,247.41940000000002,231.36315000000002,219.67,null,249.08064999999999,null,null,null,264.29322999999999,239.05076666666665,null,244.25454545454548,null,null,null,null,227.77760000000001,null,248.1935,227.5,246.15216666666666,255.77420000000001,214.86255,234.5719,219.535,null,null,null,{"$f":"+INDEX(D2306:AF2306,1,aux_pr_ue!$P$2)","v":255.77420000000001},{"$f":"+INDEX(D2306:AF2306,1,aux_pr_ue!$Q$2)","v":0}]
["Feed Maize2011/07","Feed Maize","2011/07",246.7423,242.45160000000001,212.02446666666665,223.14920000000001,null,238.84674444444448,null,null,null,261.90696000000003,238.32300000000001,null,262.06652000000003,null,null,null,null,223.80230000000003,null,246.6944,220,240.77527500000002,257.30645000000004,231.970125,249.2448,225.2208,null,null,null,{"$f":"+INDEX(D2307:AF2307,1,aux_pr_ue!$P$2)","v":257.30645000000004},{"$f":"+INDEX(D2307:AF2307,1,aux_pr_ue!$Q$2)","v":0}]
["Feed Maize2011/04","Feed Maize","2011/04",234.9222,239.53330000000003,214.01303999999999,219.82195000000002,null,236.95010000000002,null,null,242.3913,248.21857,237.98519999999999,null,245.71445,null,null,null,null,212.56745000000001,null,245.1,216.25,233.04165000000003,250.93695000000002,213.27130000000002,229.93630000000002,200.3683,null,null,null,{"$f":"+INDEX(D2310:AF2310,1,aux_pr_ue!$P$2)","v":250.93695000000002},{"$f":"+INDEX(D2310:AF2310,1,aux_pr_ue!$Q$2)","v":0}]
["Feed Maize2011/03","Feed Maize","2011/03",227.88910000000001,231.3871,213.10496000000003,217.04419999999999,null,230.44452222222222,null,null,240.29410000000001,240.47113000000004,222.4485,null,237.96926999999999,null,null,null,null,204.52679999999998,null,235.5806,223,226.12120000000004,243.94086666666666,206.66707500000001,231.0874,197.6729,null,null,null,{"$f":"+INDEX(D2311:AF2311,1,aux_pr_ue!$P$2)","v":243.94086666666666},{"$f":"+INDEX(D2311:AF2311,1,aux_pr_ue!$Q$2)","v":0}]
["Feed Maize2010/12","Feed Maize","2010/12",204.24720000000002,224.03450000000001,165.29824000000002,178.47950000000003,null,214.55301111111115,null,null,195,220.52926000000002,218.4067,null,219.22567272727272,null,null,201.01660000000001,null,172.75387499999999,null,226.95830000000001,204.63749999999999,186.84812499999998,219.24195,157.63126666666668,193.02260000000001,177.23230000000001,null,null,null,{"$f":"+INDEX(D2314:AF2314,1,aux_pr_ue!$P$2)","v":219.24195},{"$f":"+INDEX(D2314:AF2314,1,aux_pr_ue!$Q$2)","v":0}]
["Feed Maize2010/11","Feed Maize","2010/11",193.21890000000002,211.83330000000001,169.75149999999999,185.13810000000001,null,204.34752222222224,null,null,165.33333333333334,210.32689999999997,206.25203333333334,null,210.2064454545455,null,null,137.58020000000002,null,160.89665000000002,null,211.0333,192.5,174.77812499999999,210.66,150.28993333333332,187.3673,169.46700000000001,null,null,null,{"$f":"+INDEX(D2315:AF2315,1,aux_pr_ue!$P$2)","v":210.66},{"$f":"+INDEX(D2315:AF2315,1,aux_pr_ue!$Q$2)","v":0}]
["Feed Maize2010/09","Feed Maize","2010/09",195.87430000000001,235.4333,156.75597500000001,177.75280000000001,null,218.22524444444446,null,null,161.38890000000001,211.42333999999997,190.79,null,200.4212181818182,null,null,null,null,156.73837500000002,null,217.5667,null,192.08775000000003,206.17384999999999,142.34970000000001,197.11770000000001,178.75,null,null,null,{"$f":"+INDEX(D2317:AF2317,1,aux_pr_ue!$P$2)","v":206.17384999999999},{"$f":"+INDEX(D2317:AF2317,1,aux_pr_ue!$Q$2)","v":0}]
["Feed Maize2010/08","Feed Maize","2010/08",188.15130000000002,212.125,140.60740000000001,158.80360000000002,null,199.98287777777779,null,null,165,209.88138000000004,197.5566666666667,null,187.89411818181819,null,null,null,null,156.749,null,212.25,161.81820000000002,168.25865000000002,188.52103333333332,133.94666666666669,180.66900000000001,null,null,null,null,{"$f":"+INDEX(D2318:AF2318,1,aux_pr_ue!$P$2)","v":188.52103333333332},{"$f":"+INDEX(D2318:AF2318,1,aux_pr_ue!$Q$2)","v":0}]
["Feed Maize2010/05","Feed Maize","2010/05",145.79949999999999,155.9032,119.1328,122.1498,null,153.01195555555557,null,null,146.73609999999999,165.15554000000003,148.874,null,155.69238181818181,null,null,null,null,115.486525,null,159.7097,125.73385,129.10057499999999,171.56450000000004,119.38340000000001,134.0487,118.77520000000001,null,null,null,{"$f":"+INDEX(D2321:AF2321,1,aux_pr_ue!$P$2)","v":171.56450000000004},{"$f":"+INDEX(D2321:AF2321,1,aux_pr_ue!$Q$2)","v":0}]
["Feed Maize2010/04","Feed Maize","2010/04",139.84950000000001,144.13330000000002,120.20653999999999,113.82220000000001,null,139.591475,null,null,136.66666666666666,155.52200000000002,138.58148,null,151.40111818181819,null,null,151.7174,null,112.04125000000001,null,152.65,119.75,128.63200000000001,163.76666666666668,118.74643333333334,134.0797,117.8947,null,null,null,{"$f":"+INDEX(D2322:AF2322,1,aux_pr_ue!$P$2)","v":163.76666666666668},{"$f":"+INDEX(D2322:AF2322,1,aux_pr_ue!$Q$2)","v":0}]
["Feed Maize2010/01","Feed Maize","2010/01",134.08369999999999,139.24,118.10667500000001,105.51214999999999,null,137.78110000000001,null,null,127.77420000000001,151.44953000000001,132.46392,null,144.89655454545453,null,null,135.75749999999999,null,109.80714999999999,null,142.6825,119.25,125.084025,157.77420000000001,115.84930000000001,115.4265,95.937400000000011,null,null,null,{"$f":"+INDEX(D2325:AF2325,1,aux_pr_ue!$P$2)","v":157.77420000000001},{"$f":"+INDEX(D2325:AF2325,1,aux_pr_ue!$Q$2)","v":0}]
["Feed Maize2009/12","Feed Maize","2009/12",130.4101,138.1739,109.52739999999999,98.657300000000006,null,131.98068888888889,null,null,114.19443333333334,150.91736,133.46180000000001,null,141.11087272727272,null,null,130.82210000000001,null,101.67400000000001,null,144.14080000000001,117.02780000000001,116.81322500000002,153.257025,102.98923333333335,131.73520000000002,94.516100000000009,null,null,null,{"$f":"+INDEX(D2326:AF2326,1,aux_pr_ue!$P$2)","v":153.257025},{"$f":"+INDEX(D2326:AF2326,1,aux_pr_ue!$Q$2)","v":0}]
["Feed Maize2009/09","Feed Maize","2009/09",124.94420000000001,135.04349999999999,94.590433333333337,108.9183,null,124.0309125,null,null,124.66666666666667,144.73029000000002,117.93552500000001,null,124.81704545454545,null,null,null,null,94.545774999999992,null,129.84470000000002,107.5,123.63680000000001,143.39860000000002,92.97493333333334,123.93570000000001,101.1448,null,null,null,{"$f":"+INDEX(D2329:AF2329,1,aux_pr_ue!$P$2)","v":143.39860000000002},{"$f":"+INDEX(D2329:AF2329,1,aux_pr_ue!$Q$2)","v":0}]
["Feed Maize2009/08","Feed Maize","2009/08",135.5497,142,107.3729,122.16200000000001,null,132.07693749999999,null,null,115.33333333333333,155.80720000000002,125.07062500000001,null,129.84198181818184,null,null,null,null,105.02200000000001,null,138.48160000000001,107.5,145.81386666666668,151.73156666666668,125.92693333333334,125.9577,109.1481,null,null,null,{"$f":"+INDEX(D2330:AF2330,1,aux_pr_ue!$P$2)","v":151.73156666666668},{"$f":"+INDEX(D2330:AF2330,1,aux_pr_ue!$Q$2)","v":0}]
["Feed Maize2009/05","Feed Maize","2009/05",138.89019999999999,151.83870000000002,107.11824000000001,112.39315000000001,null,140.65515714285715,null,null,111.46236666666668,161.79101,152.403875,null,149.16344545454547,null,null,null,null,116.68515000000001,null,154.67740000000001,114.88140000000001,124.49113333333334,169.4194,112.03426666666667,124.55290000000001,106.6096,null,null,null,{"$f":"+INDEX(D2333:AF2333,1,aux_pr_ue!$P$2)","v":169.4194},{"$f":"+INDEX(D2333:AF2333,1,aux_pr_ue!$Q$2)","v":0}]
["Feed Maize2009/04","Feed Maize","2009/04",127.1743,136.13330000000002,106.88292500000001,108.30285000000001,null,131.44800000000001,null,null,111.26086666666667,148.66551000000001,131.90731999999997,null,131.42367272727276,null,null,null,null,101.64790000000001,null,138.393,108.375,114.00035,158.69446666666667,104.7392,118.52200000000001,95.988600000000005,null,null,null,{"$f":"+INDEX(D2334:AF2334,1,aux_pr_ue!$P$2)","v":158.69446666666667},{"$f":"+INDEX(D2334:AF2334,1,aux_pr_ue!$Q$2)","v":0}]
["Feed Maize2009/01","Feed Maize","2009/01",118.0776,139.75,93.653060000000011,92.940300000000008,null,127.69394285714286,null,null,110.1613,148.96276,131.97647499999999,null,130.22573636363637,null,null,101.06610000000001,null,85.641899999999993,null,140.6917,108.25,98.050674999999998,148.87633333333335,93.986833333333337,112.6263,87.186500000000009,null,null,null,{"$f":"+INDEX(D2337:AF2337,1,aux_pr_ue!$P$2)","v":148.87633333333335},{"$f":"+INDEX(D2337:AF2337,1,aux_pr_ue!$Q$2)","v":0}]
["Feed Maize2008/12","Feed Maize","2008/12",118.5284,127.48390000000001,96.550399999999996,96.314050000000009,null,121.20924285714287,null,null,111.66666666666667,143.32529,113.243725,null,122.81048181818181,null,null,93.022900000000007,null,81.539600000000007,null,null,106.25,101.0222,143.20526666666669,100.57956666666668,105.87260000000001,84.903700000000001,null,null,null,{"$f":"+INDEX(D2338:AF2338,1,aux_pr_ue!$P$2)","v":143.20526666666669},{"$f":"+INDEX(D2338:AF2338,1,aux_pr_ue!$Q$2)","v":0}]
["Feed Maize2008/09","Feed Maize","2008/09",164.37180000000001,187.16670000000002,138.60480000000001,144.92780000000002,null,155.71898571428574,null,null,169.61109999999999,194.73771000000002,150.29123333333334,null,158.19312727272725,null,null,null,null,112.14783333333334,null,null,152.5,152.56039999999999,186.5652,138.33440000000002,173.23170000000002,156.60480000000001,null,null,null,{"$f":"+INDEX(D2341:AF2341,1,aux_pr_ue!$P$2)","v":186.5652},{"$f":"+INDEX(D2341:AF2341,1,aux_pr_ue!$Q$2)","v":0}]
["Feed Maize2008/08","Feed Maize","2008/08",199.04590000000002,213.5806,207.07640000000001,170.54590000000002,null,186.31681428571432,null,null,176.77419999999998,207.11169000000001,179.23146666666671,null,202.28221818181819,null,null,null,null,150.24026666666668,null,null,null,222.96323333333336,222.9032,236.63723333333337,194.1481,189.0806,null,null,null,{"$f":"+INDEX(D2342:AF2342,1,aux_pr_ue!$P$2)","v":222.9032},{"$f":"+INDEX(D2342:AF2342,1,aux_pr_ue!$Q$2)","v":0}]
["Feed Maize2008/05","Feed Maize","2008/05",215.4119,209.25810000000001,239.30067500000004,219.08735000000001,null,201.3456875,null,null,231.66666666666666,210.21100000000001,194.74291666666667,null,223.39167272727275,null,null,149.31360000000001,null,191.81162499999999,null,null,193.33335,229.25007500000001,220.40325000000001,235.18933333333334,215.41320000000002,218.32310000000001,null,null,null,{"$f":"+INDEX(D2345:AF2345,1,aux_pr_ue!$P$2)","v":220.40325000000001},{"$f":"+INDEX(D2345:AF2345,1,aux_pr_ue!$Q$2)","v":0}]
["Feed Maize2008/04","Feed Maize","2008/04",222.07780000000002,212.3913,251.744125,224.49385000000001,null,216.2174875,null,null,233.88890000000001,216.04628000000002,195.63008000000002,null,227.42944545454549,null,null,241.13760000000002,null,188.94773333333333,null,null,209,238.69155000000001,221.9,233.96846666666667,229.4683,215.8047,null,null,null,{"$f":"+INDEX(D2346:AF2346,1,aux_pr_ue!$P$2)","v":221.9},{"$f":"+INDEX(D2346:AF2346,1,aux_pr_ue!$Q$2)","v":0}]
["Feed Maize2008/02","Feed Maize","2008/02",226.74890000000002,219.55170000000001,248.44322500000001,222.84045000000003,null,227.48693750000001,null,null,240.17240000000001,230.54392999999999,202.27610000000004,null,231.2081454545455,null,null,146.53319999999999,null,198.35686666666666,null,null,213,228.212875,241.69830000000002,232.70546666666667,241.32860000000002,216.73870000000002,null,null,null,{"$f":"+INDEX(D2348:AF2348,1,aux_pr_ue!$P$2)","v":241.69830000000002},{"$f":"+INDEX(D2348:AF2348,1,aux_pr_ue!$Q$2)","v":0}]
["Feed Maize2008/01","Feed Maize","2008/01",231.50920000000002,233.13640000000001,246.74622500000001,218.39600000000002,null,231.28457499999999,null,null,240.05376666666666,242.39947000000001,214.70336000000003,null,239.74105454545452,null,null,229.04600000000002,null,206.5513,null,null,215.5,215.874075,243.49190000000002,218.1781,237.3845,199.21880000000002,null,null,null,{"$f":"+INDEX(D2349:AF2349,1,aux_pr_ue!$P$2)","v":243.49190000000002},{"$f":"+INDEX(D2349:AF2349,1,aux_pr_ue!$Q$2)","v":0}]
["Feed Maize2007/10","Feed Maize","2007/10",225.82,227,250.5369,214.8502,null,226.74099999999999,null,null,201.79570000000001,242.18923999999998,209.42125999999999,null,227.21670909090915,null,null,169.10910000000001,null,216.70497499999999,null,null,219.375,216.47595000000001,229.38509999999999,222.70849999999999,239.26840000000001,219.31630000000001,null,null,null,{"$f":"+INDEX(D2352:AF2352,1,aux_pr_ue!$P$2)","v":229.38509999999999},{"$f":"+INDEX(D2352:AF2352,1,aux_pr_ue!$Q$2)","v":0}]
["Feed Maize2007/09","Feed Maize","2007/09",229.68360000000001,255,236.47620000000001,191.09160000000003,null,238.84525000000002,null,null,182.47776666666667,247.40511999999998,238.485375,null,236.38569090909093,null,null,null,null,218.41,null,null,210.5,217.87350000000004,247.07776666666669,210.27380000000002,238.42100000000002,186.39490000000001,null,null,null,{"$f":"+INDEX(D2353:AF2353,1,aux_pr_ue!$P$2)","v":247.07776666666669},{"$f":"+INDEX(D2353:AF2353,1,aux_pr_ue!$Q$2)","v":0}]
["Feed Maize2007/06","Feed Maize","2007/06",166.8768,177.5667,154.1952,140.25239999999999,null,165.81466250000003,null,null,163.45096666666666,184.24419000000003,178.28878333333333,null,167.37499090909094,null,null,null,null,131.39765,null,null,141.54585,153.31610000000001,190.03530000000001,165.01893333333334,143.33700000000002,132.9118,null,null,null,{"$f":"+INDEX(D2356:AF2356,1,aux_pr_ue!$P$2)","v":190.03530000000001},{"$f":"+INDEX(D2356:AF2356,1,aux_pr_ue!$Q$2)","v":0}]
["Feed Maize2007/05","Feed Maize","2007/05",161.0307,169.1935,149.30062500000003,130.14710000000002,null,163.96282500000001,null,null,164.72466666666668,180.67291,163.08010000000002,null,164.42621000000003,null,null,null,null,124.95286666666668,null,null,138.62094999999999,157.95700000000002,184.45453333333333,152.98923333333332,143.6061,128.96950000000001,null,null,null,{"$f":"+INDEX(D2357:AF2357,1,aux_pr_ue!$P$2)","v":184.45453333333333},{"$f":"+INDEX(D2357:AF2357,1,aux_pr_ue!$Q$2)","v":0}]
["Feed Maize2007/02","Feed Maize","2007/02",160.59820000000002,165.75,140.28785000000002,146.52705,null,163.04861666666667,null,null,159.66666666666666,176.6345,155.84520000000001,null,167.73636363636362,null,null,null,null,120.34066666666666,null,null,143,163.19607500000001,176.16663333333335,143.97186666666667,148.8425,124.5039,null,null,null,{"$f":"+INDEX(D2360:AF2360,1,aux_pr_ue!$P$2)","v":176.16663333333335},{"$f":"+INDEX(D2360:AF2360,1,aux_pr_ue!$Q$2)","v":0}]
["Feed Maize2007/01","Feed Maize","2007/01",159.3141,167.75,134.642225,137.5797,null,165.17621111111112,null,null,159.20833333333334,175.86161999999999,157.84550000000002,null,169.48496363636363,null,null,null,null,113.2916,null,null,144.07355000000001,158.84812500000001,183.19443333333334,135.18313333333333,143.25960000000001,123.61920000000001,null,null,null,{"$f":"+INDEX(D2361:AF2361,1,aux_pr_ue!$P$2)","v":183.19443333333334},{"$f":"+INDEX(D2361:AF2361,1,aux_pr_ue!$Q$2)","v":0}]
["Feed Maize2006/10","Feed Maize","2006/10",149.5429,166.5385,null,112.53020000000001,null,153.2877666666667,null,null,136.31183333333334,163.22193999999999,154.36743999999999,null,158.94699090909089,null,null,null,null,95.922800000000009,null,null,null,136.19747500000003,168.05455000000001,null,115.9462,107.08280000000001,null,null,null,{"$f":"+INDEX(D2364:AF2364,1,aux_pr_ue!$P$2)","v":168.05455000000001},{"$f":"+INDEX(D2364:AF2364,1,aux_pr_ue!$Q$2)","v":0}]
["Feed Maize2006/09","Feed Maize","2006/09",145.75550000000001,162.30770000000001,null,104.89190000000001,null,145.82501111111111,null,null,123.98553333333332,151.23533,151.57429999999999,null,149.4890818181818,null,null,141.35480000000001,null,null,null,null,125.5,131.27935000000002,162.61666,null,122.7641,100.45920000000001,null,null,null,{"$f":"+INDEX(D2365:AF2365,1,aux_pr_ue!$P$2)","v":162.61666},{"$f":"+INDEX(D2365:AF2365,1,aux_pr_ue!$Q$2)","v":0}]
["Feed Maize2006/06","Feed Maize","2006/06",128.07689999999999,138.4333,null,99.531000000000006,null,126.96158888888888,null,null,114.80000000000001,147.45873,129.17194000000001,null,136.72882999999999,null,null,138.63150000000002,null,94.855066666666673,null,null,109.5,110.40815000000001,152.42223333333334,null,104.5822,93.183900000000008,null,null,null,{"$f":"+INDEX(D2368:AF2368,1,aux_pr_ue!$P$2)","v":152.42223333333334},{"$f":"+INDEX(D2368:AF2368,1,aux_pr_ue!$Q$2)","v":0}]
["Feed Maize2006/05","Feed Maize","2006/05",126.08970000000001,136.12900000000002,null,99.664050000000003,null,124.84651111111111,null,null,112,143.84497000000002,125.18493333333333,null,134.65365454545454,null,null,130.50280000000001,null,93.702533333333335,null,null,105.49325,109.604125,140.54145,null,106.58470000000001,91.63,null,null,null,{"$f":"+INDEX(D2369:AF2369,1,aux_pr_ue!$P$2)","v":140.54145},{"$f":"+INDEX(D2369:AF2369,1,aux_pr_ue!$Q$2)","v":0}]
["Feed Maize2006/02","Feed Maize","2006/02",120.2818,124,null,97.092150000000004,null,116.14973333333332,null,null,109,143.71397000000002,119.77925,null,128.04588181818184,null,null,126.92490000000001,null,91.114233333333345,null,null,102.5,101.979,145.1875,null,108.67110000000001,85.626199999999997,null,null,null,{"$f":"+INDEX(D2372:AF2372,1,aux_pr_ue!$P$2)","v":145.1875},{"$f":"+INDEX(D2372:AF2372,1,aux_pr_ue!$Q$2)","v":0}]
["Feed Maize2006/01","Feed Maize","2006/01",120.54650000000001,124.42590000000001,null,92.261799999999994,null,113.4902,null,null,109,145.01224000000002,120.62706,null,129.79117272727274,null,null,122.26310000000001,null,87.145366666666675,null,null,102.5,99.589174999999997,145.08870000000002,null,103.783,81.552900000000008,null,null,null,{"$f":"+INDEX(D2373:AF2373,1,aux_pr_ue!$P$2)","v":145.08870000000002},{"$f":"+INDEX(D2373:AF2373,1,aux_pr_ue!$Q$2)","v":0}]
["Feed Maize2005/10","Feed Maize","2005/10",123.23780000000001,123.8421,null,95.197850000000017,null,113.307725,null,null,110.914,146.28198,118.49865,null,129.62344545454545,null,null,127.3242,null,77.684933333333348,null,null,null,97.517150000000001,143.98388,null,98.031000000000006,84.6267,null,null,null,{"$f":"+INDEX(D2376:AF2376,1,aux_pr_ue!$P$2)","v":143.98388},{"$f":"+INDEX(D2376:AF2376,1,aux_pr_ue!$Q$2)","v":0}]
["Feed Maize2005/09","Feed Maize","2005/09",128.2176,136,null,99.221950000000007,null,134.20697142857142,null,null,121.69566666666667,144.23284000000001,120.63096666666668,null,130.34247272727274,null,null,130.04840000000002,null,93.760250000000013,null,null,112.5,108.647975,144.92223333333334,null,103.7487,83.361200000000011,null,null,null,{"$f":"+INDEX(D2377:AF2377,1,aux_pr_ue!$P$2)","v":144.92223333333334},{"$f":"+INDEX(D2377:AF2377,1,aux_pr_ue!$Q$2)","v":0}]
["Feed Maize2005/06","Feed Maize","2005/06",119.04,122.36670000000001,null,93.274000000000001,null,116.86082500000001,null,null,108.4778,147.23043999999999,121.42851666666667,null,125.88755454545456,null,null,122.1982,null,88.591866666666661,null,null,99.72120000000001,95.910025000000005,148.56665000000001,null,109.24480000000001,88.044499999999999,null,null,null,{"$f":"+INDEX(D2380:AF2380,1,aux_pr_ue!$P$2)","v":148.56665000000001},{"$f":"+INDEX(D2380:AF2380,1,aux_pr_ue!$Q$2)","v":0}]
["Feed Maize2005/05","Feed Maize","2005/05",116.78970000000001,115.06450000000001,null,90.196699999999993,null,111.8720125,null,null,102.39783333333332,141.74167000000003,111.28221666666667,null,122.10828181818182,null,null,120.0415,null,87.836250000000007,null,null,98.5,93.205325000000002,137.69355000000002,null,103.7842,83.792100000000005,null,null,null,{"$f":"+INDEX(D2381:AF2381,1,aux_pr_ue!$P$2)","v":137.69355000000002},{"$f":"+INDEX(D2381:AF2381,1,aux_pr_ue!$Q$2)","v":0}]
["Feed Maize2005/03","Feed Maize","2005/03",115.5681,114.22580000000001,null,93.176550000000006,null,107.40747777777777,null,null,101,134.49403000000001,110.04939999999999,null,124.29497272727271,null,null,121.96990000000001,null,86.880850000000009,null,null,98.5,98.1387,135.03230000000002,null,104.53020000000001,87.498400000000004,null,null,null,{"$f":"+INDEX(D2383:AF2383,1,aux_pr_ue!$P$2)","v":135.03230000000002},{"$f":"+INDEX(D2383:AF2383,1,aux_pr_ue!$Q$2)","v":0}]
["Feed Maize2005/02","Feed Maize","2005/02",113.3558,111.8571,null,95.178699999999992,null,106.53762222222221,null,null,102.09523333333334,132.05903000000001,108.0783,null,121.75540909090908,null,null,123.3147,null,82.242900000000006,null,null,98.5,99.779300000000006,132.16070000000002,null,104.8219,87.607100000000003,null,null,null,{"$f":"+INDEX(D2384:AF2384,1,aux_pr_ue!$P$2)","v":132.16070000000002},{"$f":"+INDEX(D2384:AF2384,1,aux_pr_ue!$Q$2)","v":0}]
["Feed Maize2004/11","Feed Maize","2004/11",112.88850000000001,110.63330000000001,null,96.021850000000001,null,103.51394444444443,null,null,109.31110000000001,133.98241818181816,104.94335000000001,null,123.87813636363639,null,null,126.1498,null,83.051575,null,null,96.462500000000006,96.539774999999992,131.81177500000001,null,100.7775,86.382500000000007,null,null,null,{"$f":"+INDEX(D2387:AF2387,1,aux_pr_ue!$P$2)","v":131.81177500000001},{"$f":"+INDEX(D2387:AF2387,1,aux_pr_ue!$Q$2)","v":0}]
["Feed Maize2004/10","Feed Maize","2004/10",113.11760000000001,108,null,101.54259999999999,null,99.712924999999998,null,null,117.38706666666667,134.27038181818182,101.55258333333335,null,121.75805454545456,null,null,51.3001,null,81.567900000000009,null,null,95,102.11415,131.1277,null,107.1469,101.4979,null,null,null,{"$f":"+INDEX(D2388:AF2388,1,aux_pr_ue!$P$2)","v":131.1277},{"$f":"+INDEX(D2388:AF2388,1,aux_pr_ue!$Q$2)","v":0}]
["Feed Maize2004/07","Feed Maize","2004/07",154.95320000000001,159.08330000000001,null,138.62805,null,153.69594285714285,null,null,153.75,169.47499999999999,139.47738333333334,null,158.37919090909091,null,null,155.46010000000001,null,129.20872500000002,null,null,151.20965000000001,151.122275,164.39595000000003,null,155.7184,137.39670000000001,null,null,null,{"$f":"+INDEX(D2391:AF2391,1,aux_pr_ue!$P$2)","v":164.39595000000003},{"$f":"+INDEX(D2391:AF2391,1,aux_pr_ue!$Q$2)","v":0}]
["Feed Maize2004/06","Feed Maize","2004/06",159.77160000000001,160.6,null,131.26214999999999,null,157.32131428571429,null,null,161.9375,173.52429000000001,146.90090000000001,null,170.50923636363635,null,null,110.81100000000001,null,142.35043333333331,null,null,153.86955,153.35557499999999,171.2,null,169.34720000000002,134.90710000000001,null,null,null,{"$f":"+INDEX(D2392:AF2392,1,aux_pr_ue!$P$2)","v":171.2},{"$f":"+INDEX(D2392:AF2392,1,aux_pr_ue!$Q$2)","v":0}]
["Feed Maize2004/03","Feed Maize","2004/03",172.5009,172.35480000000001,null,null,null,167.58905000000001,null,null,169.25,172.87594000000004,163.51065000000003,null,184.14565999999999,null,null,null,null,null,null,null,158.28225,null,176.93870000000001,null,null,null,null,null,null,{"$f":"+INDEX(D2395:AF2395,1,aux_pr_ue!$P$2)","v":176.93870000000001},{"$f":"+INDEX(D2395:AF2395,1,aux_pr_ue!$Q$2)","v":0}]
["Feed Maize2004/02","Feed Maize","2004/02",174.10470000000001,169.89660000000001,null,null,null,171.01627500000001,null,null,166.18105,172.39965000000001,165.29089999999999,null,188.88965000000002,null,null,null,null,null,null,null,158.71514999999999,null,180.5,null,null,null,null,null,null,{"$f":"+INDEX(D2396:AF2396,1,aux_pr_ue!$P$2)","v":180.5},{"$f":"+INDEX(D2396:AF2396,1,aux_pr_ue!$Q$2)","v":0}]
["Feed Maize2003/11","Feed Maize","2003/11",165.6078,166.83330000000001,null,null,null,161.44725555555556,null,null,149.088875,165.20726999999999,166.72492000000003,null,176.23030909090909,null,null,null,null,null,null,null,143.90789999999998,null,169.28152500000002,null,null,null,null,null,null,{"$f":"+INDEX(D2399:AF2399,1,aux_pr_ue!$P$2)","v":169.28152500000002},{"$f":"+INDEX(D2399:AF2399,1,aux_pr_ue!$Q$2)","v":0}]
["Feed Maize2003/10","Feed Maize","2003/10",156.6677,155.67740000000001,null,null,null,152.14536666666669,null,null,146.8897,154.76551999999998,154.69526000000002,null,166.69061818181819,null,null,null,null,null,null,null,138.33330000000001,null,159.74549999999999,null,null,null,null,null,null,{"$f":"+INDEX(D2400:AF2400,1,aux_pr_ue!$P$2)","v":159.74549999999999},{"$f":"+INDEX(D2400:AF2400,1,aux_pr_ue!$Q$2)","v":0}]
["Feed Maize2003/07","Feed Maize","2003/07",128.25919999999999,124.9355,null,null,null,121.58493333333334,null,null,null,134.67885000000001,120.26031666666667,null,132.58581000000001,null,null,null,null,null,null,null,108.76615000000001,null,137.27620000000002,null,null,null,null,null,null,{"$f":"+INDEX(D2403:AF2403,1,aux_pr_ue!$P$2)","v":137.27620000000002},{"$f":"+INDEX(D2403:AF2403,1,aux_pr_ue!$Q$2)","v":0}]
["Feed Maize2003/06","Feed Maize","2003/06",125.3134,120.5,null,null,null,118.7386875,null,null,null,134.39354,114.74748333333332,null,126.94464000000002,null,null,null,null,null,null,null,108.75,null,133.50749999999999,null,null,null,null,null,null,{"$f":"+INDEX(D2404:AF2404,1,aux_pr_ue!$P$2)","v":133.50749999999999},{"$f":"+INDEX(D2404:AF2404,1,aux_pr_ue!$Q$2)","v":0}]
["Feed Maize2003/03","Feed Maize","2003/03",125.8259,116.96770000000001,null,null,null,116.86497500000002,null,null,136.88460000000001,132.93082999999999,111.71031666666669,null,133.55014545454549,null,null,null,null,null,null,null,107.57995,null,134.08224999999999,null,null,null,null,null,null,{"$f":"+INDEX(D2407:AF2407,1,aux_pr_ue!$P$2)","v":134.08224999999999},{"$f":"+INDEX(D2407:AF2407,1,aux_pr_ue!$Q$2)","v":0}]
["Feed Maize2003/02","Feed Maize","2003/02",127.74310000000001,121.0476,null,null,null,118.25025555555557,null,null,139.0385,135.70889,115.49806666666667,null,134.29318181818184,null,null,null,null,null,null,null,106.42855,null,135.97555,null,null,null,null,null,null,{"$f":"+INDEX(D2408:AF2408,1,aux_pr_ue!$P$2)","v":135.97555},{"$f":"+INDEX(D2408:AF2408,1,aux_pr_ue!$Q$2)","v":0}]
["Feed Maize2002/11","Feed Maize","2002/11",128.21110000000002,119.7667,null,null,null,116.01412222222224,null,null,134.15002500000003,138.02795999999998,115.63420000000001,null,133.77954545454543,null,null,null,null,null,null,null,103.71665,null,137.19915,null,null,null,null,null,null,{"$f":"+INDEX(D2411:AF2411,1,aux_pr_ue!$P$2)","v":137.19915},{"$f":"+INDEX(D2411:AF2411,1,aux_pr_ue!$Q$2)","v":0}]
["Feed Maize2002/10","Feed Maize","2002/10",130.1285,119,null,null,null,114.43281250000001,null,null,135.5,141.99232000000001,115.42691666666668,null,131.65454545454546,null,null,null,null,null,null,null,102.5,null,138.997625,null,null,null,null,null,null,{"$f":"+INDEX(D2412:AF2412,1,aux_pr_ue!$P$2)","v":138.997625},{"$f":"+INDEX(D2412:AF2412,1,aux_pr_ue!$Q$2)","v":0}]
["Feed Maize2002/08","Feed Maize","2002/08",150.36969999999999,133,null,null,null,143.46875,null,null,null,150.3451,134.12611666666669,null,170.58138,null,null,null,null,null,null,null,120.66175000000001,null,158.61824999999999,null,null,null,null,null,null,{"$f":"+INDEX(D2414:AF2414,1,aux_pr_ue!$P$2)","v":158.61824999999999},{"$f":"+INDEX(D2414:AF2414,1,aux_pr_ue!$Q$2)","v":0}]
["Feed Maize2002/07","Feed Maize","2002/07",141.81120000000001,121.125,null,null,null,128.69525000000002,null,null,null,145.03634000000002,124.90786666666668,null,157.52887272727273,null,null,null,null,null,null,null,113.75810000000001,null,145.1645,null,null,null,null,null,null,{"$f":"+INDEX(D2415:AF2415,1,aux_pr_ue!$P$2)","v":145.1645},{"$f":"+INDEX(D2415:AF2415,1,aux_pr_ue!$Q$2)","v":0}]
["Feed Maize2002/04","Feed Maize","2002/04",132.85230000000001,119.70830000000001,null,null,null,126.65949999999999,null,null,146.89585,142.77429999999998,118.68266666666666,null,136.16810000000001,null,null,null,null,null,null,null,112.21875,null,140.84500000000003,null,null,null,null,null,null,{"$f":"+INDEX(D2418:AF2418,1,aux_pr_ue!$P$2)","v":140.84500000000003},{"$f":"+INDEX(D2418:AF2418,1,aux_pr_ue!$Q$2)","v":0}]
["Feed Maize2002/03","Feed Maize","2002/03",132.66759999999999,120.9355,null,null,null,127.12841111111112,null,null,145.625,142.79976000000002,119.61650000000002,null,135.37420000000003,null,null,null,null,null,null,null,112.85485,null,140.52275000000003,null,null,null,null,null,null,{"$f":"+INDEX(D2419:AF2419,1,aux_pr_ue!$P$2)","v":140.52275000000003},{"$f":"+INDEX(D2419:AF2419,1,aux_pr_ue!$Q$2)","v":0}]
["Feed Maize2001/12","Feed Maize","2001/12",135.9554,null,null,null,null,124.38571428571427,null,null,138.43333333333331,139.29860000000002,125.12798333333335,null,129.60550000000001,null,null,null,null,null,null,null,114.99415,null,142.18380000000002,null,null,null,null,null,null,{"$f":"+INDEX(D2422:AF2422,1,aux_pr_ue!$P$2)","v":142.18380000000002},{"$f":"+INDEX(D2422:AF2422,1,aux_pr_ue!$Q$2)","v":0}]
["Feed Maize2001/11","Feed Maize","2001/11",130.75489999999999,null,null,null,null,null,null,null,137.18843333333334,136.18799000000001,122.75830000000001,null,126.96947272727272,null,null,null,null,null,null,null,113.9828,null,139.19605000000001,null,null,null,null,null,null,{"$f":"+INDEX(D2423:AF2423,1,aux_pr_ue!$P$2)","v":139.19605000000001},{"$f":"+INDEX(D2423:AF2423,1,aux_pr_ue!$Q$2)","v":0}]
["Feed Maize2001/08","Feed Maize","2001/08",138.87780000000001,null,null,null,null,null,null,null,157.00660000000002,144.53826000000001,132.59033333333332,null,131.10516363636367,null,null,null,null,null,null,null,125.36060000000001,null,152.733,null,null,null,null,null,null,{"$f":"+INDEX(D2426:AF2426,1,aux_pr_ue!$P$2)","v":152.733},{"$f":"+INDEX(D2426:AF2426,1,aux_pr_ue!$Q$2)","v":0}]
["Feed Maize2001/07","Feed Maize","2001/07",141.91150000000002,null,null,null,null,null,null,null,157.00660000000002,144.28992999999997,135.78996666666669,null,136.90219090909093,null,null,null,null,null,null,null,121.727,null,154.54045000000002,null,null,null,null,null,null,{"$f":"+INDEX(D2427:AF2427,1,aux_pr_ue!$P$2)","v":154.54045000000002},{"$f":"+INDEX(D2427:AF2427,1,aux_pr_ue!$Q$2)","v":0}]
["Feed Maize2001/04","Feed Maize","2001/04",136.90380000000002,null,null,null,null,null,null,null,151.17970000000003,140.2885,126.53013333333335,null,136.14943636363637,null,null,null,null,null,null,null,127.17745000000001,null,145.75710000000001,null,null,null,null,null,null,{"$f":"+INDEX(D2430:AF2430,1,aux_pr_ue!$P$2)","v":145.75710000000001},{"$f":"+INDEX(D2430:AF2430,1,aux_pr_ue!$Q$2)","v":0}]
["Feed Maize2001/03","Feed Maize","2001/03",137.6951,null,null,null,null,null,null,null,153.80366666666666,141.03184000000002,126.46536666666668,null,136.57560000000001,null,null,null,null,null,null,null,126.93130000000001,null,147.45920000000001,null,null,null,null,null,null,{"$f":"+INDEX(D2431:AF2431,1,aux_pr_ue!$P$2)","v":147.45920000000001},{"$f":"+INDEX(D2431:AF2431,1,aux_pr_ue!$Q$2)","v":0}]
["Feed Maize2000/12","Feed Maize","2000/12",138.00230000000002,null,null,null,null,null,null,null,144.81626666666668,143.23952000000003,127.95378333333333,null,136.4202181818182,null,null,null,null,null,null,null,121.96925,null,149.25836666666666,null,null,null,null,null,null,{"$f":"+INDEX(D2434:AF2434,1,aux_pr_ue!$P$2)","v":149.25836666666666},{"$f":"+INDEX(D2434:AF2434,1,aux_pr_ue!$Q$2)","v":0}]
["Feed Maize2000/11","Feed Maize","2000/11",134.5181,null,null,null,null,null,null,null,139.21029999999999,142.18239000000003,122.70798333333335,null,131.63575454545457,null,null,null,null,null,null,null,121.15630000000002,null,144.58045000000001,null,null,null,null,null,null,{"$f":"+INDEX(D2435:AF2435,1,aux_pr_ue!$P$2)","v":144.58045000000001},{"$f":"+INDEX(D2435:AF2435,1,aux_pr_ue!$Q$2)","v":0}]
["Feed Maize2000/08","Feed Maize","2000/08",153.2867,null,null,null,null,null,null,null,null,155.18008,157.72855000000001,null,152.81020000000001,null,null,null,null,null,null,null,126.9958,null,158.47219999999999,null,null,null,null,null,null,{"$f":"+INDEX(D2438:AF2438,1,aux_pr_ue!$P$2)","v":158.47219999999999},{"$f":"+INDEX(D2438:AF2438,1,aux_pr_ue!$Q$2)","v":0}]
["Feed Maize2000/07","Feed Maize","2000/07",148.2604,null,null,null,null,null,null,null,null,151.89724999999999,143.20748333333333,null,148.60541818181821,null,null,null,null,null,null,null,126.9958,null,155.87430000000001,null,null,null,null,null,null,{"$f":"+INDEX(D2439:AF2439,1,aux_pr_ue!$P$2)","v":155.87430000000001},{"$f":"+INDEX(D2439:AF2439,1,aux_pr_ue!$Q$2)","v":0}]
["Feed Maize2000/04","Feed Maize","2000/04",144.3219,null,null,null,null,null,null,null,156.08410000000001,152.17300000000006,135.48816000000002,null,139.39813636363635,null,null,null,null,null,null,null,124.4522,null,150.88639999999998,null,null,null,null,null,null,{"$f":"+INDEX(D2442:AF2442,1,aux_pr_ue!$P$2)","v":150.88639999999998},{"$f":"+INDEX(D2442:AF2442,1,aux_pr_ue!$Q$2)","v":0}]
["Feed Maize2000/03","Feed Maize","2000/03",142.49940000000001,null,null,null,null,null,null,null,154.8168,151.94441,132.06768,null,136.09700000000001,null,null,null,null,null,null,null,123.42070000000001,null,149.95319999999998,null,null,null,null,null,null,{"$f":"+INDEX(D2443:AF2443,1,aux_pr_ue!$P$2)","v":149.95319999999998},{"$f":"+INDEX(D2443:AF2443,1,aux_pr_ue!$Q$2)","v":0}]
["Feed Maize1999/12","Feed Maize","1999/12",null,null,null,null,null,null,null,null,null,null,null,null,null,null,null,null,null,null,null,null,null,null,null,null,null,null,null,null,null,{"$f":"+INDEX(D2446:AF2446,1,aux_pr_ue!$P$2)","v":0},{"$f":"+INDEX(D2446:AF2446,1,aux_pr_ue!$Q$2)","v":0}]
["Feed Maize1999/11","Feed Maize","1999/11",135.83760000000001,null,null,null,null,null,null,null,131.1944,143.24854999999999,126.54968333333335,null,136.5672909090909,null,null,null,null,null,null,null,118.91095000000001,null,136.130225,null,null,null,null,null,null,{"$f":"+INDEX(D2447:AF2447,1,aux_pr_ue!$P$2)","v":136.130225},{"$f":"+INDEX(D2447:AF2447,1,aux_pr_ue!$Q$2)","v":0}]
["Feed Maize1999/09","Feed Maize","1999/09",137.96780000000001,null,null,null,null,139.43753750000002,null,null,160.64565000000002,144.91710909090909,134.8112166666667,null,131.16388181818184,null,null,null,null,null,null,null,134.44499999999999,null,139.6634,null,null,null,null,null,null,{"$f":"+INDEX(D2449:AF2449,1,aux_pr_ue!$P$2)","v":139.6634},{"$f":"+INDEX(D2449:AF2449,1,aux_pr_ue!$Q$2)","v":0}]
["Feed Maize1999/08","Feed Maize","1999/08",147.17310000000001,null,null,null,null,139.9843625,null,null,165.8201,149.41392000000002,137.02951666666669,null,151.41340000000002,null,null,null,null,null,null,null,132.94864999999999,null,null,null,null,null,null,null,null,{"$f":"+INDEX(D2450:AF2450,1,aux_pr_ue!$P$2)","v":0},{"$f":"+INDEX(D2450:AF2450,1,aux_pr_ue!$Q$2)","v":0}]
["Feed Maize1999/05","Feed Maize","1999/05",154.68260000000001,136.142,null,null,null,139.79926250000003,null,null,534.36045000000001,143.78207999999998,136.10142857142858,null,159.74470909090908,null,null,null,null,null,null,null,126.45050000000001,null,144.55509999999998,null,null,null,null,null,null,{"$f":"+INDEX(D2453:AF2453,1,aux_pr_ue!$P$2)","v":144.55509999999998},{"$f":"+INDEX(D2453:AF2453,1,aux_pr_ue!$Q$2)","v":0}]
["Feed Maize1999/04","Feed Maize","1999/04",142.38410000000002,132.08440000000002,null,null,null,136.57201428571429,null,null,161.0085,143.26801000000003,131.02028571428573,null,150.23623636363638,null,null,null,null,null,null,null,126.45050000000001,null,143.81966666666668,null,null,null,null,null,null,{"$f":"+INDEX(D2454:AF2454,1,aux_pr_ue!$P$2)","v":143.81966666666668},{"$f":"+INDEX(D2454:AF2454,1,aux_pr_ue!$Q$2)","v":0}]
["Feed Maize1999/01","Feed Maize","1999/01",140.24260000000001,130.14400000000001,null,null,null,132.9057875,null,null,157.42932500000001,141.65598,129.4342285714286,null,149.49766363636365,null,null,null,null,null,null,null,120.63800000000001,null,140.32930000000002,null,null,null,null,null,null,{"$f":"+INDEX(D2457:AF2457,1,aux_pr_ue!$P$2)","v":140.32930000000002},{"$f":"+INDEX(D2457:AF2457,1,aux_pr_ue!$Q$2)","v":0}]
["Feed Maize1998/12","Feed Maize","1998/12",135.26400000000001,128.261,null,null,null,129.40086249999999,null,null,124.51277999999999,139.57465000000002,126.69414444444445,null,143.49198181818184,null,null,null,null,null,null,null,117.6186,null,135.40173333333334,null,null,null,null,null,null,{"$f":"+INDEX(D2458:AF2458,1,aux_pr_ue!$P$2)","v":135.40173333333334},{"$f":"+INDEX(D2458:AF2458,1,aux_pr_ue!$Q$2)","v":0}]
["Feed Maize1998/09","Feed Maize","1998/09",132.1635,null,null,null,null,124.16913333333333,null,null,121.557,141.24922000000001,119.125075,null,128.09200000000001,null,null,null,null,null,null,null,135.1311,null,138.30613333333335,null,null,null,null,null,null,{"$f":"+INDEX(D2461:AF2461,1,aux_pr_ue!$P$2)","v":138.30613333333335},{"$f":"+INDEX(D2461:AF2461,1,aux_pr_ue!$Q$2)","v":0}]
["Feed Maize1998/08","Feed Maize","1998/08",139.98320000000001,null,null,null,null,145.04158333333334,null,null,147.05074999999999,146.60903999999999,134.46650000000002,null,129.64537272727273,null,null,null,null,null,null,null,125.48950000000002,null,147.70293333333336,null,null,null,null,null,null,{"$f":"+INDEX(D2462:AF2462,1,aux_pr_ue!$P$2)","v":147.70293333333336},{"$f":"+INDEX(D2462:AF2462,1,aux_pr_ue!$Q$2)","v":0}]
["Feed Maize1998/05","Feed Maize","1998/05",134.04470000000001,126.0548,null,null,null,130.64725000000001,null,null,149.21765000000002,144.41949000000002,126.10245000000002,null,127.87532727272732,null,null,null,null,null,null,null,119.53835000000001,null,139.72800000000001,null,null,null,null,null,null,{"$f":"+INDEX(D2465:AF2465,1,aux_pr_ue!$P$2)","v":139.72800000000001},{"$f":"+INDEX(D2465:AF2465,1,aux_pr_ue!$Q$2)","v":0}]
["Feed Maize1998/04","Feed Maize","1998/04",129.80799999999999,124.02670000000001,null,null,null,125.74130000000001,null,null,136.18699999999998,143.74196000000001,122.41453750000002,null,122.7999727272727,null,null,null,null,null,null,null,119.26130000000001,null,139.06485000000001,null,null,null,null,null,null,{"$f":"+INDEX(D2466:AF2466,1,aux_pr_ue!$P$2)","v":139.06485000000001},{"$f":"+INDEX(D2466:AF2466,1,aux_pr_ue!$Q$2)","v":0}]
["Feed Maize1998/01","Feed Maize","1998/01",131.4393,127.854,null,null,null,127.495,null,null,129.44275000000002,144.95910000000001,124.50602857142857,null,122.95778181818181,null,null,null,null,null,null,null,115.9025,null,142.21975000000003,null,null,null,null,null,null,{"$f":"+INDEX(D2469:AF2469,1,aux_pr_ue!$P$2)","v":142.21975000000003},{"$f":"+INDEX(D2469:AF2469,1,aux_pr_ue!$Q$2)","v":0}]
["Feed Maize1997/12","Feed Maize","1997/12",130.04390000000001,127.46740000000001,null,null,null,126.19978750000001,null,null,129.16225,142.30378000000002,124.47842857142858,null,120.5408272727273,null,null,null,null,null,null,null,113.56595000000002,null,143.48290000000003,null,null,null,null,null,null,{"$f":"+INDEX(D2470:AF2470,1,aux_pr_ue!$P$2)","v":143.48290000000003},{"$f":"+INDEX(D2470:AF2470,1,aux_pr_ue!$Q$2)","v":0}]
["Feed Maize1997/09","Feed Maize","1997/09",136.72920000000002,null,null,null,null,127.36708571428572,null,null,144.56064000000003,150.15533000000002,132.2566875,null,120.62363636363639,null,null,null,null,null,null,null,125.2825,null,148.4196,null,null,null,null,null,null,{"$f":"+INDEX(D2473:AF2473,1,aux_pr_ue!$P$2)","v":148.4196},{"$f":"+INDEX(D2473:AF2473,1,aux_pr_ue!$Q$2)","v":0}]
["Feed Maize1997/08","Feed Maize","1997/08",139.3614,null,null,null,null,136.042,null,null,null,152.0206,136.74221428571428,null,125.46063636363637,null,null,null,null,null,null,null,125.29075,null,151.76884999999999,null,null,null,null,null,null,{"$f":"+INDEX(D2474:AF2474,1,aux_pr_ue!$P$2)","v":151.76884999999999},{"$f":"+INDEX(D2474:AF2474,1,aux_pr_ue!$Q$2)","v":0}]
["Feed Maize1997/05","Feed Maize","1997/05",144.80330000000001,140.16500000000002,null,null,null,142.85727142857144,null,null,null,155.36525,134.12564285714285,null,141.50411818181817,null,null,null,null,null,null,null,130.09273333333331,null,156.18673333333334,null,null,null,null,null,null,{"$f":"+INDEX(D2477:AF2477,1,aux_pr_ue!$P$2)","v":156.18673333333334},{"$f":"+INDEX(D2477:AF2477,1,aux_pr_ue!$Q$2)","v":0}]
["Feed Maize1997/04","Feed Maize","1997/04",142.96559999999999,142.10990000000001,null,null,null,142.50717500000002,null,null,140.05360000000002,155.39145000000002,143.24640000000002,null,133.48187272727273,null,null,null,null,null,null,null,130.12025,null,156.23790000000002,null,null,null,null,null,null,{"$f":"+INDEX(D2478:AF2478,1,aux_pr_ue!$P$2)","v":156.23790000000002},{"$f":"+INDEX(D2478:AF2478,1,aux_pr_ue!$Q$2)","v":0}]
["Feed Maize1997/02","Feed Maize","1997/02",140.82500000000002,137.4015,null,null,null,140.29895000000002,null,null,136.81325000000001,147.90718999999999,135.45837777777777,null,135.55171818181819,null,null,null,null,null,null,null,133.87205,null,149.09014999999999,null,null,null,null,null,null,{"$f":"+INDEX(D2480:AF2480,1,aux_pr_ue!$P$2)","v":149.09014999999999},{"$f":"+INDEX(D2480:AF2480,1,aux_pr_ue!$Q$2)","v":0}]
["Feed Maize1997/01","Feed Maize","1997/01",140.12220000000002,139.7758,null,null,null,141.05740000000003,null,null,135.46794,146.05540000000002,135.16174444444445,null,137.8075818181818,null,null,null,null,null,null,null,136.30446666666668,null,150.88970000000003,null,null,null,null,null,null,{"$f":"+INDEX(D2481:AF2481,1,aux_pr_ue!$P$2)","v":150.88970000000003},{"$f":"+INDEX(D2481:AF2481,1,aux_pr_ue!$Q$2)","v":0}]
["Feed Maize1996/10","Feed Maize","1996/10",146.7242,null,null,null,null,142.00328571428571,null,null,129.9074,160.78725000000003,136.25122000000002,null,141.74877272727272,null,null,null,null,null,null,null,140.20390000000003,null,158.53323333333336,null,null,null,null,null,null,{"$f":"+INDEX(D2484:AF2484,1,aux_pr_ue!$P$2)","v":158.53323333333336},{"$f":"+INDEX(D2484:AF2484,1,aux_pr_ue!$Q$2)","v":0}]
["Feed Maize1996/09","Feed Maize","1996/09",161.59880000000001,null,null,null,null,165.75906000000001,null,null,139.16563333333332,168.48196999999999,145.88470000000001,null,157.45696000000001,null,null,null,null,null,null,null,160.95134999999999,null,169.33513333333335,null,null,null,null,null,null,{"$f":"+INDEX(D2485:AF2485,1,aux_pr_ue!$P$2)","v":169.33513333333335},{"$f":"+INDEX(D2485:AF2485,1,aux_pr_ue!$Q$2)","v":0}]
["Feed Maize1996/06","Feed Maize","1996/06",177.41560000000001,177.02360000000002,null,null,null,182.53290000000001,null,null,null,184.79457000000002,172.32556666666665,null,173.79095454545453,null,null,null,null,null,null,null,166.88036666666667,null,169.74073333333334,null,null,null,null,null,null,{"$f":"+INDEX(D2488:AF2488,1,aux_pr_ue!$P$2)","v":169.74073333333334},{"$f":"+INDEX(D2488:AF2488,1,aux_pr_ue!$Q$2)","v":0}]
["Feed Maize1996/05","Feed Maize","1996/05",179.52890000000002,179.63800000000001,null,null,null,185.02381250000002,null,null,null,183.51467,173.64365000000001,null,181.93069090909091,null,null,null,null,null,null,null,165.55316666666667,null,163.31820000000002,null,null,null,null,null,null,{"$f":"+INDEX(D2489:AF2489,1,aux_pr_ue!$P$2)","v":163.31820000000002},{"$f":"+INDEX(D2489:AF2489,1,aux_pr_ue!$Q$2)","v":0}]
["Feed Maize1996/02","Feed Maize","1996/02",167.65300000000002,160.66200000000001,null,null,null,166.43895555555557,null,null,197.4854,176.8229,158.05606666666668,null,165.01830909090907,null,null,null,null,null,null,null,161.1617,null,null,null,null,null,null,null,null,{"$f":"+INDEX(D2492:AF2492,1,aux_pr_ue!$P$2)","v":0},{"$f":"+INDEX(D2492:AF2492,1,aux_pr_ue!$Q$2)","v":0}]
["Feed Maize1996/01","Feed Maize","1996/01",165.6661,163.02880000000002,null,null,null,166.81211111111111,null,null,98.619650000000007,175.91015999999999,159.52184000000003,null,160.75282727272727,null,null,null,null,null,null,null,160.08676666666665,null,null,null,null,null,null,null,null,{"$f":"+INDEX(D2493:AF2493,1,aux_pr_ue!$P$2)","v":0},{"$f":"+INDEX(D2493:AF2493,1,aux_pr_ue!$Q$2)","v":0}]
["Feed Maize1995/10","Feed Maize","1995/10",164.65,154.96950000000001,null,null,null,157.3383125,null,null,179.694425,173.37351000000004,154.75229999999999,null,160.59294545454546,null,null,null,null,null,null,null,155.68600000000001,null,167.54830000000001,null,null,null,null,null,null,{"$f":"+INDEX(D2496:AF2496,1,aux_pr_ue!$P$2)","v":167.54830000000001},{"$f":"+INDEX(D2496:AF2496,1,aux_pr_ue!$Q$2)","v":0}]
["Feed Maize1995/09","Feed Maize","1995/09",174.5282,null,null,null,null,167.9315,null,null,181.05583333333334,181.33933999999999,155.58742000000001,null,179.74995454545456,null,null,null,null,null,null,null,177.12799999999999,null,163.97400000000002,null,null,null,null,null,null,{"$f":"+INDEX(D2497:AF2497,1,aux_pr_ue!$P$2)","v":163.97400000000002},{"$f":"+INDEX(D2497:AF2497,1,aux_pr_ue!$Q$2)","v":0}]
["Feed Maize1995/06","Feed Maize","1995/06",171.76590000000002,null,null,null,null,162.72798333333336,null,null,null,165.24857,174.91728333333333,null,184.10516363636364,null,null,null,null,null,null,null,160.14206666666666,null,null,null,null,null,null,null,null,{"$f":"+INDEX(D2500:AF2500,1,aux_pr_ue!$P$2)","v":0},{"$f":"+INDEX(D2500:AF2500,1,aux_pr_ue!$Q$2)","v":0}]
["Feed Maize1995/05","Feed Maize","1995/05",165.10939999999999,151.9297,null,null,null,157.78360000000001,null,null,null,160.68482,163.59352000000001,null,174.20239090909092,null,null,null,null,null,null,null,158.93906666666666,null,null,null,null,null,null,null,null,{"$f":"+INDEX(D2501:AF2501,1,aux_pr_ue!$P$2)","v":0},{"$f":"+INDEX(D2501:AF2501,1,aux_pr_ue!$Q$2)","v":0}]
["Feed Maize1995/02","Feed Maize","1995/02",161.48160000000001,152.56270000000001,null,null,null,156.11425,null,null,174.02979999999999,163.22038000000001,155.95399999999998,null,167.4242090909091,null,null,null,null,null,null,null,152.63313333333335,null,null,null,null,null,null,null,null,{"$f":"+INDEX(D2504:AF2504,1,aux_pr_ue!$P$2)","v":0},{"$f":"+INDEX(D2504:AF2504,1,aux_pr_ue!$Q$2)","v":0}]
["Feed Maize1995/01","Feed Maize","1995/01",136.14340000000001,129.7413,null,null,null,131.77167500000002,null,null,129.0641,139.27073999999999,135.03916666666666,null,138.53845454545456,null,null,null,null,null,null,null,130.42646666666667,null,null,null,null,null,null,null,null,{"$f":"+INDEX(D2505:AF2505,1,aux_pr_ue!$P$2)","v":0},{"$f":"+INDEX(D2505:AF2505,1,aux_pr_ue!$Q$2)","v":0}]
["Feed Maize1994/10","Feed Maize","1994/10",130.5651,122.78920000000001,null,null,null,125.76457500000001,null,null,118.863325,138.09644999999998,122.36174999999999,null,130.02105454545455,null,null,null,null,null,null,null,null,null,137.7492,null,null,null,null,null,null,{"$f":"+INDEX(D2508:AF2508,1,aux_pr_ue!$P$2)","v":137.7492},{"$f":"+INDEX(D2508:AF2508,1,aux_pr_ue!$Q$2)","v":0}]
["Feed Maize1994/09","Feed Maize","1994/09",131.1138,null,null,null,null,123.35397142857141,null,null,117.54467500000001,139.77833000000004,124.03713750000001,null,127.33772727272729,null,null,null,null,null,null,null,null,null,137.88400000000001,null,null,null,null,null,null,{"$f":"+INDEX(D2509:AF2509,1,aux_pr_ue!$P$2)","v":137.88400000000001},{"$f":"+INDEX(D2509:AF2509,1,aux_pr_ue!$Q$2)","v":0}]
["Feed Maize1994/06","Feed Maize","1994/06",138.23179999999999,132.84100000000001,null,null,null,135.87122000000002,null,null,135.94600000000003,144.21544,136.53595000000004,null,130.7236,null,null,null,null,null,null,null,null,null,null,null,null,null,null,null,null,{"$f":"+INDEX(D2512:AF2512,1,aux_pr_ue!$P$2)","v":0},{"$f":"+INDEX(D2512:AF2512,1,aux_pr_ue!$Q$2)","v":0}]
["Feed Maize1994/05","Feed Maize","1994/05",139.16300000000001,null,null,null,null,139.28607142857143,null,null,146.03149999999999,144.12021999999999,135.66226666666668,null,132.90943750000002,null,null,null,null,null,null,null,null,null,null,null,null,null,null,null,null,{"$f":"+INDEX(D2513:AF2513,1,aux_pr_ue!$P$2)","v":0},{"$f":"+INDEX(D2513:AF2513,1,aux_pr_ue!$Q$2)","v":0}]
["Feed Maize1994/03","Feed Maize","1994/03",132.35750000000002,null,null,null,null,125.55735000000001,null,null,148.84443333333331,138.19786000000002,128.54357142857145,null,128.97246250000001,null,null,null,null,null,null,null,null,null,null,null,null,null,null,null,null,{"$f":"+INDEX(D2515:AF2515,1,aux_pr_ue!$P$2)","v":0},{"$f":"+INDEX(D2515:AF2515,1,aux_pr_ue!$Q$2)","v":0}]
["Feed Maize1994/02","Feed Maize","1994/02",132.7235,null,null,null,null,122.30053749999999,null,null,145.4778,139.88666000000001,124.28241111111112,null,129.65086249999999,null,null,null,null,null,null,null,null,null,null,null,null,null,null,null,null,{"$f":"+INDEX(D2516:AF2516,1,aux_pr_ue!$P$2)","v":0},{"$f":"+INDEX(D2516:AF2516,1,aux_pr_ue!$Q$2)","v":0}]
["Feed Maize1993/11","Feed Maize","1993/11",129.24520000000001,null,null,null,null,114.68642499999999,null,null,143.04533333333333,138.02089000000007,120.10301428571429,null,134.86716250000001,null,null,null,null,null,null,null,null,null,null,null,null,null,null,null,null,{"$f":"+INDEX(D2519:AF2519,1,aux_pr_ue!$P$2)","v":0},{"$f":"+INDEX(D2519:AF2519,1,aux_pr_ue!$Q$2)","v":0}]
["Feed Maize1993/10","Feed Maize","1993/10",131.97040000000001,null,null,null,null,114.88943750000001,null,null,143.40742,145.87066999999999,115.99235000000002,null,133.645275,null,null,null,null,null,null,null,null,null,141.39000000000001,null,null,null,null,null,null,{"$f":"+INDEX(D2520:AF2520,1,aux_pr_ue!$P$2)","v":141.39000000000001},{"$f":"+INDEX(D2520:AF2520,1,aux_pr_ue!$Q$2)","v":0}]
["Feed Maize1993/07","Feed Maize","1993/07",177.40260000000001,null,null,null,null,168.40062499999999,null,null,194.321,185.18856,159.29073333333332,null,178.98311250000003,null,null,null,null,null,null,null,null,null,null,null,null,null,null,null,null,{"$f":"+INDEX(D2523:AF2523,1,aux_pr_ue!$P$2)","v":0},{"$f":"+INDEX(D2523:AF2523,1,aux_pr_ue!$Q$2)","v":0}]
["Feed Maize1993/06","Feed Maize","1993/06",170.417,null,null,null,null,165.141775,null,null,null,181.80120000000002,162.25077142857143,null,162.72919999999999,null,null,null,null,null,null,null,null,null,null,null,null,null,null,null,null,{"$f":"+INDEX(D2524:AF2524,1,aux_pr_ue!$P$2)","v":0},{"$f":"+INDEX(D2524:AF2524,1,aux_pr_ue!$Q$2)","v":0}]
["Feed Maize1993/03","Feed Maize","1993/03",161.08690000000001,null,null,null,null,155.98909999999998,null,null,173.99633333333335,163.82275999999999,158.84509,null,163.53399999999999,null,null,null,null,null,null,null,null,null,null,null,null,null,null,null,null,{"$f":"+INDEX(D2527:AF2527,1,aux_pr_ue!$P$2)","v":0},{"$f":"+INDEX(D2527:AF2527,1,aux_pr_ue!$Q$2)","v":0}]
["Feed Maize1993/02","Feed Maize","1993/02",157.60740000000001,null,null,null,null,155.62117000000001,null,null,160.571,163.82894000000002,154.85148888888887,null,152.93141249999999,null,null,null,null,null,null,null,null,null,null,null,null,null,null,null,null,{"$f":"+INDEX(D2528:AF2528,1,aux_pr_ue!$P$2)","v":0},{"$f":"+INDEX(D2528:AF2528,1,aux_pr_ue!$Q$2)","v":0}]
["Feed Maize1992/11","Feed Maize","1992/11",158.2141,null,null,null,null,150.1418888888889,null,null,null,171.69373999999999,151.96074285714286,null,150.9267375,null,null,null,null,null,null,null,null,null,null,null,null,null,null,null,null,{"$f":"+INDEX(D2531:AF2531,1,aux_pr_ue!$P$2)","v":0},{"$f":"+INDEX(D2531:AF2531,1,aux_pr_ue!$Q$2)","v":0}]
["Feed Maize1992/10","Feed Maize","1992/10",156.5137,null,null,null,null,150.18933333333337,null,182.86850000000004,null,166.09108000000001,149.37102727272728,null,152.11188750000002,null,null,null,null,null,null,null,null,null,160.9496,null,null,null,null,null,null,{"$f":"+INDEX(D2532:AF2532,1,aux_pr_ue!$P$2)","v":160.9496},{"$f":"+INDEX(D2532:AF2532,1,aux_pr_ue!$Q$2)","v":0}]
["Feed Maize1992/07","Feed Maize","1992/07",167.31470000000002,null,null,null,null,163.970325,null,191.62623333333332,null,173.99072000000001,163.69286363636363,null,158.6760625,null,null,null,null,null,null,null,null,null,null,null,null,null,null,null,null,{"$f":"+INDEX(D2535:AF2535,1,aux_pr_ue!$P$2)","v":0},{"$f":"+INDEX(D2535:AF2535,1,aux_pr_ue!$Q$2)","v":0}]
["Feed Maize1992/06","Feed Maize","1992/06",170.87200000000001,null,null,null,null,166.05690000000001,null,193.2619,null,174.81258999999997,166.28559090909093,null,169.0944857142857,null,null,null,null,null,null,null,null,null,null,null,null,null,null,null,null,{"$f":"+INDEX(D2536:AF2536,1,aux_pr_ue!$P$2)","v":0},{"$f":"+INDEX(D2536:AF2536,1,aux_pr_ue!$Q$2)","v":0}]
["Feed Maize1992/03","Feed Maize","1992/03",174.66,null,null,null,null,168.2081,null,190.17186666666669,null,176.81005999999999,168.02414999999999,null,182.08004285714287,null,null,null,null,null,null,null,null,null,null,null,null,null,null,null,null,{"$f":"+INDEX(D2539:AF2539,1,aux_pr_ue!$P$2)","v":0},{"$f":"+INDEX(D2539:AF2539,1,aux_pr_ue!$Q$2)","v":0}]
["Feed Maize1992/02","Feed Maize","1992/02",174.97040000000001,null,null,null,null,169.55973333333336,null,190.1164666666667,null,177.35247000000001,167.36565454545456,null,182.77685714285718,null,null,null,null,null,null,null,null,null,null,null,null,null,null,null,null,{"$f":"+INDEX(D2540:AF2540,1,aux_pr_ue!$P$2)","v":0},{"$f":"+INDEX(D2540:AF2540,1,aux_pr_ue!$Q$2)","v":0}]
["Feed Maize1991/11","Feed Maize","1991/11",173.4674,null,null,null,null,166.19268571428572,null,184.54589999999999,159.976,172.02611000000002,163.85704444444445,null,186.47225,null,null,null,null,null,null,null,null,null,null,null,null,null,null,null,null,{"$f":"+INDEX(D2543:AF2543,1,aux_pr_ue!$P$2)","v":0},{"$f":"+INDEX(D2543:AF2543,1,aux_pr_ue!$Q$2)","v":0}]
["Feed Maize1991/10","Feed Maize","1991/10",174.35890000000001,null,null,null,null,168.18213333333335,null,197.56300000000002,154.68766666666667,176.52633,161.87378999999999,null,178.43983750000001,null,null,null,null,null,null,null,null,null,null,null,null,null,null,null,null,{"$f":"+INDEX(D2544:AF2544,1,aux_pr_ue!$P$2)","v":0},{"$f":"+INDEX(D2544:AF2544,1,aux_pr_ue!$Q$2)","v":0}]
["Feed Maize1991/08","Feed Maize","1991/08",194.48600000000002,null,null,null,null,null,null,235.53305000000003,null,205.44227000000001,163.35509000000002,null,222.31092857142858,null,null,null,null,null,null,null,null,null,null,null,null,null,null,null,null,{"$f":"+INDEX(D2546:AF2546,1,aux_pr_ue!$P$2)","v":0},{"$f":"+INDEX(D2546:AF2546,1,aux_pr_ue!$Q$2)","v":0}]
["Feed Maize1991/07","Feed Maize","1991/07",212.88490000000002,null,null,null,null,217.52780000000001,null,236.75653333333335,220.13249999999999,215.51330000000002,184.98862222222226,null,225.93620000000004,null,null,null,null,null,null,null,null,null,null,null,null,null,null,null,null,{"$f":"+INDEX(D2547:AF2547,1,aux_pr_ue!$P$2)","v":0},{"$f":"+INDEX(D2547:AF2547,1,aux_pr_ue!$Q$2)","v":0}]
["Feed Maize1991/04","Feed Maize","1991/04",207.83410000000001,null,null,null,null,198.81883333333334,null,230.47293333333332,null,199.2277,211.37116153846154,null,224.105075,null,null,null,null,null,null,null,null,null,null,null,null,null,null,null,null,{"$f":"+INDEX(D2550:AF2550,1,aux_pr_ue!$P$2)","v":0},{"$f":"+INDEX(D2550:AF2550,1,aux_pr_ue!$Q$2)","v":0}]
["Feed Maize1991/03","Feed Maize","1991/03",203.50370000000001,null,null,null,null,197.7134375,null,220.39897999999999,216.946,191.51341000000002,206.34922500000002,null,215.94770000000003,null,null,null,null,null,null,null,null,null,null,null,null,null,null,null,null,{"$f":"+INDEX(D2551:AF2551,1,aux_pr_ue!$P$2)","v":0},{"$f":"+INDEX(D2551:AF2551,1,aux_pr_ue!$Q$2)","v":0}]
["Feed Oats2017/07","Feed Oats","2017/07",136.0849,165,null,null,null,165,115,null,null,null,null,131.18690000000001,null,null,null,null,null,null,null,null,150,null,150,null,null,null,130.3485,null,null,{"$f":"+INDEX(D2554:AF2554,1,aux_pr_ue!$P$2)","v":150},{"$f":"+INDEX(D2554:AF2554,1,aux_pr_ue!$Q$2)","v":130.3485}]
["Feed Oats2017/06","Feed Oats","2017/06",140.0797,165,null,null,null,178,111.9667,null,null,null,null,131.43430000000001,null,null,130,133.1,null,null,null,null,152.125,null,150,null,null,null,130.96156666666667,null,null,{"$f":"+INDEX(D2555:AF2555,1,aux_pr_ue!$P$2)","v":150},{"$f":"+INDEX(D2555:AF2555,1,aux_pr_ue!$Q$2)","v":130.96156666666667}]
["Feed Oats2017/03","Feed Oats","2017/03",142.79900000000001,167.6129,null,null,null,158,79,null,null,null,null,131.30070000000001,null,null,100.5,null,null,null,null,null,null,null,null,null,null,null,135.13419999999999,null,null,{"$f":"+INDEX(D2558:AF2558,1,aux_pr_ue!$P$2)","v":0},{"$f":"+INDEX(D2558:AF2558,1,aux_pr_ue!$Q$2)","v":135.13419999999999}]
["Feed Oats2017/02","Feed Oats","2017/02",148.9315,170,null,null,null,169.33333333333334,108.4286,null,null,null,null,132.5386,null,null,null,135.0317,null,null,null,null,152.5,null,null,null,null,null,135.3047333333333,null,null,{"$f":"+INDEX(D2559:AF2559,1,aux_pr_ue!$P$2)","v":0},{"$f":"+INDEX(D2559:AF2559,1,aux_pr_ue!$Q$2)","v":135.3047333333333}]
["Feed Oats2016/11","Feed Oats","2016/11",135.5727,186,null,null,null,171.48333333333335,111.369,null,null,null,null,135.28570000000002,null,null,100.75106666666666,118.26530000000001,null,null,null,null,141.25,null,null,null,null,null,127.45553333333334,null,117.8837,{"$f":"+INDEX(D2562:AF2562,1,aux_pr_ue!$P$2)","v":0},{"$f":"+INDEX(D2562:AF2562,1,aux_pr_ue!$Q$2)","v":127.45553333333334}]
["Feed Oats2016/10","Feed Oats","2016/10",129.90300000000002,190,null,null,null,175,110.7029,null,null,null,null,null,null,null,94.841766666666672,108.3382,null,null,null,null,140.08335,null,null,null,null,null,124.01503333333335,null,117.8837,{"$f":"+INDEX(D2563:AF2563,1,aux_pr_ue!$P$2)","v":0},{"$f":"+INDEX(D2563:AF2563,1,aux_pr_ue!$Q$2)","v":124.01503333333335}]
["Feed Oats2016/07","Feed Oats","2016/07",137.95740000000001,183,null,null,null,165.66666666666666,105,null,null,null,null,120.1892,null,null,116.5,null,null,null,null,null,null,null,165,null,null,null,128.01073333333332,null,113.0009,{"$f":"+INDEX(D2566:AF2566,1,aux_pr_ue!$P$2)","v":165},{"$f":"+INDEX(D2566:AF2566,1,aux_pr_ue!$Q$2)","v":128.01073333333332}]
["Feed Oats2016/06","Feed Oats","2016/06",145.9076,183,null,null,null,173,110.83330000000001,null,null,null,null,null,null,null,126.5,100.47,null,null,null,null,141.14585,null,null,null,null,null,127.27776666666666,null,null,{"$f":"+INDEX(D2567:AF2567,1,aux_pr_ue!$P$2)","v":0},{"$f":"+INDEX(D2567:AF2567,1,aux_pr_ue!$Q$2)","v":127.27776666666666}]
["Feed Oats2016/03","Feed Oats","2016/03",143.99350000000001,188.69625000000002,null,null,null,146.66666666666666,null,null,null,null,null,168.17910000000001,null,null,124.2,110.37280000000001,null,null,null,null,135.25,null,null,null,null,null,128.06986666666668,null,121.9042,{"$f":"+INDEX(D2570:AF2570,1,aux_pr_ue!$P$2)","v":0},{"$f":"+INDEX(D2570:AF2570,1,aux_pr_ue!$Q$2)","v":128.06986666666668}]
["Feed Oats2016/02","Feed Oats","2016/02",146.74460000000002,187.58620000000002,null,null,null,158.75,114,null,null,null,null,null,null,null,109.9486,106.69,null,null,null,null,143.79545000000002,null,null,null,null,null,134.03446666666667,null,122.77760000000001,{"$f":"+INDEX(D2571:AF2571,1,aux_pr_ue!$P$2)","v":0},{"$f":"+INDEX(D2571:AF2571,1,aux_pr_ue!$Q$2)","v":134.03446666666667}]
["Feed Oats2015/11","Feed Oats","2015/11",137.98740000000001,172.18180000000001,null,null,null,177,117.72240000000001,null,null,null,null,151.4667,null,null,116.24026666666668,141.95440000000002,null,null,null,null,null,122.8537,null,null,null,null,139.99596666666667,null,142.62139999999999,{"$f":"+INDEX(D2574:AF2574,1,aux_pr_ue!$P$2)","v":0},{"$f":"+INDEX(D2574:AF2574,1,aux_pr_ue!$Q$2)","v":139.99596666666667}]
["Feed Oats2015/10","Feed Oats","2015/10",136.88330000000002,173.09674999999999,null,null,null,180,119.71550000000001,null,null,null,null,151.4667,null,null,117.68829999999998,132.40389999999999,null,null,null,null,147.5,119.0676,null,null,null,null,135.2903,null,123.78530000000001,{"$f":"+INDEX(D2575:AF2575,1,aux_pr_ue!$P$2)","v":0},{"$f":"+INDEX(D2575:AF2575,1,aux_pr_ue!$Q$2)","v":135.2903}]
["Feed Oats2015/07","Feed Oats","2015/07",131.12860000000001,175,null,null,null,177.846475,98.395800000000008,null,null,null,null,128.19800000000001,null,null,98.875,102.33760000000001,null,null,null,null,null,109.52530000000002,null,null,null,null,126.03230000000001,null,148.6293,{"$f":"+INDEX(D2578:AF2578,1,aux_pr_ue!$P$2)","v":0},{"$f":"+INDEX(D2578:AF2578,1,aux_pr_ue!$Q$2)","v":126.03230000000001}]
["Feed Oats2015/06","Feed Oats","2015/06",136.54170000000002,175,null,null,null,162.91666666666666,103.855,null,null,null,null,null,null,null,95,113.3583,null,null,null,null,136.5,109.67095,null,null,null,null,125,null,130.55090000000001,{"$f":"+INDEX(D2579:AF2579,1,aux_pr_ue!$P$2)","v":0},{"$f":"+INDEX(D2579:AF2579,1,aux_pr_ue!$Q$2)","v":125}]
["Feed Oats2015/04","Feed Oats","2015/04",142.6831,172.33330000000001,null,null,null,180.91300000000001,107.54770000000001,null,null,null,null,147.73609999999999,null,null,103.70625000000001,130.93800000000002,null,null,null,null,139,124.9282,null,null,null,null,125,null,132.38470000000001,{"$f":"+INDEX(D2581:AF2581,1,aux_pr_ue!$P$2)","v":0},{"$f":"+INDEX(D2581:AF2581,1,aux_pr_ue!$Q$2)","v":125}]
["Feed Oats2015/03","Feed Oats","2015/03",141.02430000000001,170,null,null,null,173.26612499999999,105.5797,null,null,null,null,147.73609999999999,null,null,103.987925,122.84410000000001,null,null,null,null,137.5,null,null,null,null,null,126.61290000000001,null,130.6609,{"$f":"+INDEX(D2582:AF2582,1,aux_pr_ue!$P$2)","v":0},{"$f":"+INDEX(D2582:AF2582,1,aux_pr_ue!$Q$2)","v":126.61290000000001}]
["Feed Oats2014/12","Feed Oats","2014/12",135.7901,166.25,null,null,null,180.41935000000001,97.234999999999999,null,null,null,null,null,null,null,111.05595,110.2283,null,null,null,null,132.5,101.11060000000001,null,null,null,null,123.6452,146.47499999999999,114.66840000000001,{"$f":"+INDEX(D2585:AF2585,1,aux_pr_ue!$P$2)","v":0},{"$f":"+INDEX(D2585:AF2585,1,aux_pr_ue!$Q$2)","v":123.6452}]
["Feed Oats2014/11","Feed Oats","2014/11",126.78290000000001,169.26670000000001,null,null,null,173.88335000000001,98.241700000000009,null,null,null,null,null,null,null,97.924166666666679,108.6511,null,null,null,null,130.9375,99.901550000000015,null,null,null,null,111,141.34450000000001,113.03440000000001,{"$f":"+INDEX(D2586:AF2586,1,aux_pr_ue!$P$2)","v":0},{"$f":"+INDEX(D2586:AF2586,1,aux_pr_ue!$Q$2)","v":111}]
["Feed Oats2014/08","Feed Oats","2014/08",115.11890000000001,172,null,null,null,168.20835,93.469400000000007,null,null,null,null,138.5472,null,null,86.204050000000009,82.675700000000006,null,null,null,null,147.5,101.09116666666667,null,null,null,null,124.2903,null,null,{"$f":"+INDEX(D2589:AF2589,1,aux_pr_ue!$P$2)","v":0},{"$f":"+INDEX(D2589:AF2589,1,aux_pr_ue!$Q$2)","v":124.2903}]
["Feed Oats2014/07","Feed Oats","2014/07",123.03960000000001,184,null,null,null,177.27083333333334,106.67230000000001,null,null,null,null,136.07670000000002,null,null,80,116.06670000000001,null,null,null,null,167.5,110.06803333333335,null,null,null,null,125,null,null,{"$f":"+INDEX(D2590:AF2590,1,aux_pr_ue!$P$2)","v":0},{"$f":"+INDEX(D2590:AF2590,1,aux_pr_ue!$Q$2)","v":125}]
["Feed Oats2014/04","Feed Oats","2014/04",146.8312,180.8,null,null,null,181.36233333333334,112.0047,null,null,null,null,null,null,null,120,107.2766,null,null,null,null,172.5,132.41900000000001,null,null,null,null,125,156.6319,null,{"$f":"+INDEX(D2593:AF2593,1,aux_pr_ue!$P$2)","v":0},{"$f":"+INDEX(D2593:AF2593,1,aux_pr_ue!$Q$2)","v":125}]
["Feed Oats2014/03","Feed Oats","2014/03",150.4751,176.6129,null,null,null,177.48082500000001,105.4529,null,null,null,null,null,null,null,155.405,119.34180000000001,null,null,null,null,175,128.04855000000001,null,null,null,null,125,160.87990000000002,null,{"$f":"+INDEX(D2594:AF2594,1,aux_pr_ue!$P$2)","v":0},{"$f":"+INDEX(D2594:AF2594,1,aux_pr_ue!$Q$2)","v":125}]
["Feed Oats2013/12","Feed Oats","2013/12",142.142,168.68,null,null,null,175.625,105.599,null,null,null,null,165.2183,null,null,111.72225,113.3507,null,null,null,null,177.5,127.6153,null,null,null,155,125,152.34829999999999,null,{"$f":"+INDEX(D2597:AF2597,1,aux_pr_ue!$P$2)","v":0},{"$f":"+INDEX(D2597:AF2597,1,aux_pr_ue!$Q$2)","v":125}]
["Feed Oats2013/11","Feed Oats","2013/11",132.92870000000002,165.43835000000001,null,null,null,179.63045,105.16070000000001,null,null,null,null,157.42930000000001,null,null,98.841200000000015,104.03230000000001,null,null,null,null,176.34615000000002,123.75730000000001,null,null,null,null,125,148.94670000000002,null,{"$f":"+INDEX(D2598:AF2598,1,aux_pr_ue!$P$2)","v":0},{"$f":"+INDEX(D2598:AF2598,1,aux_pr_ue!$Q$2)","v":125}]
["Feed Oats2013/08","Feed Oats","2013/08",128.3852,165,null,null,null,198.54840000000002,126.4979,null,null,null,null,149.50925000000001,null,null,96.626466666666673,97.165599999999998,null,null,null,null,null,89.720100000000002,null,null,null,120.68400000000001,161.54840000000002,null,null,{"$f":"+INDEX(D2601:AF2601,1,aux_pr_ue!$P$2)","v":0},{"$f":"+INDEX(D2601:AF2601,1,aux_pr_ue!$Q$2)","v":161.54840000000002}]
["Feed Oats2013/07","Feed Oats","2013/07",156.0642,204.5882,null,null,null,200.33333333333334,123.52940000000001,null,null,null,null,null,null,null,106.75070000000001,125.64800000000001,null,null,null,null,null,123.09733333333334,null,null,null,230,167.3871,null,null,{"$f":"+INDEX(D2602:AF2602,1,aux_pr_ue!$P$2)","v":0},{"$f":"+INDEX(D2602:AF2602,1,aux_pr_ue!$Q$2)","v":167.3871}]
["Feed Oats2013/04","Feed Oats","2013/04",187.9263,227.5667,null,null,null,218.125,175.4,null,null,null,null,null,null,null,145.10120000000001,155.7911,null,null,null,null,195,146.73596666666668,null,null,null,190,181.14443333333335,186.1994,null,{"$f":"+INDEX(D2605:AF2605,1,aux_pr_ue!$P$2)","v":0},{"$f":"+INDEX(D2605:AF2605,1,aux_pr_ue!$Q$2)","v":181.14443333333335}]
["Feed Oats2013/03","Feed Oats","2013/03",189.262,228,null,null,null,211.98137500000001,163.16670000000002,null,null,null,null,null,null,null,147.94092500000002,153.04730000000001,null,null,null,null,200,152.62593333333334,null,null,null,173,188.17743333333337,188.76940000000002,null,{"$f":"+INDEX(D2606:AF2606,1,aux_pr_ue!$P$2)","v":0},{"$f":"+INDEX(D2606:AF2606,1,aux_pr_ue!$Q$2)","v":188.17743333333337}]
["Feed Oats2012/12","Feed Oats","2012/12",187.85820000000001,235.73080000000002,null,null,null,241.16666666666666,177.23350000000002,null,null,null,null,null,null,null,171.07762500000001,144.33260000000001,null,null,null,null,195,164.46173333333334,null,null,null,170,190.33333333333334,193.14420000000001,null,{"$f":"+INDEX(D2609:AF2609,1,aux_pr_ue!$P$2)","v":0},{"$f":"+INDEX(D2609:AF2609,1,aux_pr_ue!$Q$2)","v":190.33333333333334}]
["Feed Oats2012/11","Feed Oats","2012/11",189.64420000000001,238.8,null,null,null,231.8125,181.54090000000002,null,null,null,null,null,null,null,162.51160000000002,138.96880000000002,null,null,null,null,197.55555000000001,159.93606666666668,null,null,null,185.3125,189.24443333333332,193.1369,null,{"$f":"+INDEX(D2610:AF2610,1,aux_pr_ue!$P$2)","v":0},{"$f":"+INDEX(D2610:AF2610,1,aux_pr_ue!$Q$2)","v":189.24443333333332}]
["Feed Oats2012/09","Feed Oats","2012/09",188.0822,263.46665000000002,null,null,null,228.76667499999999,171.6653,null,null,null,null,null,null,null,146.42665,138.33340000000001,null,null,null,null,191.75,156.95616666666669,null,null,null,160.13740000000001,193.2404333333333,187.14410000000001,null,{"$f":"+INDEX(D2612:AF2612,1,aux_pr_ue!$P$2)","v":0},{"$f":"+INDEX(D2612:AF2612,1,aux_pr_ue!$Q$2)","v":193.2404333333333}]
["Feed Oats2012/08","Feed Oats","2012/08",178.95860000000002,265,null,null,null,229.71653333333336,166.5933,null,null,null,null,null,null,null,160.83336666666665,148.5137,null,null,null,null,180,155.91386666666668,null,null,null,176.5625,190.4385,null,null,{"$f":"+INDEX(D2613:AF2613,1,aux_pr_ue!$P$2)","v":0},{"$f":"+INDEX(D2613:AF2613,1,aux_pr_ue!$Q$2)","v":190.4385}]
["Feed Oats2012/05","Feed Oats","2012/05",189.19500000000002,228.32260000000002,null,null,null,220.53017499999999,170,null,null,null,null,null,null,null,153.05840000000001,167.18460000000002,null,null,null,null,null,169.18556666666666,null,null,null,173,175.86019999999999,182.8467,null,{"$f":"+INDEX(D2616:AF2616,1,aux_pr_ue!$P$2)","v":0},{"$f":"+INDEX(D2616:AF2616,1,aux_pr_ue!$Q$2)","v":175.86019999999999}]
["Feed Oats2012/04","Feed Oats","2012/04",189.82920000000001,225,null,null,null,222.9058,170,null,null,null,null,null,null,null,167.02170000000001,197.22300000000001,null,null,null,null,null,166.14770000000001,null,null,null,170.9091,176,180.50310000000002,null,{"$f":"+INDEX(D2617:AF2617,1,aux_pr_ue!$P$2)","v":0},{"$f":"+INDEX(D2617:AF2617,1,aux_pr_ue!$Q$2)","v":176}]
["Feed Oats2012/01","Feed Oats","2012/01",178.55500000000001,225.83870000000002,null,null,null,214.69443333333334,142.55000000000001,null,null,null,null,null,null,null,114.289,146.7347,null,null,null,null,180,145.98929999999999,null,null,null,148.8706,171.67303333333334,174.70930000000001,null,{"$f":"+INDEX(D2620:AF2620,1,aux_pr_ue!$P$2)","v":0},{"$f":"+INDEX(D2620:AF2620,1,aux_pr_ue!$Q$2)","v":171.67303333333334}]
["Feed Oats2011/12","Feed Oats","2011/12",173.59870000000001,228.16130000000001,null,null,null,216.08333333333334,143,null,null,null,null,null,null,null,113.21415,160.51130000000001,null,null,null,null,180,134.85026666666667,null,null,null,152.35480000000001,167.3709666666667,170.7133,null,{"$f":"+INDEX(D2621:AF2621,1,aux_pr_ue!$P$2)","v":0},{"$f":"+INDEX(D2621:AF2621,1,aux_pr_ue!$Q$2)","v":167.3709666666667}]
["Feed Oats2011/09","Feed Oats","2011/09",163.08029999999999,242.2,null,null,null,209.76666666666665,154.67439999999999,null,null,null,null,null,null,null,117.00537500000002,139.4349,null,null,null,null,179.75,130.44686666666666,null,null,null,148.959,165.02220000000003,166.28790000000001,null,{"$f":"+INDEX(D2624:AF2624,1,aux_pr_ue!$P$2)","v":0},{"$f":"+INDEX(D2624:AF2624,1,aux_pr_ue!$Q$2)","v":165.02220000000003}]
["Feed Oats2011/08","Feed Oats","2011/08",153.1063,237.25,null,null,null,226.70589999999999,142.61000000000001,null,null,null,null,null,null,null,111.63265999999999,138.98070000000001,null,null,null,null,172.5,133.46286666666666,null,null,null,125.85,158.21439999999998,null,null,{"$f":"+INDEX(D2625:AF2625,1,aux_pr_ue!$P$2)","v":0},{"$f":"+INDEX(D2625:AF2625,1,aux_pr_ue!$Q$2)","v":158.21439999999998}]
["Feed Oats2011/05","Feed Oats","2011/05",195.7654,225.96770000000001,null,null,null,233.125,167,null,null,null,null,null,null,null,null,172.5984,null,null,null,null,null,169.69153333333335,null,null,null,null,174.15686666666667,189.4956,null,{"$f":"+INDEX(D2628:AF2628,1,aux_pr_ue!$P$2)","v":0},{"$f":"+INDEX(D2628:AF2628,1,aux_pr_ue!$Q$2)","v":174.15686666666667}]
["Feed Oats2011/04","Feed Oats","2011/04",192.39450000000002,225,null,null,null,223.33333333333334,153.84620000000001,null,null,null,null,null,null,null,null,null,null,null,null,null,null,168.74250000000001,null,null,null,160,171.58680000000001,191.47300000000001,null,{"$f":"+INDEX(D2629:AF2629,1,aux_pr_ue!$P$2)","v":0},{"$f":"+INDEX(D2629:AF2629,1,aux_pr_ue!$Q$2)","v":171.58680000000001}]
["Feed Oats2011/01","Feed Oats","2011/01",188.0241,212.8443,null,null,null,227.03604999999999,141.49700000000001,null,null,null,null,null,null,null,101.4636,158.1181,null,null,null,null,181.66670000000002,155.89483333333337,null,null,null,175,179.50289999999998,188.8434,null,{"$f":"+INDEX(D2632:AF2632,1,aux_pr_ue!$P$2)","v":0},{"$f":"+INDEX(D2632:AF2632,1,aux_pr_ue!$Q$2)","v":179.50289999999998}]
["Feed Oats2010/12","Feed Oats","2010/12",168.73869999999999,199.72415000000001,null,115.4696,null,195.63140000000001,119.6935,null,null,null,null,null,null,null,101.4636,135.3981,null,null,null,null,167.5,122.78006666666668,null,null,null,157,170.20613333333333,173.93620000000001,null,{"$f":"+INDEX(D2633:AF2633,1,aux_pr_ue!$P$2)","v":0},{"$f":"+INDEX(D2633:AF2633,1,aux_pr_ue!$Q$2)","v":170.20613333333333}]
["Feed Oats2010/09","Feed Oats","2010/09",130.91580000000002,175.83330000000001,null,105.4042,null,193.33335,109.5335,null,null,null,null,null,null,null,85.393859999999989,97.543599999999998,null,null,null,null,120,91.183566666666664,null,null,null,126.435,163.2139,155.4161,null,{"$f":"+INDEX(D2636:AF2636,1,aux_pr_ue!$P$2)","v":0},{"$f":"+INDEX(D2636:AF2636,1,aux_pr_ue!$Q$2)","v":163.2139}]
["Feed Oats2010/08","Feed Oats","2010/08",110.96780000000001,154.61539999999999,null,96.781600000000012,null,189.81479999999999,79.229900000000001,null,null,null,null,null,null,null,79.648250000000004,83.214300000000009,null,null,null,null,120,92.253766666666664,null,null,null,75.900000000000006,131.92403333333334,null,null,{"$f":"+INDEX(D2637:AF2637,1,aux_pr_ue!$P$2)","v":0},{"$f":"+INDEX(D2637:AF2637,1,aux_pr_ue!$Q$2)","v":131.92403333333334}]
["Feed Oats2010/05","Feed Oats","2010/05",87.885199999999998,107.2097,null,null,null,112.46527500000001,60.7654,null,null,null,null,null,null,null,67.105000000000004,67.147500000000008,null,null,null,null,null,69.299466666666675,null,null,null,82.5,83.74730000000001,94.061700000000002,null,{"$f":"+INDEX(D2640:AF2640,1,aux_pr_ue!$P$2)","v":0},{"$f":"+INDEX(D2640:AF2640,1,aux_pr_ue!$Q$2)","v":83.74730000000001}]
["Feed Oats2010/04","Feed Oats","2010/04",84.900100000000009,104.13330000000001,null,null,null,104.739125,59.0991,null,null,null,null,null,null,null,81.073300000000003,70.009700000000009,null,null,null,null,85,70.352400000000003,null,null,null,100,82.898533333333333,92.211700000000008,null,{"$f":"+INDEX(D2641:AF2641,1,aux_pr_ue!$P$2)","v":0},{"$f":"+INDEX(D2641:AF2641,1,aux_pr_ue!$Q$2)","v":82.898533333333333}]
["Feed Oats2010/01","Feed Oats","2010/01",85.31880000000001,108.56,null,null,null,110.4049,57.520500000000006,null,null,null,null,null,null,null,77.625700000000009,48.448700000000002,null,null,null,null,80.5,69.040400000000005,null,null,null,75,80.759366666666665,88.865700000000004,null,{"$f":"+INDEX(D2644:AF2644,1,aux_pr_ue!$P$2)","v":0},{"$f":"+INDEX(D2644:AF2644,1,aux_pr_ue!$Q$2)","v":80.759366666666665}]
["Feed Oats2009/12","Feed Oats","2009/12",78.494799999999998,108.21195,null,null,null,104.14583333333333,60.971900000000005,null,null,null,null,null,null,null,67.793599999999998,48.561800000000005,null,null,null,null,82,60.081133333333334,null,null,null,null,79.519900000000007,88.366500000000002,null,{"$f":"+INDEX(D2645:AF2645,1,aux_pr_ue!$P$2)","v":0},{"$f":"+INDEX(D2645:AF2645,1,aux_pr_ue!$Q$2)","v":79.519900000000007}]
["Feed Oats2009/10","Feed Oats","2009/10",79.705700000000007,108.4516,null,78.359000000000009,null,110.16935000000001,56.876200000000004,null,null,null,null,null,null,null,59.8855,50.4544,null,null,null,null,85,71.568000000000012,null,null,null,75,76.276466666666664,88.46820000000001,null,{"$f":"+INDEX(D2647:AF2647,1,aux_pr_ue!$P$2)","v":0},{"$f":"+INDEX(D2647:AF2647,1,aux_pr_ue!$Q$2)","v":76.276466666666664}]
["Feed Oats2009/09","Feed Oats","2009/09",78.365700000000004,110.83335,null,78.934400000000011,null,116.83696666666667,62.761900000000004,null,null,null,null,null,null,null,60.259599999999999,47.075400000000002,null,null,null,null,85,69.951449999999994,null,null,null,null,78.543333333333337,89.940200000000004,null,{"$f":"+INDEX(D2648:AF2648,1,aux_pr_ue!$P$2)","v":0},{"$f":"+INDEX(D2648:AF2648,1,aux_pr_ue!$Q$2)","v":78.543333333333337}]
["Feed Oats2009/06","Feed Oats","2009/06",99.864100000000008,121,null,null,null,135.02500000000001,70.991100000000003,null,null,null,null,null,null,null,90.969099999999997,70.198599999999999,null,null,null,null,114.5,76.631500000000003,null,null,null,null,89.386200000000017,null,null,{"$f":"+INDEX(D2651:AF2651,1,aux_pr_ue!$P$2)","v":0},{"$f":"+INDEX(D2651:AF2651,1,aux_pr_ue!$Q$2)","v":89.386200000000017}]
["Feed Oats2009/05","Feed Oats","2009/05",106.68900000000001,124.2903,null,null,null,124.75726,null,null,null,null,null,null,null,null,null,77.137900000000002,null,null,null,null,113.7941,76.059899999999999,null,null,null,null,86.264849999999996,98.522600000000011,null,{"$f":"+INDEX(D2652:AF2652,1,aux_pr_ue!$P$2)","v":0},{"$f":"+INDEX(D2652:AF2652,1,aux_pr_ue!$Q$2)","v":86.264849999999996}]
["Feed Oats2009/02","Feed Oats","2009/02",104.4564,130,null,null,null,141.07145,98.534000000000006,null,null,null,null,null,null,null,67.120199999999997,73.919200000000004,null,null,null,null,120,77.587800000000001,null,null,null,null,97.680766666666671,102.89570000000001,null,{"$f":"+INDEX(D2655:AF2655,1,aux_pr_ue!$P$2)","v":0},{"$f":"+INDEX(D2655:AF2655,1,aux_pr_ue!$Q$2)","v":97.680766666666671}]
["Feed Oats2009/01","Feed Oats","2009/01",112.7638,131.75,null,null,null,147.25805,84.585300000000004,null,null,null,null,null,null,null,null,89.185000000000002,null,null,null,null,122.5,78.849999999999994,null,null,null,null,98.193899999999999,103.65010000000001,null,{"$f":"+INDEX(D2656:AF2656,1,aux_pr_ue!$P$2)","v":0},{"$f":"+INDEX(D2656:AF2656,1,aux_pr_ue!$Q$2)","v":98.193899999999999}]
["Feed Oats2008/10","Feed Oats","2008/10",118.97320000000001,155.96770000000001,null,122.7402,null,152.55119999999999,103.85890000000001,null,null,null,null,null,null,null,90.299875000000014,94.431300000000007,null,null,null,null,154.21875,93.762500000000003,null,null,null,null,112.80693333333333,123.7406,106.2959,{"$f":"+INDEX(D2659:AF2659,1,aux_pr_ue!$P$2)","v":0},{"$f":"+INDEX(D2659:AF2659,1,aux_pr_ue!$Q$2)","v":112.80693333333333}]
["Feed Oats2008/09","Feed Oats","2008/09",126.51360000000001,167.63330000000002,null,130.48250000000002,null,149.8426,108.2645,null,null,null,null,null,null,null,93.990275000000011,95.311199999999999,null,null,null,null,163.125,123.2818,null,null,null,null,135.19466666666668,139.44810000000001,134.51230000000001,{"$f":"+INDEX(D2660:AF2660,1,aux_pr_ue!$P$2)","v":0},{"$f":"+INDEX(D2660:AF2660,1,aux_pr_ue!$Q$2)","v":135.19466666666668}]
["Feed Oats2008/06","Feed Oats","2008/06",160.4984,null,null,178.70700000000002,null,205,null,null,null,null,null,null,null,null,null,149.40530000000001,null,null,null,null,null,196.87270000000001,null,null,null,null,148.93215000000001,187.1455,null,{"$f":"+INDEX(D2663:AF2663,1,aux_pr_ue!$P$2)","v":0},{"$f":"+INDEX(D2663:AF2663,1,aux_pr_ue!$Q$2)","v":148.93215000000001}]
["Feed Oats2008/05","Feed Oats","2008/05",174.87370000000001,null,null,null,null,200,null,null,null,null,null,null,null,null,null,160.14860000000002,null,null,null,null,230,186.72690000000003,null,null,null,null,148.67000000000002,184.94050000000001,null,{"$f":"+INDEX(D2664:AF2664,1,aux_pr_ue!$P$2)","v":0},{"$f":"+INDEX(D2664:AF2664,1,aux_pr_ue!$Q$2)","v":148.67000000000002}]
["Feed Oats2008/02","Feed Oats","2008/02",177.50740000000002,null,null,null,null,214.41477500000002,127.31240000000001,null,null,null,null,null,null,null,159.38560000000001,152.42000000000002,null,null,null,null,233.60340000000002,168.48476666666667,null,null,null,null,159.3913666666667,197.928,null,{"$f":"+INDEX(D2667:AF2667,1,aux_pr_ue!$P$2)","v":0},{"$f":"+INDEX(D2667:AF2667,1,aux_pr_ue!$Q$2)","v":159.3913666666667}]
["Feed Oats2008/01","Feed Oats","2008/01",178.48610000000002,null,null,null,null,218.012775,133.05250000000001,null,null,null,null,null,null,null,147.12630000000001,145.59200000000001,null,null,null,null,230.44830000000002,167.59550000000002,null,null,null,null,151.37016666666668,192.6968,null,{"$f":"+INDEX(D2668:AF2668,1,aux_pr_ue!$P$2)","v":0},{"$f":"+INDEX(D2668:AF2668,1,aux_pr_ue!$Q$2)","v":151.37016666666668}]
["Feed Oats2007/10","Feed Oats","2007/10",176.40970000000002,null,null,163.1439,null,226.5224,134.14940000000001,null,null,null,null,null,null,null,131.77160000000001,155.1326,null,null,null,null,227.27420000000001,169.50366666666667,null,null,null,null,173.28263333333334,200.19760000000002,null,{"$f":"+INDEX(D2671:AF2671,1,aux_pr_ue!$P$2)","v":0},{"$f":"+INDEX(D2671:AF2671,1,aux_pr_ue!$Q$2)","v":173.28263333333334}]
["Feed Oats2007/09","Feed Oats","2007/09",162.79140000000001,null,null,147.32769999999999,null,214.88333333333333,130.62110000000001,null,null,null,null,null,null,null,122.40496,145.4211,null,null,null,null,198.6739,149.21086666666667,null,null,null,null,175.85509999999999,208.27630000000002,null,{"$f":"+INDEX(D2672:AF2672,1,aux_pr_ue!$P$2)","v":0},{"$f":"+INDEX(D2672:AF2672,1,aux_pr_ue!$Q$2)","v":175.85509999999999}]
["Feed Oats2007/06","Feed Oats","2007/06",143.6207,null,null,102.3219,null,190,95.228400000000008,null,null,null,null,null,null,null,102.68565000000001,null,null,null,null,null,155.5,null,null,null,null,null,125.565,null,null,{"$f":"+INDEX(D2675:AF2675,1,aux_pr_ue!$P$2)","v":0},{"$f":"+INDEX(D2675:AF2675,1,aux_pr_ue!$Q$2)","v":125.565}]
["Feed Oats2007/05","Feed Oats","2007/05",139.8407,null,null,109.238,null,193.58330000000001,95.228400000000008,null,null,null,null,null,null,null,86.083200000000005,null,null,null,null,null,155.5,null,null,null,null,null,127.15360000000003,null,null,{"$f":"+INDEX(D2676:AF2676,1,aux_pr_ue!$P$2)","v":0},{"$f":"+INDEX(D2676:AF2676,1,aux_pr_ue!$Q$2)","v":127.15360000000003}]
["Feed Oats2007/03","Feed Oats","2007/03",148.90890000000002,null,null,118.4175,null,193.09674999999999,null,null,null,null,null,null,null,null,96.715900000000005,144.3466,null,null,null,null,157.98390000000001,null,null,null,null,null,135.29363333333333,null,null,{"$f":"+INDEX(D2678:AF2678,1,aux_pr_ue!$P$2)","v":0},{"$f":"+INDEX(D2678:AF2678,1,aux_pr_ue!$Q$2)","v":135.29363333333333}]
["Feed Oats2007/02","Feed Oats","2007/02",147.27520000000001,null,null,112.4217,null,183.16666666666666,null,null,null,null,null,null,null,null,97.289400000000001,null,null,null,null,null,155.875,153.26230000000001,null,null,null,null,138.91083333333333,null,169.16679999999999,{"$f":"+INDEX(D2679:AF2679,1,aux_pr_ue!$P$2)","v":0},{"$f":"+INDEX(D2679:AF2679,1,aux_pr_ue!$Q$2)","v":138.91083333333333}]
["Feed Oats2006/11","Feed Oats","2006/11",122.2762,null,null,96.230800000000002,null,152.083325,83.150599999999997,null,null,null,null,null,null,null,81.036500000000004,95.118900000000011,null,null,null,null,140.2045,111.46905000000001,null,null,null,null,125.4391,137.62420000000003,null,{"$f":"+INDEX(D2682:AF2682,1,aux_pr_ue!$P$2)","v":0},{"$f":"+INDEX(D2682:AF2682,1,aux_pr_ue!$Q$2)","v":125.4391}]
["Feed Oats2006/10","Feed Oats","2006/10",108.0471,null,null,87.237499999999997,null,150.07690000000002,75.971000000000004,null,null,null,null,null,null,null,79.677225000000007,90.577300000000008,null,null,null,null,131.12,99.6815,null,null,null,null,113.2188,128.61930000000001,null,{"$f":"+INDEX(D2683:AF2683,1,aux_pr_ue!$P$2)","v":0},{"$f":"+INDEX(D2683:AF2683,1,aux_pr_ue!$Q$2)","v":113.2188}]
["Feed Oats2006/07","Feed Oats","2006/07",119.67490000000001,null,null,null,null,137.75,null,null,null,null,null,null,null,null,null,87.668000000000006,null,null,null,null,null,82.016500000000008,null,null,null,null,109.6,null,null,{"$f":"+INDEX(D2686:AF2686,1,aux_pr_ue!$P$2)","v":0},{"$f":"+INDEX(D2686:AF2686,1,aux_pr_ue!$Q$2)","v":109.6}]
["Feed Oats2006/06","Feed Oats","2006/06",110.10860000000001,null,null,93.745900000000006,null,134.75,108.6498,null,null,null,null,null,null,null,74.703400000000002,96.841700000000003,null,null,null,null,null,97.7547,null,null,null,null,111.89676666666666,null,null,{"$f":"+INDEX(D2687:AF2687,1,aux_pr_ue!$P$2)","v":0},{"$f":"+INDEX(D2687:AF2687,1,aux_pr_ue!$Q$2)","v":111.89676666666666}]
["Feed Oats2006/03","Feed Oats","2006/03",104.76520000000001,null,null,84.635400000000004,null,115.96614285714286,94.906800000000004,null,null,null,null,null,null,null,75.0565,65.989900000000006,null,null,null,null,102.5,77.728800000000007,null,null,null,null,107.40483333333334,105.03387499999999,134.59290000000001,{"$f":"+INDEX(D2690:AF2690,1,aux_pr_ue!$P$2)","v":0},{"$f":"+INDEX(D2690:AF2690,1,aux_pr_ue!$Q$2)","v":107.40483333333334}]
["Feed Oats2006/02","Feed Oats","2006/02",102.51100000000001,107.75,null,72.390100000000004,null,116,79.156199999999998,null,null,null,null,null,null,null,64.651200000000003,64.676299999999998,null,null,null,null,null,78.801400000000001,null,null,null,null,103.96976666666667,103.88990000000001,null,{"$f":"+INDEX(D2691:AF2691,1,aux_pr_ue!$P$2)","v":0},{"$f":"+INDEX(D2691:AF2691,1,aux_pr_ue!$Q$2)","v":103.96976666666667}]
["Feed Oats2005/11","Feed Oats","2005/11",92.601600000000005,100.86670000000001,null,68.349400000000003,null,102.70127142857142,70.819900000000004,null,null,null,null,null,null,null,67.131500000000003,61.499900000000004,null,null,null,null,86.833300000000008,68.262100000000004,null,null,null,null,95.116766666666663,98.332350000000005,null,{"$f":"+INDEX(D2694:AF2694,1,aux_pr_ue!$P$2)","v":0},{"$f":"+INDEX(D2694:AF2694,1,aux_pr_ue!$Q$2)","v":95.116766666666663}]
["Feed Oats2005/10","Feed Oats","2005/10",88.281199999999998,98.161300000000011,null,67.67710000000001,null,103.92338333333333,65.59790000000001,null,null,null,null,null,null,null,66.926474999999996,58.934000000000005,null,68.017899999999997,null,null,83.274200000000008,81.883600000000001,null,null,null,null,91.937599999999989,100.00640000000001,109.9178,{"$f":"+INDEX(D2695:AF2695,1,aux_pr_ue!$P$2)","v":0},{"$f":"+INDEX(D2695:AF2695,1,aux_pr_ue!$Q$2)","v":91.937599999999989}]
["Feed Oats2005/07","Feed Oats","2005/07",89.386099999999999,null,null,74.220200000000006,null,98.34854,null,null,null,null,null,null,null,null,77.594200000000001,74.460099999999997,null,67.674400000000006,null,null,89.5,74.176000000000002,null,null,null,null,87,null,null,{"$f":"+INDEX(D2698:AF2698,1,aux_pr_ue!$P$2)","v":0},{"$f":"+INDEX(D2698:AF2698,1,aux_pr_ue!$Q$2)","v":87}]
["Feed Oats2005/06","Feed Oats","2005/06",88.157300000000006,105.4483,null,76.168999999999997,null,98.065579999999997,null,null,null,null,null,null,null,null,69.833799999999997,68.729700000000008,null,86.6858,null,null,89.5,72.293599999999998,null,null,null,null,86.923000000000002,93.067149999999998,null,{"$f":"+INDEX(D2699:AF2699,1,aux_pr_ue!$P$2)","v":0},{"$f":"+INDEX(D2699:AF2699,1,aux_pr_ue!$Q$2)","v":86.923000000000002}]
["Feed Oats2005/03","Feed Oats","2005/03",92.68950000000001,103.67740000000001,null,76.562899999999999,null,97.148983333333334,83.085099999999997,null,null,null,null,null,null,null,75.6721,71.02640000000001,null,null,null,null,89.5,null,null,null,null,null,86.176349999999999,94.085274999999996,null,{"$f":"+INDEX(D2702:AF2702,1,aux_pr_ue!$P$2)","v":0},{"$f":"+INDEX(D2702:AF2702,1,aux_pr_ue!$Q$2)","v":86.176349999999999}]
["Feed Oats2005/02","Feed Oats","2005/02",92.375200000000007,103,null,76.397400000000005,null,98.038850000000011,83.085099999999997,null,null,null,null,null,null,null,73.989699999999999,67.414500000000004,null,null,null,null,87.857100000000003,null,null,null,null,null,86.871400000000008,93.65632500000001,94.816299999999998,{"$f":"+INDEX(D2703:AF2703,1,aux_pr_ue!$P$2)","v":0},{"$f":"+INDEX(D2703:AF2703,1,aux_pr_ue!$Q$2)","v":86.871400000000008}]
["Feed Oats2004/11","Feed Oats","2004/11",90.376500000000007,102,null,83.765100000000004,null,98.183816666666658,81.672700000000006,null,null,null,null,null,null,null,70.093900000000005,61.558700000000002,null,65.162900000000008,null,null,85.5,70.759500000000003,null,null,null,null,87,95.8416,104.5287,{"$f":"+INDEX(D2706:AF2706,1,aux_pr_ue!$P$2)","v":0},{"$f":"+INDEX(D2706:AF2706,1,aux_pr_ue!$Q$2)","v":87}]
["Feed Oats2004/10","Feed Oats","2004/10",89.621400000000008,102,null,81.358200000000011,null,101.32294,82.859099999999998,null,null,null,null,null,null,null,74.191859999999991,71.503500000000003,null,null,null,null,85.5,null,null,null,null,null,87,95.540500000000009,96.623975000000002,{"$f":"+INDEX(D2707:AF2707,1,aux_pr_ue!$P$2)","v":0},{"$f":"+INDEX(D2707:AF2707,1,aux_pr_ue!$Q$2)","v":87}]
["Feed Oats2004/07","Feed Oats","2004/07",99.498100000000008,115,null,94.158600000000007,null,111.07055,null,null,null,null,null,null,null,null,83.610200000000006,63.878700000000002,null,null,null,null,105,null,null,null,null,null,87.875,null,null,{"$f":"+INDEX(D2710:AF2710,1,aux_pr_ue!$P$2)","v":0},{"$f":"+INDEX(D2710:AF2710,1,aux_pr_ue!$Q$2)","v":87.875}]
["Feed Oats2004/06","Feed Oats","2004/06",91.086200000000005,113.56670000000001,null,94.484400000000008,null,111.875,5.7187999999999999,null,null,null,null,null,null,null,87.236400000000003,77.725400000000008,null,null,null,null,105,null,null,null,null,null,88.436800000000005,93.028000000000006,null,{"$f":"+INDEX(D2711:AF2711,1,aux_pr_ue!$P$2)","v":0},{"$f":"+INDEX(D2711:AF2711,1,aux_pr_ue!$Q$2)","v":88.436800000000005}]
["Feed Oats2004/04","Feed Oats","2004/04",105.68650000000001,117.3,null,null,null,114.96348,null,null,null,null,null,null,null,null,null,null,null,null,null,null,113.26085,null,null,null,null,99.805700000000002,86.358325000000008,95.6357,null,{"$f":"+INDEX(D2713:AF2713,1,aux_pr_ue!$P$2)","v":0},{"$f":"+INDEX(D2713:AF2713,1,aux_pr_ue!$Q$2)","v":86.358325000000008}]
["Feed Oats2004/03","Feed Oats","2004/03",109.31370000000001,118.0968,null,null,null,116.27937142857142,null,null,null,null,null,null,null,null,null,null,null,null,null,null,116.37100000000001,null,null,null,null,null,88.283350000000013,96.470399999999998,null,{"$f":"+INDEX(D2714:AF2714,1,aux_pr_ue!$P$2)","v":0},{"$f":"+INDEX(D2714:AF2714,1,aux_pr_ue!$Q$2)","v":88.283350000000013}]
["Feed Oats2003/12","Feed Oats","2003/12",106.54780000000001,119,null,null,null,115.5183875,null,null,null,null,null,null,null,null,null,null,null,null,null,null,112.5,null,null,null,null,null,97.311750000000004,105.66080000000001,105.0686,{"$f":"+INDEX(D2717:AF2717,1,aux_pr_ue!$P$2)","v":0},{"$f":"+INDEX(D2717:AF2717,1,aux_pr_ue!$Q$2)","v":97.311750000000004}]
["Feed Oats2003/11","Feed Oats","2003/11",108.3284,115.03330000000001,null,null,null,113.13263333333335,null,null,null,null,null,null,null,null,null,null,null,null,null,null,104.5789,null,null,null,null,null,98.039100000000005,106.51990000000001,103.6362,{"$f":"+INDEX(D2718:AF2718,1,aux_pr_ue!$P$2)","v":0},{"$f":"+INDEX(D2718:AF2718,1,aux_pr_ue!$Q$2)","v":98.039100000000005}]
["Feed Oats2003/08","Feed Oats","2003/08",101.0703,107.8387,null,null,null,104.21910000000001,null,null,null,null,null,null,null,null,null,null,null,null,null,null,104,null,null,null,null,null,89.962400000000002,107.3069,86.641100000000009,{"$f":"+INDEX(D2721:AF2721,1,aux_pr_ue!$P$2)","v":0},{"$f":"+INDEX(D2721:AF2721,1,aux_pr_ue!$Q$2)","v":89.962400000000002}]
["Feed Oats2003/07","Feed Oats","2003/07",111.26390000000001,98,null,null,null,109.96235714285714,null,null,null,null,null,null,null,null,null,null,null,null,null,null,104,null,null,null,null,null,89.166666666666671,89.767050000000012,89.094800000000006,{"$f":"+INDEX(D2722:AF2722,1,aux_pr_ue!$P$2)","v":0},{"$f":"+INDEX(D2722:AF2722,1,aux_pr_ue!$Q$2)","v":89.166666666666671}]
["Feed Oats2003/04","Feed Oats","2003/04",103.25620000000001,100.75,null,null,null,110.86812,null,null,null,null,null,null,null,null,null,null,null,null,null,null,108.75,null,null,null,null,null,90.518866666666668,101.7329,87.064300000000003,{"$f":"+INDEX(D2725:AF2725,1,aux_pr_ue!$P$2)","v":0},{"$f":"+INDEX(D2725:AF2725,1,aux_pr_ue!$Q$2)","v":90.518866666666668}]
["Feed Oats2003/03","Feed Oats","2003/03",106.68270000000001,101.16130000000001,null,null,null,113.61034285714287,null,null,null,null,null,null,null,null,null,null,null,null,null,null,108.75,null,null,null,null,null,96.505400000000009,105.74125000000001,null,{"$f":"+INDEX(D2726:AF2726,1,aux_pr_ue!$P$2)","v":0},{"$f":"+INDEX(D2726:AF2726,1,aux_pr_ue!$Q$2)","v":96.505400000000009}]
["Feed Oats2002/12","Feed Oats","2002/12",113.113,104,null,null,null,117.22222499999999,null,null,null,null,null,null,null,null,null,null,null,null,null,null,108.75,null,null,null,null,null,110.75109999999999,115.4203,null,{"$f":"+INDEX(D2729:AF2729,1,aux_pr_ue!$P$2)","v":0},{"$f":"+INDEX(D2729:AF2729,1,aux_pr_ue!$Q$2)","v":110.75109999999999}]
["Feed Oats2002/11","Feed Oats","2002/11",112.7925,108.4667,null,null,null,118.29047142857144,null,null,null,null,null,null,null,null,null,null,null,null,null,null,108.75,null,null,null,null,null,109.66876666666667,115.87730000000001,91.075150000000008,{"$f":"+INDEX(D2730:AF2730,1,aux_pr_ue!$P$2)","v":0},{"$f":"+INDEX(D2730:AF2730,1,aux_pr_ue!$Q$2)","v":109.66876666666667}]
["Feed Oats2002/08","Feed Oats","2002/08",110.1986,102,null,null,null,113.93545,null,null,null,null,null,null,null,null,null,null,null,null,null,null,104.19120000000001,null,null,null,null,null,98.196900000000014,115.33540000000001,87.603149999999999,{"$f":"+INDEX(D2733:AF2733,1,aux_pr_ue!$P$2)","v":0},{"$f":"+INDEX(D2733:AF2733,1,aux_pr_ue!$Q$2)","v":98.196900000000014}]
["Feed Oats2002/07","Feed Oats","2002/07",121.2882,120,null,null,null,116.09246666666667,null,null,null,null,null,null,null,null,null,null,null,null,null,null,null,null,null,null,null,null,null,null,null,{"$f":"+INDEX(D2734:AF2734,1,aux_pr_ue!$P$2)","v":0},{"$f":"+INDEX(D2734:AF2734,1,aux_pr_ue!$Q$2)","v":0}]
["Feed Oats2002/04","Feed Oats","2002/04",120.4615,129.1765,null,null,null,129.78391250000001,null,null,null,null,null,null,null,null,null,null,null,null,null,null,114.5,null,null,null,null,null,108.15066666666667,113.5433,null,{"$f":"+INDEX(D2737:AF2737,1,aux_pr_ue!$P$2)","v":0},{"$f":"+INDEX(D2737:AF2737,1,aux_pr_ue!$Q$2)","v":108.15066666666667}]
["Feed Oats2002/03","Feed Oats","2002/03",124.66770000000001,130.64520000000002,null,null,null,131.47058888888893,null,null,null,null,null,null,null,null,null,null,null,null,null,null,114.5,null,null,null,null,null,117.6519,117.6786,null,{"$f":"+INDEX(D2738:AF2738,1,aux_pr_ue!$P$2)","v":0},{"$f":"+INDEX(D2738:AF2738,1,aux_pr_ue!$Q$2)","v":117.6519}]
["Feed Oats2001/12","Feed Oats","2001/12",125.2907,134.64320000000001,null,null,null,129.18655000000001,null,null,null,null,null,null,null,null,null,null,null,null,null,null,119.01060000000001,null,null,null,null,null,124.40176666666667,115.36160000000001,null,{"$f":"+INDEX(D2741:AF2741,1,aux_pr_ue!$P$2)","v":0},{"$f":"+INDEX(D2741:AF2741,1,aux_pr_ue!$Q$2)","v":124.40176666666667}]
["Feed Oats2001/11","Feed Oats","2001/11",121.551,136.25830000000002,null,null,null,124.11428888888889,null,null,null,null,null,null,null,null,null,null,null,null,null,null,117.00330000000001,null,null,null,null,null,119.35713333333335,113.41562500000001,null,{"$f":"+INDEX(D2742:AF2742,1,aux_pr_ue!$P$2)","v":0},{"$f":"+INDEX(D2742:AF2742,1,aux_pr_ue!$Q$2)","v":119.35713333333335}]
["Feed Oats2001/09","Feed Oats","2001/09",116.47930000000001,142.53880000000001,null,null,null,120.52146666666668,null,null,null,null,null,null,null,null,null,null,null,null,null,null,114.4597,null,null,null,null,null,107.61563333333335,108.97175,111.19310000000002,{"$f":"+INDEX(D2744:AF2744,1,aux_pr_ue!$P$2)","v":0},{"$f":"+INDEX(D2744:AF2744,1,aux_pr_ue!$Q$2)","v":107.61563333333335}]
["Feed Oats2001/08","Feed Oats","2001/08",119.13600000000001,138.82040000000001,null,null,null,123.51974285714287,null,null,null,null,null,null,null,null,null,null,null,null,null,null,114.4597,null,null,null,null,null,107.89510000000001,111.29860000000001,110.51465000000002,{"$f":"+INDEX(D2745:AF2745,1,aux_pr_ue!$P$2)","v":0},{"$f":"+INDEX(D2745:AF2745,1,aux_pr_ue!$Q$2)","v":107.89510000000001}]
["Feed Oats2001/05","Feed Oats","2001/05",126.57220000000001,145.63745,null,null,null,131.20547777777779,null,null,null,null,null,null,null,null,null,null,null,null,null,null,132.57840000000002,null,null,null,null,null,111.71980000000001,115.33030000000001,null,{"$f":"+INDEX(D2748:AF2748,1,aux_pr_ue!$P$2)","v":0},{"$f":"+INDEX(D2748:AF2748,1,aux_pr_ue!$Q$2)","v":111.71980000000001}]
["Feed Oats2001/04","Feed Oats","2001/04",125.4706,147.46970000000002,null,null,null,130.66837000000004,null,null,null,null,null,null,null,null,null,null,null,null,null,null,null,null,null,null,null,null,113.22056666666667,114.063,null,{"$f":"+INDEX(D2749:AF2749,1,aux_pr_ue!$P$2)","v":0},{"$f":"+INDEX(D2749:AF2749,1,aux_pr_ue!$Q$2)","v":113.22056666666667}]
["Feed Oats2001/01","Feed Oats","2001/01",129.32990000000001,148.63285000000002,null,null,null,140.17845000000003,null,null,null,null,null,null,null,null,null,null,null,null,null,null,123.5438,null,null,null,null,null,112.12403333333334,109.7226,null,{"$f":"+INDEX(D2752:AF2752,1,aux_pr_ue!$P$2)","v":0},{"$f":"+INDEX(D2752:AF2752,1,aux_pr_ue!$Q$2)","v":112.12403333333334}]
["Feed Oats2000/12","Feed Oats","2000/12",128.73920000000001,149.35585,null,null,null,137.48306666666667,null,null,null,null,null,null,null,null,null,null,null,null,null,null,122.02980000000001,null,null,null,null,null,109.68653333333333,110.66550000000001,null,{"$f":"+INDEX(D2753:AF2753,1,aux_pr_ue!$P$2)","v":0},{"$f":"+INDEX(D2753:AF2753,1,aux_pr_ue!$Q$2)","v":109.68653333333333}]
["Feed Oats2000/09","Feed Oats","2000/09",123.01560000000001,142.1876,null,null,null,132.61206666666666,null,null,null,null,null,null,null,null,null,null,null,null,null,null,114.2227,null,null,null,null,null,109.71623333333334,114.79170000000001,106.42086000000002,{"$f":"+INDEX(D2756:AF2756,1,aux_pr_ue!$P$2)","v":0},{"$f":"+INDEX(D2756:AF2756,1,aux_pr_ue!$Q$2)","v":109.71623333333334}]
["Feed Oats2000/08","Feed Oats","2000/08",125.95370000000001,132.62300000000002,null,null,null,130.57391999999999,null,null,null,null,null,null,null,null,null,null,null,null,null,null,112.64290000000001,null,null,null,null,null,null,null,101.84440000000001,{"$f":"+INDEX(D2757:AF2757,1,aux_pr_ue!$P$2)","v":0},{"$f":"+INDEX(D2757:AF2757,1,aux_pr_ue!$Q$2)","v":0}]
["Feed Oats2000/05","Feed Oats","2000/05",138.4188,147.90980000000002,null,null,null,144.86070000000001,null,null,null,null,null,null,null,null,null,null,null,null,null,null,null,null,null,null,null,null,122.00563333333334,131.63150000000002,null,{"$f":"+INDEX(D2760:AF2760,1,aux_pr_ue!$P$2)","v":0},{"$f":"+INDEX(D2760:AF2760,1,aux_pr_ue!$Q$2)","v":122.00563333333334}]
["Feed Oats2000/04","Feed Oats","2000/04",140.54840000000002,147.60443333333333,null,null,null,150.17195999999998,null,null,null,null,null,null,null,null,null,null,null,null,null,null,null,null,null,null,null,null,129.7972,132.04320000000001,null,{"$f":"+INDEX(D2761:AF2761,1,aux_pr_ue!$P$2)","v":0},{"$f":"+INDEX(D2761:AF2761,1,aux_pr_ue!$Q$2)","v":129.7972}]
["Feed Oats2000/01","Feed Oats","2000/01",null,null,null,null,null,null,null,null,null,null,null,null,null,null,null,null,null,null,null,null,null,null,null,null,null,null,null,null,null,{"$f":"+INDEX(D2764:AF2764,1,aux_pr_ue!$P$2)","v":0},{"$f":"+INDEX(D2764:AF2764,1,aux_pr_ue!$Q$2)","v":0}]
["Feed Oats1999/12","Feed Oats","1999/12",null,null,null,null,null,null,null,null,null,null,null,null,null,null,null,null,null,null,null,null,null,null,null,null,null,null,null,null,null,{"$f":"+INDEX(D2765:AF2765,1,aux_pr_ue!$P$2)","v":0},{"$f":"+INDEX(D2765:AF2765,1,aux_pr_ue!$Q$2)","v":0}]
["Feed Oats1999/09","Feed Oats","1999/09",115.78540000000001,119.02343333333334,null,null,null,115.05124999999998,null,null,null,null,null,null,null,null,null,null,null,null,null,null,117.3664,null,null,null,null,null,114.08746666666667,124.9208,null,{"$f":"+INDEX(D2768:AF2768,1,aux_pr_ue!$P$2)","v":0},{"$f":"+INDEX(D2768:AF2768,1,aux_pr_ue!$Q$2)","v":114.08746666666667}]
["Feed Oats1999/08","Feed Oats","1999/08",113.8357,118.64873333333333,null,null,null,112.3836,null,null,null,null,null,null,null,null,null,null,null,null,null,null,109.8083,null,null,null,null,null,null,null,null,{"$f":"+INDEX(D2769:AF2769,1,aux_pr_ue!$P$2)","v":0},{"$f":"+INDEX(D2769:AF2769,1,aux_pr_ue!$Q$2)","v":0}]
["Feed Oats1999/05","Feed Oats","1999/05",119.6756,113.41813333333334,null,null,null,134.36904000000001,null,null,null,null,null,null,null,null,null,null,null,null,null,null,107.19200000000001,null,null,null,null,null,117.01790000000001,122.4522,null,{"$f":"+INDEX(D2772:AF2772,1,aux_pr_ue!$P$2)","v":0},{"$f":"+INDEX(D2772:AF2772,1,aux_pr_ue!$Q$2)","v":117.01790000000001}]
["Feed Oats1999/04","Feed Oats","1999/04",119.09370000000001,111.62420000000002,null,null,null,128.75512000000001,null,null,null,null,null,null,null,null,null,null,null,null,null,null,107.19200000000001,null,null,null,null,null,117.04019999999998,122.092,null,{"$f":"+INDEX(D2773:AF2773,1,aux_pr_ue!$P$2)","v":0},{"$f":"+INDEX(D2773:AF2773,1,aux_pr_ue!$Q$2)","v":117.04019999999998}]
["Feed Oats1999/01","Feed Oats","1999/01",107.58580000000001,106.8917,null,null,null,117.9942888888889,null,null,null,null,null,null,null,null,null,null,null,null,null,67.662899999999993,98.439400000000006,null,null,null,null,null,108.06683333333335,118.5232,null,{"$f":"+INDEX(D2776:AF2776,1,aux_pr_ue!$P$2)","v":0},{"$f":"+INDEX(D2776:AF2776,1,aux_pr_ue!$Q$2)","v":108.06683333333335}]
["Feed Oats1998/12","Feed Oats","1998/12",108.1134,105.05200000000001,null,null,null,112.07667499999999,null,null,null,null,null,null,null,null,null,null,null,null,null,null,96.751950000000008,null,null,null,null,null,105.8897,117.01390000000001,null,{"$f":"+INDEX(D2777:AF2777,1,aux_pr_ue!$P$2)","v":0},{"$f":"+INDEX(D2777:AF2777,1,aux_pr_ue!$Q$2)","v":105.8897}]
["Feed Oats1998/10","Feed Oats","1998/10",104.20740000000001,105.09143333333334,null,null,null,106.27081428571428,null,null,null,null,null,null,null,null,null,null,null,null,null,null,98.513000000000005,null,null,null,null,null,106.79070000000002,114.2775,101.33770000000001,{"$f":"+INDEX(D2779:AF2779,1,aux_pr_ue!$P$2)","v":0},{"$f":"+INDEX(D2779:AF2779,1,aux_pr_ue!$Q$2)","v":106.79070000000002}]
["Feed Oats1998/09","Feed Oats","1998/09",105.44550000000001,106.39656666666667,null,null,null,105.78486666666667,null,null,null,null,null,null,null,null,null,null,null,null,null,null,98.513000000000005,null,null,null,null,null,107.39475,113.5198,102.87828333333333,{"$f":"+INDEX(D2780:AF2780,1,aux_pr_ue!$P$2)","v":0},{"$f":"+INDEX(D2780:AF2780,1,aux_pr_ue!$Q$2)","v":107.39475}]
["Feed Oats1998/06","Feed Oats","1998/06",110.22540000000001,109.24473333333333,null,null,null,111.19099999999999,null,null,null,null,null,null,null,null,null,null,null,null,null,135.06683333333334,107.46850000000001,null,null,null,null,null,109.29846666666667,112.7026,109.60860000000002,{"$f":"+INDEX(D2783:AF2783,1,aux_pr_ue!$P$2)","v":0},{"$f":"+INDEX(D2783:AF2783,1,aux_pr_ue!$Q$2)","v":109.29846666666667}]
["Feed Oats1998/05","Feed Oats","1998/05",113.1408,110.75233333333334,null,null,null,106.3968,null,null,null,null,null,null,null,null,null,null,null,null,null,137.154,108.28153333333334,null,null,null,null,null,109.90783333333333,114.38950000000001,116.05675714285715,{"$f":"+INDEX(D2784:AF2784,1,aux_pr_ue!$P$2)","v":0},{"$f":"+INDEX(D2784:AF2784,1,aux_pr_ue!$Q$2)","v":109.90783333333333}]
["Feed Oats1998/02","Feed Oats","1998/02",116.28490000000001,120.52470000000001,null,null,null,113.07656,null,null,null,null,null,null,null,null,null,null,null,null,null,137.35066666666668,108.614,null,null,null,null,null,113.21936666666669,123.2063,104.41185714285714,{"$f":"+INDEX(D2787:AF2787,1,aux_pr_ue!$P$2)","v":0},{"$f":"+INDEX(D2787:AF2787,1,aux_pr_ue!$Q$2)","v":113.21936666666669}]
["Feed Oats1998/01","Feed Oats","1998/01",121.1353,123.34120000000001,null,null,null,111.57728333333336,null,null,null,null,null,null,null,null,null,null,null,null,null,139.58966666666666,108.614,null,null,null,null,null,113.80000000000001,124.63900000000001,105.39225,{"$f":"+INDEX(D2788:AF2788,1,aux_pr_ue!$P$2)","v":0},{"$f":"+INDEX(D2788:AF2788,1,aux_pr_ue!$Q$2)","v":113.80000000000001}]
["Feed Oats1997/10","Feed Oats","1997/10",115.23020000000001,124.53113333333334,null,null,null,113.46780000000001,null,null,null,null,null,null,null,null,null,null,null,null,null,99.663666666666657,108.375,null,null,null,null,null,114.59680000000002,125.11080000000001,112.55776,{"$f":"+INDEX(D2791:AF2791,1,aux_pr_ue!$P$2)","v":0},{"$f":"+INDEX(D2791:AF2791,1,aux_pr_ue!$Q$2)","v":114.59680000000002}]
["Feed Oats1997/09","Feed Oats","1997/09",115.1482,128.30336666666668,null,null,null,113.50003333333335,null,null,null,null,null,null,null,null,null,null,null,null,null,null,110.60545,null,null,null,null,null,114.46366666666667,122.27380000000001,108.74683333333333,{"$f":"+INDEX(D2792:AF2792,1,aux_pr_ue!$P$2)","v":0},{"$f":"+INDEX(D2792:AF2792,1,aux_pr_ue!$Q$2)","v":114.46366666666667}]
["Feed Oats1997/06","Feed Oats","1997/06",134.05360000000002,152.94466666666668,null,null,null,134.49780000000001,null,null,null,null,null,null,null,null,null,null,null,null,null,null,144.45605,null,null,null,null,null,116.20183333333334,124.28760000000001,null,{"$f":"+INDEX(D2795:AF2795,1,aux_pr_ue!$P$2)","v":0},{"$f":"+INDEX(D2795:AF2795,1,aux_pr_ue!$Q$2)","v":116.20183333333334}]
["Feed Oats1997/05","Feed Oats","1997/05",134.39530000000002,153.357,null,null,null,139.67341666666667,null,null,null,null,null,null,null,null,null,null,null,null,null,null,152.72585000000001,null,null,null,null,null,118.43210000000001,126.7864,null,{"$f":"+INDEX(D2796:AF2796,1,aux_pr_ue!$P$2)","v":0},{"$f":"+INDEX(D2796:AF2796,1,aux_pr_ue!$Q$2)","v":118.43210000000001}]
["Feed Oats1997/02","Feed Oats","1997/02",140.42850000000001,144.02526666666668,null,null,null,144.36503333333334,null,null,null,null,null,null,null,null,null,null,null,null,null,null,156.8056,null,null,null,null,null,116.59363333333334,124.77950000000001,null,{"$f":"+INDEX(D2799:AF2799,1,aux_pr_ue!$P$2)","v":0},{"$f":"+INDEX(D2799:AF2799,1,aux_pr_ue!$Q$2)","v":116.59363333333334}]
["Feed Oats1997/01","Feed Oats","1997/01",137.84790000000001,144.77843333333334,null,null,null,144.43553333333335,null,null,null,null,null,null,null,null,null,null,null,null,null,null,157.36760000000001,null,null,null,null,null,116.4165,123.96400000000001,121.37887500000002,{"$f":"+INDEX(D2800:AF2800,1,aux_pr_ue!$P$2)","v":0},{"$f":"+INDEX(D2800:AF2800,1,aux_pr_ue!$Q$2)","v":116.4165}]
["Feed Oats1996/10","Feed Oats","1996/10",137.28550000000001,144.76085,null,null,null,141.47564285714287,null,null,null,null,null,null,null,null,null,null,null,null,null,null,157.43335000000002,null,null,null,null,null,117.7552,129.42690000000002,126.49625,{"$f":"+INDEX(D2803:AF2803,1,aux_pr_ue!$P$2)","v":0},{"$f":"+INDEX(D2803:AF2803,1,aux_pr_ue!$Q$2)","v":117.7552}]
["Feed Oats1996/09","Feed Oats","1996/09",139.4682,146.11349999999999,null,null,null,143.25761428571428,null,null,null,null,null,null,null,null,null,null,null,null,null,null,157.77969999999999,null,null,null,null,null,117.09340000000002,133.2141,126.11068,{"$f":"+INDEX(D2804:AF2804,1,aux_pr_ue!$P$2)","v":0},{"$f":"+INDEX(D2804:AF2804,1,aux_pr_ue!$Q$2)","v":117.09340000000002}]
["Feed Oats1996/06","Feed Oats","1996/06",154.20750000000001,165.43900000000002,null,null,null,179.17267142857145,null,null,null,null,null,null,null,null,null,null,null,null,null,null,163.43483333333333,null,null,null,null,null,132.29863333333333,143.37100000000001,140.387,{"$f":"+INDEX(D2807:AF2807,1,aux_pr_ue!$P$2)","v":0},{"$f":"+INDEX(D2807:AF2807,1,aux_pr_ue!$Q$2)","v":132.29863333333333}]
["Feed Oats1996/05","Feed Oats","1996/05",151.78400000000002,160.17005,null,null,null,179.15923333333333,null,null,null,null,null,null,null,null,null,null,null,null,null,null,151.76940000000002,null,null,null,null,null,132.14706666666669,137.19645000000003,140.387,{"$f":"+INDEX(D2808:AF2808,1,aux_pr_ue!$P$2)","v":0},{"$f":"+INDEX(D2808:AF2808,1,aux_pr_ue!$Q$2)","v":132.14706666666669}]
["Feed Oats1996/03","Feed Oats","1996/03",145.03280000000001,142.61366666666666,null,null,null,160.93927777777779,null,null,null,null,null,null,null,null,null,null,null,null,null,null,151.78295,null,null,null,null,null,130.58856666666668,134.95439999999999,134.19531666666668,{"$f":"+INDEX(D2810:AF2810,1,aux_pr_ue!$P$2)","v":0},{"$f":"+INDEX(D2810:AF2810,1,aux_pr_ue!$Q$2)","v":130.58856666666668}]
["Feed Oats1996/02","Feed Oats","1996/02",142.58260000000001,138.67616666666666,null,null,null,147.80735000000001,null,null,null,null,null,null,null,null,null,null,null,null,null,null,154.31236666666669,null,null,null,null,null,130.02643333333333,134.36060000000001,137.7801,{"$f":"+INDEX(D2811:AF2811,1,aux_pr_ue!$P$2)","v":0},{"$f":"+INDEX(D2811:AF2811,1,aux_pr_ue!$Q$2)","v":130.02643333333333}]
["Feed Oats1995/11","Feed Oats","1995/11",131.9324,124.60750000000002,null,null,null,140.28142857142856,null,null,null,null,null,null,null,null,null,null,null,null,null,null,134.48113333333333,null,null,null,null,null,124.11566666666666,131.8426,null,{"$f":"+INDEX(D2814:AF2814,1,aux_pr_ue!$P$2)","v":0},{"$f":"+INDEX(D2814:AF2814,1,aux_pr_ue!$Q$2)","v":124.11566666666666}]
["Feed Oats1995/10","Feed Oats","1995/10",128.09780000000001,121.44500000000001,null,null,null,134.54106000000002,null,null,null,null,null,null,null,null,null,null,null,null,null,null,129.30324999999999,null,null,null,null,null,125.66186666666665,127.35890000000001,128.67035714285717,{"$f":"+INDEX(D2815:AF2815,1,aux_pr_ue!$P$2)","v":0},{"$f":"+INDEX(D2815:AF2815,1,aux_pr_ue!$Q$2)","v":125.66186666666665}]
["Feed Oats1995/07","Feed Oats","1995/07",132.10650000000001,118.91500000000001,null,null,null,127.94937142857145,null,null,null,null,null,null,null,null,null,null,null,null,null,null,134.23143333333334,null,null,null,null,null,119.77333333333333,133.75330000000002,165.57485,{"$f":"+INDEX(D2818:AF2818,1,aux_pr_ue!$P$2)","v":0},{"$f":"+INDEX(D2818:AF2818,1,aux_pr_ue!$Q$2)","v":119.77333333333333}]
["Feed Oats1995/06","Feed Oats","1995/06",124.2881,115.91213333333333,null,null,null,126.23064285714285,null,null,null,null,null,null,null,null,null,null,null,null,null,null,132.02066666666667,null,null,null,null,null,128.96366666666665,134.6318,115.91997142857144,{"$f":"+INDEX(D2819:AF2819,1,aux_pr_ue!$P$2)","v":0},{"$f":"+INDEX(D2819:AF2819,1,aux_pr_ue!$Q$2)","v":128.96366666666665}]
["Feed Oats1995/03","Feed Oats","1995/03",126.38300000000001,118.04793333333335,null,null,null,130.72873749999999,null,null,null,null,null,null,null,null,null,null,null,null,null,null,137.15799999999999,null,null,null,null,null,116.29926666666667,130.3553,120.67525714285716,{"$f":"+INDEX(D2822:AF2822,1,aux_pr_ue!$P$2)","v":0},{"$f":"+INDEX(D2822:AF2822,1,aux_pr_ue!$Q$2)","v":116.29926666666667}]
["Feed Oats1995/02","Feed Oats","1995/02",126.5827,121.16600000000001,null,null,null,129.50051111111111,null,null,null,null,null,null,null,null,null,null,null,null,null,null,135.72373333333334,null,null,null,null,null,115.34956666666666,128.56195000000002,121.54695,{"$f":"+INDEX(D2823:AF2823,1,aux_pr_ue!$P$2)","v":0},{"$f":"+INDEX(D2823:AF2823,1,aux_pr_ue!$Q$2)","v":115.34956666666666}]
["Feed Oats1994/11","Feed Oats","1994/11",108.1862,104.25696666666666,null,null,null,109.8182,null,null,null,null,null,null,null,null,null,null,null,null,null,159.28,null,null,null,null,null,null,null,null,106.73048571428572,{"$f":"+INDEX(D2826:AF2826,1,aux_pr_ue!$P$2)","v":0},{"$f":"+INDEX(D2826:AF2826,1,aux_pr_ue!$Q$2)","v":0}]
["Feed Oats1994/10","Feed Oats","1994/10",107.72750000000001,106.17076666666667,null,null,null,109.8582111111111,null,null,null,null,null,null,null,null,null,null,null,null,null,null,null,null,null,null,null,null,null,null,107.54995714285714,{"$f":"+INDEX(D2827:AF2827,1,aux_pr_ue!$P$2)","v":0},{"$f":"+INDEX(D2827:AF2827,1,aux_pr_ue!$Q$2)","v":0}]
["Feed Oats1994/07","Feed Oats","1994/07",114.06970000000001,108.10965,null,null,null,116.18688750000001,null,null,null,null,null,null,null,null,null,null,null,null,null,null,null,null,null,null,null,null,null,null,112.10992000000002,{"$f":"+INDEX(D2830:AF2830,1,aux_pr_ue!$P$2)","v":0},{"$f":"+INDEX(D2830:AF2830,1,aux_pr_ue!$Q$2)","v":0}]
["Feed Oats1994/06","Feed Oats","1994/06",113.44120000000001,108.3181,null,null,126.22800000000001,114.46077142857143,null,null,null,null,null,null,null,null,null,null,null,null,null,null,null,null,null,null,null,null,null,null,null,{"$f":"+INDEX(D2831:AF2831,1,aux_pr_ue!$P$2)","v":0},{"$f":"+INDEX(D2831:AF2831,1,aux_pr_ue!$Q$2)","v":0}]
["Feed Oats1994/03","Feed Oats","1994/03",119.8793,113.65575000000001,null,null,null,120.726525,null,null,null,null,null,null,null,null,null,null,null,null,null,null,null,null,null,null,null,null,null,null,128.20675,{"$f":"+INDEX(D2834:AF2834,1,aux_pr_ue!$P$2)","v":0},{"$f":"+INDEX(D2834:AF2834,1,aux_pr_ue!$Q$2)","v":0}]
["Feed Oats1994/02","Feed Oats","1994/02",122.19600000000001,115.78305,null,null,null,124.87885,null,null,null,null,null,null,null,null,null,null,null,null,null,null,null,null,null,null,null,null,null,null,115.61150000000001,{"$f":"+INDEX(D2835:AF2835,1,aux_pr_ue!$P$2)","v":0},{"$f":"+INDEX(D2835:AF2835,1,aux_pr_ue!$Q$2)","v":0}]
["Feed Oats1993/11","Feed Oats","1993/11",132.19329999999999,119.658,null,null,null,129.2905375,null,null,null,null,null,null,null,null,null,null,null,null,null,null,null,null,null,null,null,null,null,null,136.85804285714286,{"$f":"+INDEX(D2838:AF2838,1,aux_pr_ue!$P$2)","v":0},{"$f":"+INDEX(D2838:AF2838,1,aux_pr_ue!$Q$2)","v":0}]
["Feed Oats1993/10","Feed Oats","1993/10",130.7423,120.40216666666667,null,null,null,129.44980000000001,null,null,null,null,null,null,null,null,null,null,null,null,null,null,null,null,null,null,null,null,null,null,133.97844285714285,{"$f":"+INDEX(D2839:AF2839,1,aux_pr_ue!$P$2)","v":0},{"$f":"+INDEX(D2839:AF2839,1,aux_pr_ue!$Q$2)","v":0}]
["Feed Oats1993/07","Feed Oats","1993/07",140.19970000000001,158.78455000000002,null,null,null,140.18040000000002,null,null,null,null,null,null,null,null,null,null,null,null,null,null,null,null,null,null,null,null,null,null,144.25868000000003,{"$f":"+INDEX(D2842:AF2842,1,aux_pr_ue!$P$2)","v":0},{"$f":"+INDEX(D2842:AF2842,1,aux_pr_ue!$Q$2)","v":0}]
["Feed Oats1993/06","Feed Oats","1993/06",169.49510000000001,166.61586666666668,null,null,null,176.66518333333332,null,null,null,null,null,null,null,null,null,null,null,null,null,null,null,null,null,null,null,null,null,null,156.11242500000003,{"$f":"+INDEX(D2843:AF2843,1,aux_pr_ue!$P$2)","v":0},{"$f":"+INDEX(D2843:AF2843,1,aux_pr_ue!$Q$2)","v":0}]
["Feed Oats1993/04","Feed Oats","1993/04",172.39270000000002,172.39780000000005,null,null,null,175.82490000000004,null,null,null,null,null,null,null,null,null,null,null,null,null,null,null,null,null,null,null,null,null,null,152.46090000000001,{"$f":"+INDEX(D2845:AF2845,1,aux_pr_ue!$P$2)","v":0},{"$f":"+INDEX(D2845:AF2845,1,aux_pr_ue!$Q$2)","v":0}]
["Feed Oats1993/03","Feed Oats","1993/03",169.8597,172.30833333333331,null,null,null,175.87155714285717,null,null,null,null,null,null,null,null,null,null,null,null,null,null,null,null,null,null,null,null,null,null,147.88690000000003,{"$f":"+INDEX(D2846:AF2846,1,aux_pr_ue!$P$2)","v":0},{"$f":"+INDEX(D2846:AF2846,1,aux_pr_ue!$Q$2)","v":0}]
["Feed Oats1992/12","Feed Oats","1992/12",168.4691,165.07140000000001,null,null,null,170.59022857142858,null,null,null,null,null,null,null,null,null,null,null,null,null,null,null,null,null,null,null,null,null,null,null,{"$f":"+INDEX(D2849:AF2849,1,aux_pr_ue!$P$2)","v":0},{"$f":"+INDEX(D2849:AF2849,1,aux_pr_ue!$Q$2)","v":0}]
["Feed Oats1992/11","Feed Oats","1992/11",163.0992,161.76056666666668,null,null,null,169.465025,null,null,null,null,null,null,null,null,null,null,null,null,null,null,null,null,null,null,null,null,null,null,156.28050000000002,{"$f":"+INDEX(D2850:AF2850,1,aux_pr_ue!$P$2)","v":0},{"$f":"+INDEX(D2850:AF2850,1,aux_pr_ue!$Q$2)","v":0}]
["Feed Oats1992/08","Feed Oats","1992/08",156.17330000000001,152.18553333333335,null,null,null,165.78988333333334,null,null,null,null,null,null,null,null,null,null,null,null,null,null,null,null,null,null,null,null,null,null,141.18200000000002,{"$f":"+INDEX(D2853:AF2853,1,aux_pr_ue!$P$2)","v":0},{"$f":"+INDEX(D2853:AF2853,1,aux_pr_ue!$Q$2)","v":0}]
["Feed Oats1992/07","Feed Oats","1992/07",156.93010000000001,154.553,null,null,null,159.73585,null,null,null,null,null,null,null,null,null,null,null,null,null,null,null,null,null,null,null,null,null,null,142.06200000000001,{"$f":"+INDEX(D2854:AF2854,1,aux_pr_ue!$P$2)","v":0},{"$f":"+INDEX(D2854:AF2854,1,aux_pr_ue!$Q$2)","v":0}]
["Feed Oats1992/04","Feed Oats","1992/04",161.751,157.3999,null,null,null,164.31562499999998,null,null,null,null,null,null,null,null,null,null,null,null,null,null,null,null,null,null,null,null,null,null,153.0532666666667,{"$f":"+INDEX(D2857:AF2857,1,aux_pr_ue!$P$2)","v":0},{"$f":"+INDEX(D2857:AF2857,1,aux_pr_ue!$Q$2)","v":0}]
["Feed Oats1992/03","Feed Oats","1992/03",161.2927,156.36400000000003,null,null,null,165.14295714285714,null,null,null,null,null,null,null,null,null,null,null,null,null,null,null,null,null,null,null,null,null,null,154.38283333333334,{"$f":"+INDEX(D2858:AF2858,1,aux_pr_ue!$P$2)","v":0},{"$f":"+INDEX(D2858:AF2858,1,aux_pr_ue!$Q$2)","v":0}]
["Feed Oats1991/12","Feed Oats","1991/12",152.83320000000001,152.91500000000002,null,null,null,152.03152222222224,null,null,null,null,null,null,null,null,null,null,null,null,null,null,null,null,null,null,null,null,null,null,149.02705,{"$f":"+INDEX(D2861:AF2861,1,aux_pr_ue!$P$2)","v":0},{"$f":"+INDEX(D2861:AF2861,1,aux_pr_ue!$Q$2)","v":0}]
["Feed Oats1991/11","Feed Oats","1991/11",150.36199999999999,151.7594,null,null,null,147.33468999999999,null,182.64100000000002,null,null,null,null,null,null,null,null,null,null,null,null,null,null,null,null,null,null,null,null,142.1885,{"$f":"+INDEX(D2862:AF2862,1,aux_pr_ue!$P$2)","v":0},{"$f":"+INDEX(D2862:AF2862,1,aux_pr_ue!$Q$2)","v":0}]
["Feed Oats1991/08","Feed Oats","1991/08",138.0027,145.2073,null,null,null,136.46662499999999,null,null,null,null,null,null,null,null,null,null,null,null,null,null,null,null,null,null,null,null,null,null,137.411,{"$f":"+INDEX(D2865:AF2865,1,aux_pr_ue!$P$2)","v":0},{"$f":"+INDEX(D2865:AF2865,1,aux_pr_ue!$Q$2)","v":0}]
["Feed Oats1991/07","Feed Oats","1991/07",153.2509,157.54866666666666,null,null,null,150.97425714285714,null,null,null,null,null,null,null,null,null,null,null,null,null,null,null,null,null,null,null,null,null,null,null,{"$f":"+INDEX(D2866:AF2866,1,aux_pr_ue!$P$2)","v":0},{"$f":"+INDEX(D2866:AF2866,1,aux_pr_ue!$Q$2)","v":0}]
["Feed Oats1991/04","Feed Oats","1991/04",149.03140000000002,146.5992,null,null,null,149.12661249999999,null,null,null,null,null,null,null,null,null,null,null,null,null,180.767,null,null,null,null,null,null,null,null,null,{"$f":"+INDEX(D2869:AF2869,1,aux_pr_ue!$P$2)","v":0},{"$f":"+INDEX(D2869:AF2869,1,aux_pr_ue!$Q$2)","v":0}]
["Feed Oats1991/03","Feed Oats","1991/03",144.7406,139.41223333333335,null,null,null,147.221925,null,null,null,null,null,null,null,null,null,null,null,null,null,null,null,null,null,null,null,null,null,null,null,{"$f":"+INDEX(D2870:AF2870,1,aux_pr_ue!$P$2)","v":0},{"$f":"+INDEX(D2870:AF2870,1,aux_pr_ue!$Q$2)","v":0}]
["Milling Oats2017/07","Milling Oats","2017/07",139.28990000000002,null,null,null,null,null,105,null,null,null,null,null,null,null,null,null,null,null,null,null,null,null,null,null,null,null,null,null,147.86240000000001,{"$f":"+INDEX(D2873:AF2873,1,aux_pr_ue!$P$2)","v":0},{"$f":"+INDEX(D2873:AF2873,1,aux_pr_ue!$Q$2)","v":0}]
["Milling Oats2017/06","Milling Oats","2017/06",140.1506,null,null,null,null,null,125.41670000000001,null,null,null,null,null,null,null,null,null,null,null,null,null,null,null,null,null,null,null,null,null,162.47050000000002,{"$f":"+INDEX(D2874:AF2874,1,aux_pr_ue!$P$2)","v":0},{"$f":"+INDEX(D2874:AF2874,1,aux_pr_ue!$Q$2)","v":0}]
["Milling Oats2017/04","Milling Oats","2017/04",152.0686,null,null,null,null,null,128.8663,null,null,null,null,null,null,null,null,null,null,null,null,null,null,null,null,null,null,null,null,null,167.61680000000001,{"$f":"+INDEX(D2876:AF2876,1,aux_pr_ue!$P$2)","v":0},{"$f":"+INDEX(D2876:AF2876,1,aux_pr_ue!$Q$2)","v":0}]
["Milling Oats2017/03","Milling Oats","2017/03",150.7859,null,null,null,null,null,135.38500000000002,null,null,null,null,null,null,null,null,null,null,null,null,null,null,null,null,null,null,null,null,null,160.06720000000001,{"$f":"+INDEX(D2877:AF2877,1,aux_pr_ue!$P$2)","v":0},{"$f":"+INDEX(D2877:AF2877,1,aux_pr_ue!$Q$2)","v":0}]
["Milling Oats2016/12","Milling Oats","2016/12",133.3211,null,null,null,null,null,127.54390000000001,null,null,null,null,null,null,null,null,null,null,null,null,null,null,null,null,null,null,null,null,null,150.28050000000002,{"$f":"+INDEX(D2880:AF2880,1,aux_pr_ue!$P$2)","v":0},{"$f":"+INDEX(D2880:AF2880,1,aux_pr_ue!$Q$2)","v":0}]
["Milling Oats2016/11","Milling Oats","2016/11",131.67420000000001,null,null,null,null,null,114.8897,null,null,null,null,null,null,null,null,null,null,null,null,null,160.5,null,null,null,null,null,null,null,142.7492,{"$f":"+INDEX(D2881:AF2881,1,aux_pr_ue!$P$2)","v":0},{"$f":"+INDEX(D2881:AF2881,1,aux_pr_ue!$Q$2)","v":0}]
["Milling Oats2016/08","Milling Oats","2016/08",127.4341,null,null,null,null,null,120.9975,null,null,null,null,null,null,null,null,null,null,null,null,null,null,null,null,null,null,null,null,null,131.6302,{"$f":"+INDEX(D2884:AF2884,1,aux_pr_ue!$P$2)","v":0},{"$f":"+INDEX(D2884:AF2884,1,aux_pr_ue!$Q$2)","v":0}]
["Milling Oats2016/07","Milling Oats","2016/07",143.63130000000001,null,null,null,null,null,null,null,null,null,null,null,null,null,null,null,null,null,null,null,null,null,null,null,null,null,null,null,143.63130000000001,{"$f":"+INDEX(D2885:AF2885,1,aux_pr_ue!$P$2)","v":0},{"$f":"+INDEX(D2885:AF2885,1,aux_pr_ue!$Q$2)","v":0}]
["Milling Oats2016/04","Milling Oats","2016/04",136.52500000000001,null,null,null,null,null,149,null,null,null,null,null,null,null,null,null,null,null,null,null,null,null,null,null,null,null,null,null,133.1105,{"$f":"+INDEX(D2888:AF2888,1,aux_pr_ue!$P$2)","v":0},{"$f":"+INDEX(D2888:AF2888,1,aux_pr_ue!$Q$2)","v":0}]
["Milling Oats2016/03","Milling Oats","2016/03",143.6431,null,null,null,null,null,166.39,null,null,null,null,null,null,null,null,null,null,null,null,null,null,null,null,null,null,null,null,null,136.17410000000001,{"$f":"+INDEX(D2889:AF2889,1,aux_pr_ue!$P$2)","v":0},{"$f":"+INDEX(D2889:AF2889,1,aux_pr_ue!$Q$2)","v":0}]
["Milling Oats2015/12","Milling Oats","2015/12",147.22050000000002,null,null,null,null,null,152.47,null,null,null,null,null,null,null,null,null,null,null,null,null,null,null,null,null,null,null,null,null,146.3065,{"$f":"+INDEX(D2892:AF2892,1,aux_pr_ue!$P$2)","v":0},{"$f":"+INDEX(D2892:AF2892,1,aux_pr_ue!$Q$2)","v":0}]
["Milling Oats2015/11","Milling Oats","2015/11",142.7765,null,null,null,null,null,142.6,null,null,null,null,null,null,null,141.41,null,null,null,null,null,null,124.57900000000001,null,null,null,null,141.05554999999998,null,147.92060000000001,{"$f":"+INDEX(D2893:AF2893,1,aux_pr_ue!$P$2)","v":0},{"$f":"+INDEX(D2893:AF2893,1,aux_pr_ue!$Q$2)","v":141.05554999999998}]
["Milling Oats2015/08","Milling Oats","2015/08",137.08969999999999,null,null,null,null,null,null,null,null,null,null,null,null,null,null,null,null,null,null,null,null,118.9675,null,null,null,null,140.31450000000001,null,148.7621,{"$f":"+INDEX(D2896:AF2896,1,aux_pr_ue!$P$2)","v":0},{"$f":"+INDEX(D2896:AF2896,1,aux_pr_ue!$Q$2)","v":140.31450000000001}]
["Milling Oats2015/07","Milling Oats","2015/07",139.7801,null,null,null,null,null,null,null,null,null,null,null,null,null,null,null,null,null,null,null,null,114.8263,null,null,null,null,137.59399999999999,null,161.44660000000002,{"$f":"+INDEX(D2897:AF2897,1,aux_pr_ue!$P$2)","v":0},{"$f":"+INDEX(D2897:AF2897,1,aux_pr_ue!$Q$2)","v":137.59399999999999}]
["Milling Oats2015/04","Milling Oats","2015/04",135.20690000000002,null,null,null,null,null,null,null,null,null,null,null,null,null,null,null,null,null,null,null,null,117.90620000000001,null,null,null,null,131.5917,null,159.1711,{"$f":"+INDEX(D2900:AF2900,1,aux_pr_ue!$P$2)","v":0},{"$f":"+INDEX(D2900:AF2900,1,aux_pr_ue!$Q$2)","v":131.5917}]
["Milling Oats2015/03","Milling Oats","2015/03",136.08000000000001,null,null,null,null,null,null,null,null,null,null,null,null,null,null,null,null,null,null,null,null,119.18940000000001,null,null,null,null,134.31855000000002,null,151.7388,{"$f":"+INDEX(D2901:AF2901,1,aux_pr_ue!$P$2)","v":0},{"$f":"+INDEX(D2901:AF2901,1,aux_pr_ue!$Q$2)","v":134.31855000000002}]
["Milling Oats2014/12","Milling Oats","2014/12",122.85080000000001,null,null,null,null,null,null,null,null,null,null,null,null,null,null,null,null,null,null,null,null,108.34700000000001,null,null,null,null,123.9597,null,139.7851,{"$f":"+INDEX(D2904:AF2904,1,aux_pr_ue!$P$2)","v":0},{"$f":"+INDEX(D2904:AF2904,1,aux_pr_ue!$Q$2)","v":123.9597}]
["Milling Oats2014/11","Milling Oats","2014/11",122.2534,null,null,null,null,null,null,null,null,null,null,null,null,null,null,null,null,null,null,null,null,108.6979,null,null,null,null,124.02085,null,129.7217,{"$f":"+INDEX(D2905:AF2905,1,aux_pr_ue!$P$2)","v":0},{"$f":"+INDEX(D2905:AF2905,1,aux_pr_ue!$Q$2)","v":124.02085}]
["Milling Oats2014/08","Milling Oats","2014/08",129.83760000000001,null,null,null,null,null,null,null,null,null,null,null,null,null,null,null,null,null,null,null,null,118.9034,null,null,null,null,133.31049999999999,null,133.33036666666666,{"$f":"+INDEX(D2908:AF2908,1,aux_pr_ue!$P$2)","v":0},{"$f":"+INDEX(D2908:AF2908,1,aux_pr_ue!$Q$2)","v":133.31049999999999}]
["Milling Oats2014/07","Milling Oats","2014/07",129.73699999999999,null,null,null,null,null,null,null,null,null,null,null,null,null,null,null,null,null,null,null,null,123.97750000000001,null,null,null,null,130.7097,null,null,{"$f":"+INDEX(D2909:AF2909,1,aux_pr_ue!$P$2)","v":0},{"$f":"+INDEX(D2909:AF2909,1,aux_pr_ue!$Q$2)","v":130.7097}]
["Milling Oats2014/05","Milling Oats","2014/05",139.8476,null,null,null,null,null,null,null,null,null,null,null,null,null,null,null,null,null,null,null,null,138.6395,null,null,null,null,136.8997,null,158.8989,{"$f":"+INDEX(D2911:AF2911,1,aux_pr_ue!$P$2)","v":0},{"$f":"+INDEX(D2911:AF2911,1,aux_pr_ue!$Q$2)","v":136.8997}]
["Milling Oats2014/04","Milling Oats","2014/04",136.5248,null,null,null,null,null,null,null,null,null,null,null,null,null,null,null,null,null,null,null,null,139.381,null,null,null,null,136.21,null,null,{"$f":"+INDEX(D2912:AF2912,1,aux_pr_ue!$P$2)","v":0},{"$f":"+INDEX(D2912:AF2912,1,aux_pr_ue!$Q$2)","v":136.21}]
["Milling Oats2014/01","Milling Oats","2014/01",139.1174,null,null,null,null,null,null,null,null,null,null,null,null,null,null,null,null,null,null,null,null,132.94499999999999,null,null,null,null,140.39030000000002,null,null,{"$f":"+INDEX(D2915:AF2915,1,aux_pr_ue!$P$2)","v":0},{"$f":"+INDEX(D2915:AF2915,1,aux_pr_ue!$Q$2)","v":140.39030000000002}]
["Milling Oats2013/12","Milling Oats","2013/12",137.1721,null,null,null,null,null,null,null,null,null,null,null,null,null,null,null,null,null,null,null,null,129.6163,null,null,null,null,139.94999999999999,null,null,{"$f":"+INDEX(D2916:AF2916,1,aux_pr_ue!$P$2)","v":0},{"$f":"+INDEX(D2916:AF2916,1,aux_pr_ue!$Q$2)","v":139.94999999999999}]
["Milling Oats2013/09","Milling Oats","2013/09",133.51689999999999,null,null,null,null,null,null,null,null,null,null,null,null,null,null,null,null,null,null,null,null,103.331,null,null,null,null,144.45050000000001,null,148.92843333333334,{"$f":"+INDEX(D2919:AF2919,1,aux_pr_ue!$P$2)","v":0},{"$f":"+INDEX(D2919:AF2919,1,aux_pr_ue!$Q$2)","v":144.45050000000001}]
["Milling Oats2013/08","Milling Oats","2013/08",146.71790000000001,null,null,null,null,null,null,null,null,null,null,null,null,null,null,null,null,null,null,null,null,102.90300000000001,null,null,null,null,162.47275000000002,null,157.4,{"$f":"+INDEX(D2920:AF2920,1,aux_pr_ue!$P$2)","v":0},{"$f":"+INDEX(D2920:AF2920,1,aux_pr_ue!$Q$2)","v":162.47275000000002}]
["Milling Oats2013/05","Milling Oats","2013/05",209.4222,null,null,null,null,null,null,null,null,null,null,null,null,null,null,null,null,null,null,null,null,null,null,null,null,null,179.61110000000002,null,226.83652499999999,{"$f":"+INDEX(D2923:AF2923,1,aux_pr_ue!$P$2)","v":0},{"$f":"+INDEX(D2923:AF2923,1,aux_pr_ue!$Q$2)","v":179.61110000000002}]
["Milling Oats2013/04","Milling Oats","2013/04",199.6147,null,null,null,null,null,null,null,null,null,null,null,null,null,null,null,null,null,null,null,null,149.62360000000001,null,null,null,null,null,null,220.16765000000001,{"$f":"+INDEX(D2924:AF2924,1,aux_pr_ue!$P$2)","v":0},{"$f":"+INDEX(D2924:AF2924,1,aux_pr_ue!$Q$2)","v":0}]
["Milling Oats2013/01","Milling Oats","2013/01",162.93860000000001,null,null,null,null,null,null,null,null,null,null,null,null,null,null,null,null,null,null,null,null,162.93860000000001,null,null,null,null,null,null,null,{"$f":"+INDEX(D2927:AF2927,1,aux_pr_ue!$P$2)","v":0},{"$f":"+INDEX(D2927:AF2927,1,aux_pr_ue!$Q$2)","v":0}]
["Milling Oats2012/12","Milling Oats","2012/12",132.30670000000001,null,null,null,null,null,null,null,null,null,null,null,null,null,null,null,null,null,null,null,null,132.30670000000001,null,null,null,null,null,null,null,{"$f":"+INDEX(D2928:AF2928,1,aux_pr_ue!$P$2)","v":0},{"$f":"+INDEX(D2928:AF2928,1,aux_pr_ue!$Q$2)","v":0}]
["Milling Oats2012/09","Milling Oats","2012/09",173.8689,null,null,null,null,null,null,null,null,null,null,null,null,null,null,null,null,null,null,null,null,164.48740000000001,null,null,null,null,null,null,240.1859,{"$f":"+INDEX(D2931:AF2931,1,aux_pr_ue!$P$2)","v":0},{"$f":"+INDEX(D2931:AF2931,1,aux_pr_ue!$Q$2)","v":0}]
["Milling Oats2012/08","Milling Oats","2012/08",182.65460000000002,null,null,null,null,null,null,null,null,null,null,null,null,null,null,null,null,null,null,null,null,170.79480000000001,null,null,null,null,null,null,241.94120000000001,{"$f":"+INDEX(D2932:AF2932,1,aux_pr_ue!$P$2)","v":0},{"$f":"+INDEX(D2932:AF2932,1,aux_pr_ue!$Q$2)","v":0}]
["Milling Oats2012/05","Milling Oats","2012/05",166.13820000000001,null,null,null,null,null,null,null,null,null,null,null,null,null,null,null,null,null,null,null,null,166.13820000000001,null,null,null,null,null,null,null,{"$f":"+INDEX(D2935:AF2935,1,aux_pr_ue!$P$2)","v":0},{"$f":"+INDEX(D2935:AF2935,1,aux_pr_ue!$Q$2)","v":0}]
["Milling Oats2012/04","Milling Oats","2012/04",167.8827,null,null,null,null,null,null,null,null,null,null,null,null,null,null,null,null,null,null,null,null,167.8827,null,null,null,null,null,null,null,{"$f":"+INDEX(D2936:AF2936,1,aux_pr_ue!$P$2)","v":0},{"$f":"+INDEX(D2936:AF2936,1,aux_pr_ue!$Q$2)","v":0}]
["Milling Oats2012/01","Milling Oats","2012/01",159.4478,null,null,null,null,null,null,null,null,null,null,null,null,null,null,null,null,null,null,null,null,159.4478,null,null,null,null,null,null,null,{"$f":"+INDEX(D2939:AF2939,1,aux_pr_ue!$P$2)","v":0},{"$f":"+INDEX(D2939:AF2939,1,aux_pr_ue!$Q$2)","v":0}]
["Milling Oats2011/12","Milling Oats","2011/12",151.94589999999999,null,null,null,null,null,null,null,null,null,null,null,null,null,null,null,null,null,null,null,null,151.94589999999999,null,null,null,null,null,null,null,{"$f":"+INDEX(D2940:AF2940,1,aux_pr_ue!$P$2)","v":0},{"$f":"+INDEX(D2940:AF2940,1,aux_pr_ue!$Q$2)","v":0}]
["Milling Oats2011/10","Milling Oats","2011/10",169.46700000000001,null,null,null,null,null,null,null,null,null,null,null,null,null,null,null,null,null,null,null,null,151.41480000000001,null,null,null,null,null,null,200.41370000000001,{"$f":"+INDEX(D2942:AF2942,1,aux_pr_ue!$P$2)","v":0},{"$f":"+INDEX(D2942:AF2942,1,aux_pr_ue!$Q$2)","v":0}]
["Milling Oats2011/09","Milling Oats","2011/09",168.3486,null,null,null,null,null,null,null,null,null,null,null,null,null,null,null,null,null,null,null,null,156.92240000000001,null,null,null,null,null,null,207.44045,{"$f":"+INDEX(D2943:AF2943,1,aux_pr_ue!$P$2)","v":0},{"$f":"+INDEX(D2943:AF2943,1,aux_pr_ue!$Q$2)","v":0}]
["Milling Oats2011/08","Milling Oats","2011/08",167.86790000000002,null,null,null,null,null,null,null,null,null,null,null,null,null,null,null,null,null,null,null,null,157.33280000000002,null,null,null,null,null,null,201.62385,{"$f":"+INDEX(D2944:AF2944,1,aux_pr_ue!$P$2)","v":0},{"$f":"+INDEX(D2944:AF2944,1,aux_pr_ue!$Q$2)","v":0}]
["Milling Oats2011/07","Milling Oats","2011/07",null,null,null,null,null,null,null,null,null,null,null,null,null,null,null,null,null,null,null,null,null,null,null,null,null,null,null,null,null,{"$f":"+INDEX(D2945:AF2945,1,aux_pr_ue!$P$2)","v":0},{"$f":"+INDEX(D2945:AF2945,1,aux_pr_ue!$Q$2)","v":0}]
["Milling Oats2011/06","Milling Oats","2011/06",159.85339999999999,null,null,null,null,null,null,null,null,null,null,null,null,null,null,null,null,null,null,null,null,159.85339999999999,null,null,null,null,null,null,null,{"$f":"+INDEX(D2946:AF2946,1,aux_pr_ue!$P$2)","v":0},{"$f":"+INDEX(D2946:AF2946,1,aux_pr_ue!$Q$2)","v":0}]
["Milling Oats2011/05","Milling Oats","2011/05",176.81489999999999,null,null,null,null,null,null,null,null,null,null,null,null,null,null,null,null,null,null,null,null,176.81489999999999,null,null,null,null,null,null,null,{"$f":"+INDEX(D2947:AF2947,1,aux_pr_ue!$P$2)","v":0},{"$f":"+INDEX(D2947:AF2947,1,aux_pr_ue!$Q$2)","v":0}]
["Milling Oats2011/04","Milling Oats","2011/04",175.69160000000002,null,null,null,null,null,null,null,null,null,null,null,null,null,null,null,null,null,null,null,null,175.69160000000002,null,null,null,null,null,null,null,{"$f":"+INDEX(D2948:AF2948,1,aux_pr_ue!$P$2)","v":0},{"$f":"+INDEX(D2948:AF2948,1,aux_pr_ue!$Q$2)","v":0}]
["Milling Oats2011/03","Milling Oats","2011/03",166.91120000000001,null,null,null,null,null,null,null,null,null,null,null,null,null,null,null,null,null,null,null,null,166.91120000000001,null,null,null,null,null,null,null,{"$f":"+INDEX(D2949:AF2949,1,aux_pr_ue!$P$2)","v":0},{"$f":"+INDEX(D2949:AF2949,1,aux_pr_ue!$Q$2)","v":0}]
["Milling Oats2011/02","Milling Oats","2011/02",177.435,null,null,null,null,null,null,null,null,null,null,null,null,null,null,null,null,null,null,null,null,177.435,null,null,null,null,null,null,null,{"$f":"+INDEX(D2950:AF2950,1,aux_pr_ue!$P$2)","v":0},{"$f":"+INDEX(D2950:AF2950,1,aux_pr_ue!$Q$2)","v":0}]
["Milling Oats2011/01","Milling Oats","2011/01",153.22630000000001,null,null,null,null,null,null,null,null,null,null,null,null,null,null,null,null,null,null,null,null,153.22630000000001,null,null,null,null,null,null,null,{"$f":"+INDEX(D2951:AF2951,1,aux_pr_ue!$P$2)","v":0},{"$f":"+INDEX(D2951:AF2951,1,aux_pr_ue!$Q$2)","v":0}]
["Milling Oats2010/12","Milling Oats","2010/12",129.22890000000001,null,null,null,null,null,null,null,null,null,null,null,null,null,null,null,null,null,null,null,null,129.22890000000001,null,null,null,null,null,null,null,{"$f":"+INDEX(D2952:AF2952,1,aux_pr_ue!$P$2)","v":0},{"$f":"+INDEX(D2952:AF2952,1,aux_pr_ue!$Q$2)","v":0}]
["Milling Oats2010/11","Milling Oats","2010/11",121.7864,null,null,null,null,null,null,null,null,null,null,null,null,null,null,null,null,null,null,null,null,121.7864,null,null,null,null,null,null,null,{"$f":"+INDEX(D2953:AF2953,1,aux_pr_ue!$P$2)","v":0},{"$f":"+INDEX(D2953:AF2953,1,aux_pr_ue!$Q$2)","v":0}]
["Milling Oats2010/10","Milling Oats","2010/10",127.6,null,null,null,null,null,null,null,null,null,null,null,null,null,null,null,null,null,null,null,null,127.6,null,null,null,null,null,null,null,{"$f":"+INDEX(D2954:AF2954,1,aux_pr_ue!$P$2)","v":0},{"$f":"+INDEX(D2954:AF2954,1,aux_pr_ue!$Q$2)","v":0}]
["Milling Oats2010/09","Milling Oats","2010/09",111.51270000000001,null,null,null,null,null,null,null,null,null,null,null,null,null,null,null,null,null,null,null,null,110.56620000000001,null,null,null,null,null,null,149.5369,{"$f":"+INDEX(D2955:AF2955,1,aux_pr_ue!$P$2)","v":0},{"$f":"+INDEX(D2955:AF2955,1,aux_pr_ue!$Q$2)","v":0}]
["Milling Oats2010/08","Milling Oats","2010/08",90.705700000000007,null,null,null,null,null,null,null,null,null,null,null,null,null,null,null,null,null,null,null,null,84.395499999999998,null,null,null,null,null,null,149.5369,{"$f":"+INDEX(D2956:AF2956,1,aux_pr_ue!$P$2)","v":0},{"$f":"+INDEX(D2956:AF2956,1,aux_pr_ue!$Q$2)","v":0}]
["Milling Oats2010/07","Milling Oats","2010/07",67.882800000000003,null,null,null,null,null,null,null,null,null,null,null,null,null,null,null,null,null,null,null,null,67.882800000000003,null,null,null,null,null,null,null,{"$f":"+INDEX(D2957:AF2957,1,aux_pr_ue!$P$2)","v":0},{"$f":"+INDEX(D2957:AF2957,1,aux_pr_ue!$Q$2)","v":0}]
["Milling Oats2010/06","Milling Oats","2010/06",50.8782,null,null,null,null,null,null,null,null,null,null,null,null,null,null,null,null,null,null,null,null,50.8782,null,null,null,null,null,null,null,{"$f":"+INDEX(D2958:AF2958,1,aux_pr_ue!$P$2)","v":0},{"$f":"+INDEX(D2958:AF2958,1,aux_pr_ue!$Q$2)","v":0}]
["Milling Oats2010/05","Milling Oats","2010/05",61.117600000000003,null,null,null,null,null,null,null,null,null,null,null,null,null,null,null,null,null,null,null,null,61.117600000000003,null,null,null,null,null,null,null,{"$f":"+INDEX(D2959:AF2959,1,aux_pr_ue!$P$2)","v":0},{"$f":"+INDEX(D2959:AF2959,1,aux_pr_ue!$Q$2)","v":0}]
["Milling Oats2010/04","Milling Oats","2010/04",65.660300000000007,null,null,null,null,null,null,null,null,null,null,null,null,null,null,null,null,null,null,null,null,65.660300000000007,null,null,null,null,null,null,null,{"$f":"+INDEX(D2960:AF2960,1,aux_pr_ue!$P$2)","v":0},{"$f":"+INDEX(D2960:AF2960,1,aux_pr_ue!$Q$2)","v":0}]
["Milling Oats2010/03","Milling Oats","2010/03",68.890299999999996,null,null,null,null,null,null,null,null,null,null,null,null,null,null,null,null,null,null,null,null,72.792000000000002,null,null,null,null,null,null,null,{"$f":"+INDEX(D2961:AF2961,1,aux_pr_ue!$P$2)","v":0},{"$f":"+INDEX(D2961:AF2961,1,aux_pr_ue!$Q$2)","v":0}]
["Milling Oats2010/02","Milling Oats","2010/02",68.986100000000008,null,null,null,null,null,null,null,null,null,null,null,null,null,null,null,null,null,null,null,null,72.690650000000005,null,null,null,null,null,null,null,{"$f":"+INDEX(D2962:AF2962,1,aux_pr_ue!$P$2)","v":0},{"$f":"+INDEX(D2962:AF2962,1,aux_pr_ue!$Q$2)","v":0}]
["Milling Oats2010/01","Milling Oats","2010/01",61.612900000000003,null,null,null,null,null,null,null,null,null,null,null,null,null,null,null,null,null,null,null,null,61.612900000000003,null,null,null,null,null,null,null,{"$f":"+INDEX(D2963:AF2963,1,aux_pr_ue!$P$2)","v":0},{"$f":"+INDEX(D2963:AF2963,1,aux_pr_ue!$Q$2)","v":0}]
["Milling Oats2009/12","Milling Oats","2009/12",60.5794,null,null,null,null,null,null,null,null,null,null,null,null,null,null,null,null,null,null,null,null,60.5794,null,null,null,null,null,null,null,{"$f":"+INDEX(D2964:AF2964,1,aux_pr_ue!$P$2)","v":0},{"$f":"+INDEX(D2964:AF2964,1,aux_pr_ue!$Q$2)","v":0}]
["Milling Oats2009/11","Milling Oats","2009/11",62.994800000000005,null,null,null,null,null,null,null,null,null,null,null,null,null,null,null,null,null,null,null,null,62.994800000000005,null,null,null,null,null,null,null,{"$f":"+INDEX(D2965:AF2965,1,aux_pr_ue!$P$2)","v":0},{"$f":"+INDEX(D2965:AF2965,1,aux_pr_ue!$Q$2)","v":0}]
["Milling Oats2009/10","Milling Oats","2009/10",56.046500000000002,null,null,null,null,null,null,null,null,null,null,null,null,null,null,null,null,null,null,null,null,56.046500000000002,null,null,null,null,null,null,null,{"$f":"+INDEX(D2966:AF2966,1,aux_pr_ue!$P$2)","v":0},{"$f":"+INDEX(D2966:AF2966,1,aux_pr_ue!$Q$2)","v":0}]
["Milling Oats2009/09","Milling Oats","2009/09",69.214200000000005,null,null,null,null,null,null,null,null,null,null,null,null,null,null,null,null,null,null,null,null,63.406700000000001,null,null,null,null,null,null,86.570300000000003,{"$f":"+INDEX(D2967:AF2967,1,aux_pr_ue!$P$2)","v":0},{"$f":"+INDEX(D2967:AF2967,1,aux_pr_ue!$Q$2)","v":0}]
["Milling Oats2009/08","Milling Oats","2009/08",68.885000000000005,null,null,null,null,null,null,null,null,null,null,null,null,null,null,null,null,null,null,null,null,62.465900000000005,null,null,null,null,null,null,93.622350000000012,{"$f":"+INDEX(D2968:AF2968,1,aux_pr_ue!$P$2)","v":0},{"$f":"+INDEX(D2968:AF2968,1,aux_pr_ue!$Q$2)","v":0}]
["Milling Oats2009/07","Milling Oats","2009/07",112.2548,null,null,null,null,null,null,null,null,null,null,null,null,null,null,null,null,null,null,null,null,120.49233333333335,null,null,null,null,null,null,null,{"$f":"+INDEX(D2969:AF2969,1,aux_pr_ue!$P$2)","v":0},{"$f":"+INDEX(D2969:AF2969,1,aux_pr_ue!$Q$2)","v":0}]
["Milling Oats2009/06","Milling Oats","2009/06",80.218900000000005,null,null,null,null,null,null,null,null,null,null,null,null,null,null,null,null,null,null,null,null,80.218900000000005,null,null,null,null,null,null,null,{"$f":"+INDEX(D2970:AF2970,1,aux_pr_ue!$P$2)","v":0},{"$f":"+INDEX(D2970:AF2970,1,aux_pr_ue!$Q$2)","v":0}]
["Milling Oats2009/05","Milling Oats","2009/05",90.154000000000011,null,null,null,null,null,null,null,null,null,null,null,null,null,null,null,null,null,null,null,null,90.154000000000011,null,null,null,null,null,null,null,{"$f":"+INDEX(D2971:AF2971,1,aux_pr_ue!$P$2)","v":0},{"$f":"+INDEX(D2971:AF2971,1,aux_pr_ue!$Q$2)","v":0}]
["Milling Oats2009/04","Milling Oats","2009/04",94.657200000000003,null,null,null,null,null,null,null,null,null,null,null,null,null,null,null,null,null,null,null,null,89.066299999999998,null,null,null,null,null,null,103.5086,{"$f":"+INDEX(D2972:AF2972,1,aux_pr_ue!$P$2)","v":0},{"$f":"+INDEX(D2972:AF2972,1,aux_pr_ue!$Q$2)","v":0}]
["Milling Oats2009/03","Milling Oats","2009/03",97.292600000000007,null,null,null,null,null,null,null,null,null,null,null,null,null,null,null,null,null,null,null,null,97.292600000000007,null,null,null,null,null,null,null,{"$f":"+INDEX(D2973:AF2973,1,aux_pr_ue!$P$2)","v":0},{"$f":"+INDEX(D2973:AF2973,1,aux_pr_ue!$Q$2)","v":0}]
["Milling Oats2009/02","Milling Oats","2009/02",88.040800000000004,null,null,null,null,null,null,null,null,null,null,null,null,null,null,null,null,null,null,null,null,88.040800000000004,null,null,null,null,null,null,null,{"$f":"+INDEX(D2974:AF2974,1,aux_pr_ue!$P$2)","v":0},{"$f":"+INDEX(D2974:AF2974,1,aux_pr_ue!$Q$2)","v":0}]
["Milling Oats2009/01","Milling Oats","2009/01",85.579300000000003,null,null,null,null,null,null,null,null,null,null,null,null,null,null,null,null,null,null,null,null,85.579300000000003,null,null,null,null,null,null,null,{"$f":"+INDEX(D2975:AF2975,1,aux_pr_ue!$P$2)","v":0},{"$f":"+INDEX(D2975:AF2975,1,aux_pr_ue!$Q$2)","v":0}]
["Milling Oats2008/12","Milling Oats","2008/12",null,null,null,null,null,null,null,null,null,null,null,null,null,null,null,null,null,null,null,null,null,null,null,null,null,null,null,null,null,{"$f":"+INDEX(D2976:AF2976,1,aux_pr_ue!$P$2)","v":0},{"$f":"+INDEX(D2976:AF2976,1,aux_pr_ue!$Q$2)","v":0}]
["Milling Oats2008/11","Milling Oats","2008/11",109.1752,null,null,null,null,null,null,null,null,null,null,null,null,null,null,null,null,null,null,null,null,null,null,null,null,null,null,null,111.13216666666666,{"$f":"+INDEX(D2977:AF2977,1,aux_pr_ue!$P$2)","v":0},{"$f":"+INDEX(D2977:AF2977,1,aux_pr_ue!$Q$2)","v":0}]
["Milling Oats2008/10","Milling Oats","2008/10",113.4808,null,null,null,null,null,null,null,null,null,null,null,null,null,null,null,null,null,null,null,null,null,null,null,null,null,null,null,113.48080000000002,{"$f":"+INDEX(D2978:AF2978,1,aux_pr_ue!$P$2)","v":0},{"$f":"+INDEX(D2978:AF2978,1,aux_pr_ue!$Q$2)","v":0}]
["Milling Oats2008/09","Milling Oats","2008/09",133.8235,null,null,null,null,null,null,null,null,null,null,null,null,null,null,null,null,null,null,null,null,null,null,null,null,null,null,null,133.8235,{"$f":"+INDEX(D2979:AF2979,1,aux_pr_ue!$P$2)","v":0},{"$f":"+INDEX(D2979:AF2979,1,aux_pr_ue!$Q$2)","v":0}]
["Milling Oats2008/08","Milling Oats","2008/08",145.90870000000001,null,null,null,null,null,null,null,null,null,null,null,null,null,null,null,null,null,null,null,null,141.95835,null,null,null,null,null,null,141.22276666666667,{"$f":"+INDEX(D2980:AF2980,1,aux_pr_ue!$P$2)","v":0},{"$f":"+INDEX(D2980:AF2980,1,aux_pr_ue!$Q$2)","v":0}]
["Milling Oats2008/07","Milling Oats","2008/07",155.1174,null,null,null,null,null,null,null,null,null,null,null,null,null,null,null,null,null,null,null,null,165.6979,null,null,null,null,null,null,149.91300000000001,{"$f":"+INDEX(D2981:AF2981,1,aux_pr_ue!$P$2)","v":0},{"$f":"+INDEX(D2981:AF2981,1,aux_pr_ue!$Q$2)","v":0}]
["Milling Oats2008/06","Milling Oats","2008/06",null,null,null,null,null,null,null,null,null,null,null,null,null,null,null,null,null,null,null,null,null,null,null,null,null,null,null,null,null,{"$f":"+INDEX(D2982:AF2982,1,aux_pr_ue!$P$2)","v":0},{"$f":"+INDEX(D2982:AF2982,1,aux_pr_ue!$Q$2)","v":0}]
["Milling Oats2008/05","Milling Oats","2008/05",145.5943,null,null,null,null,null,null,null,null,null,null,null,null,null,null,null,null,null,null,null,null,null,null,null,null,null,null,null,145.5943,{"$f":"+INDEX(D2983:AF2983,1,aux_pr_ue!$P$2)","v":0},{"$f":"+INDEX(D2983:AF2983,1,aux_pr_ue!$Q$2)","v":0}]
["Milling Oats2008/04","Milling Oats","2008/04",null,null,null,null,null,null,null,null,null,null,null,null,null,null,null,null,null,null,null,null,null,null,null,null,null,null,null,null,null,{"$f":"+INDEX(D2984:AF2984,1,aux_pr_ue!$P$2)","v":0},{"$f":"+INDEX(D2984:AF2984,1,aux_pr_ue!$Q$2)","v":0}]
["Milling Oats2008/03","Milling Oats","2008/03",null,null,null,null,null,null,null,null,null,null,null,null,null,null,null,null,null,null,null,null,null,null,null,null,null,null,null,null,null,{"$f":"+INDEX(D2985:AF2985,1,aux_pr_ue!$P$2)","v":0},{"$f":"+INDEX(D2985:AF2985,1,aux_pr_ue!$Q$2)","v":0}]
["Milling Oats2008/02","Milling Oats","2008/02",null,null,null,null,null,null,null,null,null,null,null,null,null,null,null,null,null,null,null,null,null,null,null,null,null,null,null,null,null,{"$f":"+INDEX(D2986:AF2986,1,aux_pr_ue!$P$2)","v":0},{"$f":"+INDEX(D2986:AF2986,1,aux_pr_ue!$Q$2)","v":0}]
["Milling Oats2008/01","Milling Oats","2008/01",153.4144,null,null,null,null,null,null,null,null,null,null,null,null,null,null,null,null,null,null,null,null,153.4144,null,null,null,null,null,null,null,{"$f":"+INDEX(D2987:AF2987,1,aux_pr_ue!$P$2)","v":0},{"$f":"+INDEX(D2987:AF2987,1,aux_pr_ue!$Q$2)","v":0}]
["Milling Oats2007/12","Milling Oats","2007/12",200.8279,null,null,null,null,null,null,null,null,null,null,null,null,null,null,null,null,null,null,null,null,200.8279,null,null,null,null,null,null,null,{"$f":"+INDEX(D2988:AF2988,1,aux_pr_ue!$P$2)","v":0},{"$f":"+INDEX(D2988:AF2988,1,aux_pr_ue!$Q$2)","v":0}]
["Milling Oats2007/11","Milling Oats","2007/11",168.1909,null,null,null,null,null,null,null,null,null,null,null,null,null,null,null,null,null,null,null,null,168.1909,null,null,null,null,null,null,null,{"$f":"+INDEX(D2989:AF2989,1,aux_pr_ue!$P$2)","v":0},{"$f":"+INDEX(D2989:AF2989,1,aux_pr_ue!$Q$2)","v":0}]
["Milling Oats2007/10","Milling Oats","2007/10",177.06780000000001,null,null,null,null,null,null,null,null,null,null,null,null,null,null,null,null,null,null,null,null,207.48530000000002,null,null,null,null,null,null,null,{"$f":"+INDEX(D2990:AF2990,1,aux_pr_ue!$P$2)","v":0},{"$f":"+INDEX(D2990:AF2990,1,aux_pr_ue!$Q$2)","v":0}]
["Milling Oats2007/09","Milling Oats","2007/09",173.82850000000002,null,null,null,null,null,null,null,null,null,null,null,null,null,null,null,null,null,null,null,null,206.40503333333334,null,null,null,null,null,null,null,{"$f":"+INDEX(D2991:AF2991,1,aux_pr_ue!$P$2)","v":0},{"$f":"+INDEX(D2991:AF2991,1,aux_pr_ue!$Q$2)","v":0}]
["Milling Oats2007/08","Milling Oats","2007/08",129.364,null,null,null,null,null,null,null,null,null,null,null,null,null,null,null,null,null,null,null,null,128.77116666666669,null,null,null,null,null,null,null,{"$f":"+INDEX(D2992:AF2992,1,aux_pr_ue!$P$2)","v":0},{"$f":"+INDEX(D2992:AF2992,1,aux_pr_ue!$Q$2)","v":0}]
["Milling Oats2007/07","Milling Oats","2007/07",null,null,null,null,null,null,null,null,null,null,null,null,null,null,null,null,null,null,null,null,null,null,null,null,null,null,null,null,null,{"$f":"+INDEX(D2993:AF2993,1,aux_pr_ue!$P$2)","v":0},{"$f":"+INDEX(D2993:AF2993,1,aux_pr_ue!$Q$2)","v":0}]
["Milling Oats2007/06","Milling Oats","2007/06",null,null,null,null,null,null,null,null,null,null,null,null,null,null,null,null,null,null,null,null,null,null,null,null,null,null,null,null,null,{"$f":"+INDEX(D2994:AF2994,1,aux_pr_ue!$P$2)","v":0},{"$f":"+INDEX(D2994:AF2994,1,aux_pr_ue!$Q$2)","v":0}]
["Milling Oats2007/05","Milling Oats","2007/05",null,null,null,null,null,null,null,null,null,null,null,null,null,null,null,null,null,null,null,null,null,null,null,null,null,null,null,null,null,{"$f":"+INDEX(D2995:AF2995,1,aux_pr_ue!$P$2)","v":0},{"$f":"+INDEX(D2995:AF2995,1,aux_pr_ue!$Q$2)","v":0}]
["Milling Oats2007/04","Milling Oats","2007/04",154.8655,null,null,null,null,null,null,null,null,null,null,null,null,null,null,null,null,null,null,null,null,154.8655,null,null,null,null,null,null,null,{"$f":"+INDEX(D2996:AF2996,1,aux_pr_ue!$P$2)","v":0},{"$f":"+INDEX(D2996:AF2996,1,aux_pr_ue!$Q$2)","v":0}]
["Milling Oats2007/03","Milling Oats","2007/03",143.315,null,null,null,null,null,null,null,null,null,null,null,null,null,null,null,null,null,null,null,null,143.315,null,null,null,null,null,null,null,{"$f":"+INDEX(D2997:AF2997,1,aux_pr_ue!$P$2)","v":0},{"$f":"+INDEX(D2997:AF2997,1,aux_pr_ue!$Q$2)","v":0}]
["Milling Oats2007/02","Milling Oats","2007/02",137.8578,null,null,null,null,null,null,null,null,null,null,null,null,null,null,null,null,null,null,null,null,137.8578,null,null,null,null,null,null,null,{"$f":"+INDEX(D2998:AF2998,1,aux_pr_ue!$P$2)","v":0},{"$f":"+INDEX(D2998:AF2998,1,aux_pr_ue!$Q$2)","v":0}]
["Milling Oats2007/01","Milling Oats","2007/01",134.44370000000001,null,null,null,null,null,null,null,null,null,null,null,null,null,null,null,null,null,null,null,null,134.44370000000001,null,null,null,null,null,null,null,{"$f":"+INDEX(D2999:AF2999,1,aux_pr_ue!$P$2)","v":0},{"$f":"+INDEX(D2999:AF2999,1,aux_pr_ue!$Q$2)","v":0}]
["Milling Oats2006/12","Milling Oats","2006/12",117.98400000000001,null,null,null,null,null,null,null,null,null,null,null,null,null,null,null,null,null,null,null,null,117.98400000000001,null,null,null,null,null,null,null,{"$f":"+INDEX(D3000:AF3000,1,aux_pr_ue!$P$2)","v":0},{"$f":"+INDEX(D3000:AF3000,1,aux_pr_ue!$Q$2)","v":0}]
["Milling Oats2006/11","Milling Oats","2006/11",99.885900000000007,null,null,null,null,null,null,null,null,null,null,null,null,null,null,null,null,null,null,null,null,99.885900000000007,null,null,null,null,null,null,null,{"$f":"+INDEX(D3001:AF3001,1,aux_pr_ue!$P$2)","v":0},{"$f":"+INDEX(D3001:AF3001,1,aux_pr_ue!$Q$2)","v":0}]
["Milling Oats2006/10","Milling Oats","2006/10",100.37150000000001,null,null,null,null,null,null,null,null,null,null,null,null,null,null,null,null,null,null,null,null,100.37150000000001,null,null,null,null,null,null,null,{"$f":"+INDEX(D3002:AF3002,1,aux_pr_ue!$P$2)","v":0},{"$f":"+INDEX(D3002:AF3002,1,aux_pr_ue!$Q$2)","v":0}]
["Milling Oats2006/09","Milling Oats","2006/09",93.152200000000008,null,null,null,null,null,null,null,null,null,null,null,null,null,null,null,null,null,null,null,null,91.599400000000003,null,null,null,null,null,null,null,{"$f":"+INDEX(D3003:AF3003,1,aux_pr_ue!$P$2)","v":0},{"$f":"+INDEX(D3003:AF3003,1,aux_pr_ue!$Q$2)","v":0}]
["Milling Oats2006/08","Milling Oats","2006/08",86.063900000000004,null,null,null,null,null,null,null,null,null,null,null,null,null,null,null,null,null,null,null,null,86.063900000000004,null,null,null,null,null,null,null,{"$f":"+INDEX(D3004:AF3004,1,aux_pr_ue!$P$2)","v":0},{"$f":"+INDEX(D3004:AF3004,1,aux_pr_ue!$Q$2)","v":0}]
["Milling Oats2006/07","Milling Oats","2006/07",null,null,null,null,null,null,null,null,null,null,null,null,null,null,null,null,null,null,null,null,null,null,null,null,null,null,null,null,null,{"$f":"+INDEX(D3005:AF3005,1,aux_pr_ue!$P$2)","v":0},{"$f":"+INDEX(D3005:AF3005,1,aux_pr_ue!$Q$2)","v":0}]
["Milling Oats2006/06","Milling Oats","2006/06",null,null,null,null,null,null,null,null,null,null,null,null,null,null,null,null,null,null,null,null,null,null,null,null,null,null,null,null,null,{"$f":"+INDEX(D3006:AF3006,1,aux_pr_ue!$P$2)","v":0},{"$f":"+INDEX(D3006:AF3006,1,aux_pr_ue!$Q$2)","v":0}]
["Milling Oats2006/05","Milling Oats","2006/05",null,null,null,null,null,null,null,null,null,null,null,null,null,null,null,null,null,null,null,null,null,null,null,null,null,null,null,null,null,{"$f":"+INDEX(D3007:AF3007,1,aux_pr_ue!$P$2)","v":0},{"$f":"+INDEX(D3007:AF3007,1,aux_pr_ue!$Q$2)","v":0}]
["Milling Oats2006/04","Milling Oats","2006/04",null,null,null,null,null,null,null,null,null,null,null,null,null,null,null,null,null,null,null,null,null,null,null,null,null,null,null,null,null,{"$f":"+INDEX(D3008:AF3008,1,aux_pr_ue!$P$2)","v":0},{"$f":"+INDEX(D3008:AF3008,1,aux_pr_ue!$Q$2)","v":0}]
["Milling Oats2006/03","Milling Oats","2006/03",87.735900000000001,null,null,null,null,null,null,null,null,null,null,null,null,null,null,null,null,null,null,null,null,87.735900000000001,null,null,null,null,null,null,null,{"$f":"+INDEX(D3009:AF3009,1,aux_pr_ue!$P$2)","v":0},{"$f":"+INDEX(D3009:AF3009,1,aux_pr_ue!$Q$2)","v":0}]
["Milling Oats2006/02","Milling Oats","2006/02",79.527100000000004,null,null,null,null,null,null,null,null,null,null,null,null,null,null,null,null,null,null,null,null,79.527100000000004,null,null,null,null,null,null,null,{"$f":"+INDEX(D3010:AF3010,1,aux_pr_ue!$P$2)","v":0},{"$f":"+INDEX(D3010:AF3010,1,aux_pr_ue!$Q$2)","v":0}]
["Milling Oats2006/01","Milling Oats","2006/01",null,null,null,null,null,null,null,null,null,null,null,null,null,null,null,null,null,null,null,null,null,null,null,null,null,null,null,null,null,{"$f":"+INDEX(D3011:AF3011,1,aux_pr_ue!$P$2)","v":0},{"$f":"+INDEX(D3011:AF3011,1,aux_pr_ue!$Q$2)","v":0}]
["Milling Oats2005/12","Milling Oats","2005/12",77.207099999999997,null,null,null,null,null,null,null,null,null,null,null,null,null,null,null,null,null,null,null,null,77.207099999999997,null,null,null,null,null,null,null,{"$f":"+INDEX(D3012:AF3012,1,aux_pr_ue!$P$2)","v":0},{"$f":"+INDEX(D3012:AF3012,1,aux_pr_ue!$Q$2)","v":0}]
["Milling Oats2005/11","Milling Oats","2005/11",74.229200000000006,null,null,null,null,null,null,null,null,null,null,null,null,null,null,null,null,null,null,null,null,74.229200000000006,null,null,null,null,null,null,null,{"$f":"+INDEX(D3013:AF3013,1,aux_pr_ue!$P$2)","v":0},{"$f":"+INDEX(D3013:AF3013,1,aux_pr_ue!$Q$2)","v":0}]
["Milling Oats2005/10","Milling Oats","2005/10",77.380899999999997,null,null,null,null,null,null,null,null,null,null,null,null,null,null,null,null,null,null,null,null,77.380899999999997,null,null,null,null,null,null,null,{"$f":"+INDEX(D3014:AF3014,1,aux_pr_ue!$P$2)","v":0},{"$f":"+INDEX(D3014:AF3014,1,aux_pr_ue!$Q$2)","v":0}]
["Milling Oats2005/09","Milling Oats","2005/09",67.887,null,null,null,null,null,null,null,null,null,null,null,null,null,null,null,null,null,null,null,null,67.887,null,null,null,null,null,null,null,{"$f":"+INDEX(D3015:AF3015,1,aux_pr_ue!$P$2)","v":0},{"$f":"+INDEX(D3015:AF3015,1,aux_pr_ue!$Q$2)","v":0}]
["Milling Oats2005/08","Milling Oats","2005/08",70.040000000000006,null,null,null,null,null,null,null,null,null,null,null,null,null,null,null,null,null,null,null,null,70.040000000000006,null,null,null,null,null,null,null,{"$f":"+INDEX(D3016:AF3016,1,aux_pr_ue!$P$2)","v":0},{"$f":"+INDEX(D3016:AF3016,1,aux_pr_ue!$Q$2)","v":0}]
["Milling Oats2005/07","Milling Oats","2005/07",null,null,null,null,null,null,null,null,null,null,null,null,null,null,null,null,null,null,null,null,null,null,null,null,null,null,null,null,null,{"$f":"+INDEX(D3017:AF3017,1,aux_pr_ue!$P$2)","v":0},{"$f":"+INDEX(D3017:AF3017,1,aux_pr_ue!$Q$2)","v":0}]
["Milling Oats2005/06","Milling Oats","2005/06",null,null,null,null,null,null,null,null,null,null,null,null,null,null,null,null,null,null,null,null,null,null,null,null,null,null,null,null,null,{"$f":"+INDEX(D3018:AF3018,1,aux_pr_ue!$P$2)","v":0},{"$f":"+INDEX(D3018:AF3018,1,aux_pr_ue!$Q$2)","v":0}]
["Milling Oats2005/05","Milling Oats","2005/05",null,null,null,null,null,null,null,null,null,null,null,null,null,null,null,null,null,null,null,null,null,null,null,null,null,null,null,null,null,{"$f":"+INDEX(D3019:AF3019,1,aux_pr_ue!$P$2)","v":0},{"$f":"+INDEX(D3019:AF3019,1,aux_pr_ue!$Q$2)","v":0}]
["Milling Oats2005/04","Milling Oats","2005/04",null,null,null,null,null,null,null,null,null,null,null,null,null,null,null,null,null,null,null,null,null,null,null,null,null,null,null,null,null,{"$f":"+INDEX(D3020:AF3020,1,aux_pr_ue!$P$2)","v":0},{"$f":"+INDEX(D3020:AF3020,1,aux_pr_ue!$Q$2)","v":0}]
["Milling Oats2005/03","Milling Oats","2005/03",null,null,null,null,null,null,null,null,null,null,null,null,null,null,null,null,null,null,null,null,null,null,null,null,null,null,null,null,null,{"$f":"+INDEX(D3021:AF3021,1,aux_pr_ue!$P$2)","v":0},{"$f":"+INDEX(D3021:AF3021,1,aux_pr_ue!$Q$2)","v":0}]
["Milling Oats2005/02","Milling Oats","2005/02",null,null,null,null,null,null,null,null,null,null,null,null,null,null,null,null,null,null,null,null,null,null,null,null,null,null,null,null,null,{"$f":"+INDEX(D3022:AF3022,1,aux_pr_ue!$P$2)","v":0},{"$f":"+INDEX(D3022:AF3022,1,aux_pr_ue!$Q$2)","v":0}]
["Milling Oats2005/01","Milling Oats","2005/01",null,null,null,null,null,null,null,null,null,null,null,null,null,null,null,null,null,null,null,null,null,null,null,null,null,null,null,null,null,{"$f":"+INDEX(D3023:AF3023,1,aux_pr_ue!$P$2)","v":0},{"$f":"+INDEX(D3023:AF3023,1,aux_pr_ue!$Q$2)","v":0}]
["Milling Oats2004/12","Milling Oats","2004/12",null,null,null,null,null,null,null,null,null,null,null,null,null,null,null,null,null,null,null,null,null,null,null,null,null,null,null,null,null,{"$f":"+INDEX(D3024:AF3024,1,aux_pr_ue!$P$2)","v":0},{"$f":"+INDEX(D3024:AF3024,1,aux_pr_ue!$Q$2)","v":0}]
["Milling Oats2004/11","Milling Oats","2004/11",null,null,null,null,null,null,null,null,null,null,null,null,null,null,null,null,null,null,null,null,null,null,null,null,null,null,null,null,null,{"$f":"+INDEX(D3025:AF3025,1,aux_pr_ue!$P$2)","v":0},{"$f":"+INDEX(D3025:AF3025,1,aux_pr_ue!$Q$2)","v":0}]
["Milling Oats2004/10","Milling Oats","2004/10",94.113799999999998,null,null,null,null,null,null,null,null,null,null,null,null,null,null,null,null,null,null,null,null,null,null,null,null,null,null,null,94.11375000000001,{"$f":"+INDEX(D3026:AF3026,1,aux_pr_ue!$P$2)","v":0},{"$f":"+INDEX(D3026:AF3026,1,aux_pr_ue!$Q$2)","v":0}]
["Milling Oats2004/09","Milling Oats","2004/09",72.91640000000001,null,null,null,null,null,null,null,null,null,null,null,null,null,null,null,null,null,null,null,null,73.087700000000012,null,null,null,null,null,null,null,{"$f":"+INDEX(D3027:AF3027,1,aux_pr_ue!$P$2)","v":0},{"$f":"+INDEX(D3027:AF3027,1,aux_pr_ue!$Q$2)","v":0}]
["Milling Oats2004/08","Milling Oats","2004/08",78.287800000000004,null,null,null,null,null,null,null,null,null,null,null,null,null,null,null,null,null,null,null,null,74.857100000000003,null,null,null,null,null,null,84.594999999999999,{"$f":"+INDEX(D3028:AF3028,1,aux_pr_ue!$P$2)","v":0},{"$f":"+INDEX(D3028:AF3028,1,aux_pr_ue!$Q$2)","v":0}]
["Milling Oats2004/07","Milling Oats","2004/07",null,null,null,null,null,null,null,null,null,null,null,null,null,null,null,null,null,null,null,null,null,null,null,null,null,null,null,null,null,{"$f":"+INDEX(D3029:AF3029,1,aux_pr_ue!$P$2)","v":0},{"$f":"+INDEX(D3029:AF3029,1,aux_pr_ue!$Q$2)","v":0}]
["Milling Oats2004/06","Milling Oats","2004/06",null,null,null,null,null,null,null,null,null,null,null,null,null,null,null,null,null,null,null,null,null,null,null,null,null,null,null,null,null,{"$f":"+INDEX(D3030:AF3030,1,aux_pr_ue!$P$2)","v":0},{"$f":"+INDEX(D3030:AF3030,1,aux_pr_ue!$Q$2)","v":0}]
["Milling Oats2004/05","Milling Oats","2004/05",96.102699999999999,null,null,null,null,null,null,null,null,null,null,null,null,null,null,null,null,null,null,null,null,null,null,null,null,null,null,null,96.102699999999999,{"$f":"+INDEX(D3031:AF3031,1,aux_pr_ue!$P$2)","v":0},{"$f":"+INDEX(D3031:AF3031,1,aux_pr_ue!$Q$2)","v":0}]
["Milling Oats2004/04","Milling Oats","2004/04",null,null,null,null,null,null,null,null,null,null,null,null,null,null,null,null,null,null,null,null,null,null,null,null,null,null,null,null,null,{"$f":"+INDEX(D3032:AF3032,1,aux_pr_ue!$P$2)","v":0},{"$f":"+INDEX(D3032:AF3032,1,aux_pr_ue!$Q$2)","v":0}]
["Milling Oats2004/03","Milling Oats","2004/03",null,null,null,null,null,null,null,null,null,null,null,null,null,null,null,null,null,null,null,null,null,null,null,null,null,null,null,null,null,{"$f":"+INDEX(D3033:AF3033,1,aux_pr_ue!$P$2)","v":0},{"$f":"+INDEX(D3033:AF3033,1,aux_pr_ue!$Q$2)","v":0}]
["Milling Oats2004/02","Milling Oats","2004/02",null,null,null,null,null,null,null,null,null,null,null,null,null,null,null,null,null,null,null,null,null,null,null,null,null,null,null,null,null,{"$f":"+INDEX(D3034:AF3034,1,aux_pr_ue!$P$2)","v":0},{"$f":"+INDEX(D3034:AF3034,1,aux_pr_ue!$Q$2)","v":0}]
["Milling Oats2004/01","Milling Oats","2004/01",null,null,null,null,null,null,null,null,null,null,null,null,null,null,null,null,null,null,null,null,null,null,null,null,null,null,null,null,null,{"$f":"+INDEX(D3035:AF3035,1,aux_pr_ue!$P$2)","v":0},{"$f":"+INDEX(D3035:AF3035,1,aux_pr_ue!$Q$2)","v":0}]
["Milling Oats2003/12","Milling Oats","2003/12",null,null,null,null,null,null,null,null,null,null,null,null,null,null,null,null,null,null,null,null,null,null,null,null,null,null,null,null,null,{"$f":"+INDEX(D3036:AF3036,1,aux_pr_ue!$P$2)","v":0},{"$f":"+INDEX(D3036:AF3036,1,aux_pr_ue!$Q$2)","v":0}]
["Milling Oats2003/11","Milling Oats","2003/11",null,null,null,null,null,null,null,null,null,null,null,null,null,null,null,null,null,null,null,null,null,null,null,null,null,null,null,null,null,{"$f":"+INDEX(D3037:AF3037,1,aux_pr_ue!$P$2)","v":0},{"$f":"+INDEX(D3037:AF3037,1,aux_pr_ue!$Q$2)","v":0}]
["Milling Oats2003/10","Milling Oats","2003/10",100.45400000000001,null,null,null,null,null,null,null,null,null,null,null,null,null,null,null,null,null,null,null,null,null,null,null,null,null,null,null,100.45400000000001,{"$f":"+INDEX(D3038:AF3038,1,aux_pr_ue!$P$2)","v":0},{"$f":"+INDEX(D3038:AF3038,1,aux_pr_ue!$Q$2)","v":0}]
["Milling Oats2003/09","Milling Oats","2003/09",93.8078,null,null,null,null,null,null,null,null,null,null,null,null,null,null,null,null,null,null,null,null,null,null,null,null,null,null,null,93.8078,{"$f":"+INDEX(D3039:AF3039,1,aux_pr_ue!$P$2)","v":0},{"$f":"+INDEX(D3039:AF3039,1,aux_pr_ue!$Q$2)","v":0}]
["Milling Oats2003/08","Milling Oats","2003/08",null,null,null,null,null,null,null,null,null,null,null,null,null,null,null,null,null,null,null,null,null,null,null,null,null,null,null,null,null,{"$f":"+INDEX(D3040:AF3040,1,aux_pr_ue!$P$2)","v":0},{"$f":"+INDEX(D3040:AF3040,1,aux_pr_ue!$Q$2)","v":0}]
["Milling Oats2003/07","Milling Oats","2003/07",null,null,null,null,null,null,null,null,null,null,null,null,null,null,null,null,null,null,null,null,null,null,null,null,null,null,null,null,null,{"$f":"+INDEX(D3041:AF3041,1,aux_pr_ue!$P$2)","v":0},{"$f":"+INDEX(D3041:AF3041,1,aux_pr_ue!$Q$2)","v":0}]
["Milling Oats2003/06","Milling Oats","2003/06",null,null,null,null,null,null,null,null,null,null,null,null,null,null,null,null,null,null,null,null,null,null,null,null,null,null,null,null,null,{"$f":"+INDEX(D3042:AF3042,1,aux_pr_ue!$P$2)","v":0},{"$f":"+INDEX(D3042:AF3042,1,aux_pr_ue!$Q$2)","v":0}]
["Milling Oats2003/05","Milling Oats","2003/05",84.469099999999997,null,null,null,null,null,null,null,null,null,null,null,null,null,null,null,null,null,null,null,null,null,null,null,null,null,null,null,84.469099999999997,{"$f":"+INDEX(D3043:AF3043,1,aux_pr_ue!$P$2)","v":0},{"$f":"+INDEX(D3043:AF3043,1,aux_pr_ue!$Q$2)","v":0}]
["Milling Oats2003/04","Milling Oats","2003/04",88.8553,null,null,null,null,null,null,null,null,null,null,null,null,null,null,null,null,null,null,null,null,null,null,null,null,null,null,null,88.8553,{"$f":"+INDEX(D3044:AF3044,1,aux_pr_ue!$P$2)","v":0},{"$f":"+INDEX(D3044:AF3044,1,aux_pr_ue!$Q$2)","v":0}]
["Milling Oats2003/03","Milling Oats","2003/03",86.893600000000006,null,null,null,null,null,null,null,null,null,null,null,null,null,null,null,null,null,null,null,null,null,null,null,null,null,null,null,86.893600000000006,{"$f":"+INDEX(D3045:AF3045,1,aux_pr_ue!$P$2)","v":0},{"$f":"+INDEX(D3045:AF3045,1,aux_pr_ue!$Q$2)","v":0}]
["Milling Oats2003/02","Milling Oats","2003/02",89.204700000000003,null,null,null,null,null,null,null,null,null,null,null,null,null,null,null,null,null,null,null,null,null,null,null,null,null,null,null,89.204700000000003,{"$f":"+INDEX(D3046:AF3046,1,aux_pr_ue!$P$2)","v":0},{"$f":"+INDEX(D3046:AF3046,1,aux_pr_ue!$Q$2)","v":0}]
["Milling Oats2003/01","Milling Oats","2003/01",87.307900000000004,null,null,null,null,null,null,null,null,null,null,null,null,null,null,null,null,null,null,null,null,null,null,null,null,null,null,null,87.4435,{"$f":"+INDEX(D3047:AF3047,1,aux_pr_ue!$P$2)","v":0},{"$f":"+INDEX(D3047:AF3047,1,aux_pr_ue!$Q$2)","v":0}]
["Milling Oats2002/12","Milling Oats","2002/12",null,null,null,null,null,null,null,null,null,null,null,null,null,null,null,null,null,null,null,null,null,null,null,null,null,null,null,null,null,{"$f":"+INDEX(D3048:AF3048,1,aux_pr_ue!$P$2)","v":0},{"$f":"+INDEX(D3048:AF3048,1,aux_pr_ue!$Q$2)","v":0}]
["Milling Oats2002/11","Milling Oats","2002/11",90.88130000000001,null,null,null,null,null,null,null,null,null,null,null,null,null,null,null,null,null,null,null,null,null,null,null,null,null,null,null,91.602950000000007,{"$f":"+INDEX(D3049:AF3049,1,aux_pr_ue!$P$2)","v":0},{"$f":"+INDEX(D3049:AF3049,1,aux_pr_ue!$Q$2)","v":0}]
["Milling Oats2002/10","Milling Oats","2002/10",92.513600000000011,null,null,null,null,null,null,null,null,null,null,null,null,null,null,null,null,null,null,null,null,null,null,null,null,null,null,null,93.049025,{"$f":"+INDEX(D3050:AF3050,1,aux_pr_ue!$P$2)","v":0},{"$f":"+INDEX(D3050:AF3050,1,aux_pr_ue!$Q$2)","v":0}]
["Milling Oats2002/09","Milling Oats","2002/09",88.853500000000011,null,null,null,null,null,null,null,null,null,null,null,null,null,null,null,null,null,null,null,null,null,null,null,null,null,null,null,88.853500000000011,{"$f":"+INDEX(D3051:AF3051,1,aux_pr_ue!$P$2)","v":0},{"$f":"+INDEX(D3051:AF3051,1,aux_pr_ue!$Q$2)","v":0}]
["Milling Oats2002/08","Milling Oats","2002/08",87.748900000000006,null,null,null,null,null,null,null,null,null,null,null,null,null,null,null,null,null,null,null,null,null,null,null,null,null,null,null,87.748866666666672,{"$f":"+INDEX(D3052:AF3052,1,aux_pr_ue!$P$2)","v":0},{"$f":"+INDEX(D3052:AF3052,1,aux_pr_ue!$Q$2)","v":0}]
["Milling Oats2002/07","Milling Oats","2002/07",null,null,null,null,null,null,null,null,null,null,null,null,null,null,null,null,null,null,null,null,null,null,null,null,null,null,null,null,null,{"$f":"+INDEX(D3053:AF3053,1,aux_pr_ue!$P$2)","v":0},{"$f":"+INDEX(D3053:AF3053,1,aux_pr_ue!$Q$2)","v":0}]
["Milling Oats2002/06","Milling Oats","2002/06",null,null,null,null,null,null,null,null,null,null,null,null,null,null,null,null,null,null,null,null,null,null,null,null,null,null,null,null,null,{"$f":"+INDEX(D3054:AF3054,1,aux_pr_ue!$P$2)","v":0},{"$f":"+INDEX(D3054:AF3054,1,aux_pr_ue!$Q$2)","v":0}]
["Milling Oats2002/05","Milling Oats","2002/05",null,null,null,null,null,null,null,null,null,null,null,null,null,null,null,null,null,null,null,null,null,null,null,null,null,null,null,null,null,{"$f":"+INDEX(D3055:AF3055,1,aux_pr_ue!$P$2)","v":0},{"$f":"+INDEX(D3055:AF3055,1,aux_pr_ue!$Q$2)","v":0}]
["Milling Oats2002/04","Milling Oats","2002/04",null,null,null,null,null,null,null,null,null,null,null,null,null,null,null,null,null,null,null,null,null,null,null,null,null,null,null,null,null,{"$f":"+INDEX(D3056:AF3056,1,aux_pr_ue!$P$2)","v":0},{"$f":"+INDEX(D3056:AF3056,1,aux_pr_ue!$Q$2)","v":0}]
["Milling Oats2002/03","Milling Oats","2002/03",null,null,null,null,null,null,null,null,null,null,null,null,null,null,null,null,null,null,null,null,null,null,null,null,null,null,null,null,null,{"$f":"+INDEX(D3057:AF3057,1,aux_pr_ue!$P$2)","v":0},{"$f":"+INDEX(D3057:AF3057,1,aux_pr_ue!$Q$2)","v":0}]
["Milling Oats2002/02","Milling Oats","2002/02",null,null,null,null,null,null,null,null,null,null,null,null,null,null,null,null,null,null,null,null,null,null,null,null,null,null,null,null,null,{"$f":"+INDEX(D3058:AF3058,1,aux_pr_ue!$P$2)","v":0},{"$f":"+INDEX(D3058:AF3058,1,aux_pr_ue!$Q$2)","v":0}]
["Milling Oats2002/01","Milling Oats","2002/01",null,null,null,null,null,null,null,null,null,null,null,null,null,null,null,null,null,null,null,null,null,null,null,null,null,null,null,null,null,{"$f":"+INDEX(D3059:AF3059,1,aux_pr_ue!$P$2)","v":0},{"$f":"+INDEX(D3059:AF3059,1,aux_pr_ue!$Q$2)","v":0}]
["Milling Oats2001/12","Milling Oats","2001/12",null,null,null,null,null,null,null,null,null,null,null,null,null,null,null,null,null,null,null,null,null,null,null,null,null,null,null,null,null,{"$f":"+INDEX(D3060:AF3060,1,aux_pr_ue!$P$2)","v":0},{"$f":"+INDEX(D3060:AF3060,1,aux_pr_ue!$Q$2)","v":0}]
["Milling Oats2001/11","Milling Oats","2001/11",null,null,null,null,null,null,null,null,null,null,null,null,null,null,null,null,null,null,null,null,null,null,null,null,null,null,null,null,null,{"$f":"+INDEX(D3061:AF3061,1,aux_pr_ue!$P$2)","v":0},{"$f":"+INDEX(D3061:AF3061,1,aux_pr_ue!$Q$2)","v":0}]
["Milling Oats2001/10","Milling Oats","2001/10",null,null,null,null,null,null,null,null,null,null,null,null,null,null,null,null,null,null,null,null,null,null,null,null,null,null,null,null,null,{"$f":"+INDEX(D3062:AF3062,1,aux_pr_ue!$P$2)","v":0},{"$f":"+INDEX(D3062:AF3062,1,aux_pr_ue!$Q$2)","v":0}]
["Milling Oats2001/09","Milling Oats","2001/09",null,null,null,null,null,null,null,null,null,null,null,null,null,null,null,null,null,null,null,null,null,null,null,null,null,null,null,null,null,{"$f":"+INDEX(D3063:AF3063,1,aux_pr_ue!$P$2)","v":0},{"$f":"+INDEX(D3063:AF3063,1,aux_pr_ue!$Q$2)","v":0}]
["Milling Oats2001/08","Milling Oats","2001/08",null,null,null,null,null,null,null,null,null,null,null,null,null,null,null,null,null,null,null,null,null,null,null,null,null,null,null,null,null,{"$f":"+INDEX(D3064:AF3064,1,aux_pr_ue!$P$2)","v":0},{"$f":"+INDEX(D3064:AF3064,1,aux_pr_ue!$Q$2)","v":0}]
["Milling Oats2001/07","Milling Oats","2001/07",null,null,null,null,null,null,null,null,null,null,null,null,null,null,null,null,null,null,null,null,null,null,null,null,null,null,null,null,null,{"$f":"+INDEX(D3065:AF3065,1,aux_pr_ue!$P$2)","v":0},{"$f":"+INDEX(D3065:AF3065,1,aux_pr_ue!$Q$2)","v":0}]
["Milling Oats2001/06","Milling Oats","2001/06",null,null,null,null,null,null,null,null,null,null,null,null,null,null,null,null,null,null,null,null,null,null,null,null,null,null,null,null,null,{"$f":"+INDEX(D3066:AF3066,1,aux_pr_ue!$P$2)","v":0},{"$f":"+INDEX(D3066:AF3066,1,aux_pr_ue!$Q$2)","v":0}]
["Milling Oats2001/05","Milling Oats","2001/05",null,null,null,null,null,null,null,null,null,null,null,null,null,null,null,null,null,null,null,null,null,null,null,null,null,null,null,null,null,{"$f":"+INDEX(D3067:AF3067,1,aux_pr_ue!$P$2)","v":0},{"$f":"+INDEX(D3067:AF3067,1,aux_pr_ue!$Q$2)","v":0}]
["Milling Oats2001/04","Milling Oats","2001/04",null,null,null,null,null,null,null,null,null,null,null,null,null,null,null,null,null,null,null,null,null,null,null,null,null,null,null,null,null,{"$f":"+INDEX(D3068:AF3068,1,aux_pr_ue!$P$2)","v":0},{"$f":"+INDEX(D3068:AF3068,1,aux_pr_ue!$Q$2)","v":0}]
["Milling Oats2001/03","Milling Oats","2001/03",null,null,null,null,null,null,null,null,null,null,null,null,null,null,null,null,null,null,null,null,null,null,null,null,null,null,null,null,null,{"$f":"+INDEX(D3069:AF3069,1,aux_pr_ue!$P$2)","v":0},{"$f":"+INDEX(D3069:AF3069,1,aux_pr_ue!$Q$2)","v":0}]
["Milling Oats2001/02","Milling Oats","2001/02",null,null,null,null,null,null,null,null,null,null,null,null,null,null,null,null,null,null,null,null,null,null,null,null,null,null,null,null,null,{"$f":"+INDEX(D3070:AF3070,1,aux_pr_ue!$P$2)","v":0},{"$f":"+INDEX(D3070:AF3070,1,aux_pr_ue!$Q$2)","v":0}]
["Milling Oats2001/01","Milling Oats","2001/01",null,null,null,null,null,null,null,null,null,null,null,null,null,null,null,null,null,null,null,null,null,null,null,null,null,null,null,null,null,{"$f":"+INDEX(D3071:AF3071,1,aux_pr_ue!$P$2)","v":0},{"$f":"+INDEX(D3071:AF3071,1,aux_pr_ue!$Q$2)","v":0}]
["Milling Oats2000/12","Milling Oats","2000/12",null,null,null,null,null,null,null,null,null,null,null,null,null,null,null,null,null,null,null,null,null,null,null,null,null,null,null,null,null,{"$f":"+INDEX(D3072:AF3072,1,aux_pr_ue!$P$2)","v":0},{"$f":"+INDEX(D3072:AF3072,1,aux_pr_ue!$Q$2)","v":0}]
["Milling Oats2000/11","Milling Oats","2000/11",null,null,null,null,null,null,null,null,null,null,null,null,null,null,null,null,null,null,null,null,null,null,null,null,null,null,null,null,null,{"$f":"+INDEX(D3073:AF3073,1,aux_pr_ue!$P$2)","v":0},{"$f":"+INDEX(D3073:AF3073,1,aux_pr_ue!$Q$2)","v":0}]
["Milling Oats2000/10","Milling Oats","2000/10",null,null,null,null,null,null,null,null,null,null,null,null,null,null,null,null,null,null,null,null,null,null,null,null,null,null,null,null,null,{"$f":"+INDEX(D3074:AF3074,1,aux_pr_ue!$P$2)","v":0},{"$f":"+INDEX(D3074:AF3074,1,aux_pr_ue!$Q$2)","v":0}]
["Milling Oats2000/09","Milling Oats","2000/09",null,null,null,null,null,null,null,null,null,null,null,null,null,null,null,null,null,null,null,null,null,null,null,null,null,null,null,null,null,{"$f":"+INDEX(D3075:AF3075,1,aux_pr_ue!$P$2)","v":0},{"$f":"+INDEX(D3075:AF3075,1,aux_pr_ue!$Q$2)","v":0}]
["Milling Oats2000/08","Milling Oats","2000/08",null,null,null,null,null,null,null,null,null,null,null,null,null,null,null,null,null,null,null,null,null,null,null,null,null,null,null,null,null,{"$f":"+INDEX(D3076:AF3076,1,aux_pr_ue!$P$2)","v":0},{"$f":"+INDEX(D3076:AF3076,1,aux_pr_ue!$Q$2)","v":0}]
["Milling Oats2000/07","Milling Oats","2000/07",null,null,null,null,null,null,null,null,null,null,null,null,null,null,null,null,null,null,null,null,null,null,null,null,null,null,null,null,null,{"$f":"+INDEX(D3077:AF3077,1,aux_pr_ue!$P$2)","v":0},{"$f":"+INDEX(D3077:AF3077,1,aux_pr_ue!$Q$2)","v":0}]
["Milling Oats2000/06","Milling Oats","2000/06",null,null,null,null,null,null,null,null,null,null,null,null,null,null,null,null,null,null,null,null,null,null,null,null,null,null,null,null,null,{"$f":"+INDEX(D3078:AF3078,1,aux_pr_ue!$P$2)","v":0},{"$f":"+INDEX(D3078:AF3078,1,aux_pr_ue!$Q$2)","v":0}]
["Milling Oats2000/05","Milling Oats","2000/05",null,null,null,null,null,null,null,null,null,null,null,null,null,null,null,null,null,null,null,null,null,null,null,null,null,null,null,null,null,{"$f":"+INDEX(D3079:AF3079,1,aux_pr_ue!$P$2)","v":0},{"$f":"+INDEX(D3079:AF3079,1,aux_pr_ue!$Q$2)","v":0}]
["Milling Oats2000/04","Milling Oats","2000/04",null,null,null,null,null,null,null,null,null,null,null,null,null,null,null,null,null,null,null,null,null,null,null,null,null,null,null,null,null,{"$f":"+INDEX(D3080:AF3080,1,aux_pr_ue!$P$2)","v":0},{"$f":"+INDEX(D3080:AF3080,1,aux_pr_ue!$Q$2)","v":0}]
["Milling Oats2000/03","Milling Oats","2000/03",null,null,null,null,null,null,null,null,null,null,null,null,null,null,null,null,null,null,null,null,null,null,null,null,null,null,null,null,null,{"$f":"+INDEX(D3081:AF3081,1,aux_pr_ue!$P$2)","v":0},{"$f":"+INDEX(D3081:AF3081,1,aux_pr_ue!$Q$2)","v":0}]
["Milling Oats2000/02","Milling Oats","2000/02",null,null,null,null,null,null,null,null,null,null,null,null,null,null,null,null,null,null,null,null,null,null,null,null,null,null,null,null,null,{"$f":"+INDEX(D3082:AF3082,1,aux_pr_ue!$P$2)","v":0},{"$f":"+INDEX(D3082:AF3082,1,aux_pr_ue!$Q$2)","v":0}]
["Milling Oats2000/01","Milling Oats","2000/01",null,null,null,null,null,null,null,null,null,null,null,null,null,null,null,null,null,null,null,null,null,null,null,null,null,null,null,null,null,{"$f":"+INDEX(D3083:AF3083,1,aux_pr_ue!$P$2)","v":0},{"$f":"+INDEX(D3083:AF3083,1,aux_pr_ue!$Q$2)","v":0}]
["Milling Oats1999/12","Milling Oats","1999/12",null,null,null,null,null,null,null,null,null,null,null,null,null,null,null,null,null,null,null,null,null,null,null,null,null,null,null,null,null,{"$f":"+INDEX(D3084:AF3084,1,aux_pr_ue!$P$2)","v":0},{"$f":"+INDEX(D3084:AF3084,1,aux_pr_ue!$Q$2)","v":0}]
["Milling Oats1999/11","Milling Oats","1999/11",null,null,null,null,null,null,null,null,null,null,null,null,null,null,null,null,null,null,null,null,null,null,null,null,null,null,null,null,null,{"$f":"+INDEX(D3085:AF3085,1,aux_pr_ue!$P$2)","v":0},{"$f":"+INDEX(D3085:AF3085,1,aux_pr_ue!$Q$2)","v":0}]
["Milling Oats1999/10","Milling Oats","1999/10",null,null,null,null,null,null,null,null,null,null,null,null,null,null,null,null,null,null,null,null,null,null,null,null,null,null,null,null,null,{"$f":"+INDEX(D3086:AF3086,1,aux_pr_ue!$P$2)","v":0},{"$f":"+INDEX(D3086:AF3086,1,aux_pr_ue!$Q$2)","v":0}]
["Milling Oats1999/09","Milling Oats","1999/09",null,null,null,null,null,null,null,null,null,null,null,null,null,null,null,null,null,null,null,null,null,null,null,null,null,null,null,null,null,{"$f":"+INDEX(D3087:AF3087,1,aux_pr_ue!$P$2)","v":0},{"$f":"+INDEX(D3087:AF3087,1,aux_pr_ue!$Q$2)","v":0}]
["Milling Oats1999/08","Milling Oats","1999/08",null,null,null,null,null,null,null,null,null,null,null,null,null,null,null,null,null,null,null,null,null,null,null,null,null,null,null,null,null,{"$f":"+INDEX(D3088:AF3088,1,aux_pr_ue!$P$2)","v":0},{"$f":"+INDEX(D3088:AF3088,1,aux_pr_ue!$Q$2)","v":0}]
["Milling Oats1999/07","Milling Oats","1999/07",null,null,null,null,null,null,null,null,null,null,null,null,null,null,null,null,null,null,null,null,null,null,null,null,null,null,null,null,null,{"$f":"+INDEX(D3089:AF3089,1,aux_pr_ue!$P$2)","v":0},{"$f":"+INDEX(D3089:AF3089,1,aux_pr_ue!$Q$2)","v":0}]
["Milling Oats1999/06","Milling Oats","1999/06",null,null,null,null,null,null,null,null,null,null,null,null,null,null,null,null,null,null,null,null,null,null,null,null,null,null,null,null,null,{"$f":"+INDEX(D3090:AF3090,1,aux_pr_ue!$P$2)","v":0},{"$f":"+INDEX(D3090:AF3090,1,aux_pr_ue!$Q$2)","v":0}]
["Milling Oats1999/05","Milling Oats","1999/05",null,null,null,null,null,null,null,null,null,null,null,null,null,null,null,null,null,null,null,null,null,null,null,null,null,null,null,null,null,{"$f":"+INDEX(D3091:AF3091,1,aux_pr_ue!$P$2)","v":0},{"$f":"+INDEX(D3091:AF3091,1,aux_pr_ue!$Q$2)","v":0}]
["Milling Oats1999/04","Milling Oats","1999/04",null,null,null,null,null,null,null,null,null,null,null,null,null,null,null,null,null,null,null,null,null,null,null,null,null,null,null,null,null,{"$f":"+INDEX(D3092:AF3092,1,aux_pr_ue!$P$2)","v":0},{"$f":"+INDEX(D3092:AF3092,1,aux_pr_ue!$Q$2)","v":0}]
["Milling Oats1999/03","Milling Oats","1999/03",null,null,null,null,null,null,null,null,null,null,null,null,null,null,null,null,null,null,null,null,null,null,null,null,null,null,null,null,null,{"$f":"+INDEX(D3093:AF3093,1,aux_pr_ue!$P$2)","v":0},{"$f":"+INDEX(D3093:AF3093,1,aux_pr_ue!$Q$2)","v":0}]
["Milling Oats1999/02","Milling Oats","1999/02",null,null,null,null,null,null,null,null,null,null,null,null,null,null,null,null,null,null,null,null,null,null,null,null,null,null,null,null,null,{"$f":"+INDEX(D3094:AF3094,1,aux_pr_ue!$P$2)","v":0},{"$f":"+INDEX(D3094:AF3094,1,aux_pr_ue!$Q$2)","v":0}]
["Milling Oats1999/01","Milling Oats","1999/01",null,null,null,null,null,null,null,null,null,null,null,null,null,null,null,null,null,null,null,null,null,null,null,null,null,null,null,null,null,{"$f":"+INDEX(D3095:AF3095,1,aux_pr_ue!$P$2)","v":0},{"$f":"+INDEX(D3095:AF3095,1,aux_pr_ue!$Q$2)","v":0}]
["Milling Oats1998/12","Milling Oats","1998/12",null,null,null,null,null,null,null,null,null,null,null,null,null,null,null,null,null,null,null,null,null,null,null,null,null,null,null,null,null,{"$f":"+INDEX(D3096:AF3096,1,aux_pr_ue!$P$2)","v":0},{"$f":"+INDEX(D3096:AF3096,1,aux_pr_ue!$Q$2)","v":0}]
["Milling Oats1998/11","Milling Oats","1998/11",null,null,null,null,null,null,null,null,null,null,null,null,null,null,null,null,null,null,null,null,null,null,null,null,null,null,null,null,null,{"$f":"+INDEX(D3097:AF3097,1,aux_pr_ue!$P$2)","v":0},{"$f":"+INDEX(D3097:AF3097,1,aux_pr_ue!$Q$2)","v":0}]
["Milling Oats1998/10","Milling Oats","1998/10",null,null,null,null,null,null,null,null,null,null,null,null,null,null,null,null,null,null,null,null,null,null,null,null,null,null,null,null,null,{"$f":"+INDEX(D3098:AF3098,1,aux_pr_ue!$P$2)","v":0},{"$f":"+INDEX(D3098:AF3098,1,aux_pr_ue!$Q$2)","v":0}]
["Milling Oats1998/09","Milling Oats","1998/09",null,null,null,null,null,null,null,null,null,null,null,null,null,null,null,null,null,null,null,null,null,null,null,null,null,null,null,null,null,{"$f":"+INDEX(D3099:AF3099,1,aux_pr_ue!$P$2)","v":0},{"$f":"+INDEX(D3099:AF3099,1,aux_pr_ue!$Q$2)","v":0}]
["Milling Oats1998/08","Milling Oats","1998/08",null,null,null,null,null,null,null,null,null,null,null,null,null,null,null,null,null,null,null,null,null,null,null,null,null,null,null,null,null,{"$f":"+INDEX(D3100:AF3100,1,aux_pr_ue!$P$2)","v":0},{"$f":"+INDEX(D3100:AF3100,1,aux_pr_ue!$Q$2)","v":0}]
["Milling Oats1998/07","Milling Oats","1998/07",null,null,null,null,null,null,null,null,null,null,null,null,null,null,null,null,null,null,null,null,null,null,null,null,null,null,null,null,null,{"$f":"+INDEX(D3101:AF3101,1,aux_pr_ue!$P$2)","v":0},{"$f":"+INDEX(D3101:AF3101,1,aux_pr_ue!$Q$2)","v":0}]
["Milling Oats1998/06","Milling Oats","1998/06",null,null,null,null,null,null,null,null,null,null,null,null,null,null,null,null,null,null,null,null,null,null,null,null,null,null,null,null,null,{"$f":"+INDEX(D3102:AF3102,1,aux_pr_ue!$P$2)","v":0},{"$f":"+INDEX(D3102:AF3102,1,aux_pr_ue!$Q$2)","v":0}]
["Milling Oats1998/05","Milling Oats","1998/05",null,null,null,null,null,null,null,null,null,null,null,null,null,null,null,null,null,null,null,null,null,null,null,null,null,null,null,null,null,{"$f":"+INDEX(D3103:AF3103,1,aux_pr_ue!$P$2)","v":0},{"$f":"+INDEX(D3103:AF3103,1,aux_pr_ue!$Q$2)","v":0}]
["Milling Oats1998/04","Milling Oats","1998/04",null,null,null,null,null,null,null,null,null,null,null,null,null,null,null,null,null,null,null,null,null,null,null,null,null,null,null,null,null,{"$f":"+INDEX(D3104:AF3104,1,aux_pr_ue!$P$2)","v":0},{"$f":"+INDEX(D3104:AF3104,1,aux_pr_ue!$Q$2)","v":0}]
["Milling Oats1998/03","Milling Oats","1998/03",null,null,null,null,null,null,null,null,null,null,null,null,null,null,null,null,null,null,null,null,null,null,null,null,null,null,null,null,null,{"$f":"+INDEX(D3105:AF3105,1,aux_pr_ue!$P$2)","v":0},{"$f":"+INDEX(D3105:AF3105,1,aux_pr_ue!$Q$2)","v":0}]
["Milling Oats1998/02","Milling Oats","1998/02",null,null,null,null,null,null,null,null,null,null,null,null,null,null,null,null,null,null,null,null,null,null,null,null,null,null,null,null,null,{"$f":"+INDEX(D3106:AF3106,1,aux_pr_ue!$P$2)","v":0},{"$f":"+INDEX(D3106:AF3106,1,aux_pr_ue!$Q$2)","v":0}]
["Milling Oats1998/01","Milling Oats","1998/01",null,null,null,null,null,null,null,null,null,null,null,null,null,null,null,null,null,null,null,null,null,null,null,null,null,null,null,null,null,{"$f":"+INDEX(D3107:AF3107,1,aux_pr_ue!$P$2)","v":0},{"$f":"+INDEX(D3107:AF3107,1,aux_pr_ue!$Q$2)","v":0}]
["Milling Oats1997/12","Milling Oats","1997/12",null,null,null,null,null,null,null,null,null,null,null,null,null,null,null,null,null,null,null,null,null,null,null,null,null,null,null,null,null,{"$f":"+INDEX(D3108:AF3108,1,aux_pr_ue!$P$2)","v":0},{"$f":"+INDEX(D3108:AF3108,1,aux_pr_ue!$Q$2)","v":0}]
["Milling Oats1997/11","Milling Oats","1997/11",null,null,null,null,null,null,null,null,null,null,null,null,null,null,null,null,null,null,null,null,null,null,null,null,null,null,null,null,null,{"$f":"+INDEX(D3109:AF3109,1,aux_pr_ue!$P$2)","v":0},{"$f":"+INDEX(D3109:AF3109,1,aux_pr_ue!$Q$2)","v":0}]
["Milling Oats1997/10","Milling Oats","1997/10",null,null,null,null,null,null,null,null,null,null,null,null,null,null,null,null,null,null,null,null,null,null,null,null,null,null,null,null,null,{"$f":"+INDEX(D3110:AF3110,1,aux_pr_ue!$P$2)","v":0},{"$f":"+INDEX(D3110:AF3110,1,aux_pr_ue!$Q$2)","v":0}]
["Milling Oats1997/09","Milling Oats","1997/09",null,null,null,null,null,null,null,null,null,null,null,null,null,null,null,null,null,null,null,null,null,null,null,null,null,null,null,null,null,{"$f":"+INDEX(D3111:AF3111,1,aux_pr_ue!$P$2)","v":0},{"$f":"+INDEX(D3111:AF3111,1,aux_pr_ue!$Q$2)","v":0}]
["Milling Oats1997/08","Milling Oats","1997/08",null,null,null,null,null,null,null,null,null,null,null,null,null,null,null,null,null,null,null,null,null,null,null,null,null,null,null,null,null,{"$f":"+INDEX(D3112:AF3112,1,aux_pr_ue!$P$2)","v":0},{"$f":"+INDEX(D3112:AF3112,1,aux_pr_ue!$Q$2)","v":0}]
["Milling Oats1997/07","Milling Oats","1997/07",null,null,null,null,null,null,null,null,null,null,null,null,null,null,null,null,null,null,null,null,null,null,null,null,null,null,null,null,null,{"$f":"+INDEX(D3113:AF3113,1,aux_pr_ue!$P$2)","v":0},{"$f":"+INDEX(D3113:AF3113,1,aux_pr_ue!$Q$2)","v":0}]
["Milling Oats1997/06","Milling Oats","1997/06",null,null,null,null,null,null,null,null,null,null,null,null,null,null,null,null,null,null,null,null,null,null,null,null,null,null,null,null,null,{"$f":"+INDEX(D3114:AF3114,1,aux_pr_ue!$P$2)","v":0},{"$f":"+INDEX(D3114:AF3114,1,aux_pr_ue!$Q$2)","v":0}]
["Milling Oats1997/05","Milling Oats","1997/05",null,null,null,null,null,null,null,null,null,null,null,null,null,null,null,null,null,null,null,null,null,null,null,null,null,null,null,null,null,{"$f":"+INDEX(D3115:AF3115,1,aux_pr_ue!$P$2)","v":0},{"$f":"+INDEX(D3115:AF3115,1,aux_pr_ue!$Q$2)","v":0}]
["Milling Oats1997/04","Milling Oats","1997/04",null,null,null,null,null,null,null,null,null,null,null,null,null,null,null,null,null,null,null,null,null,null,null,null,null,null,null,null,null,{"$f":"+INDEX(D3116:AF3116,1,aux_pr_ue!$P$2)","v":0},{"$f":"+INDEX(D3116:AF3116,1,aux_pr_ue!$Q$2)","v":0}]
["Milling Oats1997/03","Milling Oats","1997/03",null,null,null,null,null,null,null,null,null,null,null,null,null,null,null,null,null,null,null,null,null,null,null,null,null,null,null,null,null,{"$f":"+INDEX(D3117:AF3117,1,aux_pr_ue!$P$2)","v":0},{"$f":"+INDEX(D3117:AF3117,1,aux_pr_ue!$Q$2)","v":0}]
["Milling Oats1997/02","Milling Oats","1997/02",null,null,null,null,null,null,null,null,null,null,null,null,null,null,null,null,null,null,null,null,null,null,null,null,null,null,null,null,null,{"$f":"+INDEX(D3118:AF3118,1,aux_pr_ue!$P$2)","v":0},{"$f":"+INDEX(D3118:AF3118,1,aux_pr_ue!$Q$2)","v":0}]
["Milling Oats1997/01","Milling Oats","1997/01",null,null,null,null,null,null,null,null,null,null,null,null,null,null,null,null,null,null,null,null,null,null,null,null,null,null,null,null,null,{"$f":"+INDEX(D3119:AF3119,1,aux_pr_ue!$P$2)","v":0},{"$f":"+INDEX(D3119:AF3119,1,aux_pr_ue!$Q$2)","v":0}]
["Milling Oats1996/12","Milling Oats","1996/12",null,null,null,null,null,null,null,null,null,null,null,null,null,null,null,null,null,null,null,null,null,null,null,null,null,null,null,null,null,{"$f":"+INDEX(D3120:AF3120,1,aux_pr_ue!$P$2)","v":0},{"$f":"+INDEX(D3120:AF3120,1,aux_pr_ue!$Q$2)","v":0}]
["Milling Oats1996/11","Milling Oats","1996/11",null,null,null,null,null,null,null,null,null,null,null,null,null,null,null,null,null,null,null,null,null,null,null,null,null,null,null,null,null,{"$f":"+INDEX(D3121:AF3121,1,aux_pr_ue!$P$2)","v":0},{"$f":"+INDEX(D3121:AF3121,1,aux_pr_ue!$Q$2)","v":0}]
["Milling Oats1996/10","Milling Oats","1996/10",null,null,null,null,null,null,null,null,null,null,null,null,null,null,null,null,null,null,null,null,null,null,null,null,null,null,null,null,null,{"$f":"+INDEX(D3122:AF3122,1,aux_pr_ue!$P$2)","v":0},{"$f":"+INDEX(D3122:AF3122,1,aux_pr_ue!$Q$2)","v":0}]
["Milling Oats1996/09","Milling Oats","1996/09",null,null,null,null,null,null,null,null,null,null,null,null,null,null,null,null,null,null,null,null,null,null,null,null,null,null,null,null,null,{"$f":"+INDEX(D3123:AF3123,1,aux_pr_ue!$P$2)","v":0},{"$f":"+INDEX(D3123:AF3123,1,aux_pr_ue!$Q$2)","v":0}]
["Milling Oats1996/08","Milling Oats","1996/08",null,null,null,null,null,null,null,null,null,null,null,null,null,null,null,null,null,null,null,null,null,null,null,null,null,null,null,null,null,{"$f":"+INDEX(D3124:AF3124,1,aux_pr_ue!$P$2)","v":0},{"$f":"+INDEX(D3124:AF3124,1,aux_pr_ue!$Q$2)","v":0}]
["Milling Oats1996/07","Milling Oats","1996/07",null,null,null,null,null,null,null,null,null,null,null,null,null,null,null,null,null,null,null,null,null,null,null,null,null,null,null,null,null,{"$f":"+INDEX(D3125:AF3125,1,aux_pr_ue!$P$2)","v":0},{"$f":"+INDEX(D3125:AF3125,1,aux_pr_ue!$Q$2)","v":0}]
["Milling Oats1996/06","Milling Oats","1996/06",null,null,null,null,null,null,null,null,null,null,null,null,null,null,null,null,null,null,null,null,null,null,null,null,null,null,null,null,null,{"$f":"+INDEX(D3126:AF3126,1,aux_pr_ue!$P$2)","v":0},{"$f":"+INDEX(D3126:AF3126,1,aux_pr_ue!$Q$2)","v":0}]
["Milling Oats1996/05","Milling Oats","1996/05",null,null,null,null,null,null,null,null,null,null,null,null,null,null,null,null,null,null,null,null,null,null,null,null,null,null,null,null,null,{"$f":"+INDEX(D3127:AF3127,1,aux_pr_ue!$P$2)","v":0},{"$f":"+INDEX(D3127:AF3127,1,aux_pr_ue!$Q$2)","v":0}]
["Milling Oats1996/04","Milling Oats","1996/04",null,null,null,null,null,null,null,null,null,null,null,null,null,null,null,null,null,null,null,null,null,null,null,null,null,null,null,null,null,{"$f":"+INDEX(D3128:AF3128,1,aux_pr_ue!$P$2)","v":0},{"$f":"+INDEX(D3128:AF3128,1,aux_pr_ue!$Q$2)","v":0}]
["Milling Oats1996/03","Milling Oats","1996/03",null,null,null,null,null,null,null,null,null,null,null,null,null,null,null,null,null,null,null,null,null,null,null,null,null,null,null,null,null,{"$f":"+INDEX(D3129:AF3129,1,aux_pr_ue!$P$2)","v":0},{"$f":"+INDEX(D3129:AF3129,1,aux_pr_ue!$Q$2)","v":0}]
["Milling Oats1996/02","Milling Oats","1996/02",null,null,null,null,null,null,null,null,null,null,null,null,null,null,null,null,null,null,null,null,null,null,null,null,null,null,null,null,null,{"$f":"+INDEX(D3130:AF3130,1,aux_pr_ue!$P$2)","v":0},{"$f":"+INDEX(D3130:AF3130,1,aux_pr_ue!$Q$2)","v":0}]
["Milling Oats1996/01","Milling Oats","1996/01",null,null,null,null,null,null,null,null,null,null,null,null,null,null,null,null,null,null,null,null,null,null,null,null,null,null,null,null,null,{"$f":"+INDEX(D3131:AF3131,1,aux_pr_ue!$P$2)","v":0},{"$f":"+INDEX(D3131:AF3131,1,aux_pr_ue!$Q$2)","v":0}]
["Milling Oats1995/12","Milling Oats","1995/12",null,null,null,null,null,null,null,null,null,null,null,null,null,null,null,null,null,null,null,null,null,null,null,null,null,null,null,null,null,{"$f":"+INDEX(D3132:AF3132,1,aux_pr_ue!$P$2)","v":0},{"$f":"+INDEX(D3132:AF3132,1,aux_pr_ue!$Q$2)","v":0}]
["Milling Oats1995/11","Milling Oats","1995/11",null,null,null,null,null,null,null,null,null,null,null,null,null,null,null,null,null,null,null,null,null,null,null,null,null,null,null,null,null,{"$f":"+INDEX(D3133:AF3133,1,aux_pr_ue!$P$2)","v":0},{"$f":"+INDEX(D3133:AF3133,1,aux_pr_ue!$Q$2)","v":0}]
["Milling Oats1995/10","Milling Oats","1995/10",null,null,null,null,null,null,null,null,null,null,null,null,null,null,null,null,null,null,null,null,null,null,null,null,null,null,null,null,null,{"$f":"+INDEX(D3134:AF3134,1,aux_pr_ue!$P$2)","v":0},{"$f":"+INDEX(D3134:AF3134,1,aux_pr_ue!$Q$2)","v":0}]
["Milling Oats1995/09","Milling Oats","1995/09",null,null,null,null,null,null,null,null,null,null,null,null,null,null,null,null,null,null,null,null,null,null,null,null,null,null,null,null,null,{"$f":"+INDEX(D3135:AF3135,1,aux_pr_ue!$P$2)","v":0},{"$f":"+INDEX(D3135:AF3135,1,aux_pr_ue!$Q$2)","v":0}]
["Milling Oats1995/08","Milling Oats","1995/08",null,null,null,null,null,null,null,null,null,null,null,null,null,null,null,null,null,null,null,null,null,null,null,null,null,null,null,null,null,{"$f":"+INDEX(D3136:AF3136,1,aux_pr_ue!$P$2)","v":0},{"$f":"+INDEX(D3136:AF3136,1,aux_pr_ue!$Q$2)","v":0}]
["Milling Oats1995/07","Milling Oats","1995/07",null,null,null,null,null,null,null,null,null,null,null,null,null,null,null,null,null,null,null,null,null,null,null,null,null,null,null,null,null,{"$f":"+INDEX(D3137:AF3137,1,aux_pr_ue!$P$2)","v":0},{"$f":"+INDEX(D3137:AF3137,1,aux_pr_ue!$Q$2)","v":0}]
["Milling Oats1995/06","Milling Oats","1995/06",null,null,null,null,null,null,null,null,null,null,null,null,null,null,null,null,null,null,null,null,null,null,null,null,null,null,null,null,null,{"$f":"+INDEX(D3138:AF3138,1,aux_pr_ue!$P$2)","v":0},{"$f":"+INDEX(D3138:AF3138,1,aux_pr_ue!$Q$2)","v":0}]
["Milling Oats1995/05","Milling Oats","1995/05",null,null,null,null,null,null,null,null,null,null,null,null,null,null,null,null,null,null,null,null,null,null,null,null,null,null,null,null,null,{"$f":"+INDEX(D3139:AF3139,1,aux_pr_ue!$P$2)","v":0},{"$f":"+INDEX(D3139:AF3139,1,aux_pr_ue!$Q$2)","v":0}]
["Milling Oats1995/04","Milling Oats","1995/04",null,null,null,null,null,null,null,null,null,null,null,null,null,null,null,null,null,null,null,null,null,null,null,null,null,null,null,null,null,{"$f":"+INDEX(D3140:AF3140,1,aux_pr_ue!$P$2)","v":0},{"$f":"+INDEX(D3140:AF3140,1,aux_pr_ue!$Q$2)","v":0}]
["Milling Oats1995/03","Milling Oats","1995/03",null,null,null,null,null,null,null,null,null,null,null,null,null,null,null,null,null,null,null,null,null,null,null,null,null,null,null,null,null,{"$f":"+INDEX(D3141:AF3141,1,aux_pr_ue!$P$2)","v":0},{"$f":"+INDEX(D3141:AF3141,1,aux_pr_ue!$Q$2)","v":0}]
["Milling Oats1995/02","Milling Oats","1995/02",null,null,null,null,null,null,null,null,null,null,null,null,null,null,null,null,null,null,null,null,null,null,null,null,null,null,null,null,null,{"$f":"+INDEX(D3142:AF3142,1,aux_pr_ue!$P$2)","v":0},{"$f":"+INDEX(D3142:AF3142,1,aux_pr_ue!$Q$2)","v":0}]
["Milling Oats1995/01","Milling Oats","1995/01",null,null,null,null,null,null,null,null,null,null,null,null,null,null,null,null,null,null,null,null,null,null,null,null,null,null,null,null,null,{"$f":"+INDEX(D3143:AF3143,1,aux_pr_ue!$P$2)","v":0},{"$f":"+INDEX(D3143:AF3143,1,aux_pr_ue!$Q$2)","v":0}]
["Milling Oats1994/12","Milling Oats","1994/12",null,null,null,null,null,null,null,null,null,null,null,null,null,null,null,null,null,null,null,null,null,null,null,null,null,null,null,null,null,{"$f":"+INDEX(D3144:AF3144,1,aux_pr_ue!$P$2)","v":0},{"$f":"+INDEX(D3144:AF3144,1,aux_pr_ue!$Q$2)","v":0}]
["Milling Oats1994/11","Milling Oats","1994/11",null,null,null,null,null,null,null,null,null,null,null,null,null,null,null,null,null,null,null,null,null,null,null,null,null,null,null,null,null,{"$f":"+INDEX(D3145:AF3145,1,aux_pr_ue!$P$2)","v":0},{"$f":"+INDEX(D3145:AF3145,1,aux_pr_ue!$Q$2)","v":0}]
["Milling Oats1994/10","Milling Oats","1994/10",null,null,null,null,null,null,null,null,null,null,null,null,null,null,null,null,null,null,null,null,null,null,null,null,null,null,null,null,null,{"$f":"+INDEX(D3146:AF3146,1,aux_pr_ue!$P$2)","v":0},{"$f":"+INDEX(D3146:AF3146,1,aux_pr_ue!$Q$2)","v":0}]
["Milling Oats1994/09","Milling Oats","1994/09",null,null,null,null,null,null,null,null,null,null,null,null,null,null,null,null,null,null,null,null,null,null,null,null,null,null,null,null,null,{"$f":"+INDEX(D3147:AF3147,1,aux_pr_ue!$P$2)","v":0},{"$f":"+INDEX(D3147:AF3147,1,aux_pr_ue!$Q$2)","v":0}]
["Milling Oats1994/08","Milling Oats","1994/08",null,null,null,null,null,null,null,null,null,null,null,null,null,null,null,null,null,null,null,null,null,null,null,null,null,null,null,null,null,{"$f":"+INDEX(D3148:AF3148,1,aux_pr_ue!$P$2)","v":0},{"$f":"+INDEX(D3148:AF3148,1,aux_pr_ue!$Q$2)","v":0}]
["Milling Oats1994/07","Milling Oats","1994/07",null,null,null,null,null,null,null,null,null,null,null,null,null,null,null,null,null,null,null,null,null,null,null,null,null,null,null,null,null,{"$f":"+INDEX(D3149:AF3149,1,aux_pr_ue!$P$2)","v":0},{"$f":"+INDEX(D3149:AF3149,1,aux_pr_ue!$Q$2)","v":0}]
["Milling Oats1994/06","Milling Oats","1994/06",null,null,null,null,null,null,null,null,null,null,null,null,null,null,null,null,null,null,null,null,null,null,null,null,null,null,null,null,null,{"$f":"+INDEX(D3150:AF3150,1,aux_pr_ue!$P$2)","v":0},{"$f":"+INDEX(D3150:AF3150,1,aux_pr_ue!$Q$2)","v":0}]
["Milling Oats1994/05","Milling Oats","1994/05",null,null,null,null,null,null,null,null,null,null,null,null,null,null,null,null,null,null,null,null,null,null,null,null,null,null,null,null,null,{"$f":"+INDEX(D3151:AF3151,1,aux_pr_ue!$P$2)","v":0},{"$f":"+INDEX(D3151:AF3151,1,aux_pr_ue!$Q$2)","v":0}]
["Milling Oats1994/04","Milling Oats","1994/04",null,null,null,null,null,null,null,null,null,null,null,null,null,null,null,null,null,null,null,null,null,null,null,null,null,null,null,null,null,{"$f":"+INDEX(D3152:AF3152,1,aux_pr_ue!$P$2)","v":0},{"$f":"+INDEX(D3152:AF3152,1,aux_pr_ue!$Q$2)","v":0}]
["Milling Oats1994/03","Milling Oats","1994/03",null,null,null,null,null,null,null,null,null,null,null,null,null,null,null,null,null,null,null,null,null,null,null,null,null,null,null,null,null,{"$f":"+INDEX(D3153:AF3153,1,aux_pr_ue!$P$2)","v":0},{"$f":"+INDEX(D3153:AF3153,1,aux_pr_ue!$Q$2)","v":0}]
["Milling Oats1994/02","Milling Oats","1994/02",null,null,null,null,null,null,null,null,null,null,null,null,null,null,null,null,null,null,null,null,null,null,null,null,null,null,null,null,null,{"$f":"+INDEX(D3154:AF3154,1,aux_pr_ue!$P$2)","v":0},{"$f":"+INDEX(D3154:AF3154,1,aux_pr_ue!$Q$2)","v":0}]
["Milling Oats1994/01","Milling Oats","1994/01",null,null,null,null,null,null,null,null,null,null,null,null,null,null,null,null,null,null,null,null,null,null,null,null,null,null,null,null,null,{"$f":"+INDEX(D3155:AF3155,1,aux_pr_ue!$P$2)","v":0},{"$f":"+INDEX(D3155:AF3155,1,aux_pr_ue!$Q$2)","v":0}]
["Milling Oats1993/12","Milling Oats","1993/12",null,null,null,null,null,null,null,null,null,null,null,null,null,null,null,null,null,null,null,null,null,null,null,null,null,null,null,null,null,{"$f":"+INDEX(D3156:AF3156,1,aux_pr_ue!$P$2)","v":0},{"$f":"+INDEX(D3156:AF3156,1,aux_pr_ue!$Q$2)","v":0}]
["Milling Oats1993/11","Milling Oats","1993/11",null,null,null,null,null,null,null,null,null,null,null,null,null,null,null,null,null,null,null,null,null,null,null,null,null,null,null,null,null,{"$f":"+INDEX(D3157:AF3157,1,aux_pr_ue!$P$2)","v":0},{"$f":"+INDEX(D3157:AF3157,1,aux_pr_ue!$Q$2)","v":0}]
["Milling Oats1993/10","Milling Oats","1993/10",null,null,null,null,null,null,null,null,null,null,null,null,null,null,null,null,null,null,null,null,null,null,null,null,null,null,null,null,null,{"$f":"+INDEX(D3158:AF3158,1,aux_pr_ue!$P$2)","v":0},{"$f":"+INDEX(D3158:AF3158,1,aux_pr_ue!$Q$2)","v":0}]
["Milling Oats1993/09","Milling Oats","1993/09",null,null,null,null,null,null,null,null,null,null,null,null,null,null,null,null,null,null,null,null,null,null,null,null,null,null,null,null,null,{"$f":"+INDEX(D3159:AF3159,1,aux_pr_ue!$P$2)","v":0},{"$f":"+INDEX(D3159:AF3159,1,aux_pr_ue!$Q$2)","v":0}]
["Milling Oats1993/08","Milling Oats","1993/08",null,null,null,null,null,null,null,null,null,null,null,null,null,null,null,null,null,null,null,null,null,null,null,null,null,null,null,null,null,{"$f":"+INDEX(D3160:AF3160,1,aux_pr_ue!$P$2)","v":0},{"$f":"+INDEX(D3160:AF3160,1,aux_pr_ue!$Q$2)","v":0}]
["Milling Oats1993/07","Milling Oats","1993/07",null,null,null,null,null,null,null,null,null,null,null,null,null,null,null,null,null,null,null,null,null,null,null,null,null,null,null,null,null,{"$f":"+INDEX(D3161:AF3161,1,aux_pr_ue!$P$2)","v":0},{"$f":"+INDEX(D3161:AF3161,1,aux_pr_ue!$Q$2)","v":0}]
["Milling Oats1993/06","Milling Oats","1993/06",null,null,null,null,null,null,null,null,null,null,null,null,null,null,null,null,null,null,null,null,null,null,null,null,null,null,null,null,null,{"$f":"+INDEX(D3162:AF3162,1,aux_pr_ue!$P$2)","v":0},{"$f":"+INDEX(D3162:AF3162,1,aux_pr_ue!$Q$2)","v":0}]
["Milling Oats1993/05","Milling Oats","1993/05",null,null,null,null,null,null,null,null,null,null,null,null,null,null,null,null,null,null,null,null,null,null,null,null,null,null,null,null,null,{"$f":"+INDEX(D3163:AF3163,1,aux_pr_ue!$P$2)","v":0},{"$f":"+INDEX(D3163:AF3163,1,aux_pr_ue!$Q$2)","v":0}]
["Milling Oats1993/04","Milling Oats","1993/04",null,null,null,null,null,null,null,null,null,null,null,null,null,null,null,null,null,null,null,null,null,null,null,null,null,null,null,null,null,{"$f":"+INDEX(D3164:AF3164,1,aux_pr_ue!$P$2)","v":0},{"$f":"+INDEX(D3164:AF3164,1,aux_pr_ue!$Q$2)","v":0}]
["Milling Oats1993/03","Milling Oats","1993/03",null,null,null,null,null,null,null,null,null,null,null,null,null,null,null,null,null,null,null,null,null,null,null,null,null,null,null,null,null,{"$f":"+INDEX(D3165:AF3165,1,aux_pr_ue!$P$2)","v":0},{"$f":"+INDEX(D3165:AF3165,1,aux_pr_ue!$Q$2)","v":0}]
["Milling Oats1993/02","Milling Oats","1993/02",null,null,null,null,null,null,null,null,null,null,null,null,null,null,null,null,null,null,null,null,null,null,null,null,null,null,null,null,null,{"$f":"+INDEX(D3166:AF3166,1,aux_pr_ue!$P$2)","v":0},{"$f":"+INDEX(D3166:AF3166,1,aux_pr_ue!$Q$2)","v":0}]
["Milling Oats1993/01","Milling Oats","1993/01",null,null,null,null,null,null,null,null,null,null,null,null,null,null,null,null,null,null,null,null,null,null,null,null,null,null,null,null,null,{"$f":"+INDEX(D3167:AF3167,1,aux_pr_ue!$P$2)","v":0},{"$f":"+INDEX(D3167:AF3167,1,aux_pr_ue!$Q$2)","v":0}]
["Milling Oats1992/12","Milling Oats","1992/12",null,null,null,null,null,null,null,null,null,null,null,null,null,null,null,null,null,null,null,null,null,null,null,null,null,null,null,null,null,{"$f":"+INDEX(D3168:AF3168,1,aux_pr_ue!$P$2)","v":0},{"$f":"+INDEX(D3168:AF3168,1,aux_pr_ue!$Q$2)","v":0}]
["Milling Oats1992/11","Milling Oats","1992/11",null,null,null,null,null,null,null,null,null,null,null,null,null,null,null,null,null,null,null,null,null,null,null,null,null,null,null,null,null,{"$f":"+INDEX(D3169:AF3169,1,aux_pr_ue!$P$2)","v":0},{"$f":"+INDEX(D3169:AF3169,1,aux_pr_ue!$Q$2)","v":0}]
["Milling Oats1992/10","Milling Oats","1992/10",null,null,null,null,null,null,null,null,null,null,null,null,null,null,null,null,null,null,null,null,null,null,null,null,null,null,null,null,null,{"$f":"+INDEX(D3170:AF3170,1,aux_pr_ue!$P$2)","v":0},{"$f":"+INDEX(D3170:AF3170,1,aux_pr_ue!$Q$2)","v":0}]
["Milling Oats1992/09","Milling Oats","1992/09",null,null,null,null,null,null,null,null,null,null,null,null,null,null,null,null,null,null,null,null,null,null,null,null,null,null,null,null,null,{"$f":"+INDEX(D3171:AF3171,1,aux_pr_ue!$P$2)","v":0},{"$f":"+INDEX(D3171:AF3171,1,aux_pr_ue!$Q$2)","v":0}]
["Milling Oats1992/08","Milling Oats","1992/08",null,null,null,null,null,null,null,null,null,null,null,null,null,null,null,null,null,null,null,null,null,null,null,null,null,null,null,null,null,{"$f":"+INDEX(D3172:AF3172,1,aux_pr_ue!$P$2)","v":0},{"$f":"+INDEX(D3172:AF3172,1,aux_pr_ue!$Q$2)","v":0}]
["Milling Oats1992/07","Milling Oats","1992/07",null,null,null,null,null,null,null,null,null,null,null,null,null,null,null,null,null,null,null,null,null,null,null,null,null,null,null,null,null,{"$f":"+INDEX(D3173:AF3173,1,aux_pr_ue!$P$2)","v":0},{"$f":"+INDEX(D3173:AF3173,1,aux_pr_ue!$Q$2)","v":0}]
["Milling Oats1992/06","Milling Oats","1992/06",null,null,null,null,null,null,null,null,null,null,null,null,null,null,null,null,null,null,null,null,null,null,null,null,null,null,null,null,null,{"$f":"+INDEX(D3174:AF3174,1,aux_pr_ue!$P$2)","v":0},{"$f":"+INDEX(D3174:AF3174,1,aux_pr_ue!$Q$2)","v":0}]
["Milling Oats1992/05","Milling Oats","1992/05",null,null,null,null,null,null,null,null,null,null,null,null,null,null,null,null,null,null,null,null,null,null,null,null,null,null,null,null,null,{"$f":"+INDEX(D3175:AF3175,1,aux_pr_ue!$P$2)","v":0},{"$f":"+INDEX(D3175:AF3175,1,aux_pr_ue!$Q$2)","v":0}]
["Milling Oats1992/04","Milling Oats","1992/04",null,null,null,null,null,null,null,null,null,null,null,null,null,null,null,null,null,null,null,null,null,null,null,null,null,null,null,null,null,{"$f":"+INDEX(D3176:AF3176,1,aux_pr_ue!$P$2)","v":0},{"$f":"+INDEX(D3176:AF3176,1,aux_pr_ue!$Q$2)","v":0}]
["Milling Oats1992/03","Milling Oats","1992/03",null,null,null,null,null,null,null,null,null,null,null,null,null,null,null,null,null,null,null,null,null,null,null,null,null,null,null,null,null,{"$f":"+INDEX(D3177:AF3177,1,aux_pr_ue!$P$2)","v":0},{"$f":"+INDEX(D3177:AF3177,1,aux_pr_ue!$Q$2)","v":0}]
["Milling Oats1992/02","Milling Oats","1992/02",null,null,null,null,null,null,null,null,null,null,null,null,null,null,null,null,null,null,null,null,null,null,null,null,null,null,null,null,null,{"$f":"+INDEX(D3178:AF3178,1,aux_pr_ue!$P$2)","v":0},{"$f":"+INDEX(D3178:AF3178,1,aux_pr_ue!$Q$2)","v":0}]
["Milling Oats1992/01","Milling Oats","1992/01",null,null,null,null,null,null,null,null,null,null,null,null,null,null,null,null,null,null,null,null,null,null,null,null,null,null,null,null,null,{"$f":"+INDEX(D3179:AF3179,1,aux_pr_ue!$P$2)","v":0},{"$f":"+INDEX(D3179:AF3179,1,aux_pr_ue!$Q$2)","v":0}]
["Milling Oats1991/12","Milling Oats","1991/12",null,null,null,null,null,null,null,null,null,null,null,null,null,null,null,null,null,null,null,null,null,null,null,null,null,null,null,null,null,{"$f":"+INDEX(D3180:AF3180,1,aux_pr_ue!$P$2)","v":0},{"$f":"+INDEX(D3180:AF3180,1,aux_pr_ue!$Q$2)","v":0}]
["Milling Oats1991/11","Milling Oats","1991/11",null,null,null,null,null,null,null,null,null,null,null,null,null,null,null,null,null,null,null,null,null,null,null,null,null,null,null,null,null,{"$f":"+INDEX(D3181:AF3181,1,aux_pr_ue!$P$2)","v":0},{"$f":"+INDEX(D3181:AF3181,1,aux_pr_ue!$Q$2)","v":0}]
["Milling Oats1991/10","Milling Oats","1991/10",null,null,null,null,null,null,null,null,null,null,null,null,null,null,null,null,null,null,null,null,null,null,null,null,null,null,null,null,null,{"$f":"+INDEX(D3182:AF3182,1,aux_pr_ue!$P$2)","v":0},{"$f":"+INDEX(D3182:AF3182,1,aux_pr_ue!$Q$2)","v":0}]
["Milling Oats1991/09","Milling Oats","1991/09",null,null,null,null,null,null,null,null,null,null,null,null,null,null,null,null,null,null,null,null,null,null,null,null,null,null,null,null,null,{"$f":"+INDEX(D3183:AF3183,1,aux_pr_ue!$P$2)","v":0},{"$f":"+INDEX(D3183:AF3183,1,aux_pr_ue!$Q$2)","v":0}]
["Milling Oats1991/08","Milling Oats","1991/08",null,null,null,null,null,null,null,null,null,null,null,null,null,null,null,null,null,null,null,null,null,null,null,null,null,null,null,null,null,{"$f":"+INDEX(D3184:AF3184,1,aux_pr_ue!$P$2)","v":0},{"$f":"+INDEX(D3184:AF3184,1,aux_pr_ue!$Q$2)","v":0}]
["Milling Oats1991/07","Milling Oats","1991/07",null,null,null,null,null,null,null,null,null,null,null,null,null,null,null,null,null,null,null,null,null,null,null,null,null,null,null,null,null,{"$f":"+INDEX(D3185:AF3185,1,aux_pr_ue!$P$2)","v":0},{"$f":"+INDEX(D3185:AF3185,1,aux_pr_ue!$Q$2)","v":0}]
["Milling Oats1991/06","Milling Oats","1991/06",null,null,null,null,null,null,null,null,null,null,null,null,null,null,null,null,null,null,null,null,null,null,null,null,null,null,null,null,null,{"$f":"+INDEX(D3186:AF3186,1,aux_pr_ue!$P$2)","v":0},{"$f":"+INDEX(D3186:AF3186,1,aux_pr_ue!$Q$2)","v":0}]
["Milling Oats1991/05","Milling Oats","1991/05",null,null,null,null,null,null,null,null,null,null,null,null,null,null,null,null,null,null,null,null,null,null,null,null,null,null,null,null,null,{"$f":"+INDEX(D3187:AF3187,1,aux_pr_ue!$P$2)","v":0},{"$f":"+INDEX(D3187:AF3187,1,aux_pr_ue!$Q$2)","v":0}]
["Milling Oats1991/04","Milling Oats","1991/04",null,null,null,null,null,null,null,null,null,null,null,null,null,null,null,null,null,null,null,null,null,null,null,null,null,null,null,null,null,{"$f":"+INDEX(D3188:AF3188,1,aux_pr_ue!$P$2)","v":0},{"$f":"+INDEX(D3188:AF3188,1,aux_pr_ue!$Q$2)","v":0}]
["Milling Oats1991/03","Milling Oats","1991/03",null,null,null,null,null,null,null,null,null,null,null,null,null,null,null,null,null,null,null,null,null,null,null,null,null,null,null,null,null,{"$f":"+INDEX(D3189:AF3189,1,aux_pr_ue!$P$2)","v":0},{"$f":"+INDEX(D3189:AF3189,1,aux_pr_ue!$Q$2)","v":0}]
["Milling Oats1991/02","Milling Oats","1991/02",null,null,null,null,null,null,null,null,null,null,null,null,null,null,null,null,null,null,null,null,null,null,null,null,null,null,null,null,null,{"$f":"+INDEX(D3190:AF3190,1,aux_pr_ue!$P$2)","v":0},{"$f":"+INDEX(D3190:AF3190,1,aux_pr_ue!$Q$2)","v":0}]
["Milling Oats1991/01","Milling Oats","1991/01",null,null,null,null,null,null,null,null,null,null,null,null,null,null,null,null,null,null,null,null,null,null,null,null,null,null,null,null,null,{"$f":"+INDEX(D3191:AF3191,1,aux_pr_ue!$P$2)","v":0},{"$f":"+INDEX(D3191:AF3191,1,aux_pr_ue!$Q$2)","v":0}]

{"sheet":"aux_pr_ue","index":5,"n_rows":322,"n_cols":30,"rows_kept":322,"cut":false,"hidden":true,"merged":[]}
[null,null,null,null,null,null,null,null,null,null,null,null,null,null,null,{"$f":"+INDEX(Q3:Q31,P2)","v":"Portugal"},{"$f":"+INDEX(Q3:Q31,Q2)","v":"Finlândia"}]
[null,null,null,null,{"$f":"+INDEX(F5:F14,E4)","v":"Trigo Forrgeiro"},{"$f":"+INDEX(F5:F14,F4)","v":"Trigo panificável"},null,null,null,null,null,null,null,null,null,23,27]
[null,null,null,null,{"$f":"+INDEX(E5:E14,E4)","v":"Feed Wheat"},{"$f":"+INDEX(E5:E14,F4)","v":"Bread Wheat "},null,null,null,null,null,null,{"$f":"+E2& \" - \" &P1","v":"Trigo Forrgeiro - Portugal"},{"$f":"+F2& \" - \" &Q1","v":"Trigo panificável - Finlândia"},null,"EU","EU",null,"Áustria",null,null,null,null,"Belgique/België","Royaume de Belgique/ Koninkrijk België","Bélgica","F","Reino da Bélgica","BE","B"]
[null,null,null,null,2,1,null,null,null,{"$f":"+IF(INDEX(precos_ue!$AG$2:$AG$3191,MATCH(aux_pr_ue!$E$3&aux_pr_ue!L4,precos_ue!$A$2:$A$3191,0))=0,\"\",INDEX(precos_ue!$AG$2:$AG$3191,MATCH(aux_pr_ue!$E$3&aux_pr_ue!L4,precos_ue!$A$2:$A$3191,0)))","v":""},{"$f":"+IF(INDEX(precos_ue!$AH$2:$AH$3191,MATCH(aux_pr_ue!$F$3&aux_pr_ue!L4,precos_ue!$A$2:$A$3191,0))=0,\"\",INDEX(precos_ue!$AH$2:$AH$3191,MATCH(aux_pr_ue!$F$3&aux_pr_ue!L4,precos_ue!$A$2:$A$3191,0)))","v":""},"1991/01",null,null,null,"BE","Bélgica",null,null,null,null,null,null,"България (*)","Република България","Bulgária","F","República da Bulgária","BG","—"]
[null,null,null,null,"Bread Wheat ","Trigo panificável",1,null,null,{"$f":"+IF(INDEX(precos_ue!$AG$2:$AG$3191,MATCH(aux_pr_ue!$E$3&aux_pr_ue!L5,precos_ue!$A$2:$A$3191,0))=0,\"\",INDEX(precos_ue!$AG$2:$AG$3191,MATCH(aux_pr_ue!$E$3&aux_pr_ue!L5,precos_ue!$A$2:$A$3191,0)))","v":""},{"$f":"+IF(INDEX(precos_ue!$AH$2:$AH$3191,MATCH(aux_pr_ue!$F$3&aux_pr_ue!L5,precos_ue!$A$2:$A$3191,0))=0,\"\",INDEX(precos_ue!$AH$2:$AH$3191,MATCH(aux_pr_ue!$F$3&aux_pr_ue!L5,precos_ue!$A$2:$A$3191,0)))","v":""},"1991/02",null,null,null,"BG","Bulgária",null,null,null,null,null,null,"Česká republika","Česká republika","República Checa","F","República Checa","CZ","—"]
[null,null,null,null,"Feed Wheat","Trigo Forrgeiro",2,null,null,{"$f":"+IF(INDEX(precos_ue!$AG$2:$AG$3191,MATCH(aux_pr_ue!$E$3&aux_pr_ue!L6,precos_ue!$A$2:$A$3191,0))=0,\"\",INDEX(precos_ue!$AG$2:$AG$3191,MATCH(aux_pr_ue!$E$3&aux_pr_ue!L6,precos_ue!$A$2:$A$3191,0)))","v":""},{"$f":"+IF(INDEX(precos_ue!$AH$2:$AH$3191,MATCH(aux_pr_ue!$F$3&aux_pr_ue!L6,precos_ue!$A$2:$A$3191,0))=0,\"\",INDEX(precos_ue!$AH$2:$AH$3191,MATCH(aux_pr_ue!$F$3&aux_pr_ue!L6,precos_ue!$A$2:$A$3191,0)))","v":""},"1991/03",null,null,null,"CZ","República Checa",null,"Croácia",null,null,null,null,"Danmark","Kongeriget Danmark","Dinamarca","F","Reino da Dinamarca","DK","DK"]
[null,null,null,null,"Durum Wheat","Trigo duro",3,null,null,{"$f":"+IF(INDEX(precos_ue!$AG$2:$AG$3191,MATCH(aux_pr_ue!$E$3&aux_pr_ue!L7,precos_ue!$A$2:$A$3191,0))=0,\"\",INDEX(precos_ue!$AG$2:$AG$3191,MATCH(aux_pr_ue!$E$3&aux_pr_ue!L7,precos_ue!$A$2:$A$3191,0)))","v":""},{"$f":"+IF(INDEX(precos_ue!$AH$2:$AH$3191,MATCH(aux_pr_ue!$F$3&aux_pr_ue!L7,precos_ue!$A$2:$A$3191,0))=0,\"\",INDEX(precos_ue!$AH$2:$AH$3191,MATCH(aux_pr_ue!$F$3&aux_pr_ue!L7,precos_ue!$A$2:$A$3191,0)))","v":""},"1991/04",null,null,null,"DK","Dinamarca",null,"Chipre",null,null,null,null,"Deutschland","Bundesrepublik Deutschland","Alemanha","F","República Federal da Alemanha","DE","D"]
[null,null,null,null,"Bread Rye","Centeio panificável",4,null,null,{"$f":"+IF(INDEX(precos_ue!$AG$2:$AG$3191,MATCH(aux_pr_ue!$E$3&aux_pr_ue!L8,precos_ue!$A$2:$A$3191,0))=0,\"\",INDEX(precos_ue!$AG$2:$AG$3191,MATCH(aux_pr_ue!$E$3&aux_pr_ue!L8,precos_ue!$A$2:$A$3191,0)))","v":""},{"$f":"+IF(INDEX(precos_ue!$AH$2:$AH$3191,MATCH(aux_pr_ue!$F$3&aux_pr_ue!L8,precos_ue!$A$2:$A$3191,0))=0,\"\",INDEX(precos_ue!$AH$2:$AH$3191,MATCH(aux_pr_ue!$F$3&aux_pr_ue!L8,precos_ue!$A$2:$A$3191,0)))","v":""},"1991/05",null,null,null,"DE","Alemanha",null,null,null,null,null,null,"Eesti","Eesti Vabariik","Estónia","F","República da Estónia","EE","—"]
[null,null,null,null,"Feed Rye","Centeio forrageiro",5,null,null,{"$f":"+IF(INDEX(precos_ue!$AG$2:$AG$3191,MATCH(aux_pr_ue!$E$3&aux_pr_ue!L9,precos_ue!$A$2:$A$3191,0))=0,\"\",INDEX(precos_ue!$AG$2:$AG$3191,MATCH(aux_pr_ue!$E$3&aux_pr_ue!L9,precos_ue!$A$2:$A$3191,0)))","v":""},{"$f":"+IF(INDEX(precos_ue!$AH$2:$AH$3191,MATCH(aux_pr_ue!$F$3&aux_pr_ue!L9,precos_ue!$A$2:$A$3191,0))=0,\"\",INDEX(precos_ue!$AH$2:$AH$3191,MATCH(aux_pr_ue!$F$3&aux_pr_ue!L9,precos_ue!$A$2:$A$3191,0)))","v":""},"1991/06",null,null,null,"EE","Estónia",null,null,null,null,null,null,"Éire/Ireland","Éire/Ireland","Irlanda","F","Irlanda","IE","IRL"]
[null,null,null,null,"Feed Barley","Cevada forrageiro",6,null,null,{"$f":"+IF(INDEX(precos_ue!$AG$2:$AG$3191,MATCH(aux_pr_ue!$E$3&aux_pr_ue!L10,precos_ue!$A$2:$A$3191,0))=0,\"\",INDEX(precos_ue!$AG$2:$AG$3191,MATCH(aux_pr_ue!$E$3&aux_pr_ue!L10,precos_ue!$A$2:$A$3191,0)))","v":""},{"$f":"+IF(INDEX(precos_ue!$AH$2:$AH$3191,MATCH(aux_pr_ue!$F$3&aux_pr_ue!L10,precos_ue!$A$2:$A$3191,0))=0,\"\",INDEX(precos_ue!$AH$2:$AH$3191,MATCH(aux_pr_ue!$F$3&aux_pr_ue!L10,precos_ue!$A$2:$A$3191,0)))","v":""},"1991/07",null,null,null,"IE","Irlanda",null,"Estônia",null,null,null,null,"Ελλάδα (*)","Ελληνική Δημοκρατία","Grécia","F","República Helénica","EL","EL"]
[null,null,null,null,"Malting Barley","Cevada de malte",7,null,null,{"$f":"+IF(INDEX(precos_ue!$AG$2:$AG$3191,MATCH(aux_pr_ue!$E$3&aux_pr_ue!L11,precos_ue!$A$2:$A$3191,0))=0,\"\",INDEX(precos_ue!$AG$2:$AG$3191,MATCH(aux_pr_ue!$E$3&aux_pr_ue!L11,precos_ue!$A$2:$A$3191,0)))","v":""},{"$f":"+IF(INDEX(precos_ue!$AH$2:$AH$3191,MATCH(aux_pr_ue!$F$3&aux_pr_ue!L11,precos_ue!$A$2:$A$3191,0))=0,\"\",INDEX(precos_ue!$AH$2:$AH$3191,MATCH(aux_pr_ue!$F$3&aux_pr_ue!L11,precos_ue!$A$2:$A$3191,0)))","v":""},"1991/08",null,null,null,"EL","Grécia",null,"UE-15",null,null,null,null,"España","Reino da España","Espanha","F","Reino da Espanha","ES","E"]
[null,null,null,null,"Feed Oats","Aveia Forrageira",8,null,null,{"$f":"+IF(INDEX(precos_ue!$AG$2:$AG$3191,MATCH(aux_pr_ue!$E$3&aux_pr_ue!L12,precos_ue!$A$2:$A$3191,0))=0,\"\",INDEX(precos_ue!$AG$2:$AG$3191,MATCH(aux_pr_ue!$E$3&aux_pr_ue!L12,precos_ue!$A$2:$A$3191,0)))","v":""},{"$f":"+IF(INDEX(precos_ue!$AH$2:$AH$3191,MATCH(aux_pr_ue!$F$3&aux_pr_ue!L12,precos_ue!$A$2:$A$3191,0))=0,\"\",INDEX(precos_ue!$AH$2:$AH$3191,MATCH(aux_pr_ue!$F$3&aux_pr_ue!L12,precos_ue!$A$2:$A$3191,0)))","v":""},"1991/09",null,null,null,"ES","Espanha",null,"UE-28",null,null,null,null,"France","République française","França","F","República Francesa","FR","F"]
[null,null,null,null,"Milling Oats","Aveia de trituração",9,null,null,{"$f":"+IF(INDEX(precos_ue!$AG$2:$AG$3191,MATCH(aux_pr_ue!$E$3&aux_pr_ue!L13,precos_ue!$A$2:$A$3191,0))=0,\"\",INDEX(precos_ue!$AG$2:$AG$3191,MATCH(aux_pr_ue!$E$3&aux_pr_ue!L13,precos_ue!$A$2:$A$3191,0)))","v":""},{"$f":"+IF(INDEX(precos_ue!$AH$2:$AH$3191,MATCH(aux_pr_ue!$F$3&aux_pr_ue!L13,precos_ue!$A$2:$A$3191,0))=0,\"\",INDEX(precos_ue!$AH$2:$AH$3191,MATCH(aux_pr_ue!$F$3&aux_pr_ue!L13,precos_ue!$A$2:$A$3191,0)))","v":""},"1991/10",null,null,null,"FR","França",null,"UE-N13",null,null,null,null,"Hrvatska","Republika Hrvatska","Croácia","F","República da Croácia","HR","—"]
[null,null,null,null,"Feed Maize","Milho forrageiro",10,null,null,{"$f":"+IF(INDEX(precos_ue!$AG$2:$AG$3191,MATCH(aux_pr_ue!$E$3&aux_pr_ue!L14,precos_ue!$A$2:$A$3191,0))=0,\"\",INDEX(precos_ue!$AG$2:$AG$3191,MATCH(aux_pr_ue!$E$3&aux_pr_ue!L14,precos_ue!$A$2:$A$3191,0)))","v":""},{"$f":"+IF(INDEX(precos_ue!$AH$2:$AH$3191,MATCH(aux_pr_ue!$F$3&aux_pr_ue!L14,precos_ue!$A$2:$A$3191,0))=0,\"\",INDEX(precos_ue!$AH$2:$AH$3191,MATCH(aux_pr_ue!$F$3&aux_pr_ue!L14,precos_ue!$A$2:$A$3191,0)))","v":""},"1991/11",null,null,null,"HR","Croácia",null,"Finlândia",null,null,null,null,"Italia","Repubblica italiana","Itália","F","República Italiana","IT","I"]
[null,null,null,null,null,null,null,null,null,{"$f":"+IF(INDEX(precos_ue!$AG$2:$AG$3191,MATCH(aux_pr_ue!$E$3&aux_pr_ue!L15,precos_ue!$A$2:$A$3191,0))=0,\"\",INDEX(precos_ue!$AG$2:$AG$3191,MATCH(aux_pr_ue!$E$3&aux_pr_ue!L15,precos_ue!$A$2:$A$3191,0)))","v":""},{"$f":"+IF(INDEX(precos_ue!$AH$2:$AH$3191,MATCH(aux_pr_ue!$F$3&aux_pr_ue!L15,precos_ue!$A$2:$A$3191,0))=0,\"\",INDEX(precos_ue!$AH$2:$AH$3191,MATCH(aux_pr_ue!$F$3&aux_pr_ue!L15,precos_ue!$A$2:$A$3191,0)))","v":""},"1991/12",null,null,null,"IT","Itália",null,"França",null,null,null,null,"Κύπρος (*)","Κυπριακή Δημοκρατία","Chipre","M","República de Chipre","CY","—"]
[null,null,null,null,null,null,null,null,null,{"$f":"+IF(INDEX(precos_ue!$AG$2:$AG$3191,MATCH(aux_pr_ue!$E$3&aux_pr_ue!L16,precos_ue!$A$2:$A$3191,0))=0,\"\",INDEX(precos_ue!$AG$2:$AG$3191,MATCH(aux_pr_ue!$E$3&aux_pr_ue!L16,precos_ue!$A$2:$A$3191,0)))","v":""},{"$f":"+IF(INDEX(precos_ue!$AH$2:$AH$3191,MATCH(aux_pr_ue!$F$3&aux_pr_ue!L16,precos_ue!$A$2:$A$3191,0))=0,\"\",INDEX(precos_ue!$AH$2:$AH$3191,MATCH(aux_pr_ue!$F$3&aux_pr_ue!L16,precos_ue!$A$2:$A$3191,0)))","v":""},"1992/01",null,null,null,"CY","Chipre",null,null,null,null,null,null,"Latvija","Latvijas Republika","Letónia","F","República da Letónia","LV","—"]
[null,null,null,null,null,null,null,null,null,{"$f":"+IF(INDEX(precos_ue!$AG$2:$AG$3191,MATCH(aux_pr_ue!$E$3&aux_pr_ue!L17,precos_ue!$A$2:$A$3191,0))=0,\"\",INDEX(precos_ue!$AG$2:$AG$3191,MATCH(aux_pr_ue!$E$3&aux_pr_ue!L17,precos_ue!$A$2:$A$3191,0)))","v":""},{"$f":"+IF(INDEX(precos_ue!$AH$2:$AH$3191,MATCH(aux_pr_ue!$F$3&aux_pr_ue!L17,precos_ue!$A$2:$A$3191,0))=0,\"\",INDEX(precos_ue!$AH$2:$AH$3191,MATCH(aux_pr_ue!$F$3&aux_pr_ue!L17,precos_ue!$A$2:$A$3191,0)))","v":""},"1992/02",null,null,null,"LV","Letónia",null,"Grécia",null,null,null,null,"Lietuva","Lietuvos Respublika","Lituânia","F","República da Lituânia","LT","—"]
[null,null,null,null,null,null,null,null,null,{"$f":"+IF(INDEX(precos_ue!$AG$2:$AG$3191,MATCH(aux_pr_ue!$E$3&aux_pr_ue!L18,precos_ue!$A$2:$A$3191,0))=0,\"\",INDEX(precos_ue!$AG$2:$AG$3191,MATCH(aux_pr_ue!$E$3&aux_pr_ue!L18,precos_ue!$A$2:$A$3191,0)))","v":""},{"$f":"+IF(INDEX(precos_ue!$AH$2:$AH$3191,MATCH(aux_pr_ue!$F$3&aux_pr_ue!L18,precos_ue!$A$2:$A$3191,0))=0,\"\",INDEX(precos_ue!$AH$2:$AH$3191,MATCH(aux_pr_ue!$F$3&aux_pr_ue!L18,precos_ue!$A$2:$A$3191,0)))","v":""},"1992/03",null,null,null,"LT","Lituânia",null,"Hungria",null,null,null,null,"Luxembourg","Grand-Duché de Luxembourg","Luxemburgo","M","Grão-Ducado do Luxemburgo","LU","L"]
[null,null,null,null,null,null,null,null,null,{"$f":"+IF(INDEX(precos_ue!$AG$2:$AG$3191,MATCH(aux_pr_ue!$E$3&aux_pr_ue!L19,precos_ue!$A$2:$A$3191,0))=0,\"\",INDEX(precos_ue!$AG$2:$AG$3191,MATCH(aux_pr_ue!$E$3&aux_pr_ue!L19,precos_ue!$A$2:$A$3191,0)))","v":""},{"$f":"+IF(INDEX(precos_ue!$AH$2:$AH$3191,MATCH(aux_pr_ue!$F$3&aux_pr_ue!L19,precos_ue!$A$2:$A$3191,0))=0,\"\",INDEX(precos_ue!$AH$2:$AH$3191,MATCH(aux_pr_ue!$F$3&aux_pr_ue!L19,precos_ue!$A$2:$A$3191,0)))","v":""},"1992/04",null,null,null,"LU","Luxemburgo",null,"Irlanda",null,null,null,null,"Magyarország","Magyarország","Hungria","F","Hungria","HU","—"]
[null,null,null,null,null,null,null,null,null,{"$f":"+IF(INDEX(precos_ue!$AG$2:$AG$3191,MATCH(aux_pr_ue!$E$3&aux_pr_ue!L20,precos_ue!$A$2:$A$3191,0))=0,\"\",INDEX(precos_ue!$AG$2:$AG$3191,MATCH(aux_pr_ue!$E$3&aux_pr_ue!L20,precos_ue!$A$2:$A$3191,0)))","v":""},{"$f":"+IF(INDEX(precos_ue!$AH$2:$AH$3191,MATCH(aux_pr_ue!$F$3&aux_pr_ue!L20,precos_ue!$A$2:$A$3191,0))=0,\"\",INDEX(precos_ue!$AH$2:$AH$3191,MATCH(aux_pr_ue!$F$3&aux_pr_ue!L20,precos_ue!$A$2:$A$3191,0)))","v":""},"1992/05",null,null,null,"HU","Hungria",null,"Itália",null,null,null,null,"Malta","Repubblika ta’ Malta","Malta","F","República de Malta","MT","—"]
[null,null,null,null,null,null,null,null,null,{"$f":"+IF(INDEX(precos_ue!$AG$2:$AG$3191,MATCH(aux_pr_ue!$E$3&aux_pr_ue!L21,precos_ue!$A$2:$A$3191,0))=0,\"\",INDEX(precos_ue!$AG$2:$AG$3191,MATCH(aux_pr_ue!$E$3&aux_pr_ue!L21,precos_ue!$A$2:$A$3191,0)))","v":""},{"$f":"+IF(INDEX(precos_ue!$AH$2:$AH$3191,MATCH(aux_pr_ue!$F$3&aux_pr_ue!L21,precos_ue!$A$2:$A$3191,0))=0,\"\",INDEX(precos_ue!$AH$2:$AH$3191,MATCH(aux_pr_ue!$F$3&aux_pr_ue!L21,precos_ue!$A$2:$A$3191,0)))","v":""},"1992/06",null,null,null,"MT","Malta",null,"Letônia",null,null,null,null,"Nederland","Koninkrijk der Nederlanden","Países Baixos","M","Reino dos Países Baixos","NL","NL"]
[null,null,null,null,null,null,null,null,null,{"$f":"+IF(INDEX(precos_ue!$AG$2:$AG$3191,MATCH(aux_pr_ue!$E$3&aux_pr_ue!L22,precos_ue!$A$2:$A$3191,0))=0,\"\",INDEX(precos_ue!$AG$2:$AG$3191,MATCH(aux_pr_ue!$E$3&aux_pr_ue!L22,precos_ue!$A$2:$A$3191,0)))","v":127.23775000000001},{"$f":"+IF(INDEX(precos_ue!$AH$2:$AH$3191,MATCH(aux_pr_ue!$F$3&aux_pr_ue!L22,precos_ue!$A$2:$A$3191,0))=0,\"\",INDEX(precos_ue!$AH$2:$AH$3191,MATCH(aux_pr_ue!$F$3&aux_pr_ue!L22,precos_ue!$A$2:$A$3191,0)))","v":""},"1992/07",127.23775000000001,null,null,"NL","Países Baixos",null,"Lituânia",null,null,null,null,"Österreich","Republik Österreich","Áustria","F","República da Áustria","AT","A"]
[null,null,null,null,null,null,null,null,null,{"$f":"+IF(INDEX(precos_ue!$AG$2:$AG$3191,MATCH(aux_pr_ue!$E$3&aux_pr_ue!L23,precos_ue!$A$2:$A$3191,0))=0,\"\",INDEX(precos_ue!$AG$2:$AG$3191,MATCH(aux_pr_ue!$E$3&aux_pr_ue!L23,precos_ue!$A$2:$A$3191,0)))","v":127.23775000000001},{"$f":"+IF(INDEX(precos_ue!$AH$2:$AH$3191,MATCH(aux_pr_ue!$F$3&aux_pr_ue!L23,precos_ue!$A$2:$A$3191,0))=0,\"\",INDEX(precos_ue!$AH$2:$AH$3191,MATCH(aux_pr_ue!$F$3&aux_pr_ue!L23,precos_ue!$A$2:$A$3191,0)))","v":""},"1992/08",127.23775000000001,null,null,"AT","Áustria",null,"Luxemburgo",null,null,null,null,"Polska","Rzeczpospolita Polska","Polónia","F","República da Polónia","PL","—"]
[null,null,null,null,null,null,null,null,null,{"$f":"+IF(INDEX(precos_ue!$AG$2:$AG$3191,MATCH(aux_pr_ue!$E$3&aux_pr_ue!L24,precos_ue!$A$2:$A$3191,0))=0,\"\",INDEX(precos_ue!$AG$2:$AG$3191,MATCH(aux_pr_ue!$E$3&aux_pr_ue!L24,precos_ue!$A$2:$A$3191,0)))","v":133.53900000000002},{"$f":"+IF(INDEX(precos_ue!$AH$2:$AH$3191,MATCH(aux_pr_ue!$F$3&aux_pr_ue!L24,precos_ue!$A$2:$A$3191,0))=0,\"\",INDEX(precos_ue!$AH$2:$AH$3191,MATCH(aux_pr_ue!$F$3&aux_pr_ue!L24,precos_ue!$A$2:$A$3191,0)))","v":""},"1992/09",133.53900000000002,null,null,"PL","Polónia",null,"Malta",null,null,null,null,"Portugal","República Portuguesa","Portugal","M","República Portuguesa","PT","P"]
[null,null,null,null,null,null,null,null,null,{"$f":"+IF(INDEX(precos_ue!$AG$2:$AG$3191,MATCH(aux_pr_ue!$E$3&aux_pr_ue!L25,precos_ue!$A$2:$A$3191,0))=0,\"\",INDEX(precos_ue!$AG$2:$AG$3191,MATCH(aux_pr_ue!$E$3&aux_pr_ue!L25,precos_ue!$A$2:$A$3191,0)))","v":""},{"$f":"+IF(INDEX(precos_ue!$AH$2:$AH$3191,MATCH(aux_pr_ue!$F$3&aux_pr_ue!L25,precos_ue!$A$2:$A$3191,0))=0,\"\",INDEX(precos_ue!$AH$2:$AH$3191,MATCH(aux_pr_ue!$F$3&aux_pr_ue!L25,precos_ue!$A$2:$A$3191,0)))","v":""},"1992/10",null,null,null,"PT","Portugal",null,"Países Baixos",null,null,null,null,"România","România","Roménia","F","Roménia","RO","—"]
[null,null,null,null,null,null,null,null,null,{"$f":"+IF(INDEX(precos_ue!$AG$2:$AG$3191,MATCH(aux_pr_ue!$E$3&aux_pr_ue!L26,precos_ue!$A$2:$A$3191,0))=0,\"\",INDEX(precos_ue!$AG$2:$AG$3191,MATCH(aux_pr_ue!$E$3&aux_pr_ue!L26,precos_ue!$A$2:$A$3191,0)))","v":""},{"$f":"+IF(INDEX(precos_ue!$AH$2:$AH$3191,MATCH(aux_pr_ue!$F$3&aux_pr_ue!L26,precos_ue!$A$2:$A$3191,0))=0,\"\",INDEX(precos_ue!$AH$2:$AH$3191,MATCH(aux_pr_ue!$F$3&aux_pr_ue!L26,precos_ue!$A$2:$A$3191,0)))","v":""},"1992/11",null,null,null,"RO","Roménia",null,"Polônia",null,null,null,null,"Slovenija","Republika Slovenija","Eslovénia","F","República da Eslovénia","SI","—"]
[null,null,null,null,null,null,null,null,null,{"$f":"+IF(INDEX(precos_ue!$AG$2:$AG$3191,MATCH(aux_pr_ue!$E$3&aux_pr_ue!L27,precos_ue!$A$2:$A$3191,0))=0,\"\",INDEX(precos_ue!$AG$2:$AG$3191,MATCH(aux_pr_ue!$E$3&aux_pr_ue!L27,precos_ue!$A$2:$A$3191,0)))","v":""},{"$f":"+IF(INDEX(precos_ue!$AH$2:$AH$3191,MATCH(aux_pr_ue!$F$3&aux_pr_ue!L27,precos_ue!$A$2:$A$3191,0))=0,\"\",INDEX(precos_ue!$AH$2:$AH$3191,MATCH(aux_pr_ue!$F$3&aux_pr_ue!L27,precos_ue!$A$2:$A$3191,0)))","v":""},"1992/12",null,null,null,"SI","Eslovénia",null,"Portugal",null,null,null,null,"Slovensko","Slovenská republika","Eslováquia","F","República Eslovaca","SK","—"]
[null,null,null,null,null,null,null,null,null,{"$f":"+IF(INDEX(precos_ue!$AG$2:$AG$3191,MATCH(aux_pr_ue!$E$3&aux_pr_ue!L28,precos_ue!$A$2:$A$3191,0))=0,\"\",INDEX(precos_ue!$AG$2:$AG$3191,MATCH(aux_pr_ue!$E$3&aux_pr_ue!L28,precos_ue!$A$2:$A$3191,0)))","v":""},{"$f":"+IF(INDEX(precos_ue!$AH$2:$AH$3191,MATCH(aux_pr_ue!$F$3&aux_pr_ue!L28,precos_ue!$A$2:$A$3191,0))=0,\"\",INDEX(precos_ue!$AH$2:$AH$3191,MATCH(aux_pr_ue!$F$3&aux_pr_ue!L28,precos_ue!$A$2:$A$3191,0)))","v":""},"1993/01",null,null,null,"SK","Eslováquia",null,"Romênia",null,null,null,null,"Suomi/Finland","Suomen tasavalta/ Republiken Finland","Finlândia","F","República da Finlândia","FI","FIN"]
[null,null,null,null,null,null,null,null,null,{"$f":"+IF(INDEX(precos_ue!$AG$2:$AG$3191,MATCH(aux_pr_ue!$E$3&aux_pr_ue!L29,precos_ue!$A$2:$A$3191,0))=0,\"\",INDEX(precos_ue!$AG$2:$AG$3191,MATCH(aux_pr_ue!$E$3&aux_pr_ue!L29,precos_ue!$A$2:$A$3191,0)))","v":""},{"$f":"+IF(INDEX(precos_ue!$AH$2:$AH$3191,MATCH(aux_pr_ue!$F$3&aux_pr_ue!L29,precos_ue!$A$2:$A$3191,0))=0,\"\",INDEX(precos_ue!$AH$2:$AH$3191,MATCH(aux_pr_ue!$F$3&aux_pr_ue!L29,precos_ue!$A$2:$A$3191,0)))","v":""},"1993/02",null,null,null,"FI","Finlândia",null,"Eslováquia",null,null,null,null,"Sverige","Konungariket Sverige","Suécia","F","Reino da Suécia","SE","S"]
[null,null,null,null,null,null,null,null,null,{"$f":"+IF(INDEX(precos_ue!$AG$2:$AG$3191,MATCH(aux_pr_ue!$E$3&aux_pr_ue!L30,precos_ue!$A$2:$A$3191,0))=0,\"\",INDEX(precos_ue!$AG$2:$AG$3191,MATCH(aux_pr_ue!$E$3&aux_pr_ue!L30,precos_ue!$A$2:$A$3191,0)))","v":""},{"$f":"+IF(INDEX(precos_ue!$AH$2:$AH$3191,MATCH(aux_pr_ue!$F$3&aux_pr_ue!L30,precos_ue!$A$2:$A$3191,0))=0,\"\",INDEX(precos_ue!$AH$2:$AH$3191,MATCH(aux_pr_ue!$F$3&aux_pr_ue!L30,precos_ue!$A$2:$A$3191,0)))","v":""},"1993/03",null,null,null,"SE","Suécia",null,"Eslovênia",null,null,null,null,"United Kingdom","United Kingdom of Great Britain and Northern Ireland","Reino Unido","M","Reino Unido da Grã-Bretanha e daIrlanda do Norte","UK","UK"]
[null,null,null,null,null,null,null,null,null,{"$f":"+IF(INDEX(precos_ue!$AG$2:$AG$3191,MATCH(aux_pr_ue!$E$3&aux_pr_ue!L31,precos_ue!$A$2:$A$3191,0))=0,\"\",INDEX(precos_ue!$AG$2:$AG$3191,MATCH(aux_pr_ue!$E$3&aux_pr_ue!L31,precos_ue!$A$2:$A$3191,0)))","v":""},{"$f":"+IF(INDEX(precos_ue!$AH$2:$AH$3191,MATCH(aux_pr_ue!$F$3&aux_pr_ue!L31,precos_ue!$A$2:$A$3191,0))=0,\"\",INDEX(precos_ue!$AH$2:$AH$3191,MATCH(aux_pr_ue!$F$3&aux_pr_ue!L31,precos_ue!$A$2:$A$3191,0)))","v":""},"1993/04",null,null,null,"UK","Reino Unido",null,"Espanha"]
[null,null,null,null,null,null,null,null,null,{"$f":"+IF(INDEX(precos_ue!$AG$2:$AG$3191,MATCH(aux_pr_ue!$E$3&aux_pr_ue!L32,precos_ue!$A$2:$A$3191,0))=0,\"\",INDEX(precos_ue!$AG$2:$AG$3191,MATCH(aux_pr_ue!$E$3&aux_pr_ue!L32,precos_ue!$A$2:$A$3191,0)))","v":""},{"$f":"+IF(INDEX(precos_ue!$AH$2:$AH$3191,MATCH(aux_pr_ue!$F$3&aux_pr_ue!L32,precos_ue!$A$2:$A$3191,0))=0,\"\",INDEX(precos_ue!$AH$2:$AH$3191,MATCH(aux_pr_ue!$F$3&aux_pr_ue!L32,precos_ue!$A$2:$A$3191,0)))","v":""},"1993/05",null,null,null,null,null,null,"Suécia"]
[null,null,null,null,null,null,null,null,null,{"$f":"+IF(INDEX(precos_ue!$AG$2:$AG$3191,MATCH(aux_pr_ue!$E$3&aux_pr_ue!L33,precos_ue!$A$2:$A$3191,0))=0,\"\",INDEX(precos_ue!$AG$2:$AG$3191,MATCH(aux_pr_ue!$E$3&aux_pr_ue!L33,precos_ue!$A$2:$A$3191,0)))","v":""},{"$f":"+IF(INDEX(precos_ue!$AH$2:$AH$3191,MATCH(aux_pr_ue!$F$3&aux_pr_ue!L33,precos_ue!$A$2:$A$3191,0))=0,\"\",INDEX(precos_ue!$AH$2:$AH$3191,MATCH(aux_pr_ue!$F$3&aux_pr_ue!L33,precos_ue!$A$2:$A$3191,0)))","v":""},"1993/06",null,null,null,null,null,null,"Reino Unido"]
[null,null,null,null,null,null,null,null,null,{"$f":"+IF(INDEX(precos_ue!$AG$2:$AG$3191,MATCH(aux_pr_ue!$E$3&aux_pr_ue!L34,precos_ue!$A$2:$A$3191,0))=0,\"\",INDEX(precos_ue!$AG$2:$AG$3191,MATCH(aux_pr_ue!$E$3&aux_pr_ue!L34,precos_ue!$A$2:$A$3191,0)))","v":118.96350000000001},{"$f":"+IF(INDEX(precos_ue!$AH$2:$AH$3191,MATCH(aux_pr_ue!$F$3&aux_pr_ue!L34,precos_ue!$A$2:$A$3191,0))=0,\"\",INDEX(precos_ue!$AH$2:$AH$3191,MATCH(aux_pr_ue!$F$3&aux_pr_ue!L34,precos_ue!$A$2:$A$3191,0)))","v":""},"1993/07",118.96350000000001]
[null,null,null,null,null,null,null,null,null,{"$f":"+IF(INDEX(precos_ue!$AG$2:$AG$3191,MATCH(aux_pr_ue!$E$3&aux_pr_ue!L35,precos_ue!$A$2:$A$3191,0))=0,\"\",INDEX(precos_ue!$AG$2:$AG$3191,MATCH(aux_pr_ue!$E$3&aux_pr_ue!L35,precos_ue!$A$2:$A$3191,0)))","v":113.95650000000001},{"$f":"+IF(INDEX(precos_ue!$AH$2:$AH$3191,MATCH(aux_pr_ue!$F$3&aux_pr_ue!L35,precos_ue!$A$2:$A$3191,0))=0,\"\",INDEX(precos_ue!$AH$2:$AH$3191,MATCH(aux_pr_ue!$F$3&aux_pr_ue!L35,precos_ue!$A$2:$A$3191,0)))","v":""},"1993/08",113.95650000000001]
[null,null,null,null,null,null,null,null,null,{"$f":"+IF(INDEX(precos_ue!$AG$2:$AG$3191,MATCH(aux_pr_ue!$E$3&aux_pr_ue!L36,precos_ue!$A$2:$A$3191,0))=0,\"\",INDEX(precos_ue!$AG$2:$AG$3191,MATCH(aux_pr_ue!$E$3&aux_pr_ue!L36,precos_ue!$A$2:$A$3191,0)))","v":113.95650000000001},{"$f":"+IF(INDEX(precos_ue!$AH$2:$AH$3191,MATCH(aux_pr_ue!$F$3&aux_pr_ue!L36,precos_ue!$A$2:$A$3191,0))=0,\"\",INDEX(precos_ue!$AH$2:$AH$3191,MATCH(aux_pr_ue!$F$3&aux_pr_ue!L36,precos_ue!$A$2:$A$3191,0)))","v":""},"1993/09",113.95650000000001]
[null,null,null,null,null,null,null,null,null,{"$f":"+IF(INDEX(precos_ue!$AG$2:$AG$3191,MATCH(aux_pr_ue!$E$3&aux_pr_ue!L37,precos_ue!$A$2:$A$3191,0))=0,\"\",INDEX(precos_ue!$AG$2:$AG$3191,MATCH(aux_pr_ue!$E$3&aux_pr_ue!L37,precos_ue!$A$2:$A$3191,0)))","v":""},{"$f":"+IF(INDEX(precos_ue!$AH$2:$AH$3191,MATCH(aux_pr_ue!$F$3&aux_pr_ue!L37,precos_ue!$A$2:$A$3191,0))=0,\"\",INDEX(precos_ue!$AH$2:$AH$3191,MATCH(aux_pr_ue!$F$3&aux_pr_ue!L37,precos_ue!$A$2:$A$3191,0)))","v":""},"1993/10"]
[null,null,null,null,null,null,null,null,null,{"$f":"+IF(INDEX(precos_ue!$AG$2:$AG$3191,MATCH(aux_pr_ue!$E$3&aux_pr_ue!L38,precos_ue!$A$2:$A$3191,0))=0,\"\",INDEX(precos_ue!$AG$2:$AG$3191,MATCH(aux_pr_ue!$E$3&aux_pr_ue!L38,precos_ue!$A$2:$A$3191,0)))","v":""},{"$f":"+IF(INDEX(precos_ue!$AH$2:$AH$3191,MATCH(aux_pr_ue!$F$3&aux_pr_ue!L38,precos_ue!$A$2:$A$3191,0))=0,\"\",INDEX(precos_ue!$AH$2:$AH$3191,MATCH(aux_pr_ue!$F$3&aux_pr_ue!L38,precos_ue!$A$2:$A$3191,0)))","v":""},"1993/11"]
[null,null,null,null,null,null,null,null,null,{"$f":"+IF(INDEX(precos_ue!$AG$2:$AG$3191,MATCH(aux_pr_ue!$E$3&aux_pr_ue!L39,precos_ue!$A$2:$A$3191,0))=0,\"\",INDEX(precos_ue!$AG$2:$AG$3191,MATCH(aux_pr_ue!$E$3&aux_pr_ue!L39,precos_ue!$A$2:$A$3191,0)))","v":""},{"$f":"+IF(INDEX(precos_ue!$AH$2:$AH$3191,MATCH(aux_pr_ue!$F$3&aux_pr_ue!L39,precos_ue!$A$2:$A$3191,0))=0,\"\",INDEX(precos_ue!$AH$2:$AH$3191,MATCH(aux_pr_ue!$F$3&aux_pr_ue!L39,precos_ue!$A$2:$A$3191,0)))","v":""},"1993/12"]
[null,null,null,null,null,null,null,null,null,{"$f":"+IF(INDEX(precos_ue!$AG$2:$AG$3191,MATCH(aux_pr_ue!$E$3&aux_pr_ue!L40,precos_ue!$A$2:$A$3191,0))=0,\"\",INDEX(precos_ue!$AG$2:$AG$3191,MATCH(aux_pr_ue!$E$3&aux_pr_ue!L40,precos_ue!$A$2:$A$3191,0)))","v":""},{"$f":"+IF(INDEX(precos_ue!$AH$2:$AH$3191,MATCH(aux_pr_ue!$F$3&aux_pr_ue!L40,precos_ue!$A$2:$A$3191,0))=0,\"\",INDEX(precos_ue!$AH$2:$AH$3191,MATCH(aux_pr_ue!$F$3&aux_pr_ue!L40,precos_ue!$A$2:$A$3191,0)))","v":""},"1994/01"]
[null,null,null,null,null,null,null,null,null,{"$f":"+IF(INDEX(precos_ue!$AG$2:$AG$3191,MATCH(aux_pr_ue!$E$3&aux_pr_ue!L41,precos_ue!$A$2:$A$3191,0))=0,\"\",INDEX(precos_ue!$AG$2:$AG$3191,MATCH(aux_pr_ue!$E$3&aux_pr_ue!L41,precos_ue!$A$2:$A$3191,0)))","v":""},{"$f":"+IF(INDEX(precos_ue!$AH$2:$AH$3191,MATCH(aux_pr_ue!$F$3&aux_pr_ue!L41,precos_ue!$A$2:$A$3191,0))=0,\"\",INDEX(precos_ue!$AH$2:$AH$3191,MATCH(aux_pr_ue!$F$3&aux_pr_ue!L41,precos_ue!$A$2:$A$3191,0)))","v":""},"1994/02"]
[null,null,null,null,null,null,null,null,null,{"$f":"+IF(INDEX(precos_ue!$AG$2:$AG$3191,MATCH(aux_pr_ue!$E$3&aux_pr_ue!L42,precos_ue!$A$2:$A$3191,0))=0,\"\",INDEX(precos_ue!$AG$2:$AG$3191,MATCH(aux_pr_ue!$E$3&aux_pr_ue!L42,precos_ue!$A$2:$A$3191,0)))","v":""},{"$f":"+IF(INDEX(precos_ue!$AH$2:$AH$3191,MATCH(aux_pr_ue!$F$3&aux_pr_ue!L42,precos_ue!$A$2:$A$3191,0))=0,\"\",INDEX(precos_ue!$AH$2:$AH$3191,MATCH(aux_pr_ue!$F$3&aux_pr_ue!L42,precos_ue!$A$2:$A$3191,0)))","v":""},"1994/03"]
[null,null,null,null,null,null,null,null,null,{"$f":"+IF(INDEX(precos_ue!$AG$2:$AG$3191,MATCH(aux_pr_ue!$E$3&aux_pr_ue!L43,precos_ue!$A$2:$A$3191,0))=0,\"\",INDEX(precos_ue!$AG$2:$AG$3191,MATCH(aux_pr_ue!$E$3&aux_pr_ue!L43,precos_ue!$A$2:$A$3191,0)))","v":""},{"$f":"+IF(INDEX(precos_ue!$AH$2:$AH$3191,MATCH(aux_pr_ue!$F$3&aux_pr_ue!L43,precos_ue!$A$2:$A$3191,0))=0,\"\",INDEX(precos_ue!$AH$2:$AH$3191,MATCH(aux_pr_ue!$F$3&aux_pr_ue!L43,precos_ue!$A$2:$A$3191,0)))","v":""},"1994/04"]
[null,null,null,null,null,null,null,null,null,{"$f":"+IF(INDEX(precos_ue!$AG$2:$AG$3191,MATCH(aux_pr_ue!$E$3&aux_pr_ue!L44,precos_ue!$A$2:$A$3191,0))=0,\"\",INDEX(precos_ue!$AG$2:$AG$3191,MATCH(aux_pr_ue!$E$3&aux_pr_ue!L44,precos_ue!$A$2:$A$3191,0)))","v":""},{"$f":"+IF(INDEX(precos_ue!$AH$2:$AH$3191,MATCH(aux_pr_ue!$F$3&aux_pr_ue!L44,precos_ue!$A$2:$A$3191,0))=0,\"\",INDEX(precos_ue!$AH$2:$AH$3191,MATCH(aux_pr_ue!$F$3&aux_pr_ue!L44,precos_ue!$A$2:$A$3191,0)))","v":""},"1994/05"]
[null,null,null,null,null,null,null,null,null,{"$f":"+IF(INDEX(precos_ue!$AG$2:$AG$3191,MATCH(aux_pr_ue!$E$3&aux_pr_ue!L45,precos_ue!$A$2:$A$3191,0))=0,\"\",INDEX(precos_ue!$AG$2:$AG$3191,MATCH(aux_pr_ue!$E$3&aux_pr_ue!L45,precos_ue!$A$2:$A$3191,0)))","v":""},{"$f":"+IF(INDEX(precos_ue!$AH$2:$AH$3191,MATCH(aux_pr_ue!$F$3&aux_pr_ue!L45,precos_ue!$A$2:$A$3191,0))=0,\"\",INDEX(precos_ue!$AH$2:$AH$3191,MATCH(aux_pr_ue!$F$3&aux_pr_ue!L45,precos_ue!$A$2:$A$3191,0)))","v":""},"1994/06"]
[null,null,null,null,null,null,null,null,null,{"$f":"+IF(INDEX(precos_ue!$AG$2:$AG$3191,MATCH(aux_pr_ue!$E$3&aux_pr_ue!L46,precos_ue!$A$2:$A$3191,0))=0,\"\",INDEX(precos_ue!$AG$2:$AG$3191,MATCH(aux_pr_ue!$E$3&aux_pr_ue!L46,precos_ue!$A$2:$A$3191,0)))","v":115.42717500000001},{"$f":"+IF(INDEX(precos_ue!$AH$2:$AH$3191,MATCH(aux_pr_ue!$F$3&aux_pr_ue!L46,precos_ue!$A$2:$A$3191,0))=0,\"\",INDEX(precos_ue!$AH$2:$AH$3191,MATCH(aux_pr_ue!$F$3&aux_pr_ue!L46,precos_ue!$A$2:$A$3191,0)))","v":""},"1994/07",115.42717500000001]
[null,null,null,null,null,null,null,null,null,{"$f":"+IF(INDEX(precos_ue!$AG$2:$AG$3191,MATCH(aux_pr_ue!$E$3&aux_pr_ue!L47,precos_ue!$A$2:$A$3191,0))=0,\"\",INDEX(precos_ue!$AG$2:$AG$3191,MATCH(aux_pr_ue!$E$3&aux_pr_ue!L47,precos_ue!$A$2:$A$3191,0)))","v":119.77833333333335},{"$f":"+IF(INDEX(precos_ue!$AH$2:$AH$3191,MATCH(aux_pr_ue!$F$3&aux_pr_ue!L47,precos_ue!$A$2:$A$3191,0))=0,\"\",INDEX(precos_ue!$AH$2:$AH$3191,MATCH(aux_pr_ue!$F$3&aux_pr_ue!L47,precos_ue!$A$2:$A$3191,0)))","v":""},"1994/08",119.77833333333335]
[null,null,null,null,null,null,null,null,null,{"$f":"+IF(INDEX(precos_ue!$AG$2:$AG$3191,MATCH(aux_pr_ue!$E$3&aux_pr_ue!L48,precos_ue!$A$2:$A$3191,0))=0,\"\",INDEX(precos_ue!$AG$2:$AG$3191,MATCH(aux_pr_ue!$E$3&aux_pr_ue!L48,precos_ue!$A$2:$A$3191,0)))","v":121.17100000000001},{"$f":"+IF(INDEX(precos_ue!$AH$2:$AH$3191,MATCH(aux_pr_ue!$F$3&aux_pr_ue!L48,precos_ue!$A$2:$A$3191,0))=0,\"\",INDEX(precos_ue!$AH$2:$AH$3191,MATCH(aux_pr_ue!$F$3&aux_pr_ue!L48,precos_ue!$A$2:$A$3191,0)))","v":""},"1994/09",121.17100000000001]
[null,null,null,null,null,null,null,null,null,{"$f":"+IF(INDEX(precos_ue!$AG$2:$AG$3191,MATCH(aux_pr_ue!$E$3&aux_pr_ue!L49,precos_ue!$A$2:$A$3191,0))=0,\"\",INDEX(precos_ue!$AG$2:$AG$3191,MATCH(aux_pr_ue!$E$3&aux_pr_ue!L49,precos_ue!$A$2:$A$3191,0)))","v":""},{"$f":"+IF(INDEX(precos_ue!$AH$2:$AH$3191,MATCH(aux_pr_ue!$F$3&aux_pr_ue!L49,precos_ue!$A$2:$A$3191,0))=0,\"\",INDEX(precos_ue!$AH$2:$AH$3191,MATCH(aux_pr_ue!$F$3&aux_pr_ue!L49,precos_ue!$A$2:$A$3191,0)))","v":""},"1994/10"]
[null,null,null,null,null,null,null,null,null,{"$f":"+IF(INDEX(precos_ue!$AG$2:$AG$3191,MATCH(aux_pr_ue!$E$3&aux_pr_ue!L50,precos_ue!$A$2:$A$3191,0))=0,\"\",INDEX(precos_ue!$AG$2:$AG$3191,MATCH(aux_pr_ue!$E$3&aux_pr_ue!L50,precos_ue!$A$2:$A$3191,0)))","v":""},{"$f":"+IF(INDEX(precos_ue!$AH$2:$AH$3191,MATCH(aux_pr_ue!$F$3&aux_pr_ue!L50,precos_ue!$A$2:$A$3191,0))=0,\"\",INDEX(precos_ue!$AH$2:$AH$3191,MATCH(aux_pr_ue!$F$3&aux_pr_ue!L50,precos_ue!$A$2:$A$3191,0)))","v":""},"1994/11"]
[null,null,null,null,null,null,null,null,null,{"$f":"+IF(INDEX(precos_ue!$AG$2:$AG$3191,MATCH(aux_pr_ue!$E$3&aux_pr_ue!L51,precos_ue!$A$2:$A$3191,0))=0,\"\",INDEX(precos_ue!$AG$2:$AG$3191,MATCH(aux_pr_ue!$E$3&aux_pr_ue!L51,precos_ue!$A$2:$A$3191,0)))","v":""},{"$f":"+IF(INDEX(precos_ue!$AH$2:$AH$3191,MATCH(aux_pr_ue!$F$3&aux_pr_ue!L51,precos_ue!$A$2:$A$3191,0))=0,\"\",INDEX(precos_ue!$AH$2:$AH$3191,MATCH(aux_pr_ue!$F$3&aux_pr_ue!L51,precos_ue!$A$2:$A$3191,0)))","v":""},"1994/12"]
[null,null,null,null,null,null,null,null,null,{"$f":"+IF(INDEX(precos_ue!$AG$2:$AG$3191,MATCH(aux_pr_ue!$E$3&aux_pr_ue!L52,precos_ue!$A$2:$A$3191,0))=0,\"\",INDEX(precos_ue!$AG$2:$AG$3191,MATCH(aux_pr_ue!$E$3&aux_pr_ue!L52,precos_ue!$A$2:$A$3191,0)))","v":""},{"$f":"+IF(INDEX(precos_ue!$AH$2:$AH$3191,MATCH(aux_pr_ue!$F$3&aux_pr_ue!L52,precos_ue!$A$2:$A$3191,0))=0,\"\",INDEX(precos_ue!$AH$2:$AH$3191,MATCH(aux_pr_ue!$F$3&aux_pr_ue!L52,precos_ue!$A$2:$A$3191,0)))","v":124.02820000000001},"1995/01",null,124.02820000000001]
[null,null,null,null,null,null,null,null,null,{"$f":"+IF(INDEX(precos_ue!$AG$2:$AG$3191,MATCH(aux_pr_ue!$E$3&aux_pr_ue!L53,precos_ue!$A$2:$A$3191,0))=0,\"\",INDEX(precos_ue!$AG$2:$AG$3191,MATCH(aux_pr_ue!$E$3&aux_pr_ue!L53,precos_ue!$A$2:$A$3191,0)))","v":""},{"$f":"+IF(INDEX(precos_ue!$AH$2:$AH$3191,MATCH(aux_pr_ue!$F$3&aux_pr_ue!L53,precos_ue!$A$2:$A$3191,0))=0,\"\",INDEX(precos_ue!$AH$2:$AH$3191,MATCH(aux_pr_ue!$F$3&aux_pr_ue!L53,precos_ue!$A$2:$A$3191,0)))","v":142.44460000000001},"1995/02",null,142.44460000000001]
[null,null,null,null,null,null,null,null,null,{"$f":"+IF(INDEX(precos_ue!$AG$2:$AG$3191,MATCH(aux_pr_ue!$E$3&aux_pr_ue!L54,precos_ue!$A$2:$A$3191,0))=0,\"\",INDEX(precos_ue!$AG$2:$AG$3191,MATCH(aux_pr_ue!$E$3&aux_pr_ue!L54,precos_ue!$A$2:$A$3191,0)))","v":""},{"$f":"+IF(INDEX(precos_ue!$AH$2:$AH$3191,MATCH(aux_pr_ue!$F$3&aux_pr_ue!L54,precos_ue!$A$2:$A$3191,0))=0,\"\",INDEX(precos_ue!$AH$2:$AH$3191,MATCH(aux_pr_ue!$F$3&aux_pr_ue!L54,precos_ue!$A$2:$A$3191,0)))","v":150.29246666666666},"1995/03",null,150.29246666666666]
[null,null,null,null,null,null,null,null,null,{"$f":"+IF(INDEX(precos_ue!$AG$2:$AG$3191,MATCH(aux_pr_ue!$E$3&aux_pr_ue!L55,precos_ue!$A$2:$A$3191,0))=0,\"\",INDEX(precos_ue!$AG$2:$AG$3191,MATCH(aux_pr_ue!$E$3&aux_pr_ue!L55,precos_ue!$A$2:$A$3191,0)))","v":""},{"$f":"+IF(INDEX(precos_ue!$AH$2:$AH$3191,MATCH(aux_pr_ue!$F$3&aux_pr_ue!L55,precos_ue!$A$2:$A$3191,0))=0,\"\",INDEX(precos_ue!$AH$2:$AH$3191,MATCH(aux_pr_ue!$F$3&aux_pr_ue!L55,precos_ue!$A$2:$A$3191,0)))","v":151.79383333333334},"1995/04",null,151.79383333333334]
[null,null,null,null,null,null,null,null,null,{"$f":"+IF(INDEX(precos_ue!$AG$2:$AG$3191,MATCH(aux_pr_ue!$E$3&aux_pr_ue!L56,precos_ue!$A$2:$A$3191,0))=0,\"\",INDEX(precos_ue!$AG$2:$AG$3191,MATCH(aux_pr_ue!$E$3&aux_pr_ue!L56,precos_ue!$A$2:$A$3191,0)))","v":""},{"$f":"+IF(INDEX(precos_ue!$AH$2:$AH$3191,MATCH(aux_pr_ue!$F$3&aux_pr_ue!L56,precos_ue!$A$2:$A$3191,0))=0,\"\",INDEX(precos_ue!$AH$2:$AH$3191,MATCH(aux_pr_ue!$F$3&aux_pr_ue!L56,precos_ue!$A$2:$A$3191,0)))","v":152.84170000000003},"1995/05",null,152.84170000000003]
[null,null,null,null,null,null,null,null,null,{"$f":"+IF(INDEX(precos_ue!$AG$2:$AG$3191,MATCH(aux_pr_ue!$E$3&aux_pr_ue!L57,precos_ue!$A$2:$A$3191,0))=0,\"\",INDEX(precos_ue!$AG$2:$AG$3191,MATCH(aux_pr_ue!$E$3&aux_pr_ue!L57,precos_ue!$A$2:$A$3191,0)))","v":149.15360000000001},{"$f":"+IF(INDEX(precos_ue!$AH$2:$AH$3191,MATCH(aux_pr_ue!$F$3&aux_pr_ue!L57,precos_ue!$A$2:$A$3191,0))=0,\"\",INDEX(precos_ue!$AH$2:$AH$3191,MATCH(aux_pr_ue!$F$3&aux_pr_ue!L57,precos_ue!$A$2:$A$3191,0)))","v":152.08436666666668},"1995/06",149.15360000000001,152.08436666666668]
[null,null,null,null,null,null,null,null,null,{"$f":"+IF(INDEX(precos_ue!$AG$2:$AG$3191,MATCH(aux_pr_ue!$E$3&aux_pr_ue!L58,precos_ue!$A$2:$A$3191,0))=0,\"\",INDEX(precos_ue!$AG$2:$AG$3191,MATCH(aux_pr_ue!$E$3&aux_pr_ue!L58,precos_ue!$A$2:$A$3191,0)))","v":152.17953333333335},{"$f":"+IF(INDEX(precos_ue!$AH$2:$AH$3191,MATCH(aux_pr_ue!$F$3&aux_pr_ue!L58,precos_ue!$A$2:$A$3191,0))=0,\"\",INDEX(precos_ue!$AH$2:$AH$3191,MATCH(aux_pr_ue!$F$3&aux_pr_ue!L58,precos_ue!$A$2:$A$3191,0)))","v":152.13413333333335},"1995/07",152.17953333333335,152.13413333333335]
[null,null,null,null,null,null,null,null,null,{"$f":"+IF(INDEX(precos_ue!$AG$2:$AG$3191,MATCH(aux_pr_ue!$E$3&aux_pr_ue!L59,precos_ue!$A$2:$A$3191,0))=0,\"\",INDEX(precos_ue!$AG$2:$AG$3191,MATCH(aux_pr_ue!$E$3&aux_pr_ue!L59,precos_ue!$A$2:$A$3191,0)))","v":152.62200000000001},{"$f":"+IF(INDEX(precos_ue!$AH$2:$AH$3191,MATCH(aux_pr_ue!$F$3&aux_pr_ue!L59,precos_ue!$A$2:$A$3191,0))=0,\"\",INDEX(precos_ue!$AH$2:$AH$3191,MATCH(aux_pr_ue!$F$3&aux_pr_ue!L59,precos_ue!$A$2:$A$3191,0)))","v":131.78880000000001},"1995/08",152.62200000000001,131.78880000000001]
[null,null,null,null,null,null,null,null,null,{"$f":"+IF(INDEX(precos_ue!$AG$2:$AG$3191,MATCH(aux_pr_ue!$E$3&aux_pr_ue!L60,precos_ue!$A$2:$A$3191,0))=0,\"\",INDEX(precos_ue!$AG$2:$AG$3191,MATCH(aux_pr_ue!$E$3&aux_pr_ue!L60,precos_ue!$A$2:$A$3191,0)))","v":""},{"$f":"+IF(INDEX(precos_ue!$AH$2:$AH$3191,MATCH(aux_pr_ue!$F$3&aux_pr_ue!L60,precos_ue!$A$2:$A$3191,0))=0,\"\",INDEX(precos_ue!$AH$2:$AH$3191,MATCH(aux_pr_ue!$F$3&aux_pr_ue!L60,precos_ue!$A$2:$A$3191,0)))","v":141.72703333333334},"1995/09",null,141.72703333333334]
[null,null,null,null,null,null,null,null,null,{"$f":"+IF(INDEX(precos_ue!$AG$2:$AG$3191,MATCH(aux_pr_ue!$E$3&aux_pr_ue!L61,precos_ue!$A$2:$A$3191,0))=0,\"\",INDEX(precos_ue!$AG$2:$AG$3191,MATCH(aux_pr_ue!$E$3&aux_pr_ue!L61,precos_ue!$A$2:$A$3191,0)))","v":""},{"$f":"+IF(INDEX(precos_ue!$AH$2:$AH$3191,MATCH(aux_pr_ue!$F$3&aux_pr_ue!L61,precos_ue!$A$2:$A$3191,0))=0,\"\",INDEX(precos_ue!$AH$2:$AH$3191,MATCH(aux_pr_ue!$F$3&aux_pr_ue!L61,precos_ue!$A$2:$A$3191,0)))","v":146.22123333333334},"1995/10",null,146.22123333333334]
[null,null,null,null,null,null,null,null,null,{"$f":"+IF(INDEX(precos_ue!$AG$2:$AG$3191,MATCH(aux_pr_ue!$E$3&aux_pr_ue!L62,precos_ue!$A$2:$A$3191,0))=0,\"\",INDEX(precos_ue!$AG$2:$AG$3191,MATCH(aux_pr_ue!$E$3&aux_pr_ue!L62,precos_ue!$A$2:$A$3191,0)))","v":""},{"$f":"+IF(INDEX(precos_ue!$AH$2:$AH$3191,MATCH(aux_pr_ue!$F$3&aux_pr_ue!L62,precos_ue!$A$2:$A$3191,0))=0,\"\",INDEX(precos_ue!$AH$2:$AH$3191,MATCH(aux_pr_ue!$F$3&aux_pr_ue!L62,precos_ue!$A$2:$A$3191,0)))","v":148.18726666666666},"1995/11",null,148.18726666666666]
[null,null,null,null,null,null,null,null,null,{"$f":"+IF(INDEX(precos_ue!$AG$2:$AG$3191,MATCH(aux_pr_ue!$E$3&aux_pr_ue!L63,precos_ue!$A$2:$A$3191,0))=0,\"\",INDEX(precos_ue!$AG$2:$AG$3191,MATCH(aux_pr_ue!$E$3&aux_pr_ue!L63,precos_ue!$A$2:$A$3191,0)))","v":""},{"$f":"+IF(INDEX(precos_ue!$AH$2:$AH$3191,MATCH(aux_pr_ue!$F$3&aux_pr_ue!L63,precos_ue!$A$2:$A$3191,0))=0,\"\",INDEX(precos_ue!$AH$2:$AH$3191,MATCH(aux_pr_ue!$F$3&aux_pr_ue!L63,precos_ue!$A$2:$A$3191,0)))","v":151.27183333333335},"1995/12",null,151.27183333333335]
[null,null,null,null,null,null,null,null,null,{"$f":"+IF(INDEX(precos_ue!$AG$2:$AG$3191,MATCH(aux_pr_ue!$E$3&aux_pr_ue!L64,precos_ue!$A$2:$A$3191,0))=0,\"\",INDEX(precos_ue!$AG$2:$AG$3191,MATCH(aux_pr_ue!$E$3&aux_pr_ue!L64,precos_ue!$A$2:$A$3191,0)))","v":""},{"$f":"+IF(INDEX(precos_ue!$AH$2:$AH$3191,MATCH(aux_pr_ue!$F$3&aux_pr_ue!L64,precos_ue!$A$2:$A$3191,0))=0,\"\",INDEX(precos_ue!$AH$2:$AH$3191,MATCH(aux_pr_ue!$F$3&aux_pr_ue!L64,precos_ue!$A$2:$A$3191,0)))","v":155.82005000000001},"1996/01",null,155.82005000000001]
[null,null,null,null,null,null,null,null,null,{"$f":"+IF(INDEX(precos_ue!$AG$2:$AG$3191,MATCH(aux_pr_ue!$E$3&aux_pr_ue!L65,precos_ue!$A$2:$A$3191,0))=0,\"\",INDEX(precos_ue!$AG$2:$AG$3191,MATCH(aux_pr_ue!$E$3&aux_pr_ue!L65,precos_ue!$A$2:$A$3191,0)))","v":""},{"$f":"+IF(INDEX(precos_ue!$AH$2:$AH$3191,MATCH(aux_pr_ue!$F$3&aux_pr_ue!L65,precos_ue!$A$2:$A$3191,0))=0,\"\",INDEX(precos_ue!$AH$2:$AH$3191,MATCH(aux_pr_ue!$F$3&aux_pr_ue!L65,precos_ue!$A$2:$A$3191,0)))","v":154.15995000000001},"1996/02",null,154.15995000000001]
[null,null,null,null,null,null,null,null,null,{"$f":"+IF(INDEX(precos_ue!$AG$2:$AG$3191,MATCH(aux_pr_ue!$E$3&aux_pr_ue!L66,precos_ue!$A$2:$A$3191,0))=0,\"\",INDEX(precos_ue!$AG$2:$AG$3191,MATCH(aux_pr_ue!$E$3&aux_pr_ue!L66,precos_ue!$A$2:$A$3191,0)))","v":""},{"$f":"+IF(INDEX(precos_ue!$AH$2:$AH$3191,MATCH(aux_pr_ue!$F$3&aux_pr_ue!L66,precos_ue!$A$2:$A$3191,0))=0,\"\",INDEX(precos_ue!$AH$2:$AH$3191,MATCH(aux_pr_ue!$F$3&aux_pr_ue!L66,precos_ue!$A$2:$A$3191,0)))","v":153.93290000000002},"1996/03",null,153.93290000000002]
[null,null,null,null,null,null,null,null,null,{"$f":"+IF(INDEX(precos_ue!$AG$2:$AG$3191,MATCH(aux_pr_ue!$E$3&aux_pr_ue!L67,precos_ue!$A$2:$A$3191,0))=0,\"\",INDEX(precos_ue!$AG$2:$AG$3191,MATCH(aux_pr_ue!$E$3&aux_pr_ue!L67,precos_ue!$A$2:$A$3191,0)))","v":""},{"$f":"+IF(INDEX(precos_ue!$AH$2:$AH$3191,MATCH(aux_pr_ue!$F$3&aux_pr_ue!L67,precos_ue!$A$2:$A$3191,0))=0,\"\",INDEX(precos_ue!$AH$2:$AH$3191,MATCH(aux_pr_ue!$F$3&aux_pr_ue!L67,precos_ue!$A$2:$A$3191,0)))","v":153.44935000000001},"1996/04",null,153.44935000000001]
[null,null,null,null,null,null,null,null,null,{"$f":"+IF(INDEX(precos_ue!$AG$2:$AG$3191,MATCH(aux_pr_ue!$E$3&aux_pr_ue!L68,precos_ue!$A$2:$A$3191,0))=0,\"\",INDEX(precos_ue!$AG$2:$AG$3191,MATCH(aux_pr_ue!$E$3&aux_pr_ue!L68,precos_ue!$A$2:$A$3191,0)))","v":174.04554999999999},{"$f":"+IF(INDEX(precos_ue!$AH$2:$AH$3191,MATCH(aux_pr_ue!$F$3&aux_pr_ue!L68,precos_ue!$A$2:$A$3191,0))=0,\"\",INDEX(precos_ue!$AH$2:$AH$3191,MATCH(aux_pr_ue!$F$3&aux_pr_ue!L68,precos_ue!$A$2:$A$3191,0)))","v":156.36700000000002},"1996/05",174.04554999999999,156.36700000000002]
[null,null,null,null,null,null,null,null,null,{"$f":"+IF(INDEX(precos_ue!$AG$2:$AG$3191,MATCH(aux_pr_ue!$E$3&aux_pr_ue!L69,precos_ue!$A$2:$A$3191,0))=0,\"\",INDEX(precos_ue!$AG$2:$AG$3191,MATCH(aux_pr_ue!$E$3&aux_pr_ue!L69,precos_ue!$A$2:$A$3191,0)))","v":177.84900000000002},{"$f":"+IF(INDEX(precos_ue!$AH$2:$AH$3191,MATCH(aux_pr_ue!$F$3&aux_pr_ue!L69,precos_ue!$A$2:$A$3191,0))=0,\"\",INDEX(precos_ue!$AH$2:$AH$3191,MATCH(aux_pr_ue!$F$3&aux_pr_ue!L69,precos_ue!$A$2:$A$3191,0)))","v":155.20310000000001},"1996/06",177.84900000000002,155.20310000000001]
[null,null,null,null,null,null,null,null,null,{"$f":"+IF(INDEX(precos_ue!$AG$2:$AG$3191,MATCH(aux_pr_ue!$E$3&aux_pr_ue!L70,precos_ue!$A$2:$A$3191,0))=0,\"\",INDEX(precos_ue!$AG$2:$AG$3191,MATCH(aux_pr_ue!$E$3&aux_pr_ue!L70,precos_ue!$A$2:$A$3191,0)))","v":153.4126},{"$f":"+IF(INDEX(precos_ue!$AH$2:$AH$3191,MATCH(aux_pr_ue!$F$3&aux_pr_ue!L70,precos_ue!$A$2:$A$3191,0))=0,\"\",INDEX(precos_ue!$AH$2:$AH$3191,MATCH(aux_pr_ue!$F$3&aux_pr_ue!L70,precos_ue!$A$2:$A$3191,0)))","v":155.3614},"1996/07",153.4126,155.3614]
[null,null,null,null,null,null,null,null,null,{"$f":"+IF(INDEX(precos_ue!$AG$2:$AG$3191,MATCH(aux_pr_ue!$E$3&aux_pr_ue!L71,precos_ue!$A$2:$A$3191,0))=0,\"\",INDEX(precos_ue!$AG$2:$AG$3191,MATCH(aux_pr_ue!$E$3&aux_pr_ue!L71,precos_ue!$A$2:$A$3191,0)))","v":147.99733333333333},{"$f":"+IF(INDEX(precos_ue!$AH$2:$AH$3191,MATCH(aux_pr_ue!$F$3&aux_pr_ue!L71,precos_ue!$A$2:$A$3191,0))=0,\"\",INDEX(precos_ue!$AH$2:$AH$3191,MATCH(aux_pr_ue!$F$3&aux_pr_ue!L71,precos_ue!$A$2:$A$3191,0)))","v":152.61799999999999},"1996/08",147.99733333333333,152.61799999999999]
[null,null,null,null,null,null,null,null,null,{"$f":"+IF(INDEX(precos_ue!$AG$2:$AG$3191,MATCH(aux_pr_ue!$E$3&aux_pr_ue!L72,precos_ue!$A$2:$A$3191,0))=0,\"\",INDEX(precos_ue!$AG$2:$AG$3191,MATCH(aux_pr_ue!$E$3&aux_pr_ue!L72,precos_ue!$A$2:$A$3191,0)))","v":""},{"$f":"+IF(INDEX(precos_ue!$AH$2:$AH$3191,MATCH(aux_pr_ue!$F$3&aux_pr_ue!L72,precos_ue!$A$2:$A$3191,0))=0,\"\",INDEX(precos_ue!$AH$2:$AH$3191,MATCH(aux_pr_ue!$F$3&aux_pr_ue!L72,precos_ue!$A$2:$A$3191,0)))","v":153.09480000000002},"1996/09",null,153.09480000000002]
[null,null,null,null,null,null,null,null,null,{"$f":"+IF(INDEX(precos_ue!$AG$2:$AG$3191,MATCH(aux_pr_ue!$E$3&aux_pr_ue!L73,precos_ue!$A$2:$A$3191,0))=0,\"\",INDEX(precos_ue!$AG$2:$AG$3191,MATCH(aux_pr_ue!$E$3&aux_pr_ue!L73,precos_ue!$A$2:$A$3191,0)))","v":151.571},{"$f":"+IF(INDEX(precos_ue!$AH$2:$AH$3191,MATCH(aux_pr_ue!$F$3&aux_pr_ue!L73,precos_ue!$A$2:$A$3191,0))=0,\"\",INDEX(precos_ue!$AH$2:$AH$3191,MATCH(aux_pr_ue!$F$3&aux_pr_ue!L73,precos_ue!$A$2:$A$3191,0)))","v":152.90120000000002},"1996/10",151.571,152.90120000000002]
[null,null,null,null,null,null,null,null,null,{"$f":"+IF(INDEX(precos_ue!$AG$2:$AG$3191,MATCH(aux_pr_ue!$E$3&aux_pr_ue!L74,precos_ue!$A$2:$A$3191,0))=0,\"\",INDEX(precos_ue!$AG$2:$AG$3191,MATCH(aux_pr_ue!$E$3&aux_pr_ue!L74,precos_ue!$A$2:$A$3191,0)))","v":147.89190000000002},{"$f":"+IF(INDEX(precos_ue!$AH$2:$AH$3191,MATCH(aux_pr_ue!$F$3&aux_pr_ue!L74,precos_ue!$A$2:$A$3191,0))=0,\"\",INDEX(precos_ue!$AH$2:$AH$3191,MATCH(aux_pr_ue!$F$3&aux_pr_ue!L74,precos_ue!$A$2:$A$3191,0)))","v":152.22830000000002},"1996/11",147.89190000000002,152.22830000000002]
[null,null,null,null,null,null,null,null,null,{"$f":"+IF(INDEX(precos_ue!$AG$2:$AG$3191,MATCH(aux_pr_ue!$E$3&aux_pr_ue!L75,precos_ue!$A$2:$A$3191,0))=0,\"\",INDEX(precos_ue!$AG$2:$AG$3191,MATCH(aux_pr_ue!$E$3&aux_pr_ue!L75,precos_ue!$A$2:$A$3191,0)))","v":""},{"$f":"+IF(INDEX(precos_ue!$AH$2:$AH$3191,MATCH(aux_pr_ue!$F$3&aux_pr_ue!L75,precos_ue!$A$2:$A$3191,0))=0,\"\",INDEX(precos_ue!$AH$2:$AH$3191,MATCH(aux_pr_ue!$F$3&aux_pr_ue!L75,precos_ue!$A$2:$A$3191,0)))","v":152.21100000000001},"1996/12",null,152.21100000000001]
[null,null,null,null,null,null,null,null,null,{"$f":"+IF(INDEX(precos_ue!$AG$2:$AG$3191,MATCH(aux_pr_ue!$E$3&aux_pr_ue!L76,precos_ue!$A$2:$A$3191,0))=0,\"\",INDEX(precos_ue!$AG$2:$AG$3191,MATCH(aux_pr_ue!$E$3&aux_pr_ue!L76,precos_ue!$A$2:$A$3191,0)))","v":150.09950000000001},{"$f":"+IF(INDEX(precos_ue!$AH$2:$AH$3191,MATCH(aux_pr_ue!$F$3&aux_pr_ue!L76,precos_ue!$A$2:$A$3191,0))=0,\"\",INDEX(precos_ue!$AH$2:$AH$3191,MATCH(aux_pr_ue!$F$3&aux_pr_ue!L76,precos_ue!$A$2:$A$3191,0)))","v":152.44660000000002},"1997/01",150.09950000000001,152.44660000000002]
[null,null,null,null,null,null,null,null,null,{"$f":"+IF(INDEX(precos_ue!$AG$2:$AG$3191,MATCH(aux_pr_ue!$E$3&aux_pr_ue!L77,precos_ue!$A$2:$A$3191,0))=0,\"\",INDEX(precos_ue!$AG$2:$AG$3191,MATCH(aux_pr_ue!$E$3&aux_pr_ue!L77,precos_ue!$A$2:$A$3191,0)))","v":150.85624999999999},{"$f":"+IF(INDEX(precos_ue!$AH$2:$AH$3191,MATCH(aux_pr_ue!$F$3&aux_pr_ue!L77,precos_ue!$A$2:$A$3191,0))=0,\"\",INDEX(precos_ue!$AH$2:$AH$3191,MATCH(aux_pr_ue!$F$3&aux_pr_ue!L77,precos_ue!$A$2:$A$3191,0)))","v":393.90365000000003},"1997/02",150.85624999999999,393.90365000000003]
[null,null,null,null,null,null,null,null,null,{"$f":"+IF(INDEX(precos_ue!$AG$2:$AG$3191,MATCH(aux_pr_ue!$E$3&aux_pr_ue!L78,precos_ue!$A$2:$A$3191,0))=0,\"\",INDEX(precos_ue!$AG$2:$AG$3191,MATCH(aux_pr_ue!$E$3&aux_pr_ue!L78,precos_ue!$A$2:$A$3191,0)))","v":152.62200000000001},{"$f":"+IF(INDEX(precos_ue!$AH$2:$AH$3191,MATCH(aux_pr_ue!$F$3&aux_pr_ue!L78,precos_ue!$A$2:$A$3191,0))=0,\"\",INDEX(precos_ue!$AH$2:$AH$3191,MATCH(aux_pr_ue!$F$3&aux_pr_ue!L78,precos_ue!$A$2:$A$3191,0)))","v":396.83625000000001},"1997/03",152.62200000000001,396.83625000000001]
[null,null,null,null,null,null,null,null,null,{"$f":"+IF(INDEX(precos_ue!$AG$2:$AG$3191,MATCH(aux_pr_ue!$E$3&aux_pr_ue!L79,precos_ue!$A$2:$A$3191,0))=0,\"\",INDEX(precos_ue!$AG$2:$AG$3191,MATCH(aux_pr_ue!$E$3&aux_pr_ue!L79,precos_ue!$A$2:$A$3191,0)))","v":155.14449999999999},{"$f":"+IF(INDEX(precos_ue!$AH$2:$AH$3191,MATCH(aux_pr_ue!$F$3&aux_pr_ue!L79,precos_ue!$A$2:$A$3191,0))=0,\"\",INDEX(precos_ue!$AH$2:$AH$3191,MATCH(aux_pr_ue!$F$3&aux_pr_ue!L79,precos_ue!$A$2:$A$3191,0)))","v":148.39350000000002},"1997/04",155.14449999999999,148.39350000000002]
[null,null,null,null,null,null,null,null,null,{"$f":"+IF(INDEX(precos_ue!$AG$2:$AG$3191,MATCH(aux_pr_ue!$E$3&aux_pr_ue!L80,precos_ue!$A$2:$A$3191,0))=0,\"\",INDEX(precos_ue!$AG$2:$AG$3191,MATCH(aux_pr_ue!$E$3&aux_pr_ue!L80,precos_ue!$A$2:$A$3191,0)))","v":152.90174999999999},{"$f":"+IF(INDEX(precos_ue!$AH$2:$AH$3191,MATCH(aux_pr_ue!$F$3&aux_pr_ue!L80,precos_ue!$A$2:$A$3191,0))=0,\"\",INDEX(precos_ue!$AH$2:$AH$3191,MATCH(aux_pr_ue!$F$3&aux_pr_ue!L80,precos_ue!$A$2:$A$3191,0)))","v":148.471},"1997/05",152.90174999999999,148.471]
[null,null,null,null,null,null,null,null,null,{"$f":"+IF(INDEX(precos_ue!$AG$2:$AG$3191,MATCH(aux_pr_ue!$E$3&aux_pr_ue!L81,precos_ue!$A$2:$A$3191,0))=0,\"\",INDEX(precos_ue!$AG$2:$AG$3191,MATCH(aux_pr_ue!$E$3&aux_pr_ue!L81,precos_ue!$A$2:$A$3191,0)))","v":140.74426666666668},{"$f":"+IF(INDEX(precos_ue!$AH$2:$AH$3191,MATCH(aux_pr_ue!$F$3&aux_pr_ue!L81,precos_ue!$A$2:$A$3191,0))=0,\"\",INDEX(precos_ue!$AH$2:$AH$3191,MATCH(aux_pr_ue!$F$3&aux_pr_ue!L81,precos_ue!$A$2:$A$3191,0)))","v":148.39840000000001},"1997/06",140.74426666666668,148.39840000000001]
[null,null,null,null,null,null,null,null,null,{"$f":"+IF(INDEX(precos_ue!$AG$2:$AG$3191,MATCH(aux_pr_ue!$E$3&aux_pr_ue!L82,precos_ue!$A$2:$A$3191,0))=0,\"\",INDEX(precos_ue!$AG$2:$AG$3191,MATCH(aux_pr_ue!$E$3&aux_pr_ue!L82,precos_ue!$A$2:$A$3191,0)))","v":134.87780000000001},{"$f":"+IF(INDEX(precos_ue!$AH$2:$AH$3191,MATCH(aux_pr_ue!$F$3&aux_pr_ue!L82,precos_ue!$A$2:$A$3191,0))=0,\"\",INDEX(precos_ue!$AH$2:$AH$3191,MATCH(aux_pr_ue!$F$3&aux_pr_ue!L82,precos_ue!$A$2:$A$3191,0)))","v":148.471},"1997/07",134.87780000000001,148.471]
[null,null,null,null,null,null,null,null,null,{"$f":"+IF(INDEX(precos_ue!$AG$2:$AG$3191,MATCH(aux_pr_ue!$E$3&aux_pr_ue!L83,precos_ue!$A$2:$A$3191,0))=0,\"\",INDEX(precos_ue!$AG$2:$AG$3191,MATCH(aux_pr_ue!$E$3&aux_pr_ue!L83,precos_ue!$A$2:$A$3191,0)))","v":133.96866666666668},{"$f":"+IF(INDEX(precos_ue!$AH$2:$AH$3191,MATCH(aux_pr_ue!$F$3&aux_pr_ue!L83,precos_ue!$A$2:$A$3191,0))=0,\"\",INDEX(precos_ue!$AH$2:$AH$3191,MATCH(aux_pr_ue!$F$3&aux_pr_ue!L83,precos_ue!$A$2:$A$3191,0)))","v":145.982},"1997/08",133.96866666666668,145.982]
[null,null,null,null,null,null,null,null,null,{"$f":"+IF(INDEX(precos_ue!$AG$2:$AG$3191,MATCH(aux_pr_ue!$E$3&aux_pr_ue!L84,precos_ue!$A$2:$A$3191,0))=0,\"\",INDEX(precos_ue!$AG$2:$AG$3191,MATCH(aux_pr_ue!$E$3&aux_pr_ue!L84,precos_ue!$A$2:$A$3191,0)))","v":134.84796666666668},{"$f":"+IF(INDEX(precos_ue!$AH$2:$AH$3191,MATCH(aux_pr_ue!$F$3&aux_pr_ue!L84,precos_ue!$A$2:$A$3191,0))=0,\"\",INDEX(precos_ue!$AH$2:$AH$3191,MATCH(aux_pr_ue!$F$3&aux_pr_ue!L84,precos_ue!$A$2:$A$3191,0)))","v":145.63849999999999},"1997/09",134.84796666666668,145.63849999999999]
[null,null,null,null,null,null,null,null,null,{"$f":"+IF(INDEX(precos_ue!$AG$2:$AG$3191,MATCH(aux_pr_ue!$E$3&aux_pr_ue!L85,precos_ue!$A$2:$A$3191,0))=0,\"\",INDEX(precos_ue!$AG$2:$AG$3191,MATCH(aux_pr_ue!$E$3&aux_pr_ue!L85,precos_ue!$A$2:$A$3191,0)))","v":138.52800000000002},{"$f":"+IF(INDEX(precos_ue!$AH$2:$AH$3191,MATCH(aux_pr_ue!$F$3&aux_pr_ue!L85,precos_ue!$A$2:$A$3191,0))=0,\"\",INDEX(precos_ue!$AH$2:$AH$3191,MATCH(aux_pr_ue!$F$3&aux_pr_ue!L85,precos_ue!$A$2:$A$3191,0)))","v":145.46630000000002},"1997/10",138.52800000000002,145.46630000000002]
[null,null,null,null,null,null,null,null,null,{"$f":"+IF(INDEX(precos_ue!$AG$2:$AG$3191,MATCH(aux_pr_ue!$E$3&aux_pr_ue!L86,precos_ue!$A$2:$A$3191,0))=0,\"\",INDEX(precos_ue!$AG$2:$AG$3191,MATCH(aux_pr_ue!$E$3&aux_pr_ue!L86,precos_ue!$A$2:$A$3191,0)))","v":138.52800000000002},{"$f":"+IF(INDEX(precos_ue!$AH$2:$AH$3191,MATCH(aux_pr_ue!$F$3&aux_pr_ue!L86,precos_ue!$A$2:$A$3191,0))=0,\"\",INDEX(precos_ue!$AH$2:$AH$3191,MATCH(aux_pr_ue!$F$3&aux_pr_ue!L86,precos_ue!$A$2:$A$3191,0)))","v":145.48475000000002},"1997/11",138.52800000000002,145.48475000000002]
[null,null,null,null,null,null,null,null,null,{"$f":"+IF(INDEX(precos_ue!$AG$2:$AG$3191,MATCH(aux_pr_ue!$E$3&aux_pr_ue!L87,precos_ue!$A$2:$A$3191,0))=0,\"\",INDEX(precos_ue!$AG$2:$AG$3191,MATCH(aux_pr_ue!$E$3&aux_pr_ue!L87,precos_ue!$A$2:$A$3191,0)))","v":140.50445000000002},{"$f":"+IF(INDEX(precos_ue!$AH$2:$AH$3191,MATCH(aux_pr_ue!$F$3&aux_pr_ue!L87,precos_ue!$A$2:$A$3191,0))=0,\"\",INDEX(precos_ue!$AH$2:$AH$3191,MATCH(aux_pr_ue!$F$3&aux_pr_ue!L87,precos_ue!$A$2:$A$3191,0)))","v":145.57375000000002},"1997/12",140.50445000000002,145.57375000000002]
[null,null,null,null,null,null,null,null,null,{"$f":"+IF(INDEX(precos_ue!$AG$2:$AG$3191,MATCH(aux_pr_ue!$E$3&aux_pr_ue!L88,precos_ue!$A$2:$A$3191,0))=0,\"\",INDEX(precos_ue!$AG$2:$AG$3191,MATCH(aux_pr_ue!$E$3&aux_pr_ue!L88,precos_ue!$A$2:$A$3191,0)))","v":139.73595},{"$f":"+IF(INDEX(precos_ue!$AH$2:$AH$3191,MATCH(aux_pr_ue!$F$3&aux_pr_ue!L88,precos_ue!$A$2:$A$3191,0))=0,\"\",INDEX(precos_ue!$AH$2:$AH$3191,MATCH(aux_pr_ue!$F$3&aux_pr_ue!L88,precos_ue!$A$2:$A$3191,0)))","v":145.982},"1998/01",139.73595,145.982]
[null,null,null,null,null,null,null,null,null,{"$f":"+IF(INDEX(precos_ue!$AG$2:$AG$3191,MATCH(aux_pr_ue!$E$3&aux_pr_ue!L89,precos_ue!$A$2:$A$3191,0))=0,\"\",INDEX(precos_ue!$AG$2:$AG$3191,MATCH(aux_pr_ue!$E$3&aux_pr_ue!L89,precos_ue!$A$2:$A$3191,0)))","v":142.03165000000001},{"$f":"+IF(INDEX(precos_ue!$AH$2:$AH$3191,MATCH(aux_pr_ue!$F$3&aux_pr_ue!L89,precos_ue!$A$2:$A$3191,0))=0,\"\",INDEX(precos_ue!$AH$2:$AH$3191,MATCH(aux_pr_ue!$F$3&aux_pr_ue!L89,precos_ue!$A$2:$A$3191,0)))","v":145.982},"1998/02",142.03165000000001,145.982]
[null,null,null,null,null,null,null,null,null,{"$f":"+IF(INDEX(precos_ue!$AG$2:$AG$3191,MATCH(aux_pr_ue!$E$3&aux_pr_ue!L90,precos_ue!$A$2:$A$3191,0))=0,\"\",INDEX(precos_ue!$AG$2:$AG$3191,MATCH(aux_pr_ue!$E$3&aux_pr_ue!L90,precos_ue!$A$2:$A$3191,0)))","v":141.66329999999999},{"$f":"+IF(INDEX(precos_ue!$AH$2:$AH$3191,MATCH(aux_pr_ue!$F$3&aux_pr_ue!L90,precos_ue!$A$2:$A$3191,0))=0,\"\",INDEX(precos_ue!$AH$2:$AH$3191,MATCH(aux_pr_ue!$F$3&aux_pr_ue!L90,precos_ue!$A$2:$A$3191,0)))","v":145.66395},"1998/03",141.66329999999999,145.66395]
[null,null,null,null,null,null,null,null,null,{"$f":"+IF(INDEX(precos_ue!$AG$2:$AG$3191,MATCH(aux_pr_ue!$E$3&aux_pr_ue!L91,precos_ue!$A$2:$A$3191,0))=0,\"\",INDEX(precos_ue!$AG$2:$AG$3191,MATCH(aux_pr_ue!$E$3&aux_pr_ue!L91,precos_ue!$A$2:$A$3191,0)))","v":141.70699999999999},{"$f":"+IF(INDEX(precos_ue!$AH$2:$AH$3191,MATCH(aux_pr_ue!$F$3&aux_pr_ue!L91,precos_ue!$A$2:$A$3191,0))=0,\"\",INDEX(precos_ue!$AH$2:$AH$3191,MATCH(aux_pr_ue!$F$3&aux_pr_ue!L91,precos_ue!$A$2:$A$3191,0)))","v":145.93790000000001},"1998/04",141.70699999999999,145.93790000000001]
[null,null,null,null,null,null,null,null,null,{"$f":"+IF(INDEX(precos_ue!$AG$2:$AG$3191,MATCH(aux_pr_ue!$E$3&aux_pr_ue!L92,precos_ue!$A$2:$A$3191,0))=0,\"\",INDEX(precos_ue!$AG$2:$AG$3191,MATCH(aux_pr_ue!$E$3&aux_pr_ue!L92,precos_ue!$A$2:$A$3191,0)))","v":""},{"$f":"+IF(INDEX(precos_ue!$AH$2:$AH$3191,MATCH(aux_pr_ue!$F$3&aux_pr_ue!L92,precos_ue!$A$2:$A$3191,0))=0,\"\",INDEX(precos_ue!$AH$2:$AH$3191,MATCH(aux_pr_ue!$F$3&aux_pr_ue!L92,precos_ue!$A$2:$A$3191,0)))","v":145.982},"1998/05",null,145.982]
[null,null,null,null,null,null,null,null,null,{"$f":"+IF(INDEX(precos_ue!$AG$2:$AG$3191,MATCH(aux_pr_ue!$E$3&aux_pr_ue!L93,precos_ue!$A$2:$A$3191,0))=0,\"\",INDEX(precos_ue!$AG$2:$AG$3191,MATCH(aux_pr_ue!$E$3&aux_pr_ue!L93,precos_ue!$A$2:$A$3191,0)))","v":""},{"$f":"+IF(INDEX(precos_ue!$AH$2:$AH$3191,MATCH(aux_pr_ue!$F$3&aux_pr_ue!L93,precos_ue!$A$2:$A$3191,0))=0,\"\",INDEX(precos_ue!$AH$2:$AH$3191,MATCH(aux_pr_ue!$F$3&aux_pr_ue!L93,precos_ue!$A$2:$A$3191,0)))","v":145.982},"1998/06",null,145.982]
[null,null,null,null,null,null,null,null,null,{"$f":"+IF(INDEX(precos_ue!$AG$2:$AG$3191,MATCH(aux_pr_ue!$E$3&aux_pr_ue!L94,precos_ue!$A$2:$A$3191,0))=0,\"\",INDEX(precos_ue!$AG$2:$AG$3191,MATCH(aux_pr_ue!$E$3&aux_pr_ue!L94,precos_ue!$A$2:$A$3191,0)))","v":123.042},{"$f":"+IF(INDEX(precos_ue!$AH$2:$AH$3191,MATCH(aux_pr_ue!$F$3&aux_pr_ue!L94,precos_ue!$A$2:$A$3191,0))=0,\"\",INDEX(precos_ue!$AH$2:$AH$3191,MATCH(aux_pr_ue!$F$3&aux_pr_ue!L94,precos_ue!$A$2:$A$3191,0)))","v":""},"1998/07",123.042]
[null,null,null,null,null,null,null,null,null,{"$f":"+IF(INDEX(precos_ue!$AG$2:$AG$3191,MATCH(aux_pr_ue!$E$3&aux_pr_ue!L95,precos_ue!$A$2:$A$3191,0))=0,\"\",INDEX(precos_ue!$AG$2:$AG$3191,MATCH(aux_pr_ue!$E$3&aux_pr_ue!L95,precos_ue!$A$2:$A$3191,0)))","v":127.80430000000001},{"$f":"+IF(INDEX(precos_ue!$AH$2:$AH$3191,MATCH(aux_pr_ue!$F$3&aux_pr_ue!L95,precos_ue!$A$2:$A$3191,0))=0,\"\",INDEX(precos_ue!$AH$2:$AH$3191,MATCH(aux_pr_ue!$F$3&aux_pr_ue!L95,precos_ue!$A$2:$A$3191,0)))","v":142.66500000000002},"1998/08",127.80430000000001,142.66500000000002]
[null,null,null,null,null,null,null,null,null,{"$f":"+IF(INDEX(precos_ue!$AG$2:$AG$3191,MATCH(aux_pr_ue!$E$3&aux_pr_ue!L96,precos_ue!$A$2:$A$3191,0))=0,\"\",INDEX(precos_ue!$AG$2:$AG$3191,MATCH(aux_pr_ue!$E$3&aux_pr_ue!L96,precos_ue!$A$2:$A$3191,0)))","v":125.50266666666668},{"$f":"+IF(INDEX(precos_ue!$AH$2:$AH$3191,MATCH(aux_pr_ue!$F$3&aux_pr_ue!L96,precos_ue!$A$2:$A$3191,0))=0,\"\",INDEX(precos_ue!$AH$2:$AH$3191,MATCH(aux_pr_ue!$F$3&aux_pr_ue!L96,precos_ue!$A$2:$A$3191,0)))","v":142.40520000000001},"1998/09",125.50266666666668,142.40520000000001]
[null,null,null,null,null,null,null,null,null,{"$f":"+IF(INDEX(precos_ue!$AG$2:$AG$3191,MATCH(aux_pr_ue!$E$3&aux_pr_ue!L97,precos_ue!$A$2:$A$3191,0))=0,\"\",INDEX(precos_ue!$AG$2:$AG$3191,MATCH(aux_pr_ue!$E$3&aux_pr_ue!L97,precos_ue!$A$2:$A$3191,0)))","v":125.3837},{"$f":"+IF(INDEX(precos_ue!$AH$2:$AH$3191,MATCH(aux_pr_ue!$F$3&aux_pr_ue!L97,precos_ue!$A$2:$A$3191,0))=0,\"\",INDEX(precos_ue!$AH$2:$AH$3191,MATCH(aux_pr_ue!$F$3&aux_pr_ue!L97,precos_ue!$A$2:$A$3191,0)))","v":142.333},"1998/10",125.3837,142.333]
[null,null,null,null,null,null,null,null,null,{"$f":"+IF(INDEX(precos_ue!$AG$2:$AG$3191,MATCH(aux_pr_ue!$E$3&aux_pr_ue!L98,precos_ue!$A$2:$A$3191,0))=0,\"\",INDEX(precos_ue!$AG$2:$AG$3191,MATCH(aux_pr_ue!$E$3&aux_pr_ue!L98,precos_ue!$A$2:$A$3191,0)))","v":126.89699999999999},{"$f":"+IF(INDEX(precos_ue!$AH$2:$AH$3191,MATCH(aux_pr_ue!$F$3&aux_pr_ue!L98,precos_ue!$A$2:$A$3191,0))=0,\"\",INDEX(precos_ue!$AH$2:$AH$3191,MATCH(aux_pr_ue!$F$3&aux_pr_ue!L98,precos_ue!$A$2:$A$3191,0)))","v":142.47130000000001},"1998/11",126.89699999999999,142.47130000000001]
[null,null,null,null,null,null,null,null,null,{"$f":"+IF(INDEX(precos_ue!$AG$2:$AG$3191,MATCH(aux_pr_ue!$E$3&aux_pr_ue!L99,precos_ue!$A$2:$A$3191,0))=0,\"\",INDEX(precos_ue!$AG$2:$AG$3191,MATCH(aux_pr_ue!$E$3&aux_pr_ue!L99,precos_ue!$A$2:$A$3191,0)))","v":129.21195},{"$f":"+IF(INDEX(precos_ue!$AH$2:$AH$3191,MATCH(aux_pr_ue!$F$3&aux_pr_ue!L99,precos_ue!$A$2:$A$3191,0))=0,\"\",INDEX(precos_ue!$AH$2:$AH$3191,MATCH(aux_pr_ue!$F$3&aux_pr_ue!L99,precos_ue!$A$2:$A$3191,0)))","v":142.6859},"1998/12",129.21195,142.6859]
[null,null,null,null,null,null,null,null,null,{"$f":"+IF(INDEX(precos_ue!$AG$2:$AG$3191,MATCH(aux_pr_ue!$E$3&aux_pr_ue!L100,precos_ue!$A$2:$A$3191,0))=0,\"\",INDEX(precos_ue!$AG$2:$AG$3191,MATCH(aux_pr_ue!$E$3&aux_pr_ue!L100,precos_ue!$A$2:$A$3191,0)))","v":130.6934},{"$f":"+IF(INDEX(precos_ue!$AH$2:$AH$3191,MATCH(aux_pr_ue!$F$3&aux_pr_ue!L100,precos_ue!$A$2:$A$3191,0))=0,\"\",INDEX(precos_ue!$AH$2:$AH$3191,MATCH(aux_pr_ue!$F$3&aux_pr_ue!L100,precos_ue!$A$2:$A$3191,0)))","v":144.24890000000002},"1999/01",130.6934,144.24890000000002]
[null,null,null,null,null,null,null,null,null,{"$f":"+IF(INDEX(precos_ue!$AG$2:$AG$3191,MATCH(aux_pr_ue!$E$3&aux_pr_ue!L101,precos_ue!$A$2:$A$3191,0))=0,\"\",INDEX(precos_ue!$AG$2:$AG$3191,MATCH(aux_pr_ue!$E$3&aux_pr_ue!L101,precos_ue!$A$2:$A$3191,0)))","v":131.40510000000003},{"$f":"+IF(INDEX(precos_ue!$AH$2:$AH$3191,MATCH(aux_pr_ue!$F$3&aux_pr_ue!L101,precos_ue!$A$2:$A$3191,0))=0,\"\",INDEX(precos_ue!$AH$2:$AH$3191,MATCH(aux_pr_ue!$F$3&aux_pr_ue!L101,precos_ue!$A$2:$A$3191,0)))","v":144.30500000000001},"1999/02",131.40510000000003,144.30500000000001]
[null,null,null,null,null,null,null,null,null,{"$f":"+IF(INDEX(precos_ue!$AG$2:$AG$3191,MATCH(aux_pr_ue!$E$3&aux_pr_ue!L102,precos_ue!$A$2:$A$3191,0))=0,\"\",INDEX(precos_ue!$AG$2:$AG$3191,MATCH(aux_pr_ue!$E$3&aux_pr_ue!L102,precos_ue!$A$2:$A$3191,0)))","v":130.93400000000003},{"$f":"+IF(INDEX(precos_ue!$AH$2:$AH$3191,MATCH(aux_pr_ue!$F$3&aux_pr_ue!L102,precos_ue!$A$2:$A$3191,0))=0,\"\",INDEX(precos_ue!$AH$2:$AH$3191,MATCH(aux_pr_ue!$F$3&aux_pr_ue!L102,precos_ue!$A$2:$A$3191,0)))","v":144.30500000000001},"1999/03",130.93400000000003,144.30500000000001]
[null,null,null,null,null,null,null,null,null,{"$f":"+IF(INDEX(precos_ue!$AG$2:$AG$3191,MATCH(aux_pr_ue!$E$3&aux_pr_ue!L103,precos_ue!$A$2:$A$3191,0))=0,\"\",INDEX(precos_ue!$AG$2:$AG$3191,MATCH(aux_pr_ue!$E$3&aux_pr_ue!L103,precos_ue!$A$2:$A$3191,0)))","v":130.93400000000003},{"$f":"+IF(INDEX(precos_ue!$AH$2:$AH$3191,MATCH(aux_pr_ue!$F$3&aux_pr_ue!L103,precos_ue!$A$2:$A$3191,0))=0,\"\",INDEX(precos_ue!$AH$2:$AH$3191,MATCH(aux_pr_ue!$F$3&aux_pr_ue!L103,precos_ue!$A$2:$A$3191,0)))","v":144.30500000000001},"1999/04",130.93400000000003,144.30500000000001]
[null,null,null,null,null,null,null,null,null,{"$f":"+IF(INDEX(precos_ue!$AG$2:$AG$3191,MATCH(aux_pr_ue!$E$3&aux_pr_ue!L104,precos_ue!$A$2:$A$3191,0))=0,\"\",INDEX(precos_ue!$AG$2:$AG$3191,MATCH(aux_pr_ue!$E$3&aux_pr_ue!L104,precos_ue!$A$2:$A$3191,0)))","v":132.8648},{"$f":"+IF(INDEX(precos_ue!$AH$2:$AH$3191,MATCH(aux_pr_ue!$F$3&aux_pr_ue!L104,precos_ue!$A$2:$A$3191,0))=0,\"\",INDEX(precos_ue!$AH$2:$AH$3191,MATCH(aux_pr_ue!$F$3&aux_pr_ue!L104,precos_ue!$A$2:$A$3191,0)))","v":144.642},"1999/05",132.8648,144.642]
[null,null,null,null,null,null,null,null,null,{"$f":"+IF(INDEX(precos_ue!$AG$2:$AG$3191,MATCH(aux_pr_ue!$E$3&aux_pr_ue!L105,precos_ue!$A$2:$A$3191,0))=0,\"\",INDEX(precos_ue!$AG$2:$AG$3191,MATCH(aux_pr_ue!$E$3&aux_pr_ue!L105,precos_ue!$A$2:$A$3191,0)))","v":135.92200000000003},{"$f":"+IF(INDEX(precos_ue!$AH$2:$AH$3191,MATCH(aux_pr_ue!$F$3&aux_pr_ue!L105,precos_ue!$A$2:$A$3191,0))=0,\"\",INDEX(precos_ue!$AH$2:$AH$3191,MATCH(aux_pr_ue!$F$3&aux_pr_ue!L105,precos_ue!$A$2:$A$3191,0)))","v":144.642},"1999/06",135.92200000000003,144.642]
[null,null,null,null,null,null,null,null,null,{"$f":"+IF(INDEX(precos_ue!$AG$2:$AG$3191,MATCH(aux_pr_ue!$E$3&aux_pr_ue!L106,precos_ue!$A$2:$A$3191,0))=0,\"\",INDEX(precos_ue!$AG$2:$AG$3191,MATCH(aux_pr_ue!$E$3&aux_pr_ue!L106,precos_ue!$A$2:$A$3191,0)))","v":""},{"$f":"+IF(INDEX(precos_ue!$AH$2:$AH$3191,MATCH(aux_pr_ue!$F$3&aux_pr_ue!L106,precos_ue!$A$2:$A$3191,0))=0,\"\",INDEX(precos_ue!$AH$2:$AH$3191,MATCH(aux_pr_ue!$F$3&aux_pr_ue!L106,precos_ue!$A$2:$A$3191,0)))","v":144.137},"1999/07",null,144.137]
[null,null,null,null,null,null,null,null,null,{"$f":"+IF(INDEX(precos_ue!$AG$2:$AG$3191,MATCH(aux_pr_ue!$E$3&aux_pr_ue!L107,precos_ue!$A$2:$A$3191,0))=0,\"\",INDEX(precos_ue!$AG$2:$AG$3191,MATCH(aux_pr_ue!$E$3&aux_pr_ue!L107,precos_ue!$A$2:$A$3191,0)))","v":128.44},{"$f":"+IF(INDEX(precos_ue!$AH$2:$AH$3191,MATCH(aux_pr_ue!$F$3&aux_pr_ue!L107,precos_ue!$A$2:$A$3191,0))=0,\"\",INDEX(precos_ue!$AH$2:$AH$3191,MATCH(aux_pr_ue!$F$3&aux_pr_ue!L107,precos_ue!$A$2:$A$3191,0)))","v":""},"1999/08",128.44]
[null,null,null,null,null,null,null,null,null,{"$f":"+IF(INDEX(precos_ue!$AG$2:$AG$3191,MATCH(aux_pr_ue!$E$3&aux_pr_ue!L108,precos_ue!$A$2:$A$3191,0))=0,\"\",INDEX(precos_ue!$AG$2:$AG$3191,MATCH(aux_pr_ue!$E$3&aux_pr_ue!L108,precos_ue!$A$2:$A$3191,0)))","v":128.44},{"$f":"+IF(INDEX(precos_ue!$AH$2:$AH$3191,MATCH(aux_pr_ue!$F$3&aux_pr_ue!L108,precos_ue!$A$2:$A$3191,0))=0,\"\",INDEX(precos_ue!$AH$2:$AH$3191,MATCH(aux_pr_ue!$F$3&aux_pr_ue!L108,precos_ue!$A$2:$A$3191,0)))","v":140.94150000000002},"1999/09",128.44,140.94150000000002]
[null,null,null,null,null,null,null,null,null,{"$f":"+IF(INDEX(precos_ue!$AG$2:$AG$3191,MATCH(aux_pr_ue!$E$3&aux_pr_ue!L109,precos_ue!$A$2:$A$3191,0))=0,\"\",INDEX(precos_ue!$AG$2:$AG$3191,MATCH(aux_pr_ue!$E$3&aux_pr_ue!L109,precos_ue!$A$2:$A$3191,0)))","v":128.44049999999999},{"$f":"+IF(INDEX(precos_ue!$AH$2:$AH$3191,MATCH(aux_pr_ue!$F$3&aux_pr_ue!L109,precos_ue!$A$2:$A$3191,0))=0,\"\",INDEX(precos_ue!$AH$2:$AH$3191,MATCH(aux_pr_ue!$F$3&aux_pr_ue!L109,precos_ue!$A$2:$A$3191,0)))","v":141.13679999999999},"1999/10",128.44049999999999,141.13679999999999]
[null,null,null,null,null,null,null,null,null,{"$f":"+IF(INDEX(precos_ue!$AG$2:$AG$3191,MATCH(aux_pr_ue!$E$3&aux_pr_ue!L110,precos_ue!$A$2:$A$3191,0))=0,\"\",INDEX(precos_ue!$AG$2:$AG$3191,MATCH(aux_pr_ue!$E$3&aux_pr_ue!L110,precos_ue!$A$2:$A$3191,0)))","v":128.44049999999999},{"$f":"+IF(INDEX(precos_ue!$AH$2:$AH$3191,MATCH(aux_pr_ue!$F$3&aux_pr_ue!L110,precos_ue!$A$2:$A$3191,0))=0,\"\",INDEX(precos_ue!$AH$2:$AH$3191,MATCH(aux_pr_ue!$F$3&aux_pr_ue!L110,precos_ue!$A$2:$A$3191,0)))","v":141.376},"1999/11",128.44049999999999,141.376]
[null,null,null,null,null,null,null,null,null,{"$f":"+IF(INDEX(precos_ue!$AG$2:$AG$3191,MATCH(aux_pr_ue!$E$3&aux_pr_ue!L111,precos_ue!$A$2:$A$3191,0))=0,\"\",INDEX(precos_ue!$AG$2:$AG$3191,MATCH(aux_pr_ue!$E$3&aux_pr_ue!L111,precos_ue!$A$2:$A$3191,0)))","v":""},{"$f":"+IF(INDEX(precos_ue!$AH$2:$AH$3191,MATCH(aux_pr_ue!$F$3&aux_pr_ue!L111,precos_ue!$A$2:$A$3191,0))=0,\"\",INDEX(precos_ue!$AH$2:$AH$3191,MATCH(aux_pr_ue!$F$3&aux_pr_ue!L111,precos_ue!$A$2:$A$3191,0)))","v":""},"1999/12"]
[null,null,null,null,null,null,null,null,null,{"$f":"+IF(INDEX(precos_ue!$AG$2:$AG$3191,MATCH(aux_pr_ue!$E$3&aux_pr_ue!L112,precos_ue!$A$2:$A$3191,0))=0,\"\",INDEX(precos_ue!$AG$2:$AG$3191,MATCH(aux_pr_ue!$E$3&aux_pr_ue!L112,precos_ue!$A$2:$A$3191,0)))","v":""},{"$f":"+IF(INDEX(precos_ue!$AH$2:$AH$3191,MATCH(aux_pr_ue!$F$3&aux_pr_ue!L112,precos_ue!$A$2:$A$3191,0))=0,\"\",INDEX(precos_ue!$AH$2:$AH$3191,MATCH(aux_pr_ue!$F$3&aux_pr_ue!L112,precos_ue!$A$2:$A$3191,0)))","v":""},"2000/01"]
[null,null,null,null,null,null,null,null,null,{"$f":"+IF(INDEX(precos_ue!$AG$2:$AG$3191,MATCH(aux_pr_ue!$E$3&aux_pr_ue!L113,precos_ue!$A$2:$A$3191,0))=0,\"\",INDEX(precos_ue!$AG$2:$AG$3191,MATCH(aux_pr_ue!$E$3&aux_pr_ue!L113,precos_ue!$A$2:$A$3191,0)))","v":140.91039999999998},{"$f":"+IF(INDEX(precos_ue!$AH$2:$AH$3191,MATCH(aux_pr_ue!$F$3&aux_pr_ue!L113,precos_ue!$A$2:$A$3191,0))=0,\"\",INDEX(precos_ue!$AH$2:$AH$3191,MATCH(aux_pr_ue!$F$3&aux_pr_ue!L113,precos_ue!$A$2:$A$3191,0)))","v":141.6018},"2000/02",140.91039999999998,141.6018]
[null,null,null,null,null,null,null,null,null,{"$f":"+IF(INDEX(precos_ue!$AG$2:$AG$3191,MATCH(aux_pr_ue!$E$3&aux_pr_ue!L114,precos_ue!$A$2:$A$3191,0))=0,\"\",INDEX(precos_ue!$AG$2:$AG$3191,MATCH(aux_pr_ue!$E$3&aux_pr_ue!L114,precos_ue!$A$2:$A$3191,0)))","v":140.91039999999998},{"$f":"+IF(INDEX(precos_ue!$AH$2:$AH$3191,MATCH(aux_pr_ue!$F$3&aux_pr_ue!L114,precos_ue!$A$2:$A$3191,0))=0,\"\",INDEX(precos_ue!$AH$2:$AH$3191,MATCH(aux_pr_ue!$F$3&aux_pr_ue!L114,precos_ue!$A$2:$A$3191,0)))","v":142.9271},"2000/03",140.91039999999998,142.9271]
[null,null,null,null,null,null,null,null,null,{"$f":"+IF(INDEX(precos_ue!$AG$2:$AG$3191,MATCH(aux_pr_ue!$E$3&aux_pr_ue!L115,precos_ue!$A$2:$A$3191,0))=0,\"\",INDEX(precos_ue!$AG$2:$AG$3191,MATCH(aux_pr_ue!$E$3&aux_pr_ue!L115,precos_ue!$A$2:$A$3191,0)))","v":140.91039999999998},{"$f":"+IF(INDEX(precos_ue!$AH$2:$AH$3191,MATCH(aux_pr_ue!$F$3&aux_pr_ue!L115,precos_ue!$A$2:$A$3191,0))=0,\"\",INDEX(precos_ue!$AH$2:$AH$3191,MATCH(aux_pr_ue!$F$3&aux_pr_ue!L115,precos_ue!$A$2:$A$3191,0)))","v":143.24860000000001},"2000/04",140.91039999999998,143.24860000000001]
[null,null,null,null,null,null,null,null,null,{"$f":"+IF(INDEX(precos_ue!$AG$2:$AG$3191,MATCH(aux_pr_ue!$E$3&aux_pr_ue!L116,precos_ue!$A$2:$A$3191,0))=0,\"\",INDEX(precos_ue!$AG$2:$AG$3191,MATCH(aux_pr_ue!$E$3&aux_pr_ue!L116,precos_ue!$A$2:$A$3191,0)))","v":143.09269999999998},{"$f":"+IF(INDEX(precos_ue!$AH$2:$AH$3191,MATCH(aux_pr_ue!$F$3&aux_pr_ue!L116,precos_ue!$A$2:$A$3191,0))=0,\"\",INDEX(precos_ue!$AH$2:$AH$3191,MATCH(aux_pr_ue!$F$3&aux_pr_ue!L116,precos_ue!$A$2:$A$3191,0)))","v":143.19800000000001},"2000/05",143.09269999999998,143.19800000000001]
[null,null,null,null,null,null,null,null,null,{"$f":"+IF(INDEX(precos_ue!$AG$2:$AG$3191,MATCH(aux_pr_ue!$E$3&aux_pr_ue!L117,precos_ue!$A$2:$A$3191,0))=0,\"\",INDEX(precos_ue!$AG$2:$AG$3191,MATCH(aux_pr_ue!$E$3&aux_pr_ue!L117,precos_ue!$A$2:$A$3191,0)))","v":144.06945000000002},{"$f":"+IF(INDEX(precos_ue!$AH$2:$AH$3191,MATCH(aux_pr_ue!$F$3&aux_pr_ue!L117,precos_ue!$A$2:$A$3191,0))=0,\"\",INDEX(precos_ue!$AH$2:$AH$3191,MATCH(aux_pr_ue!$F$3&aux_pr_ue!L117,precos_ue!$A$2:$A$3191,0)))","v":142.70750000000001},"2000/06",144.06945000000002,142.70750000000001]
[null,null,null,null,null,null,null,null,null,{"$f":"+IF(INDEX(precos_ue!$AG$2:$AG$3191,MATCH(aux_pr_ue!$E$3&aux_pr_ue!L118,precos_ue!$A$2:$A$3191,0))=0,\"\",INDEX(precos_ue!$AG$2:$AG$3191,MATCH(aux_pr_ue!$E$3&aux_pr_ue!L118,precos_ue!$A$2:$A$3191,0)))","v":117.00562500000001},{"$f":"+IF(INDEX(precos_ue!$AH$2:$AH$3191,MATCH(aux_pr_ue!$F$3&aux_pr_ue!L118,precos_ue!$A$2:$A$3191,0))=0,\"\",INDEX(precos_ue!$AH$2:$AH$3191,MATCH(aux_pr_ue!$F$3&aux_pr_ue!L118,precos_ue!$A$2:$A$3191,0)))","v":142.11879999999999},"2000/07",117.00562500000001,142.11879999999999]
[null,null,null,null,null,null,null,null,null,{"$f":"+IF(INDEX(precos_ue!$AG$2:$AG$3191,MATCH(aux_pr_ue!$E$3&aux_pr_ue!L119,precos_ue!$A$2:$A$3191,0))=0,\"\",INDEX(precos_ue!$AG$2:$AG$3191,MATCH(aux_pr_ue!$E$3&aux_pr_ue!L119,precos_ue!$A$2:$A$3191,0)))","v":118.516475},{"$f":"+IF(INDEX(precos_ue!$AH$2:$AH$3191,MATCH(aux_pr_ue!$F$3&aux_pr_ue!L119,precos_ue!$A$2:$A$3191,0))=0,\"\",INDEX(precos_ue!$AH$2:$AH$3191,MATCH(aux_pr_ue!$F$3&aux_pr_ue!L119,precos_ue!$A$2:$A$3191,0)))","v":132.3639},"2000/08",118.516475,132.3639]
[null,null,null,null,null,null,null,null,null,{"$f":"+IF(INDEX(precos_ue!$AG$2:$AG$3191,MATCH(aux_pr_ue!$E$3&aux_pr_ue!L120,precos_ue!$A$2:$A$3191,0))=0,\"\",INDEX(precos_ue!$AG$2:$AG$3191,MATCH(aux_pr_ue!$E$3&aux_pr_ue!L120,precos_ue!$A$2:$A$3191,0)))","v":118.703525},{"$f":"+IF(INDEX(precos_ue!$AH$2:$AH$3191,MATCH(aux_pr_ue!$F$3&aux_pr_ue!L120,precos_ue!$A$2:$A$3191,0))=0,\"\",INDEX(precos_ue!$AH$2:$AH$3191,MATCH(aux_pr_ue!$F$3&aux_pr_ue!L120,precos_ue!$A$2:$A$3191,0)))","v":132.63300000000001},"2000/09",118.703525,132.63300000000001]
[null,null,null,null,null,null,null,null,null,{"$f":"+IF(INDEX(precos_ue!$AG$2:$AG$3191,MATCH(aux_pr_ue!$E$3&aux_pr_ue!L121,precos_ue!$A$2:$A$3191,0))=0,\"\",INDEX(precos_ue!$AG$2:$AG$3191,MATCH(aux_pr_ue!$E$3&aux_pr_ue!L121,precos_ue!$A$2:$A$3191,0)))","v":128.73975000000002},{"$f":"+IF(INDEX(precos_ue!$AH$2:$AH$3191,MATCH(aux_pr_ue!$F$3&aux_pr_ue!L121,precos_ue!$A$2:$A$3191,0))=0,\"\",INDEX(precos_ue!$AH$2:$AH$3191,MATCH(aux_pr_ue!$F$3&aux_pr_ue!L121,precos_ue!$A$2:$A$3191,0)))","v":132.7003},"2000/10",128.73975000000002,132.7003]
[null,null,null,null,null,null,null,null,null,{"$f":"+IF(INDEX(precos_ue!$AG$2:$AG$3191,MATCH(aux_pr_ue!$E$3&aux_pr_ue!L122,precos_ue!$A$2:$A$3191,0))=0,\"\",INDEX(precos_ue!$AG$2:$AG$3191,MATCH(aux_pr_ue!$E$3&aux_pr_ue!L122,precos_ue!$A$2:$A$3191,0)))","v":134.44319999999999},{"$f":"+IF(INDEX(precos_ue!$AH$2:$AH$3191,MATCH(aux_pr_ue!$F$3&aux_pr_ue!L122,precos_ue!$A$2:$A$3191,0))=0,\"\",INDEX(precos_ue!$AH$2:$AH$3191,MATCH(aux_pr_ue!$F$3&aux_pr_ue!L122,precos_ue!$A$2:$A$3191,0)))","v":132.7003},"2000/11",134.44319999999999,132.7003]
[null,null,null,null,null,null,null,null,null,{"$f":"+IF(INDEX(precos_ue!$AG$2:$AG$3191,MATCH(aux_pr_ue!$E$3&aux_pr_ue!L123,precos_ue!$A$2:$A$3191,0))=0,\"\",INDEX(precos_ue!$AG$2:$AG$3191,MATCH(aux_pr_ue!$E$3&aux_pr_ue!L123,precos_ue!$A$2:$A$3191,0)))","v":139.55950000000001},{"$f":"+IF(INDEX(precos_ue!$AH$2:$AH$3191,MATCH(aux_pr_ue!$F$3&aux_pr_ue!L123,precos_ue!$A$2:$A$3191,0))=0,\"\",INDEX(precos_ue!$AH$2:$AH$3191,MATCH(aux_pr_ue!$F$3&aux_pr_ue!L123,precos_ue!$A$2:$A$3191,0)))","v":131.66595000000001},"2000/12",139.55950000000001,131.66595000000001]
[null,null,null,null,null,null,null,null,null,{"$f":"+IF(INDEX(precos_ue!$AG$2:$AG$3191,MATCH(aux_pr_ue!$E$3&aux_pr_ue!L124,precos_ue!$A$2:$A$3191,0))=0,\"\",INDEX(precos_ue!$AG$2:$AG$3191,MATCH(aux_pr_ue!$E$3&aux_pr_ue!L124,precos_ue!$A$2:$A$3191,0)))","v":139.60673333333332},{"$f":"+IF(INDEX(precos_ue!$AH$2:$AH$3191,MATCH(aux_pr_ue!$F$3&aux_pr_ue!L124,precos_ue!$A$2:$A$3191,0))=0,\"\",INDEX(precos_ue!$AH$2:$AH$3191,MATCH(aux_pr_ue!$F$3&aux_pr_ue!L124,precos_ue!$A$2:$A$3191,0)))","v":131.66595000000001},"2001/01",139.60673333333332,131.66595000000001]
[null,null,null,null,null,null,null,null,null,{"$f":"+IF(INDEX(precos_ue!$AG$2:$AG$3191,MATCH(aux_pr_ue!$E$3&aux_pr_ue!L125,precos_ue!$A$2:$A$3191,0))=0,\"\",INDEX(precos_ue!$AG$2:$AG$3191,MATCH(aux_pr_ue!$E$3&aux_pr_ue!L125,precos_ue!$A$2:$A$3191,0)))","v":137.67860000000002},{"$f":"+IF(INDEX(precos_ue!$AH$2:$AH$3191,MATCH(aux_pr_ue!$F$3&aux_pr_ue!L125,precos_ue!$A$2:$A$3191,0))=0,\"\",INDEX(precos_ue!$AH$2:$AH$3191,MATCH(aux_pr_ue!$F$3&aux_pr_ue!L125,precos_ue!$A$2:$A$3191,0)))","v":131.92245},"2001/02",137.67860000000002,131.92245]
[null,null,null,null,null,null,null,null,null,{"$f":"+IF(INDEX(precos_ue!$AG$2:$AG$3191,MATCH(aux_pr_ue!$E$3&aux_pr_ue!L126,precos_ue!$A$2:$A$3191,0))=0,\"\",INDEX(precos_ue!$AG$2:$AG$3191,MATCH(aux_pr_ue!$E$3&aux_pr_ue!L126,precos_ue!$A$2:$A$3191,0)))","v":135.48394999999999},{"$f":"+IF(INDEX(precos_ue!$AH$2:$AH$3191,MATCH(aux_pr_ue!$F$3&aux_pr_ue!L126,precos_ue!$A$2:$A$3191,0))=0,\"\",INDEX(precos_ue!$AH$2:$AH$3191,MATCH(aux_pr_ue!$F$3&aux_pr_ue!L126,precos_ue!$A$2:$A$3191,0)))","v":133.90470000000002},"2001/03",135.48394999999999,133.90470000000002]
[null,null,null,null,null,null,null,null,null,{"$f":"+IF(INDEX(precos_ue!$AG$2:$AG$3191,MATCH(aux_pr_ue!$E$3&aux_pr_ue!L127,precos_ue!$A$2:$A$3191,0))=0,\"\",INDEX(precos_ue!$AG$2:$AG$3191,MATCH(aux_pr_ue!$E$3&aux_pr_ue!L127,precos_ue!$A$2:$A$3191,0)))","v":137.66405},{"$f":"+IF(INDEX(precos_ue!$AH$2:$AH$3191,MATCH(aux_pr_ue!$F$3&aux_pr_ue!L127,precos_ue!$A$2:$A$3191,0))=0,\"\",INDEX(precos_ue!$AH$2:$AH$3191,MATCH(aux_pr_ue!$F$3&aux_pr_ue!L127,precos_ue!$A$2:$A$3191,0)))","v":133.44589999999999},"2001/04",137.66405,133.44589999999999]
[null,null,null,null,null,null,null,null,null,{"$f":"+IF(INDEX(precos_ue!$AG$2:$AG$3191,MATCH(aux_pr_ue!$E$3&aux_pr_ue!L128,precos_ue!$A$2:$A$3191,0))=0,\"\",INDEX(precos_ue!$AG$2:$AG$3191,MATCH(aux_pr_ue!$E$3&aux_pr_ue!L128,precos_ue!$A$2:$A$3191,0)))","v":143.2998},{"$f":"+IF(INDEX(precos_ue!$AH$2:$AH$3191,MATCH(aux_pr_ue!$F$3&aux_pr_ue!L128,precos_ue!$A$2:$A$3191,0))=0,\"\",INDEX(precos_ue!$AH$2:$AH$3191,MATCH(aux_pr_ue!$F$3&aux_pr_ue!L128,precos_ue!$A$2:$A$3191,0)))","v":133.7311},"2001/05",143.2998,133.7311]
[null,null,null,null,null,null,null,null,null,{"$f":"+IF(INDEX(precos_ue!$AG$2:$AG$3191,MATCH(aux_pr_ue!$E$3&aux_pr_ue!L129,precos_ue!$A$2:$A$3191,0))=0,\"\",INDEX(precos_ue!$AG$2:$AG$3191,MATCH(aux_pr_ue!$E$3&aux_pr_ue!L129,precos_ue!$A$2:$A$3191,0)))","v":142.47540000000001},{"$f":"+IF(INDEX(precos_ue!$AH$2:$AH$3191,MATCH(aux_pr_ue!$F$3&aux_pr_ue!L129,precos_ue!$A$2:$A$3191,0))=0,\"\",INDEX(precos_ue!$AH$2:$AH$3191,MATCH(aux_pr_ue!$F$3&aux_pr_ue!L129,precos_ue!$A$2:$A$3191,0)))","v":133.77670000000001},"2001/06",142.47540000000001,133.77670000000001]
[null,null,null,null,null,null,null,null,null,{"$f":"+IF(INDEX(precos_ue!$AG$2:$AG$3191,MATCH(aux_pr_ue!$E$3&aux_pr_ue!L130,precos_ue!$A$2:$A$3191,0))=0,\"\",INDEX(precos_ue!$AG$2:$AG$3191,MATCH(aux_pr_ue!$E$3&aux_pr_ue!L130,precos_ue!$A$2:$A$3191,0)))","v":137.726575},{"$f":"+IF(INDEX(precos_ue!$AH$2:$AH$3191,MATCH(aux_pr_ue!$F$3&aux_pr_ue!L130,precos_ue!$A$2:$A$3191,0))=0,\"\",INDEX(precos_ue!$AH$2:$AH$3191,MATCH(aux_pr_ue!$F$3&aux_pr_ue!L130,precos_ue!$A$2:$A$3191,0)))","v":133.20480000000001},"2001/07",137.726575,133.20480000000001]
[null,null,null,null,null,null,null,null,null,{"$f":"+IF(INDEX(precos_ue!$AG$2:$AG$3191,MATCH(aux_pr_ue!$E$3&aux_pr_ue!L131,precos_ue!$A$2:$A$3191,0))=0,\"\",INDEX(precos_ue!$AG$2:$AG$3191,MATCH(aux_pr_ue!$E$3&aux_pr_ue!L131,precos_ue!$A$2:$A$3191,0)))","v":137.36167499999999},{"$f":"+IF(INDEX(precos_ue!$AH$2:$AH$3191,MATCH(aux_pr_ue!$F$3&aux_pr_ue!L131,precos_ue!$A$2:$A$3191,0))=0,\"\",INDEX(precos_ue!$AH$2:$AH$3191,MATCH(aux_pr_ue!$F$3&aux_pr_ue!L131,precos_ue!$A$2:$A$3191,0)))","v":132.05435},"2001/08",137.36167499999999,132.05435]
[null,null,null,null,null,null,null,null,null,{"$f":"+IF(INDEX(precos_ue!$AG$2:$AG$3191,MATCH(aux_pr_ue!$E$3&aux_pr_ue!L132,precos_ue!$A$2:$A$3191,0))=0,\"\",INDEX(precos_ue!$AG$2:$AG$3191,MATCH(aux_pr_ue!$E$3&aux_pr_ue!L132,precos_ue!$A$2:$A$3191,0)))","v":136.17600000000002},{"$f":"+IF(INDEX(precos_ue!$AH$2:$AH$3191,MATCH(aux_pr_ue!$F$3&aux_pr_ue!L132,precos_ue!$A$2:$A$3191,0))=0,\"\",INDEX(precos_ue!$AH$2:$AH$3191,MATCH(aux_pr_ue!$F$3&aux_pr_ue!L132,precos_ue!$A$2:$A$3191,0)))","v":132.21705000000003},"2001/09",136.17600000000002,132.21705000000003]
[null,null,null,null,null,null,null,null,null,{"$f":"+IF(INDEX(precos_ue!$AG$2:$AG$3191,MATCH(aux_pr_ue!$E$3&aux_pr_ue!L133,precos_ue!$A$2:$A$3191,0))=0,\"\",INDEX(precos_ue!$AG$2:$AG$3191,MATCH(aux_pr_ue!$E$3&aux_pr_ue!L133,precos_ue!$A$2:$A$3191,0)))","v":137.89685000000003},{"$f":"+IF(INDEX(precos_ue!$AH$2:$AH$3191,MATCH(aux_pr_ue!$F$3&aux_pr_ue!L133,precos_ue!$A$2:$A$3191,0))=0,\"\",INDEX(precos_ue!$AH$2:$AH$3191,MATCH(aux_pr_ue!$F$3&aux_pr_ue!L133,precos_ue!$A$2:$A$3191,0)))","v":133.6053},"2001/10",137.89685000000003,133.6053]
[null,null,null,null,null,null,null,null,null,{"$f":"+IF(INDEX(precos_ue!$AG$2:$AG$3191,MATCH(aux_pr_ue!$E$3&aux_pr_ue!L134,precos_ue!$A$2:$A$3191,0))=0,\"\",INDEX(precos_ue!$AG$2:$AG$3191,MATCH(aux_pr_ue!$E$3&aux_pr_ue!L134,precos_ue!$A$2:$A$3191,0)))","v":141.68735000000001},{"$f":"+IF(INDEX(precos_ue!$AH$2:$AH$3191,MATCH(aux_pr_ue!$F$3&aux_pr_ue!L134,precos_ue!$A$2:$A$3191,0))=0,\"\",INDEX(precos_ue!$AH$2:$AH$3191,MATCH(aux_pr_ue!$F$3&aux_pr_ue!L134,precos_ue!$A$2:$A$3191,0)))","v":135.42725000000002},"2001/11",141.68735000000001,135.42725000000002]
[null,null,null,null,null,null,null,null,null,{"$f":"+IF(INDEX(precos_ue!$AG$2:$AG$3191,MATCH(aux_pr_ue!$E$3&aux_pr_ue!L135,precos_ue!$A$2:$A$3191,0))=0,\"\",INDEX(precos_ue!$AG$2:$AG$3191,MATCH(aux_pr_ue!$E$3&aux_pr_ue!L135,precos_ue!$A$2:$A$3191,0)))","v":141.92689999999999},{"$f":"+IF(INDEX(precos_ue!$AH$2:$AH$3191,MATCH(aux_pr_ue!$F$3&aux_pr_ue!L135,precos_ue!$A$2:$A$3191,0))=0,\"\",INDEX(precos_ue!$AH$2:$AH$3191,MATCH(aux_pr_ue!$F$3&aux_pr_ue!L135,precos_ue!$A$2:$A$3191,0)))","v":135.39999999999998},"2001/12",141.92689999999999,135.39999999999998]
[null,null,null,null,null,null,null,null,null,{"$f":"+IF(INDEX(precos_ue!$AG$2:$AG$3191,MATCH(aux_pr_ue!$E$3&aux_pr_ue!L136,precos_ue!$A$2:$A$3191,0))=0,\"\",INDEX(precos_ue!$AG$2:$AG$3191,MATCH(aux_pr_ue!$E$3&aux_pr_ue!L136,precos_ue!$A$2:$A$3191,0)))","v":140.8955},{"$f":"+IF(INDEX(precos_ue!$AH$2:$AH$3191,MATCH(aux_pr_ue!$F$3&aux_pr_ue!L136,precos_ue!$A$2:$A$3191,0))=0,\"\",INDEX(precos_ue!$AH$2:$AH$3191,MATCH(aux_pr_ue!$F$3&aux_pr_ue!L136,precos_ue!$A$2:$A$3191,0)))","v":135.31895},"2002/01",140.8955,135.31895]
[null,null,null,null,null,null,null,null,null,{"$f":"+IF(INDEX(precos_ue!$AG$2:$AG$3191,MATCH(aux_pr_ue!$E$3&aux_pr_ue!L137,precos_ue!$A$2:$A$3191,0))=0,\"\",INDEX(precos_ue!$AG$2:$AG$3191,MATCH(aux_pr_ue!$E$3&aux_pr_ue!L137,precos_ue!$A$2:$A$3191,0)))","v":138.42160000000001},{"$f":"+IF(INDEX(precos_ue!$AH$2:$AH$3191,MATCH(aux_pr_ue!$F$3&aux_pr_ue!L137,precos_ue!$A$2:$A$3191,0))=0,\"\",INDEX(precos_ue!$AH$2:$AH$3191,MATCH(aux_pr_ue!$F$3&aux_pr_ue!L137,precos_ue!$A$2:$A$3191,0)))","v":135.26785000000001},"2002/02",138.42160000000001,135.26785000000001]
[null,null,null,null,null,null,null,null,null,{"$f":"+IF(INDEX(precos_ue!$AG$2:$AG$3191,MATCH(aux_pr_ue!$E$3&aux_pr_ue!L138,precos_ue!$A$2:$A$3191,0))=0,\"\",INDEX(precos_ue!$AG$2:$AG$3191,MATCH(aux_pr_ue!$E$3&aux_pr_ue!L138,precos_ue!$A$2:$A$3191,0)))","v":133.69274999999999},{"$f":"+IF(INDEX(precos_ue!$AH$2:$AH$3191,MATCH(aux_pr_ue!$F$3&aux_pr_ue!L138,precos_ue!$A$2:$A$3191,0))=0,\"\",INDEX(precos_ue!$AH$2:$AH$3191,MATCH(aux_pr_ue!$F$3&aux_pr_ue!L138,precos_ue!$A$2:$A$3191,0)))","v":134.69385},"2002/03",133.69274999999999,134.69385]
[null,null,null,null,null,null,null,null,null,{"$f":"+IF(INDEX(precos_ue!$AG$2:$AG$3191,MATCH(aux_pr_ue!$E$3&aux_pr_ue!L139,precos_ue!$A$2:$A$3191,0))=0,\"\",INDEX(precos_ue!$AG$2:$AG$3191,MATCH(aux_pr_ue!$E$3&aux_pr_ue!L139,precos_ue!$A$2:$A$3191,0)))","v":132.00730000000001},{"$f":"+IF(INDEX(precos_ue!$AH$2:$AH$3191,MATCH(aux_pr_ue!$F$3&aux_pr_ue!L139,precos_ue!$A$2:$A$3191,0))=0,\"\",INDEX(precos_ue!$AH$2:$AH$3191,MATCH(aux_pr_ue!$F$3&aux_pr_ue!L139,precos_ue!$A$2:$A$3191,0)))","v":135.17465000000001},"2002/04",132.00730000000001,135.17465000000001]
[null,null,null,null,null,null,null,null,null,{"$f":"+IF(INDEX(precos_ue!$AG$2:$AG$3191,MATCH(aux_pr_ue!$E$3&aux_pr_ue!L140,precos_ue!$A$2:$A$3191,0))=0,\"\",INDEX(precos_ue!$AG$2:$AG$3191,MATCH(aux_pr_ue!$E$3&aux_pr_ue!L140,precos_ue!$A$2:$A$3191,0)))","v":128.39355},{"$f":"+IF(INDEX(precos_ue!$AH$2:$AH$3191,MATCH(aux_pr_ue!$F$3&aux_pr_ue!L140,precos_ue!$A$2:$A$3191,0))=0,\"\",INDEX(precos_ue!$AH$2:$AH$3191,MATCH(aux_pr_ue!$F$3&aux_pr_ue!L140,precos_ue!$A$2:$A$3191,0)))","v":135.13900000000001},"2002/05",128.39355,135.13900000000001]
[null,null,null,null,null,null,null,null,null,{"$f":"+IF(INDEX(precos_ue!$AG$2:$AG$3191,MATCH(aux_pr_ue!$E$3&aux_pr_ue!L141,precos_ue!$A$2:$A$3191,0))=0,\"\",INDEX(precos_ue!$AG$2:$AG$3191,MATCH(aux_pr_ue!$E$3&aux_pr_ue!L141,precos_ue!$A$2:$A$3191,0)))","v":122.66550000000001},{"$f":"+IF(INDEX(precos_ue!$AH$2:$AH$3191,MATCH(aux_pr_ue!$F$3&aux_pr_ue!L141,precos_ue!$A$2:$A$3191,0))=0,\"\",INDEX(precos_ue!$AH$2:$AH$3191,MATCH(aux_pr_ue!$F$3&aux_pr_ue!L141,precos_ue!$A$2:$A$3191,0)))","v":133.78584999999998},"2002/06",122.66550000000001,133.78584999999998]
[null,null,null,null,null,null,null,null,null,{"$f":"+IF(INDEX(precos_ue!$AG$2:$AG$3191,MATCH(aux_pr_ue!$E$3&aux_pr_ue!L142,precos_ue!$A$2:$A$3191,0))=0,\"\",INDEX(precos_ue!$AG$2:$AG$3191,MATCH(aux_pr_ue!$E$3&aux_pr_ue!L142,precos_ue!$A$2:$A$3191,0)))","v":120.539025},{"$f":"+IF(INDEX(precos_ue!$AH$2:$AH$3191,MATCH(aux_pr_ue!$F$3&aux_pr_ue!L142,precos_ue!$A$2:$A$3191,0))=0,\"\",INDEX(precos_ue!$AH$2:$AH$3191,MATCH(aux_pr_ue!$F$3&aux_pr_ue!L142,precos_ue!$A$2:$A$3191,0)))","v":""},"2002/07",120.539025]
[null,null,null,null,null,null,null,null,null,{"$f":"+IF(INDEX(precos_ue!$AG$2:$AG$3191,MATCH(aux_pr_ue!$E$3&aux_pr_ue!L143,precos_ue!$A$2:$A$3191,0))=0,\"\",INDEX(precos_ue!$AG$2:$AG$3191,MATCH(aux_pr_ue!$E$3&aux_pr_ue!L143,precos_ue!$A$2:$A$3191,0)))","v":119.285025},{"$f":"+IF(INDEX(precos_ue!$AH$2:$AH$3191,MATCH(aux_pr_ue!$F$3&aux_pr_ue!L143,precos_ue!$A$2:$A$3191,0))=0,\"\",INDEX(precos_ue!$AH$2:$AH$3191,MATCH(aux_pr_ue!$F$3&aux_pr_ue!L143,precos_ue!$A$2:$A$3191,0)))","v":128.30170000000001},"2002/08",119.285025,128.30170000000001]
[null,null,null,null,null,null,null,null,null,{"$f":"+IF(INDEX(precos_ue!$AG$2:$AG$3191,MATCH(aux_pr_ue!$E$3&aux_pr_ue!L144,precos_ue!$A$2:$A$3191,0))=0,\"\",INDEX(precos_ue!$AG$2:$AG$3191,MATCH(aux_pr_ue!$E$3&aux_pr_ue!L144,precos_ue!$A$2:$A$3191,0)))","v":119.73275000000001},{"$f":"+IF(INDEX(precos_ue!$AH$2:$AH$3191,MATCH(aux_pr_ue!$F$3&aux_pr_ue!L144,precos_ue!$A$2:$A$3191,0))=0,\"\",INDEX(precos_ue!$AH$2:$AH$3191,MATCH(aux_pr_ue!$F$3&aux_pr_ue!L144,precos_ue!$A$2:$A$3191,0)))","v":128.77000000000001},"2002/09",119.73275000000001,128.77000000000001]
[null,null,null,null,null,null,null,null,null,{"$f":"+IF(INDEX(precos_ue!$AG$2:$AG$3191,MATCH(aux_pr_ue!$E$3&aux_pr_ue!L145,precos_ue!$A$2:$A$3191,0))=0,\"\",INDEX(precos_ue!$AG$2:$AG$3191,MATCH(aux_pr_ue!$E$3&aux_pr_ue!L145,precos_ue!$A$2:$A$3191,0)))","v":121.62065000000001},{"$f":"+IF(INDEX(precos_ue!$AH$2:$AH$3191,MATCH(aux_pr_ue!$F$3&aux_pr_ue!L145,precos_ue!$A$2:$A$3191,0))=0,\"\",INDEX(precos_ue!$AH$2:$AH$3191,MATCH(aux_pr_ue!$F$3&aux_pr_ue!L145,precos_ue!$A$2:$A$3191,0)))","v":130.32900000000001},"2002/10",121.62065000000001,130.32900000000001]
[null,null,null,null,null,null,null,null,null,{"$f":"+IF(INDEX(precos_ue!$AG$2:$AG$3191,MATCH(aux_pr_ue!$E$3&aux_pr_ue!L146,precos_ue!$A$2:$A$3191,0))=0,\"\",INDEX(precos_ue!$AG$2:$AG$3191,MATCH(aux_pr_ue!$E$3&aux_pr_ue!L146,precos_ue!$A$2:$A$3191,0)))","v":121.82650000000001},{"$f":"+IF(INDEX(precos_ue!$AH$2:$AH$3191,MATCH(aux_pr_ue!$F$3&aux_pr_ue!L146,precos_ue!$A$2:$A$3191,0))=0,\"\",INDEX(precos_ue!$AH$2:$AH$3191,MATCH(aux_pr_ue!$F$3&aux_pr_ue!L146,precos_ue!$A$2:$A$3191,0)))","v":131},"2002/11",121.82650000000001,131]
[null,null,null,null,null,null,null,null,null,{"$f":"+IF(INDEX(precos_ue!$AG$2:$AG$3191,MATCH(aux_pr_ue!$E$3&aux_pr_ue!L147,precos_ue!$A$2:$A$3191,0))=0,\"\",INDEX(precos_ue!$AG$2:$AG$3191,MATCH(aux_pr_ue!$E$3&aux_pr_ue!L147,precos_ue!$A$2:$A$3191,0)))","v":122.46125000000001},{"$f":"+IF(INDEX(precos_ue!$AH$2:$AH$3191,MATCH(aux_pr_ue!$F$3&aux_pr_ue!L147,precos_ue!$A$2:$A$3191,0))=0,\"\",INDEX(precos_ue!$AH$2:$AH$3191,MATCH(aux_pr_ue!$F$3&aux_pr_ue!L147,precos_ue!$A$2:$A$3191,0)))","v":131},"2002/12",122.46125000000001,131]
[null,null,null,null,null,null,null,null,null,{"$f":"+IF(INDEX(precos_ue!$AG$2:$AG$3191,MATCH(aux_pr_ue!$E$3&aux_pr_ue!L148,precos_ue!$A$2:$A$3191,0))=0,\"\",INDEX(precos_ue!$AG$2:$AG$3191,MATCH(aux_pr_ue!$E$3&aux_pr_ue!L148,precos_ue!$A$2:$A$3191,0)))","v":121.73275000000001},{"$f":"+IF(INDEX(precos_ue!$AH$2:$AH$3191,MATCH(aux_pr_ue!$F$3&aux_pr_ue!L148,precos_ue!$A$2:$A$3191,0))=0,\"\",INDEX(precos_ue!$AH$2:$AH$3191,MATCH(aux_pr_ue!$F$3&aux_pr_ue!L148,precos_ue!$A$2:$A$3191,0)))","v":131},"2003/01",121.73275000000001,131]
[null,null,null,null,null,null,null,null,null,{"$f":"+IF(INDEX(precos_ue!$AG$2:$AG$3191,MATCH(aux_pr_ue!$E$3&aux_pr_ue!L149,precos_ue!$A$2:$A$3191,0))=0,\"\",INDEX(precos_ue!$AG$2:$AG$3191,MATCH(aux_pr_ue!$E$3&aux_pr_ue!L149,precos_ue!$A$2:$A$3191,0)))","v":123.04},{"$f":"+IF(INDEX(precos_ue!$AH$2:$AH$3191,MATCH(aux_pr_ue!$F$3&aux_pr_ue!L149,precos_ue!$A$2:$A$3191,0))=0,\"\",INDEX(precos_ue!$AH$2:$AH$3191,MATCH(aux_pr_ue!$F$3&aux_pr_ue!L149,precos_ue!$A$2:$A$3191,0)))","v":131},"2003/02",123.04,131]
[null,null,null,null,null,null,null,null,null,{"$f":"+IF(INDEX(precos_ue!$AG$2:$AG$3191,MATCH(aux_pr_ue!$E$3&aux_pr_ue!L150,precos_ue!$A$2:$A$3191,0))=0,\"\",INDEX(precos_ue!$AG$2:$AG$3191,MATCH(aux_pr_ue!$E$3&aux_pr_ue!L150,precos_ue!$A$2:$A$3191,0)))","v":122.80710000000001},{"$f":"+IF(INDEX(precos_ue!$AH$2:$AH$3191,MATCH(aux_pr_ue!$F$3&aux_pr_ue!L150,precos_ue!$A$2:$A$3191,0))=0,\"\",INDEX(precos_ue!$AH$2:$AH$3191,MATCH(aux_pr_ue!$F$3&aux_pr_ue!L150,precos_ue!$A$2:$A$3191,0)))","v":128.6532},"2003/03",122.80710000000001,128.6532]
[null,null,null,null,null,null,null,null,null,{"$f":"+IF(INDEX(precos_ue!$AG$2:$AG$3191,MATCH(aux_pr_ue!$E$3&aux_pr_ue!L151,precos_ue!$A$2:$A$3191,0))=0,\"\",INDEX(precos_ue!$AG$2:$AG$3191,MATCH(aux_pr_ue!$E$3&aux_pr_ue!L151,precos_ue!$A$2:$A$3191,0)))","v":123.4385},{"$f":"+IF(INDEX(precos_ue!$AH$2:$AH$3191,MATCH(aux_pr_ue!$F$3&aux_pr_ue!L151,precos_ue!$A$2:$A$3191,0))=0,\"\",INDEX(precos_ue!$AH$2:$AH$3191,MATCH(aux_pr_ue!$F$3&aux_pr_ue!L151,precos_ue!$A$2:$A$3191,0)))","v":128.084},"2003/04",123.4385,128.084]
[null,null,null,null,null,null,null,null,null,{"$f":"+IF(INDEX(precos_ue!$AG$2:$AG$3191,MATCH(aux_pr_ue!$E$3&aux_pr_ue!L152,precos_ue!$A$2:$A$3191,0))=0,\"\",INDEX(precos_ue!$AG$2:$AG$3191,MATCH(aux_pr_ue!$E$3&aux_pr_ue!L152,precos_ue!$A$2:$A$3191,0)))","v":128.15129999999999},{"$f":"+IF(INDEX(precos_ue!$AH$2:$AH$3191,MATCH(aux_pr_ue!$F$3&aux_pr_ue!L152,precos_ue!$A$2:$A$3191,0))=0,\"\",INDEX(precos_ue!$AH$2:$AH$3191,MATCH(aux_pr_ue!$F$3&aux_pr_ue!L152,precos_ue!$A$2:$A$3191,0)))","v":128.12},"2003/05",128.15129999999999,128.12]
[null,null,null,null,null,null,null,null,null,{"$f":"+IF(INDEX(precos_ue!$AG$2:$AG$3191,MATCH(aux_pr_ue!$E$3&aux_pr_ue!L153,precos_ue!$A$2:$A$3191,0))=0,\"\",INDEX(precos_ue!$AG$2:$AG$3191,MATCH(aux_pr_ue!$E$3&aux_pr_ue!L153,precos_ue!$A$2:$A$3191,0)))","v":122.85046666666666},{"$f":"+IF(INDEX(precos_ue!$AH$2:$AH$3191,MATCH(aux_pr_ue!$F$3&aux_pr_ue!L153,precos_ue!$A$2:$A$3191,0))=0,\"\",INDEX(precos_ue!$AH$2:$AH$3191,MATCH(aux_pr_ue!$F$3&aux_pr_ue!L153,precos_ue!$A$2:$A$3191,0)))","v":128.1317},"2003/06",122.85046666666666,128.1317]
[null,null,null,null,null,null,null,null,null,{"$f":"+IF(INDEX(precos_ue!$AG$2:$AG$3191,MATCH(aux_pr_ue!$E$3&aux_pr_ue!L154,precos_ue!$A$2:$A$3191,0))=0,\"\",INDEX(precos_ue!$AG$2:$AG$3191,MATCH(aux_pr_ue!$E$3&aux_pr_ue!L154,precos_ue!$A$2:$A$3191,0)))","v":125.39975000000001},{"$f":"+IF(INDEX(precos_ue!$AH$2:$AH$3191,MATCH(aux_pr_ue!$F$3&aux_pr_ue!L154,precos_ue!$A$2:$A$3191,0))=0,\"\",INDEX(precos_ue!$AH$2:$AH$3191,MATCH(aux_pr_ue!$F$3&aux_pr_ue!L154,precos_ue!$A$2:$A$3191,0)))","v":128.12},"2003/07",125.39975000000001,128.12]
[null,null,null,null,null,null,null,null,null,{"$f":"+IF(INDEX(precos_ue!$AG$2:$AG$3191,MATCH(aux_pr_ue!$E$3&aux_pr_ue!L155,precos_ue!$A$2:$A$3191,0))=0,\"\",INDEX(precos_ue!$AG$2:$AG$3191,MATCH(aux_pr_ue!$E$3&aux_pr_ue!L155,precos_ue!$A$2:$A$3191,0)))","v":134.77000000000001},{"$f":"+IF(INDEX(precos_ue!$AH$2:$AH$3191,MATCH(aux_pr_ue!$F$3&aux_pr_ue!L155,precos_ue!$A$2:$A$3191,0))=0,\"\",INDEX(precos_ue!$AH$2:$AH$3191,MATCH(aux_pr_ue!$F$3&aux_pr_ue!L155,precos_ue!$A$2:$A$3191,0)))","v":124},"2003/08",134.77000000000001,124]
[null,null,null,null,null,null,null,null,null,{"$f":"+IF(INDEX(precos_ue!$AG$2:$AG$3191,MATCH(aux_pr_ue!$E$3&aux_pr_ue!L156,precos_ue!$A$2:$A$3191,0))=0,\"\",INDEX(precos_ue!$AG$2:$AG$3191,MATCH(aux_pr_ue!$E$3&aux_pr_ue!L156,precos_ue!$A$2:$A$3191,0)))","v":140.56633333333335},{"$f":"+IF(INDEX(precos_ue!$AH$2:$AH$3191,MATCH(aux_pr_ue!$F$3&aux_pr_ue!L156,precos_ue!$A$2:$A$3191,0))=0,\"\",INDEX(precos_ue!$AH$2:$AH$3191,MATCH(aux_pr_ue!$F$3&aux_pr_ue!L156,precos_ue!$A$2:$A$3191,0)))","v":124},"2003/09",140.56633333333335,124]
[null,null,null,null,null,null,null,null,null,{"$f":"+IF(INDEX(precos_ue!$AG$2:$AG$3191,MATCH(aux_pr_ue!$E$3&aux_pr_ue!L157,precos_ue!$A$2:$A$3191,0))=0,\"\",INDEX(precos_ue!$AG$2:$AG$3191,MATCH(aux_pr_ue!$E$3&aux_pr_ue!L157,precos_ue!$A$2:$A$3191,0)))","v":143.75030000000001},{"$f":"+IF(INDEX(precos_ue!$AH$2:$AH$3191,MATCH(aux_pr_ue!$F$3&aux_pr_ue!L157,precos_ue!$A$2:$A$3191,0))=0,\"\",INDEX(precos_ue!$AH$2:$AH$3191,MATCH(aux_pr_ue!$F$3&aux_pr_ue!L157,precos_ue!$A$2:$A$3191,0)))","v":126.73390000000001},"2003/10",143.75030000000001,126.73390000000001]
[null,null,null,null,null,null,null,null,null,{"$f":"+IF(INDEX(precos_ue!$AG$2:$AG$3191,MATCH(aux_pr_ue!$E$3&aux_pr_ue!L158,precos_ue!$A$2:$A$3191,0))=0,\"\",INDEX(precos_ue!$AG$2:$AG$3191,MATCH(aux_pr_ue!$E$3&aux_pr_ue!L158,precos_ue!$A$2:$A$3191,0)))","v":174.99315000000001},{"$f":"+IF(INDEX(precos_ue!$AH$2:$AH$3191,MATCH(aux_pr_ue!$F$3&aux_pr_ue!L158,precos_ue!$A$2:$A$3191,0))=0,\"\",INDEX(precos_ue!$AH$2:$AH$3191,MATCH(aux_pr_ue!$F$3&aux_pr_ue!L158,precos_ue!$A$2:$A$3191,0)))","v":127},"2003/11",174.99315000000001,127]
[null,null,null,null,null,null,null,null,null,{"$f":"+IF(INDEX(precos_ue!$AG$2:$AG$3191,MATCH(aux_pr_ue!$E$3&aux_pr_ue!L159,precos_ue!$A$2:$A$3191,0))=0,\"\",INDEX(precos_ue!$AG$2:$AG$3191,MATCH(aux_pr_ue!$E$3&aux_pr_ue!L159,precos_ue!$A$2:$A$3191,0)))","v":181.33850000000001},{"$f":"+IF(INDEX(precos_ue!$AH$2:$AH$3191,MATCH(aux_pr_ue!$F$3&aux_pr_ue!L159,precos_ue!$A$2:$A$3191,0))=0,\"\",INDEX(precos_ue!$AH$2:$AH$3191,MATCH(aux_pr_ue!$F$3&aux_pr_ue!L159,precos_ue!$A$2:$A$3191,0)))","v":129.03229999999999},"2003/12",181.33850000000001,129.03229999999999]
[null,null,null,null,null,null,null,null,null,{"$f":"+IF(INDEX(precos_ue!$AG$2:$AG$3191,MATCH(aux_pr_ue!$E$3&aux_pr_ue!L160,precos_ue!$A$2:$A$3191,0))=0,\"\",INDEX(precos_ue!$AG$2:$AG$3191,MATCH(aux_pr_ue!$E$3&aux_pr_ue!L160,precos_ue!$A$2:$A$3191,0)))","v":179.6506},{"$f":"+IF(INDEX(precos_ue!$AH$2:$AH$3191,MATCH(aux_pr_ue!$F$3&aux_pr_ue!L160,precos_ue!$A$2:$A$3191,0))=0,\"\",INDEX(precos_ue!$AH$2:$AH$3191,MATCH(aux_pr_ue!$F$3&aux_pr_ue!L160,precos_ue!$A$2:$A$3191,0)))","v":130.77420000000001},"2004/01",179.6506,130.77420000000001]
[null,null,null,null,null,null,null,null,null,{"$f":"+IF(INDEX(precos_ue!$AG$2:$AG$3191,MATCH(aux_pr_ue!$E$3&aux_pr_ue!L161,precos_ue!$A$2:$A$3191,0))=0,\"\",INDEX(precos_ue!$AG$2:$AG$3191,MATCH(aux_pr_ue!$E$3&aux_pr_ue!L161,precos_ue!$A$2:$A$3191,0)))","v":177.1293},{"$f":"+IF(INDEX(precos_ue!$AH$2:$AH$3191,MATCH(aux_pr_ue!$F$3&aux_pr_ue!L161,precos_ue!$A$2:$A$3191,0))=0,\"\",INDEX(precos_ue!$AH$2:$AH$3191,MATCH(aux_pr_ue!$F$3&aux_pr_ue!L161,precos_ue!$A$2:$A$3191,0)))","v":130.8621},"2004/02",177.1293,130.8621]
[null,null,null,null,null,null,null,null,null,{"$f":"+IF(INDEX(precos_ue!$AG$2:$AG$3191,MATCH(aux_pr_ue!$E$3&aux_pr_ue!L162,precos_ue!$A$2:$A$3191,0))=0,\"\",INDEX(precos_ue!$AG$2:$AG$3191,MATCH(aux_pr_ue!$E$3&aux_pr_ue!L162,precos_ue!$A$2:$A$3191,0)))","v":175.81825000000001},{"$f":"+IF(INDEX(precos_ue!$AH$2:$AH$3191,MATCH(aux_pr_ue!$F$3&aux_pr_ue!L162,precos_ue!$A$2:$A$3191,0))=0,\"\",INDEX(precos_ue!$AH$2:$AH$3191,MATCH(aux_pr_ue!$F$3&aux_pr_ue!L162,precos_ue!$A$2:$A$3191,0)))","v":129.23680000000002},"2004/03",175.81825000000001,129.23680000000002]
[null,null,null,null,null,null,null,null,null,{"$f":"+IF(INDEX(precos_ue!$AG$2:$AG$3191,MATCH(aux_pr_ue!$E$3&aux_pr_ue!L163,precos_ue!$A$2:$A$3191,0))=0,\"\",INDEX(precos_ue!$AG$2:$AG$3191,MATCH(aux_pr_ue!$E$3&aux_pr_ue!L163,precos_ue!$A$2:$A$3191,0)))","v":177.97085000000001},{"$f":"+IF(INDEX(precos_ue!$AH$2:$AH$3191,MATCH(aux_pr_ue!$F$3&aux_pr_ue!L163,precos_ue!$A$2:$A$3191,0))=0,\"\",INDEX(precos_ue!$AH$2:$AH$3191,MATCH(aux_pr_ue!$F$3&aux_pr_ue!L163,precos_ue!$A$2:$A$3191,0)))","v":128.5},"2004/04",177.97085000000001,128.5]
[null,null,null,null,null,null,null,null,null,{"$f":"+IF(INDEX(precos_ue!$AG$2:$AG$3191,MATCH(aux_pr_ue!$E$3&aux_pr_ue!L164,precos_ue!$A$2:$A$3191,0))=0,\"\",INDEX(precos_ue!$AG$2:$AG$3191,MATCH(aux_pr_ue!$E$3&aux_pr_ue!L164,precos_ue!$A$2:$A$3191,0)))","v":168.62080000000003},{"$f":"+IF(INDEX(precos_ue!$AH$2:$AH$3191,MATCH(aux_pr_ue!$F$3&aux_pr_ue!L164,precos_ue!$A$2:$A$3191,0))=0,\"\",INDEX(precos_ue!$AH$2:$AH$3191,MATCH(aux_pr_ue!$F$3&aux_pr_ue!L164,precos_ue!$A$2:$A$3191,0)))","v":128.5},"2004/05",168.62080000000003,128.5]
[null,null,null,null,null,null,null,null,null,{"$f":"+IF(INDEX(precos_ue!$AG$2:$AG$3191,MATCH(aux_pr_ue!$E$3&aux_pr_ue!L165,precos_ue!$A$2:$A$3191,0))=0,\"\",INDEX(precos_ue!$AG$2:$AG$3191,MATCH(aux_pr_ue!$E$3&aux_pr_ue!L165,precos_ue!$A$2:$A$3191,0)))","v":155.44900000000001},{"$f":"+IF(INDEX(precos_ue!$AH$2:$AH$3191,MATCH(aux_pr_ue!$F$3&aux_pr_ue!L165,precos_ue!$A$2:$A$3191,0))=0,\"\",INDEX(precos_ue!$AH$2:$AH$3191,MATCH(aux_pr_ue!$F$3&aux_pr_ue!L165,precos_ue!$A$2:$A$3191,0)))","v":128.5},"2004/06",155.44900000000001,128.5]
[null,null,null,null,null,null,null,null,null,{"$f":"+IF(INDEX(precos_ue!$AG$2:$AG$3191,MATCH(aux_pr_ue!$E$3&aux_pr_ue!L166,precos_ue!$A$2:$A$3191,0))=0,\"\",INDEX(precos_ue!$AG$2:$AG$3191,MATCH(aux_pr_ue!$E$3&aux_pr_ue!L166,precos_ue!$A$2:$A$3191,0)))","v":136.25207500000002},{"$f":"+IF(INDEX(precos_ue!$AH$2:$AH$3191,MATCH(aux_pr_ue!$F$3&aux_pr_ue!L166,precos_ue!$A$2:$A$3191,0))=0,\"\",INDEX(precos_ue!$AH$2:$AH$3191,MATCH(aux_pr_ue!$F$3&aux_pr_ue!L166,precos_ue!$A$2:$A$3191,0)))","v":128.5},"2004/07",136.25207500000002,128.5]
[null,null,null,null,null,null,null,null,null,{"$f":"+IF(INDEX(precos_ue!$AG$2:$AG$3191,MATCH(aux_pr_ue!$E$3&aux_pr_ue!L167,precos_ue!$A$2:$A$3191,0))=0,\"\",INDEX(precos_ue!$AG$2:$AG$3191,MATCH(aux_pr_ue!$E$3&aux_pr_ue!L167,precos_ue!$A$2:$A$3191,0)))","v":134.78960000000001},{"$f":"+IF(INDEX(precos_ue!$AH$2:$AH$3191,MATCH(aux_pr_ue!$F$3&aux_pr_ue!L167,precos_ue!$A$2:$A$3191,0))=0,\"\",INDEX(precos_ue!$AH$2:$AH$3191,MATCH(aux_pr_ue!$F$3&aux_pr_ue!L167,precos_ue!$A$2:$A$3191,0)))","v":108.6},"2004/08",134.78960000000001,108.6]
[null,null,null,null,null,null,null,null,null,{"$f":"+IF(INDEX(precos_ue!$AG$2:$AG$3191,MATCH(aux_pr_ue!$E$3&aux_pr_ue!L168,precos_ue!$A$2:$A$3191,0))=0,\"\",INDEX(precos_ue!$AG$2:$AG$3191,MATCH(aux_pr_ue!$E$3&aux_pr_ue!L168,precos_ue!$A$2:$A$3191,0)))","v":125.88743333333333},{"$f":"+IF(INDEX(precos_ue!$AH$2:$AH$3191,MATCH(aux_pr_ue!$F$3&aux_pr_ue!L168,precos_ue!$A$2:$A$3191,0))=0,\"\",INDEX(precos_ue!$AH$2:$AH$3191,MATCH(aux_pr_ue!$F$3&aux_pr_ue!L168,precos_ue!$A$2:$A$3191,0)))","v":113.2667},"2004/09",125.88743333333333,113.2667]
[null,null,null,null,null,null,null,null,null,{"$f":"+IF(INDEX(precos_ue!$AG$2:$AG$3191,MATCH(aux_pr_ue!$E$3&aux_pr_ue!L169,precos_ue!$A$2:$A$3191,0))=0,\"\",INDEX(precos_ue!$AG$2:$AG$3191,MATCH(aux_pr_ue!$E$3&aux_pr_ue!L169,precos_ue!$A$2:$A$3191,0)))","v":124.5719},{"$f":"+IF(INDEX(precos_ue!$AH$2:$AH$3191,MATCH(aux_pr_ue!$F$3&aux_pr_ue!L169,precos_ue!$A$2:$A$3191,0))=0,\"\",INDEX(precos_ue!$AH$2:$AH$3191,MATCH(aux_pr_ue!$F$3&aux_pr_ue!L169,precos_ue!$A$2:$A$3191,0)))","v":115.25},"2004/10",124.5719,115.25]
[null,null,null,null,null,null,null,null,null,{"$f":"+IF(INDEX(precos_ue!$AG$2:$AG$3191,MATCH(aux_pr_ue!$E$3&aux_pr_ue!L170,precos_ue!$A$2:$A$3191,0))=0,\"\",INDEX(precos_ue!$AG$2:$AG$3191,MATCH(aux_pr_ue!$E$3&aux_pr_ue!L170,precos_ue!$A$2:$A$3191,0)))","v":130.06265000000002},{"$f":"+IF(INDEX(precos_ue!$AH$2:$AH$3191,MATCH(aux_pr_ue!$F$3&aux_pr_ue!L170,precos_ue!$A$2:$A$3191,0))=0,\"\",INDEX(precos_ue!$AH$2:$AH$3191,MATCH(aux_pr_ue!$F$3&aux_pr_ue!L170,precos_ue!$A$2:$A$3191,0)))","v":115.9833},"2004/11",130.06265000000002,115.9833]
[null,null,null,null,null,null,null,null,null,{"$f":"+IF(INDEX(precos_ue!$AG$2:$AG$3191,MATCH(aux_pr_ue!$E$3&aux_pr_ue!L171,precos_ue!$A$2:$A$3191,0))=0,\"\",INDEX(precos_ue!$AG$2:$AG$3191,MATCH(aux_pr_ue!$E$3&aux_pr_ue!L171,precos_ue!$A$2:$A$3191,0)))","v":130.5625},{"$f":"+IF(INDEX(precos_ue!$AH$2:$AH$3191,MATCH(aux_pr_ue!$F$3&aux_pr_ue!L171,precos_ue!$A$2:$A$3191,0))=0,\"\",INDEX(precos_ue!$AH$2:$AH$3191,MATCH(aux_pr_ue!$F$3&aux_pr_ue!L171,precos_ue!$A$2:$A$3191,0)))","v":116.11290000000001},"2004/12",130.5625,116.11290000000001]
[null,null,null,null,null,null,null,null,null,{"$f":"+IF(INDEX(precos_ue!$AG$2:$AG$3191,MATCH(aux_pr_ue!$E$3&aux_pr_ue!L172,precos_ue!$A$2:$A$3191,0))=0,\"\",INDEX(precos_ue!$AG$2:$AG$3191,MATCH(aux_pr_ue!$E$3&aux_pr_ue!L172,precos_ue!$A$2:$A$3191,0)))","v":125.9516},{"$f":"+IF(INDEX(precos_ue!$AH$2:$AH$3191,MATCH(aux_pr_ue!$F$3&aux_pr_ue!L172,precos_ue!$A$2:$A$3191,0))=0,\"\",INDEX(precos_ue!$AH$2:$AH$3191,MATCH(aux_pr_ue!$F$3&aux_pr_ue!L172,precos_ue!$A$2:$A$3191,0)))","v":116},"2005/01",125.9516,116]
[null,null,null,null,null,null,null,null,null,{"$f":"+IF(INDEX(precos_ue!$AG$2:$AG$3191,MATCH(aux_pr_ue!$E$3&aux_pr_ue!L173,precos_ue!$A$2:$A$3191,0))=0,\"\",INDEX(precos_ue!$AG$2:$AG$3191,MATCH(aux_pr_ue!$E$3&aux_pr_ue!L173,precos_ue!$A$2:$A$3191,0)))","v":127.05125000000001},{"$f":"+IF(INDEX(precos_ue!$AH$2:$AH$3191,MATCH(aux_pr_ue!$F$3&aux_pr_ue!L173,precos_ue!$A$2:$A$3191,0))=0,\"\",INDEX(precos_ue!$AH$2:$AH$3191,MATCH(aux_pr_ue!$F$3&aux_pr_ue!L173,precos_ue!$A$2:$A$3191,0)))","v":116},"2005/02",127.05125000000001,116]
[null,null,null,null,null,null,null,null,null,{"$f":"+IF(INDEX(precos_ue!$AG$2:$AG$3191,MATCH(aux_pr_ue!$E$3&aux_pr_ue!L174,precos_ue!$A$2:$A$3191,0))=0,\"\",INDEX(precos_ue!$AG$2:$AG$3191,MATCH(aux_pr_ue!$E$3&aux_pr_ue!L174,precos_ue!$A$2:$A$3191,0)))","v":128.31450000000001},{"$f":"+IF(INDEX(precos_ue!$AH$2:$AH$3191,MATCH(aux_pr_ue!$F$3&aux_pr_ue!L174,precos_ue!$A$2:$A$3191,0))=0,\"\",INDEX(precos_ue!$AH$2:$AH$3191,MATCH(aux_pr_ue!$F$3&aux_pr_ue!L174,precos_ue!$A$2:$A$3191,0)))","v":114.5806},"2005/03",128.31450000000001,114.5806]
[null,null,null,null,null,null,null,null,null,{"$f":"+IF(INDEX(precos_ue!$AG$2:$AG$3191,MATCH(aux_pr_ue!$E$3&aux_pr_ue!L175,precos_ue!$A$2:$A$3191,0))=0,\"\",INDEX(precos_ue!$AG$2:$AG$3191,MATCH(aux_pr_ue!$E$3&aux_pr_ue!L175,precos_ue!$A$2:$A$3191,0)))","v":126.13330000000001},{"$f":"+IF(INDEX(precos_ue!$AH$2:$AH$3191,MATCH(aux_pr_ue!$F$3&aux_pr_ue!L175,precos_ue!$A$2:$A$3191,0))=0,\"\",INDEX(precos_ue!$AH$2:$AH$3191,MATCH(aux_pr_ue!$F$3&aux_pr_ue!L175,precos_ue!$A$2:$A$3191,0)))","v":112},"2005/04",126.13330000000001,112]
[null,null,null,null,null,null,null,null,null,{"$f":"+IF(INDEX(precos_ue!$AG$2:$AG$3191,MATCH(aux_pr_ue!$E$3&aux_pr_ue!L176,precos_ue!$A$2:$A$3191,0))=0,\"\",INDEX(precos_ue!$AG$2:$AG$3191,MATCH(aux_pr_ue!$E$3&aux_pr_ue!L176,precos_ue!$A$2:$A$3191,0)))","v":126.5},{"$f":"+IF(INDEX(precos_ue!$AH$2:$AH$3191,MATCH(aux_pr_ue!$F$3&aux_pr_ue!L176,precos_ue!$A$2:$A$3191,0))=0,\"\",INDEX(precos_ue!$AH$2:$AH$3191,MATCH(aux_pr_ue!$F$3&aux_pr_ue!L176,precos_ue!$A$2:$A$3191,0)))","v":114},"2005/05",126.5,114]
[null,null,null,null,null,null,null,null,null,{"$f":"+IF(INDEX(precos_ue!$AG$2:$AG$3191,MATCH(aux_pr_ue!$E$3&aux_pr_ue!L177,precos_ue!$A$2:$A$3191,0))=0,\"\",INDEX(precos_ue!$AG$2:$AG$3191,MATCH(aux_pr_ue!$E$3&aux_pr_ue!L177,precos_ue!$A$2:$A$3191,0)))","v":125.65000000000002},{"$f":"+IF(INDEX(precos_ue!$AH$2:$AH$3191,MATCH(aux_pr_ue!$F$3&aux_pr_ue!L177,precos_ue!$A$2:$A$3191,0))=0,\"\",INDEX(precos_ue!$AH$2:$AH$3191,MATCH(aux_pr_ue!$F$3&aux_pr_ue!L177,precos_ue!$A$2:$A$3191,0)))","v":114.73700000000001},"2005/06",125.65000000000002,114.73700000000001]
[null,null,null,null,null,null,null,null,null,{"$f":"+IF(INDEX(precos_ue!$AG$2:$AG$3191,MATCH(aux_pr_ue!$E$3&aux_pr_ue!L178,precos_ue!$A$2:$A$3191,0))=0,\"\",INDEX(precos_ue!$AG$2:$AG$3191,MATCH(aux_pr_ue!$E$3&aux_pr_ue!L178,precos_ue!$A$2:$A$3191,0)))","v":123.45163333333335},{"$f":"+IF(INDEX(precos_ue!$AH$2:$AH$3191,MATCH(aux_pr_ue!$F$3&aux_pr_ue!L178,precos_ue!$A$2:$A$3191,0))=0,\"\",INDEX(precos_ue!$AH$2:$AH$3191,MATCH(aux_pr_ue!$F$3&aux_pr_ue!L178,precos_ue!$A$2:$A$3191,0)))","v":115.67},"2005/07",123.45163333333335,115.67]
[null,null,null,null,null,null,null,null,null,{"$f":"+IF(INDEX(precos_ue!$AG$2:$AG$3191,MATCH(aux_pr_ue!$E$3&aux_pr_ue!L179,precos_ue!$A$2:$A$3191,0))=0,\"\",INDEX(precos_ue!$AG$2:$AG$3191,MATCH(aux_pr_ue!$E$3&aux_pr_ue!L179,precos_ue!$A$2:$A$3191,0)))","v":122.75806666666669},{"$f":"+IF(INDEX(precos_ue!$AH$2:$AH$3191,MATCH(aux_pr_ue!$F$3&aux_pr_ue!L179,precos_ue!$A$2:$A$3191,0))=0,\"\",INDEX(precos_ue!$AH$2:$AH$3191,MATCH(aux_pr_ue!$F$3&aux_pr_ue!L179,precos_ue!$A$2:$A$3191,0)))","v":106.16499999999999},"2005/08",122.75806666666669,106.16499999999999]
[null,null,null,null,null,null,null,null,null,{"$f":"+IF(INDEX(precos_ue!$AG$2:$AG$3191,MATCH(aux_pr_ue!$E$3&aux_pr_ue!L180,precos_ue!$A$2:$A$3191,0))=0,\"\",INDEX(precos_ue!$AG$2:$AG$3191,MATCH(aux_pr_ue!$E$3&aux_pr_ue!L180,precos_ue!$A$2:$A$3191,0)))","v":125.5},{"$f":"+IF(INDEX(precos_ue!$AH$2:$AH$3191,MATCH(aux_pr_ue!$F$3&aux_pr_ue!L180,precos_ue!$A$2:$A$3191,0))=0,\"\",INDEX(precos_ue!$AH$2:$AH$3191,MATCH(aux_pr_ue!$F$3&aux_pr_ue!L180,precos_ue!$A$2:$A$3191,0)))","v":106.18835},"2005/09",125.5,106.18835]
[null,null,null,null,null,null,null,null,null,{"$f":"+IF(INDEX(precos_ue!$AG$2:$AG$3191,MATCH(aux_pr_ue!$E$3&aux_pr_ue!L181,precos_ue!$A$2:$A$3191,0))=0,\"\",INDEX(precos_ue!$AG$2:$AG$3191,MATCH(aux_pr_ue!$E$3&aux_pr_ue!L181,precos_ue!$A$2:$A$3191,0)))","v":127},{"$f":"+IF(INDEX(precos_ue!$AH$2:$AH$3191,MATCH(aux_pr_ue!$F$3&aux_pr_ue!L181,precos_ue!$A$2:$A$3191,0))=0,\"\",INDEX(precos_ue!$AH$2:$AH$3191,MATCH(aux_pr_ue!$F$3&aux_pr_ue!L181,precos_ue!$A$2:$A$3191,0)))","v":105.6829},"2005/10",127,105.6829]
[null,null,null,null,null,null,null,null,null,{"$f":"+IF(INDEX(precos_ue!$AG$2:$AG$3191,MATCH(aux_pr_ue!$E$3&aux_pr_ue!L182,precos_ue!$A$2:$A$3191,0))=0,\"\",INDEX(precos_ue!$AG$2:$AG$3191,MATCH(aux_pr_ue!$E$3&aux_pr_ue!L182,precos_ue!$A$2:$A$3191,0)))","v":132.73910000000001},{"$f":"+IF(INDEX(precos_ue!$AH$2:$AH$3191,MATCH(aux_pr_ue!$F$3&aux_pr_ue!L182,precos_ue!$A$2:$A$3191,0))=0,\"\",INDEX(precos_ue!$AH$2:$AH$3191,MATCH(aux_pr_ue!$F$3&aux_pr_ue!L182,precos_ue!$A$2:$A$3191,0)))","v":105.5},"2005/11",132.73910000000001,105.5]
[null,null,null,null,null,null,null,null,null,{"$f":"+IF(INDEX(precos_ue!$AG$2:$AG$3191,MATCH(aux_pr_ue!$E$3&aux_pr_ue!L183,precos_ue!$A$2:$A$3191,0))=0,\"\",INDEX(precos_ue!$AG$2:$AG$3191,MATCH(aux_pr_ue!$E$3&aux_pr_ue!L183,precos_ue!$A$2:$A$3191,0)))","v":133.58330000000001},{"$f":"+IF(INDEX(precos_ue!$AH$2:$AH$3191,MATCH(aux_pr_ue!$F$3&aux_pr_ue!L183,precos_ue!$A$2:$A$3191,0))=0,\"\",INDEX(precos_ue!$AH$2:$AH$3191,MATCH(aux_pr_ue!$F$3&aux_pr_ue!L183,precos_ue!$A$2:$A$3191,0)))","v":106},"2005/12",133.58330000000001,106]
[null,null,null,null,null,null,null,null,null,{"$f":"+IF(INDEX(precos_ue!$AG$2:$AG$3191,MATCH(aux_pr_ue!$E$3&aux_pr_ue!L184,precos_ue!$A$2:$A$3191,0))=0,\"\",INDEX(precos_ue!$AG$2:$AG$3191,MATCH(aux_pr_ue!$E$3&aux_pr_ue!L184,precos_ue!$A$2:$A$3191,0)))","v":130.7903},{"$f":"+IF(INDEX(precos_ue!$AH$2:$AH$3191,MATCH(aux_pr_ue!$F$3&aux_pr_ue!L184,precos_ue!$A$2:$A$3191,0))=0,\"\",INDEX(precos_ue!$AH$2:$AH$3191,MATCH(aux_pr_ue!$F$3&aux_pr_ue!L184,precos_ue!$A$2:$A$3191,0)))","v":106},"2006/01",130.7903,106]
[null,null,null,null,null,null,null,null,null,{"$f":"+IF(INDEX(precos_ue!$AG$2:$AG$3191,MATCH(aux_pr_ue!$E$3&aux_pr_ue!L185,precos_ue!$A$2:$A$3191,0))=0,\"\",INDEX(precos_ue!$AG$2:$AG$3191,MATCH(aux_pr_ue!$E$3&aux_pr_ue!L185,precos_ue!$A$2:$A$3191,0)))","v":130.60390000000001},{"$f":"+IF(INDEX(precos_ue!$AH$2:$AH$3191,MATCH(aux_pr_ue!$F$3&aux_pr_ue!L185,precos_ue!$A$2:$A$3191,0))=0,\"\",INDEX(precos_ue!$AH$2:$AH$3191,MATCH(aux_pr_ue!$F$3&aux_pr_ue!L185,precos_ue!$A$2:$A$3191,0)))","v":106},"2006/02",130.60390000000001,106]
[null,null,null,null,null,null,null,null,null,{"$f":"+IF(INDEX(precos_ue!$AG$2:$AG$3191,MATCH(aux_pr_ue!$E$3&aux_pr_ue!L186,precos_ue!$A$2:$A$3191,0))=0,\"\",INDEX(precos_ue!$AG$2:$AG$3191,MATCH(aux_pr_ue!$E$3&aux_pr_ue!L186,precos_ue!$A$2:$A$3191,0)))","v":129.87100000000001},{"$f":"+IF(INDEX(precos_ue!$AH$2:$AH$3191,MATCH(aux_pr_ue!$F$3&aux_pr_ue!L186,precos_ue!$A$2:$A$3191,0))=0,\"\",INDEX(precos_ue!$AH$2:$AH$3191,MATCH(aux_pr_ue!$F$3&aux_pr_ue!L186,precos_ue!$A$2:$A$3191,0)))","v":106},"2006/03",129.87100000000001,106]
[null,null,null,null,null,null,null,null,null,{"$f":"+IF(INDEX(precos_ue!$AG$2:$AG$3191,MATCH(aux_pr_ue!$E$3&aux_pr_ue!L187,precos_ue!$A$2:$A$3191,0))=0,\"\",INDEX(precos_ue!$AG$2:$AG$3191,MATCH(aux_pr_ue!$E$3&aux_pr_ue!L187,precos_ue!$A$2:$A$3191,0)))","v":119.7988},{"$f":"+IF(INDEX(precos_ue!$AH$2:$AH$3191,MATCH(aux_pr_ue!$F$3&aux_pr_ue!L187,precos_ue!$A$2:$A$3191,0))=0,\"\",INDEX(precos_ue!$AH$2:$AH$3191,MATCH(aux_pr_ue!$F$3&aux_pr_ue!L187,precos_ue!$A$2:$A$3191,0)))","v":106},"2006/04",119.7988,106]
[null,null,null,null,null,null,null,null,null,{"$f":"+IF(INDEX(precos_ue!$AG$2:$AG$3191,MATCH(aux_pr_ue!$E$3&aux_pr_ue!L188,precos_ue!$A$2:$A$3191,0))=0,\"\",INDEX(precos_ue!$AG$2:$AG$3191,MATCH(aux_pr_ue!$E$3&aux_pr_ue!L188,precos_ue!$A$2:$A$3191,0)))","v":135.77350000000001},{"$f":"+IF(INDEX(precos_ue!$AH$2:$AH$3191,MATCH(aux_pr_ue!$F$3&aux_pr_ue!L188,precos_ue!$A$2:$A$3191,0))=0,\"\",INDEX(precos_ue!$AH$2:$AH$3191,MATCH(aux_pr_ue!$F$3&aux_pr_ue!L188,precos_ue!$A$2:$A$3191,0)))","v":106},"2006/05",135.77350000000001,106]
[null,null,null,null,null,null,null,null,null,{"$f":"+IF(INDEX(precos_ue!$AG$2:$AG$3191,MATCH(aux_pr_ue!$E$3&aux_pr_ue!L189,precos_ue!$A$2:$A$3191,0))=0,\"\",INDEX(precos_ue!$AG$2:$AG$3191,MATCH(aux_pr_ue!$E$3&aux_pr_ue!L189,precos_ue!$A$2:$A$3191,0)))","v":133.07999999999998},{"$f":"+IF(INDEX(precos_ue!$AH$2:$AH$3191,MATCH(aux_pr_ue!$F$3&aux_pr_ue!L189,precos_ue!$A$2:$A$3191,0))=0,\"\",INDEX(precos_ue!$AH$2:$AH$3191,MATCH(aux_pr_ue!$F$3&aux_pr_ue!L189,precos_ue!$A$2:$A$3191,0)))","v":106},"2006/06",133.07999999999998,106]
[null,null,null,null,null,null,null,null,null,{"$f":"+IF(INDEX(precos_ue!$AG$2:$AG$3191,MATCH(aux_pr_ue!$E$3&aux_pr_ue!L190,precos_ue!$A$2:$A$3191,0))=0,\"\",INDEX(precos_ue!$AG$2:$AG$3191,MATCH(aux_pr_ue!$E$3&aux_pr_ue!L190,precos_ue!$A$2:$A$3191,0)))","v":132.45323999999999},{"$f":"+IF(INDEX(precos_ue!$AH$2:$AH$3191,MATCH(aux_pr_ue!$F$3&aux_pr_ue!L190,precos_ue!$A$2:$A$3191,0))=0,\"\",INDEX(precos_ue!$AH$2:$AH$3191,MATCH(aux_pr_ue!$F$3&aux_pr_ue!L190,precos_ue!$A$2:$A$3191,0)))","v":106},"2006/07",132.45323999999999,106]
[null,null,null,null,null,null,null,null,null,{"$f":"+IF(INDEX(precos_ue!$AG$2:$AG$3191,MATCH(aux_pr_ue!$E$3&aux_pr_ue!L191,precos_ue!$A$2:$A$3191,0))=0,\"\",INDEX(precos_ue!$AG$2:$AG$3191,MATCH(aux_pr_ue!$E$3&aux_pr_ue!L191,precos_ue!$A$2:$A$3191,0)))","v":132.43089999999998},{"$f":"+IF(INDEX(precos_ue!$AH$2:$AH$3191,MATCH(aux_pr_ue!$F$3&aux_pr_ue!L191,precos_ue!$A$2:$A$3191,0))=0,\"\",INDEX(precos_ue!$AH$2:$AH$3191,MATCH(aux_pr_ue!$F$3&aux_pr_ue!L191,precos_ue!$A$2:$A$3191,0)))","v":114.56490000000001},"2006/08",132.43089999999998,114.56490000000001]
[null,null,null,null,null,null,null,null,null,{"$f":"+IF(INDEX(precos_ue!$AG$2:$AG$3191,MATCH(aux_pr_ue!$E$3&aux_pr_ue!L192,precos_ue!$A$2:$A$3191,0))=0,\"\",INDEX(precos_ue!$AG$2:$AG$3191,MATCH(aux_pr_ue!$E$3&aux_pr_ue!L192,precos_ue!$A$2:$A$3191,0)))","v":143.1798},{"$f":"+IF(INDEX(precos_ue!$AH$2:$AH$3191,MATCH(aux_pr_ue!$F$3&aux_pr_ue!L192,precos_ue!$A$2:$A$3191,0))=0,\"\",INDEX(precos_ue!$AH$2:$AH$3191,MATCH(aux_pr_ue!$F$3&aux_pr_ue!L192,precos_ue!$A$2:$A$3191,0)))","v":118.58770000000001},"2006/09",143.1798,118.58770000000001]
[null,null,null,null,null,null,null,null,null,{"$f":"+IF(INDEX(precos_ue!$AG$2:$AG$3191,MATCH(aux_pr_ue!$E$3&aux_pr_ue!L193,precos_ue!$A$2:$A$3191,0))=0,\"\",INDEX(precos_ue!$AG$2:$AG$3191,MATCH(aux_pr_ue!$E$3&aux_pr_ue!L193,precos_ue!$A$2:$A$3191,0)))","v":145.13333333333333},{"$f":"+IF(INDEX(precos_ue!$AH$2:$AH$3191,MATCH(aux_pr_ue!$F$3&aux_pr_ue!L193,precos_ue!$A$2:$A$3191,0))=0,\"\",INDEX(precos_ue!$AH$2:$AH$3191,MATCH(aux_pr_ue!$F$3&aux_pr_ue!L193,precos_ue!$A$2:$A$3191,0)))","v":125.40955},"2006/10",145.13333333333333,125.40955]
[null,null,null,null,null,null,null,null,null,{"$f":"+IF(INDEX(precos_ue!$AG$2:$AG$3191,MATCH(aux_pr_ue!$E$3&aux_pr_ue!L194,precos_ue!$A$2:$A$3191,0))=0,\"\",INDEX(precos_ue!$AG$2:$AG$3191,MATCH(aux_pr_ue!$E$3&aux_pr_ue!L194,precos_ue!$A$2:$A$3191,0)))","v":173.26440000000002},{"$f":"+IF(INDEX(precos_ue!$AH$2:$AH$3191,MATCH(aux_pr_ue!$F$3&aux_pr_ue!L194,precos_ue!$A$2:$A$3191,0))=0,\"\",INDEX(precos_ue!$AH$2:$AH$3191,MATCH(aux_pr_ue!$F$3&aux_pr_ue!L194,precos_ue!$A$2:$A$3191,0)))","v":127.9115},"2006/11",173.26440000000002,127.9115]
[null,null,null,null,null,null,null,null,null,{"$f":"+IF(INDEX(precos_ue!$AG$2:$AG$3191,MATCH(aux_pr_ue!$E$3&aux_pr_ue!L195,precos_ue!$A$2:$A$3191,0))=0,\"\",INDEX(precos_ue!$AG$2:$AG$3191,MATCH(aux_pr_ue!$E$3&aux_pr_ue!L195,precos_ue!$A$2:$A$3191,0)))","v":170.88890000000004},{"$f":"+IF(INDEX(precos_ue!$AH$2:$AH$3191,MATCH(aux_pr_ue!$F$3&aux_pr_ue!L195,precos_ue!$A$2:$A$3191,0))=0,\"\",INDEX(precos_ue!$AH$2:$AH$3191,MATCH(aux_pr_ue!$F$3&aux_pr_ue!L195,precos_ue!$A$2:$A$3191,0)))","v":126.4371},"2006/12",170.88890000000004,126.4371]
[null,null,null,null,null,null,null,null,null,{"$f":"+IF(INDEX(precos_ue!$AG$2:$AG$3191,MATCH(aux_pr_ue!$E$3&aux_pr_ue!L196,precos_ue!$A$2:$A$3191,0))=0,\"\",INDEX(precos_ue!$AG$2:$AG$3191,MATCH(aux_pr_ue!$E$3&aux_pr_ue!L196,precos_ue!$A$2:$A$3191,0)))","v":170.75},{"$f":"+IF(INDEX(precos_ue!$AH$2:$AH$3191,MATCH(aux_pr_ue!$F$3&aux_pr_ue!L196,precos_ue!$A$2:$A$3191,0))=0,\"\",INDEX(precos_ue!$AH$2:$AH$3191,MATCH(aux_pr_ue!$F$3&aux_pr_ue!L196,precos_ue!$A$2:$A$3191,0)))","v":128.6866},"2007/01",170.75,128.6866]
[null,null,null,null,null,null,null,null,null,{"$f":"+IF(INDEX(precos_ue!$AG$2:$AG$3191,MATCH(aux_pr_ue!$E$3&aux_pr_ue!L197,precos_ue!$A$2:$A$3191,0))=0,\"\",INDEX(precos_ue!$AG$2:$AG$3191,MATCH(aux_pr_ue!$E$3&aux_pr_ue!L197,precos_ue!$A$2:$A$3191,0)))","v":169.25},{"$f":"+IF(INDEX(precos_ue!$AH$2:$AH$3191,MATCH(aux_pr_ue!$F$3&aux_pr_ue!L197,precos_ue!$A$2:$A$3191,0))=0,\"\",INDEX(precos_ue!$AH$2:$AH$3191,MATCH(aux_pr_ue!$F$3&aux_pr_ue!L197,precos_ue!$A$2:$A$3191,0)))","v":129.04250000000002},"2007/02",169.25,129.04250000000002]
[null,null,null,null,null,null,null,null,null,{"$f":"+IF(INDEX(precos_ue!$AG$2:$AG$3191,MATCH(aux_pr_ue!$E$3&aux_pr_ue!L198,precos_ue!$A$2:$A$3191,0))=0,\"\",INDEX(precos_ue!$AG$2:$AG$3191,MATCH(aux_pr_ue!$E$3&aux_pr_ue!L198,precos_ue!$A$2:$A$3191,0)))","v":170.44443333333334},{"$f":"+IF(INDEX(precos_ue!$AH$2:$AH$3191,MATCH(aux_pr_ue!$F$3&aux_pr_ue!L198,precos_ue!$A$2:$A$3191,0))=0,\"\",INDEX(precos_ue!$AH$2:$AH$3191,MATCH(aux_pr_ue!$F$3&aux_pr_ue!L198,precos_ue!$A$2:$A$3191,0)))","v":126.75},"2007/03",170.44443333333334,126.75]
[null,null,null,null,null,null,null,null,null,{"$f":"+IF(INDEX(precos_ue!$AG$2:$AG$3191,MATCH(aux_pr_ue!$E$3&aux_pr_ue!L199,precos_ue!$A$2:$A$3191,0))=0,\"\",INDEX(precos_ue!$AG$2:$AG$3191,MATCH(aux_pr_ue!$E$3&aux_pr_ue!L199,precos_ue!$A$2:$A$3191,0)))","v":173},{"$f":"+IF(INDEX(precos_ue!$AH$2:$AH$3191,MATCH(aux_pr_ue!$F$3&aux_pr_ue!L199,precos_ue!$A$2:$A$3191,0))=0,\"\",INDEX(precos_ue!$AH$2:$AH$3191,MATCH(aux_pr_ue!$F$3&aux_pr_ue!L199,precos_ue!$A$2:$A$3191,0)))","v":126.18815000000001},"2007/04",173,126.18815000000001]
[null,null,null,null,null,null,null,null,null,{"$f":"+IF(INDEX(precos_ue!$AG$2:$AG$3191,MATCH(aux_pr_ue!$E$3&aux_pr_ue!L200,precos_ue!$A$2:$A$3191,0))=0,\"\",INDEX(precos_ue!$AG$2:$AG$3191,MATCH(aux_pr_ue!$E$3&aux_pr_ue!L200,precos_ue!$A$2:$A$3191,0)))","v":176.4091},{"$f":"+IF(INDEX(precos_ue!$AH$2:$AH$3191,MATCH(aux_pr_ue!$F$3&aux_pr_ue!L200,precos_ue!$A$2:$A$3191,0))=0,\"\",INDEX(precos_ue!$AH$2:$AH$3191,MATCH(aux_pr_ue!$F$3&aux_pr_ue!L200,precos_ue!$A$2:$A$3191,0)))","v":127.12225000000001},"2007/05",176.4091,127.12225000000001]
[null,null,null,null,null,null,null,null,null,{"$f":"+IF(INDEX(precos_ue!$AG$2:$AG$3191,MATCH(aux_pr_ue!$E$3&aux_pr_ue!L201,precos_ue!$A$2:$A$3191,0))=0,\"\",INDEX(precos_ue!$AG$2:$AG$3191,MATCH(aux_pr_ue!$E$3&aux_pr_ue!L201,precos_ue!$A$2:$A$3191,0)))","v":186.95},{"$f":"+IF(INDEX(precos_ue!$AH$2:$AH$3191,MATCH(aux_pr_ue!$F$3&aux_pr_ue!L201,precos_ue!$A$2:$A$3191,0))=0,\"\",INDEX(precos_ue!$AH$2:$AH$3191,MATCH(aux_pr_ue!$F$3&aux_pr_ue!L201,precos_ue!$A$2:$A$3191,0)))","v":125.8233},"2007/06",186.95,125.8233]
[null,null,null,null,null,null,null,null,null,{"$f":"+IF(INDEX(precos_ue!$AG$2:$AG$3191,MATCH(aux_pr_ue!$E$3&aux_pr_ue!L202,precos_ue!$A$2:$A$3191,0))=0,\"\",INDEX(precos_ue!$AG$2:$AG$3191,MATCH(aux_pr_ue!$E$3&aux_pr_ue!L202,precos_ue!$A$2:$A$3191,0)))","v":192.29153333333332},{"$f":"+IF(INDEX(precos_ue!$AH$2:$AH$3191,MATCH(aux_pr_ue!$F$3&aux_pr_ue!L202,precos_ue!$A$2:$A$3191,0))=0,\"\",INDEX(precos_ue!$AH$2:$AH$3191,MATCH(aux_pr_ue!$F$3&aux_pr_ue!L202,precos_ue!$A$2:$A$3191,0)))","v":132.33000000000001},"2007/07",192.29153333333332,132.33000000000001]
[null,null,null,null,null,null,null,null,null,{"$f":"+IF(INDEX(precos_ue!$AG$2:$AG$3191,MATCH(aux_pr_ue!$E$3&aux_pr_ue!L203,precos_ue!$A$2:$A$3191,0))=0,\"\",INDEX(precos_ue!$AG$2:$AG$3191,MATCH(aux_pr_ue!$E$3&aux_pr_ue!L203,precos_ue!$A$2:$A$3191,0)))","v":212.26666},{"$f":"+IF(INDEX(precos_ue!$AH$2:$AH$3191,MATCH(aux_pr_ue!$F$3&aux_pr_ue!L203,precos_ue!$A$2:$A$3191,0))=0,\"\",INDEX(precos_ue!$AH$2:$AH$3191,MATCH(aux_pr_ue!$F$3&aux_pr_ue!L203,precos_ue!$A$2:$A$3191,0)))","v":174.17870000000002},"2007/08",212.26666,174.17870000000002]
[null,null,null,null,null,null,null,null,null,{"$f":"+IF(INDEX(precos_ue!$AG$2:$AG$3191,MATCH(aux_pr_ue!$E$3&aux_pr_ue!L204,precos_ue!$A$2:$A$3191,0))=0,\"\",INDEX(precos_ue!$AG$2:$AG$3191,MATCH(aux_pr_ue!$E$3&aux_pr_ue!L204,precos_ue!$A$2:$A$3191,0)))","v":229.13665},{"$f":"+IF(INDEX(precos_ue!$AH$2:$AH$3191,MATCH(aux_pr_ue!$F$3&aux_pr_ue!L204,precos_ue!$A$2:$A$3191,0))=0,\"\",INDEX(precos_ue!$AH$2:$AH$3191,MATCH(aux_pr_ue!$F$3&aux_pr_ue!L204,precos_ue!$A$2:$A$3191,0)))","v":215.44},"2007/09",229.13665,215.44]
[null,null,null,null,null,null,null,null,null,{"$f":"+IF(INDEX(precos_ue!$AG$2:$AG$3191,MATCH(aux_pr_ue!$E$3&aux_pr_ue!L205,precos_ue!$A$2:$A$3191,0))=0,\"\",INDEX(precos_ue!$AG$2:$AG$3191,MATCH(aux_pr_ue!$E$3&aux_pr_ue!L205,precos_ue!$A$2:$A$3191,0)))","v":222.98385000000002},{"$f":"+IF(INDEX(precos_ue!$AH$2:$AH$3191,MATCH(aux_pr_ue!$F$3&aux_pr_ue!L205,precos_ue!$A$2:$A$3191,0))=0,\"\",INDEX(precos_ue!$AH$2:$AH$3191,MATCH(aux_pr_ue!$F$3&aux_pr_ue!L205,precos_ue!$A$2:$A$3191,0)))","v":224.79350000000002},"2007/10",222.98385000000002,224.79350000000002]
[null,null,null,null,null,null,null,null,null,{"$f":"+IF(INDEX(precos_ue!$AG$2:$AG$3191,MATCH(aux_pr_ue!$E$3&aux_pr_ue!L206,precos_ue!$A$2:$A$3191,0))=0,\"\",INDEX(precos_ue!$AG$2:$AG$3191,MATCH(aux_pr_ue!$E$3&aux_pr_ue!L206,precos_ue!$A$2:$A$3191,0)))","v":261.75},{"$f":"+IF(INDEX(precos_ue!$AH$2:$AH$3191,MATCH(aux_pr_ue!$F$3&aux_pr_ue!L206,precos_ue!$A$2:$A$3191,0))=0,\"\",INDEX(precos_ue!$AH$2:$AH$3191,MATCH(aux_pr_ue!$F$3&aux_pr_ue!L206,precos_ue!$A$2:$A$3191,0)))","v":216.48},"2007/11",261.75,216.48]
[null,null,null,null,null,null,null,null,null,{"$f":"+IF(INDEX(precos_ue!$AG$2:$AG$3191,MATCH(aux_pr_ue!$E$3&aux_pr_ue!L207,precos_ue!$A$2:$A$3191,0))=0,\"\",INDEX(precos_ue!$AG$2:$AG$3191,MATCH(aux_pr_ue!$E$3&aux_pr_ue!L207,precos_ue!$A$2:$A$3191,0)))","v":273.85485},{"$f":"+IF(INDEX(precos_ue!$AH$2:$AH$3191,MATCH(aux_pr_ue!$F$3&aux_pr_ue!L207,precos_ue!$A$2:$A$3191,0))=0,\"\",INDEX(precos_ue!$AH$2:$AH$3191,MATCH(aux_pr_ue!$F$3&aux_pr_ue!L207,precos_ue!$A$2:$A$3191,0)))","v":207.78710000000001},"2007/12",273.85485,207.78710000000001]
[null,null,null,null,null,null,null,null,null,{"$f":"+IF(INDEX(precos_ue!$AG$2:$AG$3191,MATCH(aux_pr_ue!$E$3&aux_pr_ue!L208,precos_ue!$A$2:$A$3191,0))=0,\"\",INDEX(precos_ue!$AG$2:$AG$3191,MATCH(aux_pr_ue!$E$3&aux_pr_ue!L208,precos_ue!$A$2:$A$3191,0)))","v":275},{"$f":"+IF(INDEX(precos_ue!$AH$2:$AH$3191,MATCH(aux_pr_ue!$F$3&aux_pr_ue!L208,precos_ue!$A$2:$A$3191,0))=0,\"\",INDEX(precos_ue!$AH$2:$AH$3191,MATCH(aux_pr_ue!$F$3&aux_pr_ue!L208,precos_ue!$A$2:$A$3191,0)))","v":215.04520000000002},"2008/01",275,215.04520000000002]
[null,null,null,null,null,null,null,null,null,{"$f":"+IF(INDEX(precos_ue!$AG$2:$AG$3191,MATCH(aux_pr_ue!$E$3&aux_pr_ue!L209,precos_ue!$A$2:$A$3191,0))=0,\"\",INDEX(precos_ue!$AG$2:$AG$3191,MATCH(aux_pr_ue!$E$3&aux_pr_ue!L209,precos_ue!$A$2:$A$3191,0)))","v":269.72415000000001},{"$f":"+IF(INDEX(precos_ue!$AH$2:$AH$3191,MATCH(aux_pr_ue!$F$3&aux_pr_ue!L209,precos_ue!$A$2:$A$3191,0))=0,\"\",INDEX(precos_ue!$AH$2:$AH$3191,MATCH(aux_pr_ue!$F$3&aux_pr_ue!L209,precos_ue!$A$2:$A$3191,0)))","v":225.0155},"2008/02",269.72415000000001,225.0155]
[null,null,null,null,null,null,null,null,null,{"$f":"+IF(INDEX(precos_ue!$AG$2:$AG$3191,MATCH(aux_pr_ue!$E$3&aux_pr_ue!L210,precos_ue!$A$2:$A$3191,0))=0,\"\",INDEX(precos_ue!$AG$2:$AG$3191,MATCH(aux_pr_ue!$E$3&aux_pr_ue!L210,precos_ue!$A$2:$A$3191,0)))","v":267.43550000000005},{"$f":"+IF(INDEX(precos_ue!$AH$2:$AH$3191,MATCH(aux_pr_ue!$F$3&aux_pr_ue!L210,precos_ue!$A$2:$A$3191,0))=0,\"\",INDEX(precos_ue!$AH$2:$AH$3191,MATCH(aux_pr_ue!$F$3&aux_pr_ue!L210,precos_ue!$A$2:$A$3191,0)))","v":231.28740000000002},"2008/03",267.43550000000005,231.28740000000002]
[null,null,null,null,null,null,null,null,null,{"$f":"+IF(INDEX(precos_ue!$AG$2:$AG$3191,MATCH(aux_pr_ue!$E$3&aux_pr_ue!L211,precos_ue!$A$2:$A$3191,0))=0,\"\",INDEX(precos_ue!$AG$2:$AG$3191,MATCH(aux_pr_ue!$E$3&aux_pr_ue!L211,precos_ue!$A$2:$A$3191,0)))","v":263},{"$f":"+IF(INDEX(precos_ue!$AH$2:$AH$3191,MATCH(aux_pr_ue!$F$3&aux_pr_ue!L211,precos_ue!$A$2:$A$3191,0))=0,\"\",INDEX(precos_ue!$AH$2:$AH$3191,MATCH(aux_pr_ue!$F$3&aux_pr_ue!L211,precos_ue!$A$2:$A$3191,0)))","v":214.9083},"2008/04",263,214.9083]
[null,null,null,null,null,null,null,null,null,{"$f":"+IF(INDEX(precos_ue!$AG$2:$AG$3191,MATCH(aux_pr_ue!$E$3&aux_pr_ue!L212,precos_ue!$A$2:$A$3191,0))=0,\"\",INDEX(precos_ue!$AG$2:$AG$3191,MATCH(aux_pr_ue!$E$3&aux_pr_ue!L212,precos_ue!$A$2:$A$3191,0)))","v":238.25810000000001},{"$f":"+IF(INDEX(precos_ue!$AH$2:$AH$3191,MATCH(aux_pr_ue!$F$3&aux_pr_ue!L212,precos_ue!$A$2:$A$3191,0))=0,\"\",INDEX(precos_ue!$AH$2:$AH$3191,MATCH(aux_pr_ue!$F$3&aux_pr_ue!L212,precos_ue!$A$2:$A$3191,0)))","v":194.96770000000001},"2008/05",238.25810000000001,194.96770000000001]
[null,null,null,null,null,null,null,null,null,{"$f":"+IF(INDEX(precos_ue!$AG$2:$AG$3191,MATCH(aux_pr_ue!$E$3&aux_pr_ue!L213,precos_ue!$A$2:$A$3191,0))=0,\"\",INDEX(precos_ue!$AG$2:$AG$3191,MATCH(aux_pr_ue!$E$3&aux_pr_ue!L213,precos_ue!$A$2:$A$3191,0)))","v":232.23330000000001},{"$f":"+IF(INDEX(precos_ue!$AH$2:$AH$3191,MATCH(aux_pr_ue!$F$3&aux_pr_ue!L213,precos_ue!$A$2:$A$3191,0))=0,\"\",INDEX(precos_ue!$AH$2:$AH$3191,MATCH(aux_pr_ue!$F$3&aux_pr_ue!L213,precos_ue!$A$2:$A$3191,0)))","v":192},"2008/06",232.23330000000001,192]
[null,null,null,null,null,null,null,null,null,{"$f":"+IF(INDEX(precos_ue!$AG$2:$AG$3191,MATCH(aux_pr_ue!$E$3&aux_pr_ue!L214,precos_ue!$A$2:$A$3191,0))=0,\"\",INDEX(precos_ue!$AG$2:$AG$3191,MATCH(aux_pr_ue!$E$3&aux_pr_ue!L214,precos_ue!$A$2:$A$3191,0)))","v":217.56954999999999},{"$f":"+IF(INDEX(precos_ue!$AH$2:$AH$3191,MATCH(aux_pr_ue!$F$3&aux_pr_ue!L214,precos_ue!$A$2:$A$3191,0))=0,\"\",INDEX(precos_ue!$AH$2:$AH$3191,MATCH(aux_pr_ue!$F$3&aux_pr_ue!L214,precos_ue!$A$2:$A$3191,0)))","v":193.25},"2008/07",217.56954999999999,193.25]
[null,null,null,null,null,null,null,null,null,{"$f":"+IF(INDEX(precos_ue!$AG$2:$AG$3191,MATCH(aux_pr_ue!$E$3&aux_pr_ue!L215,precos_ue!$A$2:$A$3191,0))=0,\"\",INDEX(precos_ue!$AG$2:$AG$3191,MATCH(aux_pr_ue!$E$3&aux_pr_ue!L215,precos_ue!$A$2:$A$3191,0)))","v":200.80644999999998},{"$f":"+IF(INDEX(precos_ue!$AH$2:$AH$3191,MATCH(aux_pr_ue!$F$3&aux_pr_ue!L215,precos_ue!$A$2:$A$3191,0))=0,\"\",INDEX(precos_ue!$AH$2:$AH$3191,MATCH(aux_pr_ue!$F$3&aux_pr_ue!L215,precos_ue!$A$2:$A$3191,0)))","v":182.614},"2008/08",200.80644999999998,182.614]
[null,null,null,null,null,null,null,null,null,{"$f":"+IF(INDEX(precos_ue!$AG$2:$AG$3191,MATCH(aux_pr_ue!$E$3&aux_pr_ue!L216,precos_ue!$A$2:$A$3191,0))=0,\"\",INDEX(precos_ue!$AG$2:$AG$3191,MATCH(aux_pr_ue!$E$3&aux_pr_ue!L216,precos_ue!$A$2:$A$3191,0)))","v":184.56665000000001},{"$f":"+IF(INDEX(precos_ue!$AH$2:$AH$3191,MATCH(aux_pr_ue!$F$3&aux_pr_ue!L216,precos_ue!$A$2:$A$3191,0))=0,\"\",INDEX(precos_ue!$AH$2:$AH$3191,MATCH(aux_pr_ue!$F$3&aux_pr_ue!L216,precos_ue!$A$2:$A$3191,0)))","v":187.065},"2008/09",184.56665000000001,187.065]
[null,null,null,null,null,null,null,null,null,{"$f":"+IF(INDEX(precos_ue!$AG$2:$AG$3191,MATCH(aux_pr_ue!$E$3&aux_pr_ue!L217,precos_ue!$A$2:$A$3191,0))=0,\"\",INDEX(precos_ue!$AG$2:$AG$3191,MATCH(aux_pr_ue!$E$3&aux_pr_ue!L217,precos_ue!$A$2:$A$3191,0)))","v":155.16130000000001},{"$f":"+IF(INDEX(precos_ue!$AH$2:$AH$3191,MATCH(aux_pr_ue!$F$3&aux_pr_ue!L217,precos_ue!$A$2:$A$3191,0))=0,\"\",INDEX(precos_ue!$AH$2:$AH$3191,MATCH(aux_pr_ue!$F$3&aux_pr_ue!L217,precos_ue!$A$2:$A$3191,0)))","v":174.76130000000001},"2008/10",155.16130000000001,174.76130000000001]
[null,null,null,null,null,null,null,null,null,{"$f":"+IF(INDEX(precos_ue!$AG$2:$AG$3191,MATCH(aux_pr_ue!$E$3&aux_pr_ue!L218,precos_ue!$A$2:$A$3191,0))=0,\"\",INDEX(precos_ue!$AG$2:$AG$3191,MATCH(aux_pr_ue!$E$3&aux_pr_ue!L218,precos_ue!$A$2:$A$3191,0)))","v":143.17775},{"$f":"+IF(INDEX(precos_ue!$AH$2:$AH$3191,MATCH(aux_pr_ue!$F$3&aux_pr_ue!L218,precos_ue!$A$2:$A$3191,0))=0,\"\",INDEX(precos_ue!$AH$2:$AH$3191,MATCH(aux_pr_ue!$F$3&aux_pr_ue!L218,precos_ue!$A$2:$A$3191,0)))","v":171.14160000000001},"2008/11",143.17775,171.14160000000001]
[null,null,null,null,null,null,null,null,null,{"$f":"+IF(INDEX(precos_ue!$AG$2:$AG$3191,MATCH(aux_pr_ue!$E$3&aux_pr_ue!L219,precos_ue!$A$2:$A$3191,0))=0,\"\",INDEX(precos_ue!$AG$2:$AG$3191,MATCH(aux_pr_ue!$E$3&aux_pr_ue!L219,precos_ue!$A$2:$A$3191,0)))","v":134.88235},{"$f":"+IF(INDEX(precos_ue!$AH$2:$AH$3191,MATCH(aux_pr_ue!$F$3&aux_pr_ue!L219,precos_ue!$A$2:$A$3191,0))=0,\"\",INDEX(precos_ue!$AH$2:$AH$3191,MATCH(aux_pr_ue!$F$3&aux_pr_ue!L219,precos_ue!$A$2:$A$3191,0)))","v":""},"2008/12",134.88235]
[null,null,null,null,null,null,null,null,null,{"$f":"+IF(INDEX(precos_ue!$AG$2:$AG$3191,MATCH(aux_pr_ue!$E$3&aux_pr_ue!L220,precos_ue!$A$2:$A$3191,0))=0,\"\",INDEX(precos_ue!$AG$2:$AG$3191,MATCH(aux_pr_ue!$E$3&aux_pr_ue!L220,precos_ue!$A$2:$A$3191,0)))","v":147.41129999999998},{"$f":"+IF(INDEX(precos_ue!$AH$2:$AH$3191,MATCH(aux_pr_ue!$F$3&aux_pr_ue!L220,precos_ue!$A$2:$A$3191,0))=0,\"\",INDEX(precos_ue!$AH$2:$AH$3191,MATCH(aux_pr_ue!$F$3&aux_pr_ue!L220,precos_ue!$A$2:$A$3191,0)))","v":""},"2009/01",147.41129999999998]
[null,null,null,null,null,null,null,null,null,{"$f":"+IF(INDEX(precos_ue!$AG$2:$AG$3191,MATCH(aux_pr_ue!$E$3&aux_pr_ue!L221,precos_ue!$A$2:$A$3191,0))=0,\"\",INDEX(precos_ue!$AG$2:$AG$3191,MATCH(aux_pr_ue!$E$3&aux_pr_ue!L221,precos_ue!$A$2:$A$3191,0)))","v":151.16964999999999},{"$f":"+IF(INDEX(precos_ue!$AH$2:$AH$3191,MATCH(aux_pr_ue!$F$3&aux_pr_ue!L221,precos_ue!$A$2:$A$3191,0))=0,\"\",INDEX(precos_ue!$AH$2:$AH$3191,MATCH(aux_pr_ue!$F$3&aux_pr_ue!L221,precos_ue!$A$2:$A$3191,0)))","v":""},"2009/02",151.16964999999999]
[null,null,null,null,null,null,null,null,null,{"$f":"+IF(INDEX(precos_ue!$AG$2:$AG$3191,MATCH(aux_pr_ue!$E$3&aux_pr_ue!L222,precos_ue!$A$2:$A$3191,0))=0,\"\",INDEX(precos_ue!$AG$2:$AG$3191,MATCH(aux_pr_ue!$E$3&aux_pr_ue!L222,precos_ue!$A$2:$A$3191,0)))","v":145.20433333333335},{"$f":"+IF(INDEX(precos_ue!$AH$2:$AH$3191,MATCH(aux_pr_ue!$F$3&aux_pr_ue!L222,precos_ue!$A$2:$A$3191,0))=0,\"\",INDEX(precos_ue!$AH$2:$AH$3191,MATCH(aux_pr_ue!$F$3&aux_pr_ue!L222,precos_ue!$A$2:$A$3191,0)))","v":""},"2009/03",145.20433333333335]
[null,null,null,null,null,null,null,null,null,{"$f":"+IF(INDEX(precos_ue!$AG$2:$AG$3191,MATCH(aux_pr_ue!$E$3&aux_pr_ue!L223,precos_ue!$A$2:$A$3191,0))=0,\"\",INDEX(precos_ue!$AG$2:$AG$3191,MATCH(aux_pr_ue!$E$3&aux_pr_ue!L223,precos_ue!$A$2:$A$3191,0)))","v":141.55370000000002},{"$f":"+IF(INDEX(precos_ue!$AH$2:$AH$3191,MATCH(aux_pr_ue!$F$3&aux_pr_ue!L223,precos_ue!$A$2:$A$3191,0))=0,\"\",INDEX(precos_ue!$AH$2:$AH$3191,MATCH(aux_pr_ue!$F$3&aux_pr_ue!L223,precos_ue!$A$2:$A$3191,0)))","v":""},"2009/04",141.55370000000002]
[null,null,null,null,null,null,null,null,null,{"$f":"+IF(INDEX(precos_ue!$AG$2:$AG$3191,MATCH(aux_pr_ue!$E$3&aux_pr_ue!L224,precos_ue!$A$2:$A$3191,0))=0,\"\",INDEX(precos_ue!$AG$2:$AG$3191,MATCH(aux_pr_ue!$E$3&aux_pr_ue!L224,precos_ue!$A$2:$A$3191,0)))","v":151.8817},{"$f":"+IF(INDEX(precos_ue!$AH$2:$AH$3191,MATCH(aux_pr_ue!$F$3&aux_pr_ue!L224,precos_ue!$A$2:$A$3191,0))=0,\"\",INDEX(precos_ue!$AH$2:$AH$3191,MATCH(aux_pr_ue!$F$3&aux_pr_ue!L224,precos_ue!$A$2:$A$3191,0)))","v":""},"2009/05",151.8817]
[null,null,null,null,null,null,null,null,null,{"$f":"+IF(INDEX(precos_ue!$AG$2:$AG$3191,MATCH(aux_pr_ue!$E$3&aux_pr_ue!L225,precos_ue!$A$2:$A$3191,0))=0,\"\",INDEX(precos_ue!$AG$2:$AG$3191,MATCH(aux_pr_ue!$E$3&aux_pr_ue!L225,precos_ue!$A$2:$A$3191,0)))","v":157.00533333333334},{"$f":"+IF(INDEX(precos_ue!$AH$2:$AH$3191,MATCH(aux_pr_ue!$F$3&aux_pr_ue!L225,precos_ue!$A$2:$A$3191,0))=0,\"\",INDEX(precos_ue!$AH$2:$AH$3191,MATCH(aux_pr_ue!$F$3&aux_pr_ue!L225,precos_ue!$A$2:$A$3191,0)))","v":""},"2009/06",157.00533333333334]
[null,null,null,null,null,null,null,null,null,{"$f":"+IF(INDEX(precos_ue!$AG$2:$AG$3191,MATCH(aux_pr_ue!$E$3&aux_pr_ue!L226,precos_ue!$A$2:$A$3191,0))=0,\"\",INDEX(precos_ue!$AG$2:$AG$3191,MATCH(aux_pr_ue!$E$3&aux_pr_ue!L226,precos_ue!$A$2:$A$3191,0)))","v":139.94664000000003},{"$f":"+IF(INDEX(precos_ue!$AH$2:$AH$3191,MATCH(aux_pr_ue!$F$3&aux_pr_ue!L226,precos_ue!$A$2:$A$3191,0))=0,\"\",INDEX(precos_ue!$AH$2:$AH$3191,MATCH(aux_pr_ue!$F$3&aux_pr_ue!L226,precos_ue!$A$2:$A$3191,0)))","v":129.8167},"2009/07",139.94664000000003,129.8167]
[null,null,null,null,null,null,null,null,null,{"$f":"+IF(INDEX(precos_ue!$AG$2:$AG$3191,MATCH(aux_pr_ue!$E$3&aux_pr_ue!L227,precos_ue!$A$2:$A$3191,0))=0,\"\",INDEX(precos_ue!$AG$2:$AG$3191,MATCH(aux_pr_ue!$E$3&aux_pr_ue!L227,precos_ue!$A$2:$A$3191,0)))","v":135.93843999999999},{"$f":"+IF(INDEX(precos_ue!$AH$2:$AH$3191,MATCH(aux_pr_ue!$F$3&aux_pr_ue!L227,precos_ue!$A$2:$A$3191,0))=0,\"\",INDEX(precos_ue!$AH$2:$AH$3191,MATCH(aux_pr_ue!$F$3&aux_pr_ue!L227,precos_ue!$A$2:$A$3191,0)))","v":118.3871},"2009/08",135.93843999999999,118.3871]
[null,null,null,null,null,null,null,null,null,{"$f":"+IF(INDEX(precos_ue!$AG$2:$AG$3191,MATCH(aux_pr_ue!$E$3&aux_pr_ue!L228,precos_ue!$A$2:$A$3191,0))=0,\"\",INDEX(precos_ue!$AG$2:$AG$3191,MATCH(aux_pr_ue!$E$3&aux_pr_ue!L228,precos_ue!$A$2:$A$3191,0)))","v":130.25},{"$f":"+IF(INDEX(precos_ue!$AH$2:$AH$3191,MATCH(aux_pr_ue!$F$3&aux_pr_ue!L228,precos_ue!$A$2:$A$3191,0))=0,\"\",INDEX(precos_ue!$AH$2:$AH$3191,MATCH(aux_pr_ue!$F$3&aux_pr_ue!L228,precos_ue!$A$2:$A$3191,0)))","v":114.61030000000001},"2009/09",130.25,114.61030000000001]
[null,null,null,null,null,null,null,null,null,{"$f":"+IF(INDEX(precos_ue!$AG$2:$AG$3191,MATCH(aux_pr_ue!$E$3&aux_pr_ue!L229,precos_ue!$A$2:$A$3191,0))=0,\"\",INDEX(precos_ue!$AG$2:$AG$3191,MATCH(aux_pr_ue!$E$3&aux_pr_ue!L229,precos_ue!$A$2:$A$3191,0)))","v":136.79983333333334},{"$f":"+IF(INDEX(precos_ue!$AH$2:$AH$3191,MATCH(aux_pr_ue!$F$3&aux_pr_ue!L229,precos_ue!$A$2:$A$3191,0))=0,\"\",INDEX(precos_ue!$AH$2:$AH$3191,MATCH(aux_pr_ue!$F$3&aux_pr_ue!L229,precos_ue!$A$2:$A$3191,0)))","v":114.94550000000001},"2009/10",136.79983333333334,114.94550000000001]
[null,null,null,null,null,null,null,null,null,{"$f":"+IF(INDEX(precos_ue!$AG$2:$AG$3191,MATCH(aux_pr_ue!$E$3&aux_pr_ue!L230,precos_ue!$A$2:$A$3191,0))=0,\"\",INDEX(precos_ue!$AG$2:$AG$3191,MATCH(aux_pr_ue!$E$3&aux_pr_ue!L230,precos_ue!$A$2:$A$3191,0)))","v":144.73336666666668},{"$f":"+IF(INDEX(precos_ue!$AH$2:$AH$3191,MATCH(aux_pr_ue!$F$3&aux_pr_ue!L230,precos_ue!$A$2:$A$3191,0))=0,\"\",INDEX(precos_ue!$AH$2:$AH$3191,MATCH(aux_pr_ue!$F$3&aux_pr_ue!L230,precos_ue!$A$2:$A$3191,0)))","v":116.84230000000001},"2009/11",144.73336666666668,116.84230000000001]
[null,null,null,null,null,null,null,null,null,{"$f":"+IF(INDEX(precos_ue!$AG$2:$AG$3191,MATCH(aux_pr_ue!$E$3&aux_pr_ue!L231,precos_ue!$A$2:$A$3191,0))=0,\"\",INDEX(precos_ue!$AG$2:$AG$3191,MATCH(aux_pr_ue!$E$3&aux_pr_ue!L231,precos_ue!$A$2:$A$3191,0)))","v":141.48926666666668},{"$f":"+IF(INDEX(precos_ue!$AH$2:$AH$3191,MATCH(aux_pr_ue!$F$3&aux_pr_ue!L231,precos_ue!$A$2:$A$3191,0))=0,\"\",INDEX(precos_ue!$AH$2:$AH$3191,MATCH(aux_pr_ue!$F$3&aux_pr_ue!L231,precos_ue!$A$2:$A$3191,0)))","v":113.3035},"2009/12",141.48926666666668,113.3035]
[null,null,null,null,null,null,null,null,null,{"$f":"+IF(INDEX(precos_ue!$AG$2:$AG$3191,MATCH(aux_pr_ue!$E$3&aux_pr_ue!L232,precos_ue!$A$2:$A$3191,0))=0,\"\",INDEX(precos_ue!$AG$2:$AG$3191,MATCH(aux_pr_ue!$E$3&aux_pr_ue!L232,precos_ue!$A$2:$A$3191,0)))","v":143.34410000000003},{"$f":"+IF(INDEX(precos_ue!$AH$2:$AH$3191,MATCH(aux_pr_ue!$F$3&aux_pr_ue!L232,precos_ue!$A$2:$A$3191,0))=0,\"\",INDEX(precos_ue!$AH$2:$AH$3191,MATCH(aux_pr_ue!$F$3&aux_pr_ue!L232,precos_ue!$A$2:$A$3191,0)))","v":111.91130000000001},"2010/01",143.34410000000003,111.91130000000001]
[null,null,null,null,null,null,null,null,null,{"$f":"+IF(INDEX(precos_ue!$AG$2:$AG$3191,MATCH(aux_pr_ue!$E$3&aux_pr_ue!L233,precos_ue!$A$2:$A$3191,0))=0,\"\",INDEX(precos_ue!$AG$2:$AG$3191,MATCH(aux_pr_ue!$E$3&aux_pr_ue!L233,precos_ue!$A$2:$A$3191,0)))","v":137.39286666666669},{"$f":"+IF(INDEX(precos_ue!$AH$2:$AH$3191,MATCH(aux_pr_ue!$F$3&aux_pr_ue!L233,precos_ue!$A$2:$A$3191,0))=0,\"\",INDEX(precos_ue!$AH$2:$AH$3191,MATCH(aux_pr_ue!$F$3&aux_pr_ue!L233,precos_ue!$A$2:$A$3191,0)))","v":111.07140000000001},"2010/02",137.39286666666669,111.07140000000001]
[null,null,null,null,null,null,null,null,null,{"$f":"+IF(INDEX(precos_ue!$AG$2:$AG$3191,MATCH(aux_pr_ue!$E$3&aux_pr_ue!L234,precos_ue!$A$2:$A$3191,0))=0,\"\",INDEX(precos_ue!$AG$2:$AG$3191,MATCH(aux_pr_ue!$E$3&aux_pr_ue!L234,precos_ue!$A$2:$A$3191,0)))","v":134.92473333333336},{"$f":"+IF(INDEX(precos_ue!$AH$2:$AH$3191,MATCH(aux_pr_ue!$F$3&aux_pr_ue!L234,precos_ue!$A$2:$A$3191,0))=0,\"\",INDEX(precos_ue!$AH$2:$AH$3191,MATCH(aux_pr_ue!$F$3&aux_pr_ue!L234,precos_ue!$A$2:$A$3191,0)))","v":107.7903},"2010/03",134.92473333333336,107.7903]
[null,null,null,null,null,null,null,null,null,{"$f":"+IF(INDEX(precos_ue!$AG$2:$AG$3191,MATCH(aux_pr_ue!$E$3&aux_pr_ue!L235,precos_ue!$A$2:$A$3191,0))=0,\"\",INDEX(precos_ue!$AG$2:$AG$3191,MATCH(aux_pr_ue!$E$3&aux_pr_ue!L235,precos_ue!$A$2:$A$3191,0)))","v":144.73886666666667},{"$f":"+IF(INDEX(precos_ue!$AH$2:$AH$3191,MATCH(aux_pr_ue!$F$3&aux_pr_ue!L235,precos_ue!$A$2:$A$3191,0))=0,\"\",INDEX(precos_ue!$AH$2:$AH$3191,MATCH(aux_pr_ue!$F$3&aux_pr_ue!L235,precos_ue!$A$2:$A$3191,0)))","v":107.96740000000001},"2010/04",144.73886666666667,107.96740000000001]
[null,null,null,null,null,null,null,null,null,{"$f":"+IF(INDEX(precos_ue!$AG$2:$AG$3191,MATCH(aux_pr_ue!$E$3&aux_pr_ue!L236,precos_ue!$A$2:$A$3191,0))=0,\"\",INDEX(precos_ue!$AG$2:$AG$3191,MATCH(aux_pr_ue!$E$3&aux_pr_ue!L236,precos_ue!$A$2:$A$3191,0)))","v":153.12900000000002},{"$f":"+IF(INDEX(precos_ue!$AH$2:$AH$3191,MATCH(aux_pr_ue!$F$3&aux_pr_ue!L236,precos_ue!$A$2:$A$3191,0))=0,\"\",INDEX(precos_ue!$AH$2:$AH$3191,MATCH(aux_pr_ue!$F$3&aux_pr_ue!L236,precos_ue!$A$2:$A$3191,0)))","v":110.7548},"2010/05",153.12900000000002,110.7548]
[null,null,null,null,null,null,null,null,null,{"$f":"+IF(INDEX(precos_ue!$AG$2:$AG$3191,MATCH(aux_pr_ue!$E$3&aux_pr_ue!L237,precos_ue!$A$2:$A$3191,0))=0,\"\",INDEX(precos_ue!$AG$2:$AG$3191,MATCH(aux_pr_ue!$E$3&aux_pr_ue!L237,precos_ue!$A$2:$A$3191,0)))","v":147.88332500000001},{"$f":"+IF(INDEX(precos_ue!$AH$2:$AH$3191,MATCH(aux_pr_ue!$F$3&aux_pr_ue!L237,precos_ue!$A$2:$A$3191,0))=0,\"\",INDEX(precos_ue!$AH$2:$AH$3191,MATCH(aux_pr_ue!$F$3&aux_pr_ue!L237,precos_ue!$A$2:$A$3191,0)))","v":114.9783},"2010/06",147.88332500000001,114.9783]
[null,null,null,null,null,null,null,null,null,{"$f":"+IF(INDEX(precos_ue!$AG$2:$AG$3191,MATCH(aux_pr_ue!$E$3&aux_pr_ue!L238,precos_ue!$A$2:$A$3191,0))=0,\"\",INDEX(precos_ue!$AG$2:$AG$3191,MATCH(aux_pr_ue!$E$3&aux_pr_ue!L238,precos_ue!$A$2:$A$3191,0)))","v":156.4425},{"$f":"+IF(INDEX(precos_ue!$AH$2:$AH$3191,MATCH(aux_pr_ue!$F$3&aux_pr_ue!L238,precos_ue!$A$2:$A$3191,0))=0,\"\",INDEX(precos_ue!$AH$2:$AH$3191,MATCH(aux_pr_ue!$F$3&aux_pr_ue!L238,precos_ue!$A$2:$A$3191,0)))","v":124.2158},"2010/07",156.4425,124.2158]
[null,null,null,null,null,null,null,null,null,{"$f":"+IF(INDEX(precos_ue!$AG$2:$AG$3191,MATCH(aux_pr_ue!$E$3&aux_pr_ue!L239,precos_ue!$A$2:$A$3191,0))=0,\"\",INDEX(precos_ue!$AG$2:$AG$3191,MATCH(aux_pr_ue!$E$3&aux_pr_ue!L239,precos_ue!$A$2:$A$3191,0)))","v":177.72070000000002},{"$f":"+IF(INDEX(precos_ue!$AH$2:$AH$3191,MATCH(aux_pr_ue!$F$3&aux_pr_ue!L239,precos_ue!$A$2:$A$3191,0))=0,\"\",INDEX(precos_ue!$AH$2:$AH$3191,MATCH(aux_pr_ue!$F$3&aux_pr_ue!L239,precos_ue!$A$2:$A$3191,0)))","v":149.17060000000001},"2010/08",177.72070000000002,149.17060000000001]
[null,null,null,null,null,null,null,null,null,{"$f":"+IF(INDEX(precos_ue!$AG$2:$AG$3191,MATCH(aux_pr_ue!$E$3&aux_pr_ue!L240,precos_ue!$A$2:$A$3191,0))=0,\"\",INDEX(precos_ue!$AG$2:$AG$3191,MATCH(aux_pr_ue!$E$3&aux_pr_ue!L240,precos_ue!$A$2:$A$3191,0)))","v":188.87448000000001},{"$f":"+IF(INDEX(precos_ue!$AH$2:$AH$3191,MATCH(aux_pr_ue!$F$3&aux_pr_ue!L240,precos_ue!$A$2:$A$3191,0))=0,\"\",INDEX(precos_ue!$AH$2:$AH$3191,MATCH(aux_pr_ue!$F$3&aux_pr_ue!L240,precos_ue!$A$2:$A$3191,0)))","v":205.23600000000002},"2010/09",188.87448000000001,205.23600000000002]
[null,null,null,null,null,null,null,null,null,{"$f":"+IF(INDEX(precos_ue!$AG$2:$AG$3191,MATCH(aux_pr_ue!$E$3&aux_pr_ue!L241,precos_ue!$A$2:$A$3191,0))=0,\"\",INDEX(precos_ue!$AG$2:$AG$3191,MATCH(aux_pr_ue!$E$3&aux_pr_ue!L241,precos_ue!$A$2:$A$3191,0)))","v":192.94352500000002},{"$f":"+IF(INDEX(precos_ue!$AH$2:$AH$3191,MATCH(aux_pr_ue!$F$3&aux_pr_ue!L241,precos_ue!$A$2:$A$3191,0))=0,\"\",INDEX(precos_ue!$AH$2:$AH$3191,MATCH(aux_pr_ue!$F$3&aux_pr_ue!L241,precos_ue!$A$2:$A$3191,0)))","v":181.95160000000001},"2010/10",192.94352500000002,181.95160000000001]
[null,null,null,null,null,null,null,null,null,{"$f":"+IF(INDEX(precos_ue!$AG$2:$AG$3191,MATCH(aux_pr_ue!$E$3&aux_pr_ue!L242,precos_ue!$A$2:$A$3191,0))=0,\"\",INDEX(precos_ue!$AG$2:$AG$3191,MATCH(aux_pr_ue!$E$3&aux_pr_ue!L242,precos_ue!$A$2:$A$3191,0)))","v":215.53333333333333},{"$f":"+IF(INDEX(precos_ue!$AH$2:$AH$3191,MATCH(aux_pr_ue!$F$3&aux_pr_ue!L242,precos_ue!$A$2:$A$3191,0))=0,\"\",INDEX(precos_ue!$AH$2:$AH$3191,MATCH(aux_pr_ue!$F$3&aux_pr_ue!L242,precos_ue!$A$2:$A$3191,0)))","v":181.911},"2010/11",215.53333333333333,181.911]
[null,null,null,null,null,null,null,null,null,{"$f":"+IF(INDEX(precos_ue!$AG$2:$AG$3191,MATCH(aux_pr_ue!$E$3&aux_pr_ue!L243,precos_ue!$A$2:$A$3191,0))=0,\"\",INDEX(precos_ue!$AG$2:$AG$3191,MATCH(aux_pr_ue!$E$3&aux_pr_ue!L243,precos_ue!$A$2:$A$3191,0)))","v":234.95696666666672},{"$f":"+IF(INDEX(precos_ue!$AH$2:$AH$3191,MATCH(aux_pr_ue!$F$3&aux_pr_ue!L243,precos_ue!$A$2:$A$3191,0))=0,\"\",INDEX(precos_ue!$AH$2:$AH$3191,MATCH(aux_pr_ue!$F$3&aux_pr_ue!L243,precos_ue!$A$2:$A$3191,0)))","v":195.4974},"2010/12",234.95696666666672,195.4974]
[null,null,null,null,null,null,null,null,null,{"$f":"+IF(INDEX(precos_ue!$AG$2:$AG$3191,MATCH(aux_pr_ue!$E$3&aux_pr_ue!L244,precos_ue!$A$2:$A$3191,0))=0,\"\",INDEX(precos_ue!$AG$2:$AG$3191,MATCH(aux_pr_ue!$E$3&aux_pr_ue!L244,precos_ue!$A$2:$A$3191,0)))","v":257.41743333333335},{"$f":"+IF(INDEX(precos_ue!$AH$2:$AH$3191,MATCH(aux_pr_ue!$F$3&aux_pr_ue!L244,precos_ue!$A$2:$A$3191,0))=0,\"\",INDEX(precos_ue!$AH$2:$AH$3191,MATCH(aux_pr_ue!$F$3&aux_pr_ue!L244,precos_ue!$A$2:$A$3191,0)))","v":214.8629},"2011/01",257.41743333333335,214.8629]
[null,null,null,null,null,null,null,null,null,{"$f":"+IF(INDEX(precos_ue!$AG$2:$AG$3191,MATCH(aux_pr_ue!$E$3&aux_pr_ue!L245,precos_ue!$A$2:$A$3191,0))=0,\"\",INDEX(precos_ue!$AG$2:$AG$3191,MATCH(aux_pr_ue!$E$3&aux_pr_ue!L245,precos_ue!$A$2:$A$3191,0)))","v":259.64573333333334},{"$f":"+IF(INDEX(precos_ue!$AH$2:$AH$3191,MATCH(aux_pr_ue!$F$3&aux_pr_ue!L245,precos_ue!$A$2:$A$3191,0))=0,\"\",INDEX(precos_ue!$AH$2:$AH$3191,MATCH(aux_pr_ue!$F$3&aux_pr_ue!L245,precos_ue!$A$2:$A$3191,0)))","v":223.55360000000002},"2011/02",259.64573333333334,223.55360000000002]
[null,null,null,null,null,null,null,null,null,{"$f":"+IF(INDEX(precos_ue!$AG$2:$AG$3191,MATCH(aux_pr_ue!$E$3&aux_pr_ue!L246,precos_ue!$A$2:$A$3191,0))=0,\"\",INDEX(precos_ue!$AG$2:$AG$3191,MATCH(aux_pr_ue!$E$3&aux_pr_ue!L246,precos_ue!$A$2:$A$3191,0)))","v":252.19683333333333},{"$f":"+IF(INDEX(precos_ue!$AH$2:$AH$3191,MATCH(aux_pr_ue!$F$3&aux_pr_ue!L246,precos_ue!$A$2:$A$3191,0))=0,\"\",INDEX(precos_ue!$AH$2:$AH$3191,MATCH(aux_pr_ue!$F$3&aux_pr_ue!L246,precos_ue!$A$2:$A$3191,0)))","v":196.47580000000002},"2011/03",252.19683333333333,196.47580000000002]
[null,null,null,null,null,null,null,null,null,{"$f":"+IF(INDEX(precos_ue!$AG$2:$AG$3191,MATCH(aux_pr_ue!$E$3&aux_pr_ue!L247,precos_ue!$A$2:$A$3191,0))=0,\"\",INDEX(precos_ue!$AG$2:$AG$3191,MATCH(aux_pr_ue!$E$3&aux_pr_ue!L247,precos_ue!$A$2:$A$3191,0)))","v":257.14879999999999},{"$f":"+IF(INDEX(precos_ue!$AH$2:$AH$3191,MATCH(aux_pr_ue!$F$3&aux_pr_ue!L247,precos_ue!$A$2:$A$3191,0))=0,\"\",INDEX(precos_ue!$AH$2:$AH$3191,MATCH(aux_pr_ue!$F$3&aux_pr_ue!L247,precos_ue!$A$2:$A$3191,0)))","v":198.01670000000001},"2011/04",257.14879999999999,198.01670000000001]
[null,null,null,null,null,null,null,null,null,{"$f":"+IF(INDEX(precos_ue!$AG$2:$AG$3191,MATCH(aux_pr_ue!$E$3&aux_pr_ue!L248,precos_ue!$A$2:$A$3191,0))=0,\"\",INDEX(precos_ue!$AG$2:$AG$3191,MATCH(aux_pr_ue!$E$3&aux_pr_ue!L248,precos_ue!$A$2:$A$3191,0)))","v":259.7355},{"$f":"+IF(INDEX(precos_ue!$AH$2:$AH$3191,MATCH(aux_pr_ue!$F$3&aux_pr_ue!L248,precos_ue!$A$2:$A$3191,0))=0,\"\",INDEX(precos_ue!$AH$2:$AH$3191,MATCH(aux_pr_ue!$F$3&aux_pr_ue!L248,precos_ue!$A$2:$A$3191,0)))","v":202.75810000000001},"2011/05",259.7355,202.75810000000001]
[null,null,null,null,null,null,null,null,null,{"$f":"+IF(INDEX(precos_ue!$AG$2:$AG$3191,MATCH(aux_pr_ue!$E$3&aux_pr_ue!L249,precos_ue!$A$2:$A$3191,0))=0,\"\",INDEX(precos_ue!$AG$2:$AG$3191,MATCH(aux_pr_ue!$E$3&aux_pr_ue!L249,precos_ue!$A$2:$A$3191,0)))","v":231.85415},{"$f":"+IF(INDEX(precos_ue!$AH$2:$AH$3191,MATCH(aux_pr_ue!$F$3&aux_pr_ue!L249,precos_ue!$A$2:$A$3191,0))=0,\"\",INDEX(precos_ue!$AH$2:$AH$3191,MATCH(aux_pr_ue!$F$3&aux_pr_ue!L249,precos_ue!$A$2:$A$3191,0)))","v":202.23330000000001},"2011/06",231.85415,202.23330000000001]
[null,null,null,null,null,null,null,null,null,{"$f":"+IF(INDEX(precos_ue!$AG$2:$AG$3191,MATCH(aux_pr_ue!$E$3&aux_pr_ue!L250,precos_ue!$A$2:$A$3191,0))=0,\"\",INDEX(precos_ue!$AG$2:$AG$3191,MATCH(aux_pr_ue!$E$3&aux_pr_ue!L250,precos_ue!$A$2:$A$3191,0)))","v":208.62905000000001},{"$f":"+IF(INDEX(precos_ue!$AH$2:$AH$3191,MATCH(aux_pr_ue!$F$3&aux_pr_ue!L250,precos_ue!$A$2:$A$3191,0))=0,\"\",INDEX(precos_ue!$AH$2:$AH$3191,MATCH(aux_pr_ue!$F$3&aux_pr_ue!L250,precos_ue!$A$2:$A$3191,0)))","v":171.6129},"2011/07",208.62905000000001,171.6129]
[null,null,null,null,null,null,null,null,null,{"$f":"+IF(INDEX(precos_ue!$AG$2:$AG$3191,MATCH(aux_pr_ue!$E$3&aux_pr_ue!L251,precos_ue!$A$2:$A$3191,0))=0,\"\",INDEX(precos_ue!$AG$2:$AG$3191,MATCH(aux_pr_ue!$E$3&aux_pr_ue!L251,precos_ue!$A$2:$A$3191,0)))","v":198.25},{"$f":"+IF(INDEX(precos_ue!$AH$2:$AH$3191,MATCH(aux_pr_ue!$F$3&aux_pr_ue!L251,precos_ue!$A$2:$A$3191,0))=0,\"\",INDEX(precos_ue!$AH$2:$AH$3191,MATCH(aux_pr_ue!$F$3&aux_pr_ue!L251,precos_ue!$A$2:$A$3191,0)))","v":176.81650000000002},"2011/08",198.25,176.81650000000002]
[null,null,null,null,null,null,null,null,null,{"$f":"+IF(INDEX(precos_ue!$AG$2:$AG$3191,MATCH(aux_pr_ue!$E$3&aux_pr_ue!L252,precos_ue!$A$2:$A$3191,0))=0,\"\",INDEX(precos_ue!$AG$2:$AG$3191,MATCH(aux_pr_ue!$E$3&aux_pr_ue!L252,precos_ue!$A$2:$A$3191,0)))","v":210.75556666666668},{"$f":"+IF(INDEX(precos_ue!$AH$2:$AH$3191,MATCH(aux_pr_ue!$F$3&aux_pr_ue!L252,precos_ue!$A$2:$A$3191,0))=0,\"\",INDEX(precos_ue!$AH$2:$AH$3191,MATCH(aux_pr_ue!$F$3&aux_pr_ue!L252,precos_ue!$A$2:$A$3191,0)))","v":183.66670000000002},"2011/09",210.75556666666668,183.66670000000002]
[null,null,null,null,null,null,null,null,null,{"$f":"+IF(INDEX(precos_ue!$AG$2:$AG$3191,MATCH(aux_pr_ue!$E$3&aux_pr_ue!L253,precos_ue!$A$2:$A$3191,0))=0,\"\",INDEX(precos_ue!$AG$2:$AG$3191,MATCH(aux_pr_ue!$E$3&aux_pr_ue!L253,precos_ue!$A$2:$A$3191,0)))","v":204.5806},{"$f":"+IF(INDEX(precos_ue!$AH$2:$AH$3191,MATCH(aux_pr_ue!$F$3&aux_pr_ue!L253,precos_ue!$A$2:$A$3191,0))=0,\"\",INDEX(precos_ue!$AH$2:$AH$3191,MATCH(aux_pr_ue!$F$3&aux_pr_ue!L253,precos_ue!$A$2:$A$3191,0)))","v":175.73390000000001},"2011/10",204.5806,175.73390000000001]
[null,null,null,null,null,null,null,null,null,{"$f":"+IF(INDEX(precos_ue!$AG$2:$AG$3191,MATCH(aux_pr_ue!$E$3&aux_pr_ue!L254,precos_ue!$A$2:$A$3191,0))=0,\"\",INDEX(precos_ue!$AG$2:$AG$3191,MATCH(aux_pr_ue!$E$3&aux_pr_ue!L254,precos_ue!$A$2:$A$3191,0)))","v":204.88330000000002},{"$f":"+IF(INDEX(precos_ue!$AH$2:$AH$3191,MATCH(aux_pr_ue!$F$3&aux_pr_ue!L254,precos_ue!$A$2:$A$3191,0))=0,\"\",INDEX(precos_ue!$AH$2:$AH$3191,MATCH(aux_pr_ue!$F$3&aux_pr_ue!L254,precos_ue!$A$2:$A$3191,0)))","v":170.47499999999999},"2011/11",204.88330000000002,170.47499999999999]
[null,null,null,null,null,null,null,null,null,{"$f":"+IF(INDEX(precos_ue!$AG$2:$AG$3191,MATCH(aux_pr_ue!$E$3&aux_pr_ue!L255,precos_ue!$A$2:$A$3191,0))=0,\"\",INDEX(precos_ue!$AG$2:$AG$3191,MATCH(aux_pr_ue!$E$3&aux_pr_ue!L255,precos_ue!$A$2:$A$3191,0)))","v":199.64520000000002},{"$f":"+IF(INDEX(precos_ue!$AH$2:$AH$3191,MATCH(aux_pr_ue!$F$3&aux_pr_ue!L255,precos_ue!$A$2:$A$3191,0))=0,\"\",INDEX(precos_ue!$AH$2:$AH$3191,MATCH(aux_pr_ue!$F$3&aux_pr_ue!L255,precos_ue!$A$2:$A$3191,0)))","v":163.6335},"2011/12",199.64520000000002,163.6335]
[null,null,null,null,null,null,null,null,null,{"$f":"+IF(INDEX(precos_ue!$AG$2:$AG$3191,MATCH(aux_pr_ue!$E$3&aux_pr_ue!L256,precos_ue!$A$2:$A$3191,0))=0,\"\",INDEX(precos_ue!$AG$2:$AG$3191,MATCH(aux_pr_ue!$E$3&aux_pr_ue!L256,precos_ue!$A$2:$A$3191,0)))","v":214.93550000000002},{"$f":"+IF(INDEX(precos_ue!$AH$2:$AH$3191,MATCH(aux_pr_ue!$F$3&aux_pr_ue!L256,precos_ue!$A$2:$A$3191,0))=0,\"\",INDEX(precos_ue!$AH$2:$AH$3191,MATCH(aux_pr_ue!$F$3&aux_pr_ue!L256,precos_ue!$A$2:$A$3191,0)))","v":168.95740000000001},"2012/01",214.93550000000002,168.95740000000001]
[null,null,null,null,null,null,null,null,null,{"$f":"+IF(INDEX(precos_ue!$AG$2:$AG$3191,MATCH(aux_pr_ue!$E$3&aux_pr_ue!L257,precos_ue!$A$2:$A$3191,0))=0,\"\",INDEX(precos_ue!$AG$2:$AG$3191,MATCH(aux_pr_ue!$E$3&aux_pr_ue!L257,precos_ue!$A$2:$A$3191,0)))","v":219.57760000000002},{"$f":"+IF(INDEX(precos_ue!$AH$2:$AH$3191,MATCH(aux_pr_ue!$F$3&aux_pr_ue!L257,precos_ue!$A$2:$A$3191,0))=0,\"\",INDEX(precos_ue!$AH$2:$AH$3191,MATCH(aux_pr_ue!$F$3&aux_pr_ue!L257,precos_ue!$A$2:$A$3191,0)))","v":180.86},"2012/02",219.57760000000002,180.86]
[null,null,null,null,null,null,null,null,null,{"$f":"+IF(INDEX(precos_ue!$AG$2:$AG$3191,MATCH(aux_pr_ue!$E$3&aux_pr_ue!L258,precos_ue!$A$2:$A$3191,0))=0,\"\",INDEX(precos_ue!$AG$2:$AG$3191,MATCH(aux_pr_ue!$E$3&aux_pr_ue!L258,precos_ue!$A$2:$A$3191,0)))","v":223.91130000000001},{"$f":"+IF(INDEX(precos_ue!$AH$2:$AH$3191,MATCH(aux_pr_ue!$F$3&aux_pr_ue!L258,precos_ue!$A$2:$A$3191,0))=0,\"\",INDEX(precos_ue!$AH$2:$AH$3191,MATCH(aux_pr_ue!$F$3&aux_pr_ue!L258,precos_ue!$A$2:$A$3191,0)))","v":184.72580000000002},"2012/03",223.91130000000001,184.72580000000002]
[null,null,null,null,null,null,null,null,null,{"$f":"+IF(INDEX(precos_ue!$AG$2:$AG$3191,MATCH(aux_pr_ue!$E$3&aux_pr_ue!L259,precos_ue!$A$2:$A$3191,0))=0,\"\",INDEX(precos_ue!$AG$2:$AG$3191,MATCH(aux_pr_ue!$E$3&aux_pr_ue!L259,precos_ue!$A$2:$A$3191,0)))","v":234.8},{"$f":"+IF(INDEX(precos_ue!$AH$2:$AH$3191,MATCH(aux_pr_ue!$F$3&aux_pr_ue!L259,precos_ue!$A$2:$A$3191,0))=0,\"\",INDEX(precos_ue!$AH$2:$AH$3191,MATCH(aux_pr_ue!$F$3&aux_pr_ue!L259,precos_ue!$A$2:$A$3191,0)))","v":188.95},"2012/04",234.8,188.95]
[null,null,null,null,null,null,null,null,null,{"$f":"+IF(INDEX(precos_ue!$AG$2:$AG$3191,MATCH(aux_pr_ue!$E$3&aux_pr_ue!L260,precos_ue!$A$2:$A$3191,0))=0,\"\",INDEX(precos_ue!$AG$2:$AG$3191,MATCH(aux_pr_ue!$E$3&aux_pr_ue!L260,precos_ue!$A$2:$A$3191,0)))","v":236.72580000000002},{"$f":"+IF(INDEX(precos_ue!$AH$2:$AH$3191,MATCH(aux_pr_ue!$F$3&aux_pr_ue!L260,precos_ue!$A$2:$A$3191,0))=0,\"\",INDEX(precos_ue!$AH$2:$AH$3191,MATCH(aux_pr_ue!$F$3&aux_pr_ue!L260,precos_ue!$A$2:$A$3191,0)))","v":188.5403},"2012/05",236.72580000000002,188.5403]
[null,null,null,null,null,null,null,null,null,{"$f":"+IF(INDEX(precos_ue!$AG$2:$AG$3191,MATCH(aux_pr_ue!$E$3&aux_pr_ue!L261,precos_ue!$A$2:$A$3191,0))=0,\"\",INDEX(precos_ue!$AG$2:$AG$3191,MATCH(aux_pr_ue!$E$3&aux_pr_ue!L261,precos_ue!$A$2:$A$3191,0)))","v":219.51665},{"$f":"+IF(INDEX(precos_ue!$AH$2:$AH$3191,MATCH(aux_pr_ue!$F$3&aux_pr_ue!L261,precos_ue!$A$2:$A$3191,0))=0,\"\",INDEX(precos_ue!$AH$2:$AH$3191,MATCH(aux_pr_ue!$F$3&aux_pr_ue!L261,precos_ue!$A$2:$A$3191,0)))","v":187.45830000000001},"2012/06",219.51665,187.45830000000001]
[null,null,null,null,null,null,null,null,null,{"$f":"+IF(INDEX(precos_ue!$AG$2:$AG$3191,MATCH(aux_pr_ue!$E$3&aux_pr_ue!L262,precos_ue!$A$2:$A$3191,0))=0,\"\",INDEX(precos_ue!$AG$2:$AG$3191,MATCH(aux_pr_ue!$E$3&aux_pr_ue!L262,precos_ue!$A$2:$A$3191,0)))","v":240.37100000000001},{"$f":"+IF(INDEX(precos_ue!$AH$2:$AH$3191,MATCH(aux_pr_ue!$F$3&aux_pr_ue!L262,precos_ue!$A$2:$A$3191,0))=0,\"\",INDEX(precos_ue!$AH$2:$AH$3191,MATCH(aux_pr_ue!$F$3&aux_pr_ue!L262,precos_ue!$A$2:$A$3191,0)))","v":197.1352},"2012/07",240.37100000000001,197.1352]
[null,null,null,null,null,null,null,null,null,{"$f":"+IF(INDEX(precos_ue!$AG$2:$AG$3191,MATCH(aux_pr_ue!$E$3&aux_pr_ue!L263,precos_ue!$A$2:$A$3191,0))=0,\"\",INDEX(precos_ue!$AG$2:$AG$3191,MATCH(aux_pr_ue!$E$3&aux_pr_ue!L263,precos_ue!$A$2:$A$3191,0)))","v":247.5},{"$f":"+IF(INDEX(precos_ue!$AH$2:$AH$3191,MATCH(aux_pr_ue!$F$3&aux_pr_ue!L263,precos_ue!$A$2:$A$3191,0))=0,\"\",INDEX(precos_ue!$AH$2:$AH$3191,MATCH(aux_pr_ue!$F$3&aux_pr_ue!L263,precos_ue!$A$2:$A$3191,0)))","v":221.0806},"2012/08",247.5,221.0806]
[null,null,null,null,null,null,null,null,null,{"$f":"+IF(INDEX(precos_ue!$AG$2:$AG$3191,MATCH(aux_pr_ue!$E$3&aux_pr_ue!L264,precos_ue!$A$2:$A$3191,0))=0,\"\",INDEX(precos_ue!$AG$2:$AG$3191,MATCH(aux_pr_ue!$E$3&aux_pr_ue!L264,precos_ue!$A$2:$A$3191,0)))","v":253.24636666666666},{"$f":"+IF(INDEX(precos_ue!$AH$2:$AH$3191,MATCH(aux_pr_ue!$F$3&aux_pr_ue!L264,precos_ue!$A$2:$A$3191,0))=0,\"\",INDEX(precos_ue!$AH$2:$AH$3191,MATCH(aux_pr_ue!$F$3&aux_pr_ue!L264,precos_ue!$A$2:$A$3191,0)))","v":229.86670000000001},"2012/09",253.24636666666666,229.86670000000001]
[null,null,null,null,null,null,null,null,null,{"$f":"+IF(INDEX(precos_ue!$AG$2:$AG$3191,MATCH(aux_pr_ue!$E$3&aux_pr_ue!L265,precos_ue!$A$2:$A$3191,0))=0,\"\",INDEX(precos_ue!$AG$2:$AG$3191,MATCH(aux_pr_ue!$E$3&aux_pr_ue!L265,precos_ue!$A$2:$A$3191,0)))","v":264.24194999999997},{"$f":"+IF(INDEX(precos_ue!$AH$2:$AH$3191,MATCH(aux_pr_ue!$F$3&aux_pr_ue!L265,precos_ue!$A$2:$A$3191,0))=0,\"\",INDEX(precos_ue!$AH$2:$AH$3191,MATCH(aux_pr_ue!$F$3&aux_pr_ue!L265,precos_ue!$A$2:$A$3191,0)))","v":230.42740000000001},"2012/10",264.24194999999997,230.42740000000001]
[null,null,null,null,null,null,null,null,null,{"$f":"+IF(INDEX(precos_ue!$AG$2:$AG$3191,MATCH(aux_pr_ue!$E$3&aux_pr_ue!L266,precos_ue!$A$2:$A$3191,0))=0,\"\",INDEX(precos_ue!$AG$2:$AG$3191,MATCH(aux_pr_ue!$E$3&aux_pr_ue!L266,precos_ue!$A$2:$A$3191,0)))","v":277.83335},{"$f":"+IF(INDEX(precos_ue!$AH$2:$AH$3191,MATCH(aux_pr_ue!$F$3&aux_pr_ue!L266,precos_ue!$A$2:$A$3191,0))=0,\"\",INDEX(precos_ue!$AH$2:$AH$3191,MATCH(aux_pr_ue!$F$3&aux_pr_ue!L266,precos_ue!$A$2:$A$3191,0)))","v":235.86670000000001},"2012/11",277.83335,235.86670000000001]
[null,null,null,null,null,null,null,null,null,{"$f":"+IF(INDEX(precos_ue!$AG$2:$AG$3191,MATCH(aux_pr_ue!$E$3&aux_pr_ue!L267,precos_ue!$A$2:$A$3191,0))=0,\"\",INDEX(precos_ue!$AG$2:$AG$3191,MATCH(aux_pr_ue!$E$3&aux_pr_ue!L267,precos_ue!$A$2:$A$3191,0)))","v":280.75},{"$f":"+IF(INDEX(precos_ue!$AH$2:$AH$3191,MATCH(aux_pr_ue!$F$3&aux_pr_ue!L267,precos_ue!$A$2:$A$3191,0))=0,\"\",INDEX(precos_ue!$AH$2:$AH$3191,MATCH(aux_pr_ue!$F$3&aux_pr_ue!L267,precos_ue!$A$2:$A$3191,0)))","v":236.89520000000002},"2012/12",280.75,236.89520000000002]
[null,null,null,null,null,null,null,null,null,{"$f":"+IF(INDEX(precos_ue!$AG$2:$AG$3191,MATCH(aux_pr_ue!$E$3&aux_pr_ue!L268,precos_ue!$A$2:$A$3191,0))=0,\"\",INDEX(precos_ue!$AG$2:$AG$3191,MATCH(aux_pr_ue!$E$3&aux_pr_ue!L268,precos_ue!$A$2:$A$3191,0)))","v":264.59675000000004},{"$f":"+IF(INDEX(precos_ue!$AH$2:$AH$3191,MATCH(aux_pr_ue!$F$3&aux_pr_ue!L268,precos_ue!$A$2:$A$3191,0))=0,\"\",INDEX(precos_ue!$AH$2:$AH$3191,MATCH(aux_pr_ue!$F$3&aux_pr_ue!L268,precos_ue!$A$2:$A$3191,0)))","v":229.8065},"2013/01",264.59675000000004,229.8065]
[null,null,null,null,null,null,null,null,null,{"$f":"+IF(INDEX(precos_ue!$AG$2:$AG$3191,MATCH(aux_pr_ue!$E$3&aux_pr_ue!L269,precos_ue!$A$2:$A$3191,0))=0,\"\",INDEX(precos_ue!$AG$2:$AG$3191,MATCH(aux_pr_ue!$E$3&aux_pr_ue!L269,precos_ue!$A$2:$A$3191,0)))","v":263.32140000000004},{"$f":"+IF(INDEX(precos_ue!$AH$2:$AH$3191,MATCH(aux_pr_ue!$F$3&aux_pr_ue!L269,precos_ue!$A$2:$A$3191,0))=0,\"\",INDEX(precos_ue!$AH$2:$AH$3191,MATCH(aux_pr_ue!$F$3&aux_pr_ue!L269,precos_ue!$A$2:$A$3191,0)))","v":227.2946},"2013/02",263.32140000000004,227.2946]
[null,null,null,null,null,null,null,null,null,{"$f":"+IF(INDEX(precos_ue!$AG$2:$AG$3191,MATCH(aux_pr_ue!$E$3&aux_pr_ue!L270,precos_ue!$A$2:$A$3191,0))=0,\"\",INDEX(precos_ue!$AG$2:$AG$3191,MATCH(aux_pr_ue!$E$3&aux_pr_ue!L270,precos_ue!$A$2:$A$3191,0)))","v":256.51609999999999},{"$f":"+IF(INDEX(precos_ue!$AH$2:$AH$3191,MATCH(aux_pr_ue!$F$3&aux_pr_ue!L270,precos_ue!$A$2:$A$3191,0))=0,\"\",INDEX(precos_ue!$AH$2:$AH$3191,MATCH(aux_pr_ue!$F$3&aux_pr_ue!L270,precos_ue!$A$2:$A$3191,0)))","v":220.3065},"2013/03",256.51609999999999,220.3065]
[null,null,null,null,null,null,null,null,null,{"$f":"+IF(INDEX(precos_ue!$AG$2:$AG$3191,MATCH(aux_pr_ue!$E$3&aux_pr_ue!L271,precos_ue!$A$2:$A$3191,0))=0,\"\",INDEX(precos_ue!$AG$2:$AG$3191,MATCH(aux_pr_ue!$E$3&aux_pr_ue!L271,precos_ue!$A$2:$A$3191,0)))","v":255.3},{"$f":"+IF(INDEX(precos_ue!$AH$2:$AH$3191,MATCH(aux_pr_ue!$F$3&aux_pr_ue!L271,precos_ue!$A$2:$A$3191,0))=0,\"\",INDEX(precos_ue!$AH$2:$AH$3191,MATCH(aux_pr_ue!$F$3&aux_pr_ue!L271,precos_ue!$A$2:$A$3191,0)))","v":214.9667},"2013/04",255.3,214.9667]
[null,null,null,null,null,null,null,null,null,{"$f":"+IF(INDEX(precos_ue!$AG$2:$AG$3191,MATCH(aux_pr_ue!$E$3&aux_pr_ue!L272,precos_ue!$A$2:$A$3191,0))=0,\"\",INDEX(precos_ue!$AG$2:$AG$3191,MATCH(aux_pr_ue!$E$3&aux_pr_ue!L272,precos_ue!$A$2:$A$3191,0)))","v":256.16130000000004},{"$f":"+IF(INDEX(precos_ue!$AH$2:$AH$3191,MATCH(aux_pr_ue!$F$3&aux_pr_ue!L272,precos_ue!$A$2:$A$3191,0))=0,\"\",INDEX(precos_ue!$AH$2:$AH$3191,MATCH(aux_pr_ue!$F$3&aux_pr_ue!L272,precos_ue!$A$2:$A$3191,0)))","v":213.5865},"2013/05",256.16130000000004,213.5865]
[null,null,null,null,null,null,null,null,null,{"$f":"+IF(INDEX(precos_ue!$AG$2:$AG$3191,MATCH(aux_pr_ue!$E$3&aux_pr_ue!L273,precos_ue!$A$2:$A$3191,0))=0,\"\",INDEX(precos_ue!$AG$2:$AG$3191,MATCH(aux_pr_ue!$E$3&aux_pr_ue!L273,precos_ue!$A$2:$A$3191,0)))","v":227.13335000000001},{"$f":"+IF(INDEX(precos_ue!$AH$2:$AH$3191,MATCH(aux_pr_ue!$F$3&aux_pr_ue!L273,precos_ue!$A$2:$A$3191,0))=0,\"\",INDEX(precos_ue!$AH$2:$AH$3191,MATCH(aux_pr_ue!$F$3&aux_pr_ue!L273,precos_ue!$A$2:$A$3191,0)))","v":209.9873},"2013/06",227.13335000000001,209.9873]
[null,null,null,null,null,null,null,null,null,{"$f":"+IF(INDEX(precos_ue!$AG$2:$AG$3191,MATCH(aux_pr_ue!$E$3&aux_pr_ue!L274,precos_ue!$A$2:$A$3191,0))=0,\"\",INDEX(precos_ue!$AG$2:$AG$3191,MATCH(aux_pr_ue!$E$3&aux_pr_ue!L274,precos_ue!$A$2:$A$3191,0)))","v":210.64247500000002},{"$f":"+IF(INDEX(precos_ue!$AH$2:$AH$3191,MATCH(aux_pr_ue!$F$3&aux_pr_ue!L274,precos_ue!$A$2:$A$3191,0))=0,\"\",INDEX(precos_ue!$AH$2:$AH$3191,MATCH(aux_pr_ue!$F$3&aux_pr_ue!L274,precos_ue!$A$2:$A$3191,0)))","v":195.4581},"2013/07",210.64247500000002,195.4581]
[null,null,null,null,null,null,null,null,null,{"$f":"+IF(INDEX(precos_ue!$AG$2:$AG$3191,MATCH(aux_pr_ue!$E$3&aux_pr_ue!L275,precos_ue!$A$2:$A$3191,0))=0,\"\",INDEX(precos_ue!$AG$2:$AG$3191,MATCH(aux_pr_ue!$E$3&aux_pr_ue!L275,precos_ue!$A$2:$A$3191,0)))","v":197.25806666666668},{"$f":"+IF(INDEX(precos_ue!$AH$2:$AH$3191,MATCH(aux_pr_ue!$F$3&aux_pr_ue!L275,precos_ue!$A$2:$A$3191,0))=0,\"\",INDEX(precos_ue!$AH$2:$AH$3191,MATCH(aux_pr_ue!$F$3&aux_pr_ue!L275,precos_ue!$A$2:$A$3191,0)))","v":175.2619},"2013/08",197.25806666666668,175.2619]
[null,null,null,null,null,null,null,null,null,{"$f":"+IF(INDEX(precos_ue!$AG$2:$AG$3191,MATCH(aux_pr_ue!$E$3&aux_pr_ue!L276,precos_ue!$A$2:$A$3191,0))=0,\"\",INDEX(precos_ue!$AG$2:$AG$3191,MATCH(aux_pr_ue!$E$3&aux_pr_ue!L276,precos_ue!$A$2:$A$3191,0)))","v":197.58335},{"$f":"+IF(INDEX(precos_ue!$AH$2:$AH$3191,MATCH(aux_pr_ue!$F$3&aux_pr_ue!L276,precos_ue!$A$2:$A$3191,0))=0,\"\",INDEX(precos_ue!$AH$2:$AH$3191,MATCH(aux_pr_ue!$F$3&aux_pr_ue!L276,precos_ue!$A$2:$A$3191,0)))","v":171.42500000000001},"2013/09",197.58335,171.42500000000001]
[null,null,null,null,null,null,null,null,null,{"$f":"+IF(INDEX(precos_ue!$AG$2:$AG$3191,MATCH(aux_pr_ue!$E$3&aux_pr_ue!L277,precos_ue!$A$2:$A$3191,0))=0,\"\",INDEX(precos_ue!$AG$2:$AG$3191,MATCH(aux_pr_ue!$E$3&aux_pr_ue!L277,precos_ue!$A$2:$A$3191,0)))","v":209.09674999999999},{"$f":"+IF(INDEX(precos_ue!$AH$2:$AH$3191,MATCH(aux_pr_ue!$F$3&aux_pr_ue!L277,precos_ue!$A$2:$A$3191,0))=0,\"\",INDEX(precos_ue!$AH$2:$AH$3191,MATCH(aux_pr_ue!$F$3&aux_pr_ue!L277,precos_ue!$A$2:$A$3191,0)))","v":173.10480000000001},"2013/10",209.09674999999999,173.10480000000001]
[null,null,null,null,null,null,null,null,null,{"$f":"+IF(INDEX(precos_ue!$AG$2:$AG$3191,MATCH(aux_pr_ue!$E$3&aux_pr_ue!L278,precos_ue!$A$2:$A$3191,0))=0,\"\",INDEX(precos_ue!$AG$2:$AG$3191,MATCH(aux_pr_ue!$E$3&aux_pr_ue!L278,precos_ue!$A$2:$A$3191,0)))","v":227.9},{"$f":"+IF(INDEX(precos_ue!$AH$2:$AH$3191,MATCH(aux_pr_ue!$F$3&aux_pr_ue!L278,precos_ue!$A$2:$A$3191,0))=0,\"\",INDEX(precos_ue!$AH$2:$AH$3191,MATCH(aux_pr_ue!$F$3&aux_pr_ue!L278,precos_ue!$A$2:$A$3191,0)))","v":178.99170000000001},"2013/11",227.9,178.99170000000001]
[null,null,null,null,null,null,null,null,null,{"$f":"+IF(INDEX(precos_ue!$AG$2:$AG$3191,MATCH(aux_pr_ue!$E$3&aux_pr_ue!L279,precos_ue!$A$2:$A$3191,0))=0,\"\",INDEX(precos_ue!$AG$2:$AG$3191,MATCH(aux_pr_ue!$E$3&aux_pr_ue!L279,precos_ue!$A$2:$A$3191,0)))","v":227.72},{"$f":"+IF(INDEX(precos_ue!$AH$2:$AH$3191,MATCH(aux_pr_ue!$F$3&aux_pr_ue!L279,precos_ue!$A$2:$A$3191,0))=0,\"\",INDEX(precos_ue!$AH$2:$AH$3191,MATCH(aux_pr_ue!$F$3&aux_pr_ue!L279,precos_ue!$A$2:$A$3191,0)))","v":179.8629},"2013/12",227.72,179.8629]
[null,null,null,null,null,null,null,null,null,{"$f":"+IF(INDEX(precos_ue!$AG$2:$AG$3191,MATCH(aux_pr_ue!$E$3&aux_pr_ue!L280,precos_ue!$A$2:$A$3191,0))=0,\"\",INDEX(precos_ue!$AG$2:$AG$3191,MATCH(aux_pr_ue!$E$3&aux_pr_ue!L280,precos_ue!$A$2:$A$3191,0)))","v":221.63330000000002},{"$f":"+IF(INDEX(precos_ue!$AH$2:$AH$3191,MATCH(aux_pr_ue!$F$3&aux_pr_ue!L280,precos_ue!$A$2:$A$3191,0))=0,\"\",INDEX(precos_ue!$AH$2:$AH$3191,MATCH(aux_pr_ue!$F$3&aux_pr_ue!L280,precos_ue!$A$2:$A$3191,0)))","v":173.85480000000001},"2014/01",221.63330000000002,173.85480000000001]
[null,null,null,null,null,null,null,null,null,{"$f":"+IF(INDEX(precos_ue!$AG$2:$AG$3191,MATCH(aux_pr_ue!$E$3&aux_pr_ue!L281,precos_ue!$A$2:$A$3191,0))=0,\"\",INDEX(precos_ue!$AG$2:$AG$3191,MATCH(aux_pr_ue!$E$3&aux_pr_ue!L281,precos_ue!$A$2:$A$3191,0)))","v":218.6429},{"$f":"+IF(INDEX(precos_ue!$AH$2:$AH$3191,MATCH(aux_pr_ue!$F$3&aux_pr_ue!L281,precos_ue!$A$2:$A$3191,0))=0,\"\",INDEX(precos_ue!$AH$2:$AH$3191,MATCH(aux_pr_ue!$F$3&aux_pr_ue!L281,precos_ue!$A$2:$A$3191,0)))","v":169.25},"2014/02",218.6429,169.25]
[null,null,null,null,null,null,null,null,null,{"$f":"+IF(INDEX(precos_ue!$AG$2:$AG$3191,MATCH(aux_pr_ue!$E$3&aux_pr_ue!L282,precos_ue!$A$2:$A$3191,0))=0,\"\",INDEX(precos_ue!$AG$2:$AG$3191,MATCH(aux_pr_ue!$E$3&aux_pr_ue!L282,precos_ue!$A$2:$A$3191,0)))","v":221.41940000000002},{"$f":"+IF(INDEX(precos_ue!$AH$2:$AH$3191,MATCH(aux_pr_ue!$F$3&aux_pr_ue!L282,precos_ue!$A$2:$A$3191,0))=0,\"\",INDEX(precos_ue!$AH$2:$AH$3191,MATCH(aux_pr_ue!$F$3&aux_pr_ue!L282,precos_ue!$A$2:$A$3191,0)))","v":171.09620000000001},"2014/03",221.41940000000002,171.09620000000001]
[null,null,null,null,null,null,null,null,null,{"$f":"+IF(INDEX(precos_ue!$AG$2:$AG$3191,MATCH(aux_pr_ue!$E$3&aux_pr_ue!L283,precos_ue!$A$2:$A$3191,0))=0,\"\",INDEX(precos_ue!$AG$2:$AG$3191,MATCH(aux_pr_ue!$E$3&aux_pr_ue!L283,precos_ue!$A$2:$A$3191,0)))","v":226.33330000000001},{"$f":"+IF(INDEX(precos_ue!$AH$2:$AH$3191,MATCH(aux_pr_ue!$F$3&aux_pr_ue!L283,precos_ue!$A$2:$A$3191,0))=0,\"\",INDEX(precos_ue!$AH$2:$AH$3191,MATCH(aux_pr_ue!$F$3&aux_pr_ue!L283,precos_ue!$A$2:$A$3191,0)))","v":171.26670000000001},"2014/04",226.33330000000001,171.26670000000001]
[null,null,null,null,null,null,null,null,null,{"$f":"+IF(INDEX(precos_ue!$AG$2:$AG$3191,MATCH(aux_pr_ue!$E$3&aux_pr_ue!L284,precos_ue!$A$2:$A$3191,0))=0,\"\",INDEX(precos_ue!$AG$2:$AG$3191,MATCH(aux_pr_ue!$E$3&aux_pr_ue!L284,precos_ue!$A$2:$A$3191,0)))","v":228.9032},{"$f":"+IF(INDEX(precos_ue!$AH$2:$AH$3191,MATCH(aux_pr_ue!$F$3&aux_pr_ue!L284,precos_ue!$A$2:$A$3191,0))=0,\"\",INDEX(precos_ue!$AH$2:$AH$3191,MATCH(aux_pr_ue!$F$3&aux_pr_ue!L284,precos_ue!$A$2:$A$3191,0)))","v":170.56450000000001},"2014/05",228.9032,170.56450000000001]
[null,null,null,null,null,null,null,null,null,{"$f":"+IF(INDEX(precos_ue!$AG$2:$AG$3191,MATCH(aux_pr_ue!$E$3&aux_pr_ue!L285,precos_ue!$A$2:$A$3191,0))=0,\"\",INDEX(precos_ue!$AG$2:$AG$3191,MATCH(aux_pr_ue!$E$3&aux_pr_ue!L285,precos_ue!$A$2:$A$3191,0)))","v":201.11664999999999},{"$f":"+IF(INDEX(precos_ue!$AH$2:$AH$3191,MATCH(aux_pr_ue!$F$3&aux_pr_ue!L285,precos_ue!$A$2:$A$3191,0))=0,\"\",INDEX(precos_ue!$AH$2:$AH$3191,MATCH(aux_pr_ue!$F$3&aux_pr_ue!L285,precos_ue!$A$2:$A$3191,0)))","v":168.40300000000002},"2014/06",201.11664999999999,168.40300000000002]
[null,null,null,null,null,null,null,null,null,{"$f":"+IF(INDEX(precos_ue!$AG$2:$AG$3191,MATCH(aux_pr_ue!$E$3&aux_pr_ue!L286,precos_ue!$A$2:$A$3191,0))=0,\"\",INDEX(precos_ue!$AG$2:$AG$3191,MATCH(aux_pr_ue!$E$3&aux_pr_ue!L286,precos_ue!$A$2:$A$3191,0)))","v":186.74195000000003},{"$f":"+IF(INDEX(precos_ue!$AH$2:$AH$3191,MATCH(aux_pr_ue!$F$3&aux_pr_ue!L286,precos_ue!$A$2:$A$3191,0))=0,\"\",INDEX(precos_ue!$AH$2:$AH$3191,MATCH(aux_pr_ue!$F$3&aux_pr_ue!L286,precos_ue!$A$2:$A$3191,0)))","v":163.989},"2014/07",186.74195000000003,163.989]
[null,null,null,null,null,null,null,null,null,{"$f":"+IF(INDEX(precos_ue!$AG$2:$AG$3191,MATCH(aux_pr_ue!$E$3&aux_pr_ue!L287,precos_ue!$A$2:$A$3191,0))=0,\"\",INDEX(precos_ue!$AG$2:$AG$3191,MATCH(aux_pr_ue!$E$3&aux_pr_ue!L287,precos_ue!$A$2:$A$3191,0)))","v":176.82260000000002},{"$f":"+IF(INDEX(precos_ue!$AH$2:$AH$3191,MATCH(aux_pr_ue!$F$3&aux_pr_ue!L287,precos_ue!$A$2:$A$3191,0))=0,\"\",INDEX(precos_ue!$AH$2:$AH$3191,MATCH(aux_pr_ue!$F$3&aux_pr_ue!L287,precos_ue!$A$2:$A$3191,0)))","v":158.17740000000001},"2014/08",176.82260000000002,158.17740000000001]
[null,null,null,null,null,null,null,null,null,{"$f":"+IF(INDEX(precos_ue!$AG$2:$AG$3191,MATCH(aux_pr_ue!$E$3&aux_pr_ue!L288,precos_ue!$A$2:$A$3191,0))=0,\"\",INDEX(precos_ue!$AG$2:$AG$3191,MATCH(aux_pr_ue!$E$3&aux_pr_ue!L288,precos_ue!$A$2:$A$3191,0)))","v":174.56670000000003},{"$f":"+IF(INDEX(precos_ue!$AH$2:$AH$3191,MATCH(aux_pr_ue!$F$3&aux_pr_ue!L288,precos_ue!$A$2:$A$3191,0))=0,\"\",INDEX(precos_ue!$AH$2:$AH$3191,MATCH(aux_pr_ue!$F$3&aux_pr_ue!L288,precos_ue!$A$2:$A$3191,0)))","v":153.88330000000002},"2014/09",174.56670000000003,153.88330000000002]
[null,null,null,null,null,null,null,null,null,{"$f":"+IF(INDEX(precos_ue!$AG$2:$AG$3191,MATCH(aux_pr_ue!$E$3&aux_pr_ue!L289,precos_ue!$A$2:$A$3191,0))=0,\"\",INDEX(precos_ue!$AG$2:$AG$3191,MATCH(aux_pr_ue!$E$3&aux_pr_ue!L289,precos_ue!$A$2:$A$3191,0)))","v":174.54840000000002},{"$f":"+IF(INDEX(precos_ue!$AH$2:$AH$3191,MATCH(aux_pr_ue!$F$3&aux_pr_ue!L289,precos_ue!$A$2:$A$3191,0))=0,\"\",INDEX(precos_ue!$AH$2:$AH$3191,MATCH(aux_pr_ue!$F$3&aux_pr_ue!L289,precos_ue!$A$2:$A$3191,0)))","v":152.46770000000001},"2014/10",174.54840000000002,152.46770000000001]
[null,null,null,null,null,null,null,null,null,{"$f":"+IF(INDEX(precos_ue!$AG$2:$AG$3191,MATCH(aux_pr_ue!$E$3&aux_pr_ue!L290,precos_ue!$A$2:$A$3191,0))=0,\"\",INDEX(precos_ue!$AG$2:$AG$3191,MATCH(aux_pr_ue!$E$3&aux_pr_ue!L290,precos_ue!$A$2:$A$3191,0)))","v":185.4667},{"$f":"+IF(INDEX(precos_ue!$AH$2:$AH$3191,MATCH(aux_pr_ue!$F$3&aux_pr_ue!L290,precos_ue!$A$2:$A$3191,0))=0,\"\",INDEX(precos_ue!$AH$2:$AH$3191,MATCH(aux_pr_ue!$F$3&aux_pr_ue!L290,precos_ue!$A$2:$A$3191,0)))","v":154.0667},"2014/11",185.4667,154.0667]
[null,null,null,null,null,null,null,null,null,{"$f":"+IF(INDEX(precos_ue!$AG$2:$AG$3191,MATCH(aux_pr_ue!$E$3&aux_pr_ue!L291,precos_ue!$A$2:$A$3191,0))=0,\"\",INDEX(precos_ue!$AG$2:$AG$3191,MATCH(aux_pr_ue!$E$3&aux_pr_ue!L291,precos_ue!$A$2:$A$3191,0)))","v":202.25810000000001},{"$f":"+IF(INDEX(precos_ue!$AH$2:$AH$3191,MATCH(aux_pr_ue!$F$3&aux_pr_ue!L291,precos_ue!$A$2:$A$3191,0))=0,\"\",INDEX(precos_ue!$AH$2:$AH$3191,MATCH(aux_pr_ue!$F$3&aux_pr_ue!L291,precos_ue!$A$2:$A$3191,0)))","v":163.6129},"2014/12",202.25810000000001,163.6129]
[null,null,null,null,null,null,null,null,null,{"$f":"+IF(INDEX(precos_ue!$AG$2:$AG$3191,MATCH(aux_pr_ue!$E$3&aux_pr_ue!L292,precos_ue!$A$2:$A$3191,0))=0,\"\",INDEX(precos_ue!$AG$2:$AG$3191,MATCH(aux_pr_ue!$E$3&aux_pr_ue!L292,precos_ue!$A$2:$A$3191,0)))","v":206.48390000000001},{"$f":"+IF(INDEX(precos_ue!$AH$2:$AH$3191,MATCH(aux_pr_ue!$F$3&aux_pr_ue!L292,precos_ue!$A$2:$A$3191,0))=0,\"\",INDEX(precos_ue!$AH$2:$AH$3191,MATCH(aux_pr_ue!$F$3&aux_pr_ue!L292,precos_ue!$A$2:$A$3191,0)))","v":171.37900000000002},"2015/01",206.48390000000001,171.37900000000002]
[null,null,null,null,null,null,null,null,null,{"$f":"+IF(INDEX(precos_ue!$AG$2:$AG$3191,MATCH(aux_pr_ue!$E$3&aux_pr_ue!L293,precos_ue!$A$2:$A$3191,0))=0,\"\",INDEX(precos_ue!$AG$2:$AG$3191,MATCH(aux_pr_ue!$E$3&aux_pr_ue!L293,precos_ue!$A$2:$A$3191,0)))","v":201.32140000000001},{"$f":"+IF(INDEX(precos_ue!$AH$2:$AH$3191,MATCH(aux_pr_ue!$F$3&aux_pr_ue!L293,precos_ue!$A$2:$A$3191,0))=0,\"\",INDEX(precos_ue!$AH$2:$AH$3191,MATCH(aux_pr_ue!$F$3&aux_pr_ue!L293,precos_ue!$A$2:$A$3191,0)))","v":171.1875},"2015/02",201.32140000000001,171.1875]
[null,null,null,null,null,null,null,null,null,{"$f":"+IF(INDEX(precos_ue!$AG$2:$AG$3191,MATCH(aux_pr_ue!$E$3&aux_pr_ue!L294,precos_ue!$A$2:$A$3191,0))=0,\"\",INDEX(precos_ue!$AG$2:$AG$3191,MATCH(aux_pr_ue!$E$3&aux_pr_ue!L294,precos_ue!$A$2:$A$3191,0)))","v":193.3871},{"$f":"+IF(INDEX(precos_ue!$AH$2:$AH$3191,MATCH(aux_pr_ue!$F$3&aux_pr_ue!L294,precos_ue!$A$2:$A$3191,0))=0,\"\",INDEX(precos_ue!$AH$2:$AH$3191,MATCH(aux_pr_ue!$F$3&aux_pr_ue!L294,precos_ue!$A$2:$A$3191,0)))","v":169.6694},"2015/03",193.3871,169.6694]
[null,null,null,null,null,null,null,null,null,{"$f":"+IF(INDEX(precos_ue!$AG$2:$AG$3191,MATCH(aux_pr_ue!$E$3&aux_pr_ue!L295,precos_ue!$A$2:$A$3191,0))=0,\"\",INDEX(precos_ue!$AG$2:$AG$3191,MATCH(aux_pr_ue!$E$3&aux_pr_ue!L295,precos_ue!$A$2:$A$3191,0)))","v":194.0667},{"$f":"+IF(INDEX(precos_ue!$AH$2:$AH$3191,MATCH(aux_pr_ue!$F$3&aux_pr_ue!L295,precos_ue!$A$2:$A$3191,0))=0,\"\",INDEX(precos_ue!$AH$2:$AH$3191,MATCH(aux_pr_ue!$F$3&aux_pr_ue!L295,precos_ue!$A$2:$A$3191,0)))","v":166.6},"2015/04",194.0667,166.6]
[null,null,null,null,null,null,null,null,null,{"$f":"+IF(INDEX(precos_ue!$AG$2:$AG$3191,MATCH(aux_pr_ue!$E$3&aux_pr_ue!L296,precos_ue!$A$2:$A$3191,0))=0,\"\",INDEX(precos_ue!$AG$2:$AG$3191,MATCH(aux_pr_ue!$E$3&aux_pr_ue!L296,precos_ue!$A$2:$A$3191,0)))","v":189.22580000000002},{"$f":"+IF(INDEX(precos_ue!$AH$2:$AH$3191,MATCH(aux_pr_ue!$F$3&aux_pr_ue!L296,precos_ue!$A$2:$A$3191,0))=0,\"\",INDEX(precos_ue!$AH$2:$AH$3191,MATCH(aux_pr_ue!$F$3&aux_pr_ue!L296,precos_ue!$A$2:$A$3191,0)))","v":161.7097},"2015/05",189.22580000000002,161.7097]
[null,null,null,null,null,null,null,null,null,{"$f":"+IF(INDEX(precos_ue!$AG$2:$AG$3191,MATCH(aux_pr_ue!$E$3&aux_pr_ue!L297,precos_ue!$A$2:$A$3191,0))=0,\"\",INDEX(precos_ue!$AG$2:$AG$3191,MATCH(aux_pr_ue!$E$3&aux_pr_ue!L297,precos_ue!$A$2:$A$3191,0)))","v":187.0667},{"$f":"+IF(INDEX(precos_ue!$AH$2:$AH$3191,MATCH(aux_pr_ue!$F$3&aux_pr_ue!L297,precos_ue!$A$2:$A$3191,0))=0,\"\",INDEX(precos_ue!$AH$2:$AH$3191,MATCH(aux_pr_ue!$F$3&aux_pr_ue!L297,precos_ue!$A$2:$A$3191,0)))","v":161.03200000000001},"2015/06",187.0667,161.03200000000001]
[null,null,null,null,null,null,null,null,null,{"$f":"+IF(INDEX(precos_ue!$AG$2:$AG$3191,MATCH(aux_pr_ue!$E$3&aux_pr_ue!L298,precos_ue!$A$2:$A$3191,0))=0,\"\",INDEX(precos_ue!$AG$2:$AG$3191,MATCH(aux_pr_ue!$E$3&aux_pr_ue!L298,precos_ue!$A$2:$A$3191,0)))","v":189.39515},{"$f":"+IF(INDEX(precos_ue!$AH$2:$AH$3191,MATCH(aux_pr_ue!$F$3&aux_pr_ue!L298,precos_ue!$A$2:$A$3191,0))=0,\"\",INDEX(precos_ue!$AH$2:$AH$3191,MATCH(aux_pr_ue!$F$3&aux_pr_ue!L298,precos_ue!$A$2:$A$3191,0)))","v":164.20189999999999},"2015/07",189.39515,164.20189999999999]
[null,null,null,null,null,null,null,null,null,{"$f":"+IF(INDEX(precos_ue!$AG$2:$AG$3191,MATCH(aux_pr_ue!$E$3&aux_pr_ue!L299,precos_ue!$A$2:$A$3191,0))=0,\"\",INDEX(precos_ue!$AG$2:$AG$3191,MATCH(aux_pr_ue!$E$3&aux_pr_ue!L299,precos_ue!$A$2:$A$3191,0)))","v":185.9375},{"$f":"+IF(INDEX(precos_ue!$AH$2:$AH$3191,MATCH(aux_pr_ue!$F$3&aux_pr_ue!L299,precos_ue!$A$2:$A$3191,0))=0,\"\",INDEX(precos_ue!$AH$2:$AH$3191,MATCH(aux_pr_ue!$F$3&aux_pr_ue!L299,precos_ue!$A$2:$A$3191,0)))","v":165.52710000000002},"2015/08",185.9375,165.52710000000002]
[null,null,null,null,null,null,null,null,null,{"$f":"+IF(INDEX(precos_ue!$AG$2:$AG$3191,MATCH(aux_pr_ue!$E$3&aux_pr_ue!L300,precos_ue!$A$2:$A$3191,0))=0,\"\",INDEX(precos_ue!$AG$2:$AG$3191,MATCH(aux_pr_ue!$E$3&aux_pr_ue!L300,precos_ue!$A$2:$A$3191,0)))","v":180.76085},{"$f":"+IF(INDEX(precos_ue!$AH$2:$AH$3191,MATCH(aux_pr_ue!$F$3&aux_pr_ue!L300,precos_ue!$A$2:$A$3191,0))=0,\"\",INDEX(precos_ue!$AH$2:$AH$3191,MATCH(aux_pr_ue!$F$3&aux_pr_ue!L300,precos_ue!$A$2:$A$3191,0)))","v":160.38730000000001},"2015/09",180.76085,160.38730000000001]
[null,null,null,null,null,null,null,null,null,{"$f":"+IF(INDEX(precos_ue!$AG$2:$AG$3191,MATCH(aux_pr_ue!$E$3&aux_pr_ue!L301,precos_ue!$A$2:$A$3191,0))=0,\"\",INDEX(precos_ue!$AG$2:$AG$3191,MATCH(aux_pr_ue!$E$3&aux_pr_ue!L301,precos_ue!$A$2:$A$3191,0)))","v":185.48390000000001},{"$f":"+IF(INDEX(precos_ue!$AH$2:$AH$3191,MATCH(aux_pr_ue!$F$3&aux_pr_ue!L301,precos_ue!$A$2:$A$3191,0))=0,\"\",INDEX(precos_ue!$AH$2:$AH$3191,MATCH(aux_pr_ue!$F$3&aux_pr_ue!L301,precos_ue!$A$2:$A$3191,0)))","v":162.87100000000001},"2015/10",185.48390000000001,162.87100000000001]
[null,null,null,null,null,null,null,null,null,{"$f":"+IF(INDEX(precos_ue!$AG$2:$AG$3191,MATCH(aux_pr_ue!$E$3&aux_pr_ue!L302,precos_ue!$A$2:$A$3191,0))=0,\"\",INDEX(precos_ue!$AG$2:$AG$3191,MATCH(aux_pr_ue!$E$3&aux_pr_ue!L302,precos_ue!$A$2:$A$3191,0)))","v":188.84210000000002},{"$f":"+IF(INDEX(precos_ue!$AH$2:$AH$3191,MATCH(aux_pr_ue!$F$3&aux_pr_ue!L302,precos_ue!$A$2:$A$3191,0))=0,\"\",INDEX(precos_ue!$AH$2:$AH$3191,MATCH(aux_pr_ue!$F$3&aux_pr_ue!L302,precos_ue!$A$2:$A$3191,0)))","v":163.5455},"2015/11",188.84210000000002,163.5455]
[null,null,null,null,null,null,null,null,null,{"$f":"+IF(INDEX(precos_ue!$AG$2:$AG$3191,MATCH(aux_pr_ue!$E$3&aux_pr_ue!L303,precos_ue!$A$2:$A$3191,0))=0,\"\",INDEX(precos_ue!$AG$2:$AG$3191,MATCH(aux_pr_ue!$E$3&aux_pr_ue!L303,precos_ue!$A$2:$A$3191,0)))","v":186},{"$f":"+IF(INDEX(precos_ue!$AH$2:$AH$3191,MATCH(aux_pr_ue!$F$3&aux_pr_ue!L303,precos_ue!$A$2:$A$3191,0))=0,\"\",INDEX(precos_ue!$AH$2:$AH$3191,MATCH(aux_pr_ue!$F$3&aux_pr_ue!L303,precos_ue!$A$2:$A$3191,0)))","v":163},"2015/12",186,163]
[null,null,null,null,null,null,null,null,null,{"$f":"+IF(INDEX(precos_ue!$AG$2:$AG$3191,MATCH(aux_pr_ue!$E$3&aux_pr_ue!L304,precos_ue!$A$2:$A$3191,0))=0,\"\",INDEX(precos_ue!$AG$2:$AG$3191,MATCH(aux_pr_ue!$E$3&aux_pr_ue!L304,precos_ue!$A$2:$A$3191,0)))","v":177.32260000000002},{"$f":"+IF(INDEX(precos_ue!$AH$2:$AH$3191,MATCH(aux_pr_ue!$F$3&aux_pr_ue!L304,precos_ue!$A$2:$A$3191,0))=0,\"\",INDEX(precos_ue!$AH$2:$AH$3191,MATCH(aux_pr_ue!$F$3&aux_pr_ue!L304,precos_ue!$A$2:$A$3191,0)))","v":160.06450000000001},"2016/01",177.32260000000002,160.06450000000001]
[null,null,null,null,null,null,null,null,null,{"$f":"+IF(INDEX(precos_ue!$AG$2:$AG$3191,MATCH(aux_pr_ue!$E$3&aux_pr_ue!L305,precos_ue!$A$2:$A$3191,0))=0,\"\",INDEX(precos_ue!$AG$2:$AG$3191,MATCH(aux_pr_ue!$E$3&aux_pr_ue!L305,precos_ue!$A$2:$A$3191,0)))","v":168.72410000000002},{"$f":"+IF(INDEX(precos_ue!$AH$2:$AH$3191,MATCH(aux_pr_ue!$F$3&aux_pr_ue!L305,precos_ue!$A$2:$A$3191,0))=0,\"\",INDEX(precos_ue!$AH$2:$AH$3191,MATCH(aux_pr_ue!$F$3&aux_pr_ue!L305,precos_ue!$A$2:$A$3191,0)))","v":144.77000000000001},"2016/02",168.72410000000002,144.77000000000001]
[null,null,null,null,null,null,null,null,null,{"$f":"+IF(INDEX(precos_ue!$AG$2:$AG$3191,MATCH(aux_pr_ue!$E$3&aux_pr_ue!L306,precos_ue!$A$2:$A$3191,0))=0,\"\",INDEX(precos_ue!$AG$2:$AG$3191,MATCH(aux_pr_ue!$E$3&aux_pr_ue!L306,precos_ue!$A$2:$A$3191,0)))","v":166.25810000000001},{"$f":"+IF(INDEX(precos_ue!$AH$2:$AH$3191,MATCH(aux_pr_ue!$F$3&aux_pr_ue!L306,precos_ue!$A$2:$A$3191,0))=0,\"\",INDEX(precos_ue!$AH$2:$AH$3191,MATCH(aux_pr_ue!$F$3&aux_pr_ue!L306,precos_ue!$A$2:$A$3191,0)))","v":137.33250000000001},"2016/03",166.25810000000001,137.33250000000001]
[null,null,null,null,null,null,null,null,null,{"$f":"+IF(INDEX(precos_ue!$AG$2:$AG$3191,MATCH(aux_pr_ue!$E$3&aux_pr_ue!L307,precos_ue!$A$2:$A$3191,0))=0,\"\",INDEX(precos_ue!$AG$2:$AG$3191,MATCH(aux_pr_ue!$E$3&aux_pr_ue!L307,precos_ue!$A$2:$A$3191,0)))","v":168.16670000000002},{"$f":"+IF(INDEX(precos_ue!$AH$2:$AH$3191,MATCH(aux_pr_ue!$F$3&aux_pr_ue!L307,precos_ue!$A$2:$A$3191,0))=0,\"\",INDEX(precos_ue!$AH$2:$AH$3191,MATCH(aux_pr_ue!$F$3&aux_pr_ue!L307,precos_ue!$A$2:$A$3191,0)))","v":137},"2016/04",168.16670000000002,137]
[null,null,null,null,null,null,null,null,null,{"$f":"+IF(INDEX(precos_ue!$AG$2:$AG$3191,MATCH(aux_pr_ue!$E$3&aux_pr_ue!L308,precos_ue!$A$2:$A$3191,0))=0,\"\",INDEX(precos_ue!$AG$2:$AG$3191,MATCH(aux_pr_ue!$E$3&aux_pr_ue!L308,precos_ue!$A$2:$A$3191,0)))","v":174.0625},{"$f":"+IF(INDEX(precos_ue!$AH$2:$AH$3191,MATCH(aux_pr_ue!$F$3&aux_pr_ue!L308,precos_ue!$A$2:$A$3191,0))=0,\"\",INDEX(precos_ue!$AH$2:$AH$3191,MATCH(aux_pr_ue!$F$3&aux_pr_ue!L308,precos_ue!$A$2:$A$3191,0)))","v":136.6542},"2016/05",174.0625,136.6542]
[null,null,null,null,null,null,null,null,null,{"$f":"+IF(INDEX(precos_ue!$AG$2:$AG$3191,MATCH(aux_pr_ue!$E$3&aux_pr_ue!L309,precos_ue!$A$2:$A$3191,0))=0,\"\",INDEX(precos_ue!$AG$2:$AG$3191,MATCH(aux_pr_ue!$E$3&aux_pr_ue!L309,precos_ue!$A$2:$A$3191,0)))","v":175.33330000000001},{"$f":"+IF(INDEX(precos_ue!$AH$2:$AH$3191,MATCH(aux_pr_ue!$F$3&aux_pr_ue!L309,precos_ue!$A$2:$A$3191,0))=0,\"\",INDEX(precos_ue!$AH$2:$AH$3191,MATCH(aux_pr_ue!$F$3&aux_pr_ue!L309,precos_ue!$A$2:$A$3191,0)))","v":136.33000000000001},"2016/06",175.33330000000001,136.33000000000001]
[null,null,null,null,null,null,null,null,null,{"$f":"+IF(INDEX(precos_ue!$AG$2:$AG$3191,MATCH(aux_pr_ue!$E$3&aux_pr_ue!L310,precos_ue!$A$2:$A$3191,0))=0,\"\",INDEX(precos_ue!$AG$2:$AG$3191,MATCH(aux_pr_ue!$E$3&aux_pr_ue!L310,precos_ue!$A$2:$A$3191,0)))","v":170},{"$f":"+IF(INDEX(precos_ue!$AH$2:$AH$3191,MATCH(aux_pr_ue!$F$3&aux_pr_ue!L310,precos_ue!$A$2:$A$3191,0))=0,\"\",INDEX(precos_ue!$AH$2:$AH$3191,MATCH(aux_pr_ue!$F$3&aux_pr_ue!L310,precos_ue!$A$2:$A$3191,0)))","v":137.76609999999999},"2016/07",170,137.76609999999999]
[null,null,null,null,null,null,null,null,null,{"$f":"+IF(INDEX(precos_ue!$AG$2:$AG$3191,MATCH(aux_pr_ue!$E$3&aux_pr_ue!L311,precos_ue!$A$2:$A$3191,0))=0,\"\",INDEX(precos_ue!$AG$2:$AG$3191,MATCH(aux_pr_ue!$E$3&aux_pr_ue!L311,precos_ue!$A$2:$A$3191,0)))","v":168.54840000000002},{"$f":"+IF(INDEX(precos_ue!$AH$2:$AH$3191,MATCH(aux_pr_ue!$F$3&aux_pr_ue!L311,precos_ue!$A$2:$A$3191,0))=0,\"\",INDEX(precos_ue!$AH$2:$AH$3191,MATCH(aux_pr_ue!$F$3&aux_pr_ue!L311,precos_ue!$A$2:$A$3191,0)))","v":141.18610000000001},"2016/08",168.54840000000002,141.18610000000001]
[null,null,null,null,null,null,null,null,null,{"$f":"+IF(INDEX(precos_ue!$AG$2:$AG$3191,MATCH(aux_pr_ue!$E$3&aux_pr_ue!L312,precos_ue!$A$2:$A$3191,0))=0,\"\",INDEX(precos_ue!$AG$2:$AG$3191,MATCH(aux_pr_ue!$E$3&aux_pr_ue!L312,precos_ue!$A$2:$A$3191,0)))","v":165.65},{"$f":"+IF(INDEX(precos_ue!$AH$2:$AH$3191,MATCH(aux_pr_ue!$F$3&aux_pr_ue!L312,precos_ue!$A$2:$A$3191,0))=0,\"\",INDEX(precos_ue!$AH$2:$AH$3191,MATCH(aux_pr_ue!$F$3&aux_pr_ue!L312,precos_ue!$A$2:$A$3191,0)))","v":143.124},"2016/09",165.65,143.124]
[null,null,null,null,null,null,null,null,null,{"$f":"+IF(INDEX(precos_ue!$AG$2:$AG$3191,MATCH(aux_pr_ue!$E$3&aux_pr_ue!L313,precos_ue!$A$2:$A$3191,0))=0,\"\",INDEX(precos_ue!$AG$2:$AG$3191,MATCH(aux_pr_ue!$E$3&aux_pr_ue!L313,precos_ue!$A$2:$A$3191,0)))","v":170.2903},{"$f":"+IF(INDEX(precos_ue!$AH$2:$AH$3191,MATCH(aux_pr_ue!$F$3&aux_pr_ue!L313,precos_ue!$A$2:$A$3191,0))=0,\"\",INDEX(precos_ue!$AH$2:$AH$3191,MATCH(aux_pr_ue!$F$3&aux_pr_ue!L313,precos_ue!$A$2:$A$3191,0)))","v":146.09550000000002},"2016/10",170.2903,146.09550000000002]
[null,null,null,null,null,null,null,null,null,{"$f":"+IF(INDEX(precos_ue!$AG$2:$AG$3191,MATCH(aux_pr_ue!$E$3&aux_pr_ue!L314,precos_ue!$A$2:$A$3191,0))=0,\"\",INDEX(precos_ue!$AG$2:$AG$3191,MATCH(aux_pr_ue!$E$3&aux_pr_ue!L314,precos_ue!$A$2:$A$3191,0)))","v":175},{"$f":"+IF(INDEX(precos_ue!$AH$2:$AH$3191,MATCH(aux_pr_ue!$F$3&aux_pr_ue!L314,precos_ue!$A$2:$A$3191,0))=0,\"\",INDEX(precos_ue!$AH$2:$AH$3191,MATCH(aux_pr_ue!$F$3&aux_pr_ue!L314,precos_ue!$A$2:$A$3191,0)))","v":152.17670000000001},"2016/11",175,152.17670000000001]
[null,null,null,null,null,null,null,null,null,{"$f":"+IF(INDEX(precos_ue!$AG$2:$AG$3191,MATCH(aux_pr_ue!$E$3&aux_pr_ue!L315,precos_ue!$A$2:$A$3191,0))=0,\"\",INDEX(precos_ue!$AG$2:$AG$3191,MATCH(aux_pr_ue!$E$3&aux_pr_ue!L315,precos_ue!$A$2:$A$3191,0)))","v":179.8065},{"$f":"+IF(INDEX(precos_ue!$AH$2:$AH$3191,MATCH(aux_pr_ue!$F$3&aux_pr_ue!L315,precos_ue!$A$2:$A$3191,0))=0,\"\",INDEX(precos_ue!$AH$2:$AH$3191,MATCH(aux_pr_ue!$F$3&aux_pr_ue!L315,precos_ue!$A$2:$A$3191,0)))","v":154.3629},"2016/12",179.8065,154.3629]
[null,null,null,null,null,null,null,null,null,{"$f":"+IF(INDEX(precos_ue!$AG$2:$AG$3191,MATCH(aux_pr_ue!$E$3&aux_pr_ue!L316,precos_ue!$A$2:$A$3191,0))=0,\"\",INDEX(precos_ue!$AG$2:$AG$3191,MATCH(aux_pr_ue!$E$3&aux_pr_ue!L316,precos_ue!$A$2:$A$3191,0)))","v":182.9032},{"$f":"+IF(INDEX(precos_ue!$AH$2:$AH$3191,MATCH(aux_pr_ue!$F$3&aux_pr_ue!L316,precos_ue!$A$2:$A$3191,0))=0,\"\",INDEX(precos_ue!$AH$2:$AH$3191,MATCH(aux_pr_ue!$F$3&aux_pr_ue!L316,precos_ue!$A$2:$A$3191,0)))","v":154.3355},"2017/01",182.9032,154.3355]
[null,null,null,null,null,null,null,null,null,{"$f":"+IF(INDEX(precos_ue!$AG$2:$AG$3191,MATCH(aux_pr_ue!$E$3&aux_pr_ue!L317,precos_ue!$A$2:$A$3191,0))=0,\"\",INDEX(precos_ue!$AG$2:$AG$3191,MATCH(aux_pr_ue!$E$3&aux_pr_ue!L317,precos_ue!$A$2:$A$3191,0)))","v":182.67860000000002},{"$f":"+IF(INDEX(precos_ue!$AH$2:$AH$3191,MATCH(aux_pr_ue!$F$3&aux_pr_ue!L317,precos_ue!$A$2:$A$3191,0))=0,\"\",INDEX(precos_ue!$AH$2:$AH$3191,MATCH(aux_pr_ue!$F$3&aux_pr_ue!L317,precos_ue!$A$2:$A$3191,0)))","v":154.33000000000001},"2017/02",182.67860000000002,154.33000000000001]
[null,null,null,null,null,null,null,null,null,{"$f":"+IF(INDEX(precos_ue!$AG$2:$AG$3191,MATCH(aux_pr_ue!$E$3&aux_pr_ue!L318,precos_ue!$A$2:$A$3191,0))=0,\"\",INDEX(precos_ue!$AG$2:$AG$3191,MATCH(aux_pr_ue!$E$3&aux_pr_ue!L318,precos_ue!$A$2:$A$3191,0)))","v":181.45160000000001},{"$f":"+IF(INDEX(precos_ue!$AH$2:$AH$3191,MATCH(aux_pr_ue!$F$3&aux_pr_ue!L318,precos_ue!$A$2:$A$3191,0))=0,\"\",INDEX(precos_ue!$AH$2:$AH$3191,MATCH(aux_pr_ue!$F$3&aux_pr_ue!L318,precos_ue!$A$2:$A$3191,0)))","v":154.2235},"2017/03",181.45160000000001,154.2235]
[null,null,null,null,null,null,null,null,null,{"$f":"+IF(INDEX(precos_ue!$AG$2:$AG$3191,MATCH(aux_pr_ue!$E$3&aux_pr_ue!L319,precos_ue!$A$2:$A$3191,0))=0,\"\",INDEX(precos_ue!$AG$2:$AG$3191,MATCH(aux_pr_ue!$E$3&aux_pr_ue!L319,precos_ue!$A$2:$A$3191,0)))","v":176.5},{"$f":"+IF(INDEX(precos_ue!$AH$2:$AH$3191,MATCH(aux_pr_ue!$F$3&aux_pr_ue!L319,precos_ue!$A$2:$A$3191,0))=0,\"\",INDEX(precos_ue!$AH$2:$AH$3191,MATCH(aux_pr_ue!$F$3&aux_pr_ue!L319,precos_ue!$A$2:$A$3191,0)))","v":153.26220000000001},"2017/04",176.5,153.26220000000001]
[null,null,null,null,null,null,null,null,null,{"$f":"+IF(INDEX(precos_ue!$AG$2:$AG$3191,MATCH(aux_pr_ue!$E$3&aux_pr_ue!L320,precos_ue!$A$2:$A$3191,0))=0,\"\",INDEX(precos_ue!$AG$2:$AG$3191,MATCH(aux_pr_ue!$E$3&aux_pr_ue!L320,precos_ue!$A$2:$A$3191,0)))","v":179.66670000000002},{"$f":"+IF(INDEX(precos_ue!$AH$2:$AH$3191,MATCH(aux_pr_ue!$F$3&aux_pr_ue!L320,precos_ue!$A$2:$A$3191,0))=0,\"\",INDEX(precos_ue!$AH$2:$AH$3191,MATCH(aux_pr_ue!$F$3&aux_pr_ue!L320,precos_ue!$A$2:$A$3191,0)))","v":153},"2017/05",179.66670000000002,153]
[null,null,null,null,null,null,null,null,null,{"$f":"+IF(INDEX(precos_ue!$AG$2:$AG$3191,MATCH(aux_pr_ue!$E$3&aux_pr_ue!L321,precos_ue!$A$2:$A$3191,0))=0,\"\",INDEX(precos_ue!$AG$2:$AG$3191,MATCH(aux_pr_ue!$E$3&aux_pr_ue!L321,precos_ue!$A$2:$A$3191,0)))","v":179.18889999999999},{"$f":"+IF(INDEX(precos_ue!$AH$2:$AH$3191,MATCH(aux_pr_ue!$F$3&aux_pr_ue!L321,precos_ue!$A$2:$A$3191,0))=0,\"\",INDEX(precos_ue!$AH$2:$AH$3191,MATCH(aux_pr_ue!$F$3&aux_pr_ue!L321,precos_ue!$A$2:$A$3191,0)))","v":153.20000000000002},"2017/06",179.18889999999999,153.20000000000002]
[null,null,null,null,null,null,null,null,null,{"$f":"+IF(INDEX(precos_ue!$AG$2:$AG$3191,MATCH(aux_pr_ue!$E$3&aux_pr_ue!L322,precos_ue!$A$2:$A$3191,0))=0,\"\",INDEX(precos_ue!$AG$2:$AG$3191,MATCH(aux_pr_ue!$E$3&aux_pr_ue!L322,precos_ue!$A$2:$A$3191,0)))","v":175.84272499999997},{"$f":"+IF(INDEX(precos_ue!$AH$2:$AH$3191,MATCH(aux_pr_ue!$F$3&aux_pr_ue!L322,precos_ue!$A$2:$A$3191,0))=0,\"\",INDEX(precos_ue!$AH$2:$AH$3191,MATCH(aux_pr_ue!$F$3&aux_pr_ue!L322,precos_ue!$A$2:$A$3191,0)))","v":153.39940000000001},"2017/07",175.84272499999997,153.39940000000001]

{"sheet":"CEA_DAdos","index":6,"n_rows":161,"n_cols":41,"rows_kept":161,"cut":false,"hidden":true,"merged":[]}
["teste","Tipo","Região","Cultura",1980,1981,1982,1983,1984,1985,1986,1987,1988,1989,1990,1991,1992,1993,1994,1995,1996,1997,1998,1999,2000,2001,2002,2003,2004,2005,2006,2007,2008,2009,2010,2011,"2012","2013","2014","2015Po","2016Pe"]
["PbPCorrentesPortugalTotal","PbPCorrentes","Portugal","Total",90.49,86.87,123.88000000000001,143.58000000000001,279.39999999999998,310.31999999999994,408.38,461.53000000000003,393.63,534.17999999999995,391.26,505.25,380.07,384.43,513.46,467.13,483.05,473.86,416.09000000000003,461.53,419.47,437.74,427.36,391.23,420.42,190.42999999999998,225.01999999999998,270.95,304.89,226.92,253.94,291.45,329.28999999999996,289.75,279.19,274.51,246.95]
["PbPCorrentesPortugalTrigo e Espelta","PbPCorrentes","Portugal","Trigo e Espelta",42.489999999999995,35.72,58.47,60.28,125.31,127.07,172.61,204.81,162.41999999999999,266.06,135.13,235.86,135.47000000000003,137.81,170.01,136.75,116.06,112.36,77.25,123.55999999999999,118.97,119.56,139.6,80.430000000000007,131.27000000000001,45.94,57.52,49.72,75.309999999999988,61.849999999999994,44.09,36.869999999999997,46.79,51.449999999999996,49.12,53.64,54.129999999999995]
["PbPCorrentesPortugalCenteio e Mistura de trigo e centeio","PbPCorrentes","Portugal","Centeio e Mistura de trigo e centeio",6.81,8.56,9.44,9.35,15.25,18.149999999999999,19.98,23.52,16.579999999999998,24.41,19.53,14.100000000000001,13.540000000000001,13.129999999999999,15.37,8.4499999999999993,9.7800000000000011,7.45,4.8600000000000003,8.870000000000001,6.42,4.0199999999999996,5.09,3.96,4.16,3.58,2.63,3.17,3.88,2.3199999999999998,2.37,2.81,2.62,3.4299999999999997,3.21,2.67,2.8]
["PbPCorrentesPortugalCevada","PbPCorrentes","Portugal","Cevada",2.31,2.76,3.73,5.2,14.02,11.52,18.690000000000001,17.8,11.36,19.739999999999998,20.66,28.68,15.26,23.06,26.28,14.77,15.16,5.4700000000000006,4.41,4.9000000000000004,5.73,2.34,3.33,2.02,4.53,4.4000000000000004,13.16,13.84,21.09,10.31,4.26,4.07,4.3100000000000005,6.01,6.35,7.8299999999999992,9.2999999999999989]
["PbPCorrentesPortugalAveia e Mistura de cereais de verão","PbPCorrentes","Portugal","Aveia e Mistura de cereais de verão",4.68,4.66,6.46,8.94,19.93,16.73,23.78,24.5,11.95,20.040000000000003,10.41,11.93,6.34,12.82,15.010000000000002,15.57,13.79,10.44,7.1,15.22,15.18,6.22,8.48,7.6300000000000008,10.64,5.48,8.83,9.3899999999999988,14.74,9.5399999999999991,9.16,8.8099999999999987,5.96,11.69,10.51,7.96,9.7100000000000009]
["PbPCorrentesPortugalMilho em grão","PbPCorrentes","Portugal","Milho em grão",23.16,25.36,31.07,44.41,76.81,100.02,128.31,133.75,134.38,138.66999999999999,135.99,134.97999999999999,149.80000000000001,148.64000000000001,189.04000000000002,209.76,243.13,259.88,254.08999999999997,243.23000000000002,210.86,241.73000000000002,212.62,237.34,206.84,93.82,90.4,136.84,110.44,90.69,131.44999999999999,174.76,210.49,163.46,160.04,151.97,124.47]
["PbPCorrentesPortugalArroz","PbPCorrentes","Portugal","Arroz",11.04,9.81,14.67,15.2,26.87,34.880000000000003,38.86,48.82,46.51,47.85,52.4,64.61,44.89,30.66,74.23,67.41,72.240000000000009,68.84,65.17,59.34,55.49,60.76,53.85,57.93,60.03,35.700000000000003,46.39,52.93,70.400000000000006,46.2,58.11,60.67,56.269999999999996,44.94,42.35,44.230000000000004,40.309999999999995]
["PbPCorrentesPortugalOutros cereais","PbPCorrentes","Portugal","Outros cereais",0,0,0.04,0.2,1.21,1.95,6.15,8.33,10.43,17.41,17.14,15.09,14.77,18.309999999999999,23.52,14.41,12.889999999999999,9.42,3.21,6.42,6.82,3.0999999999999996,4.3899999999999997,1.92,2.9499999999999997,1.51,6.1,5.0600000000000005,9.0400000000000009,5.99,4.5,3.46,2.85,8.77,7.6099999999999994,6.21,6.23]
["PbPconstantesPortugalTotal","PbPconstantes","Portugal","Total",193.7,146.13999999999999,179.09,149.28,203.04,191.07,226.83,236.9,195.8,262.64999999999998,185.01,265.77,190.34,201.48,229.64,194.43,226.07,218.82,213.7,251.65,251.18,218.59,280.02,214.92,268.13,136.19999999999999,283.97000000000003,266.69,318.14,280.7,261.45,291.47000000000003,296.75,349.01,392.81,367.36,348.92]
["PbPconstantesPortugalTrigo e Espelta","PbPconstantes","Portugal","Trigo e Espelta",115.03,83.68,114.21,88.82,128.63999999999999,110.35,136.08000000000001,145.25,105.13,169.51,78.36,168.64,97.08,112.46,124.81,95.15,105.39,91.04,60.48,116.7,128.87,84.11,183.83,63.42,132.05000000000001,20.41,85.63,57.12,82.96,61.71,53.54,36.869999999999997,34.78,51.95,61.61,53.98,61.14]
["PbPconstantesPortugalCenteio e Mistura de trigo e centeio","PbPconstantes","Portugal","Centeio e Mistura de trigo e centeio",24.86,22.38,21.15,15.68,18.059999999999999,16.920000000000002,17.46,19.22,12.84,18.899999999999999,15.12,12.53,10.66,10.31,9.89,5.07,8.23,6.07,4.68,8.85,7.38,3.53,5.36,4.0999999999999996,4.2300000000000004,2.95,3.7,3.52,3.44,2.95,2.63,2.81,2.35,3,2.92,2.5099999999999998,2.64]
["PbPconstantesPortugalCevada","PbPconstantes","Portugal","Cevada",9.9499999999999993,7.58,9.59,10.130000000000001,18.62,12.47,17.53,15.54,9.51,16.510000000000002,15.26,24.91,11.96,19.43,18.84,10.07,13.84,5.44,4.97,5.68,7.32,2.39,3.93,2.2400000000000002,4.9800000000000004,3.63,20.51,15.04,19.46,14.58,5.98,4.07,3.88,5.83,6.75,7.96,9.9499999999999993]
["PbPconstantesPortugalAveia e Mistura de cereais de verão","PbPconstantes","Portugal","Aveia e Mistura de cereais de verão",22.71,16.89,20.55,21.82,30.26,23.4,29.12,29.99,14.63,24.52,13.13,14.13,7.45,14.15,14.75,10.4,10.88,8.1,8.0299999999999994,18.649999999999999,21.68,6.77,11.42,6.83,11.4,4.0599999999999996,16.809999999999999,11.54,17.66,13.18,12.45,8.8099999999999987,5.28,11.35,44.78,31.7,43.33]
["PbPconstantesPortugalMilho em grão","PbPconstantes","Portugal","Milho em grão",105,80.7,90.02,81.790000000000006,103.34,114.49,132.04,137.63999999999999,138.29,142.69,139.91999999999999,137.94,142.51,140.47999999999999,149.51,150.18,165.87,181.45,206.13,196.29,185.25,191.67,168.68,168.93,167.02,108.09,114.02,129.65,147.44,133.25,131.6,174.78,181.04,198.29,191.96,177.1,151.43]
["PbPconstantesPortugalArroz","PbPconstantes","Portugal","Arroz",48.66,36.1,44.78,35.35,42.65,47,47.46,46.01,46.99,47.31,51.07,56.45,35.85,22.71,43.29,40.83,56.35,53.44,52.87,49.78,46.38,47.68,47.84,48.2,51.55,41.47,49.08,51.24,49.66,53.29,55.94,60.67,66.89,64.56,59.83,65.900000000000006,59.31]
["PbPconstantesPortugalOutros cereais","PbPconstantes","Portugal","Outros cereais",0,0,7.0000000000000007E-2,0.32,1.31,1.78,4.91,6.22,7.79,12.31,12.12,12.84,11.51,15.07,16.68,9.02,10.44,7.6,3,6.43,7.97,2.92,5,2.0499999999999998,2.87,1.1000000000000001,8.07,4.67,8.0399999999999991,6.67,4.8099999999999996,3.46,2.54,8.8000000000000007,8.81,7.03,7.64]
["ppPortugalTotal","pp","Portugal","Total",null,null,null,null,null,null,null,null,null,null,null,null,null,null,null,275.49,300.42,280.89999999999998,256.46000000000004,282.38,267.64,254.22000000000003,257.89,219.17999999999998,220.76999999999998,136.45999999999998,208.97,256.93,289.30999999999995,210.32000000000002,238.86999999999995,275.21999999999997,322.15999999999997,282.74,272.28000000000003,260.55]
["ppPortugalTrigo e Espelta","pp","Portugal","Trigo e Espelta",null,null,null,null,null,null,null,null,null,null,null,null,null,null,null,81.53,84.470000000000013,73.47,60.51,86.509999999999991,74.850000000000009,72.91,87.04,35.07,75.55,28.99,56.249999999999993,48.589999999999996,74.509999999999991,61.050000000000004,43.500000000000007,36.039999999999992,45.959999999999994,50.519999999999996,48.890000000000008,53.05]
["ppPortugalCenteio e Mistura de trigo e centeio","pp","Portugal","Centeio e Mistura de trigo e centeio",null,null,null,null,null,null,null,null,null,null,null,null,null,null,null,3.67,6.04,4.45,3.0999999999999996,5.9899999999999993,4.58,2.8299999999999996,3.7800000000000002,2.8,3.1299999999999994,2.0099999999999998,2.52,2.92,3.8,2.23,2.25,2.61,2.4299999999999997,3.2600000000000002,3.1700000000000004,2.56]
["ppPortugalCevada","pp","Portugal","Cevada",null,null,null,null,null,null,null,null,null,null,null,null,null,null,null,7.7700000000000005,10.31,3.35,2.99,3.38,4.29,1.72,2.5599999999999996,1.46,3.54,2.3199999999999998,12.690000000000001,12.940000000000001,20.73,9.9599999999999991,4.05,3.84,4.04,5.7,6.27,7.52]
["ppPortugalAveia e Mistura de cereais de verão","pp","Portugal","Aveia e Mistura de cereais de verão",null,null,null,null,null,null,null,null,null,null,null,null,null,null,null,7.97,9.6,7.17,5.55,10.06,10.73,4.3099999999999996,6.12,5.9399999999999995,8.32,3.49,8.4400000000000013,8.6999999999999993,14.41,9.1999999999999993,8.6999999999999993,8.2800000000000011,5.57,11.110000000000001,10.37,7.62]
["ppPortugalMilho em grão","pp","Portugal","Milho em grão",null,null,null,null,null,null,null,null,null,null,null,null,null,null,null,115.53,120.66000000000001,131.99,131.10000000000002,128.34,125.39999999999999,124.43,112.12000000000002,129.44,101.98,73.099999999999994,88.39,134.73999999999998,107.91,88.070000000000007,128.43999999999997,171.58,206.06,159.27000000000001,153.92000000000002,145.46]
["ppPortugalArroz","pp","Portugal","Arroz",null,null,null,null,null,null,null,null,null,null,null,null,null,null,null,50.980000000000004,60.31,53.930000000000007,50.93,43.39,42.56,45.72,42.85,43.04,25.93,25.689999999999998,34.760000000000005,44.260000000000005,59.06,33.99,47.61,49.669999999999995,55.47,44.55,42.15,38.39]
["ppPortugalOutros cereais","pp","Portugal","Outros cereais",null,null,null,null,null,null,null,null,null,null,null,null,null,null,null,8.0400000000000009,9.0299999999999994,6.54,2.2800000000000002,4.71,5.2299999999999995,2.2999999999999998,3.42,1.43,2.3199999999999998,0.8600000000000001,5.92,4.78,8.8899999999999988,5.82,4.32,3.2,2.6300000000000003,8.33,7.51,5.95]
["ppContinenteTotal","pp","Continente","Total",null,null,null,null,null,null,null,null,null,null,null,null,null,null,null,274.36,299.60000000000002,280.13,255.85000000000002,281.91000000000003,267.2,253.77,257.52999999999997,218.79999999999998,220.45999999999998,136.21999999999997,208.72999999999996,256.64999999999998,289.13,210.16,238.67000000000002,275.01,321.95999999999992,282.60000000000002,272.13,260.39999999999998]
["ppContinenteTrigo e Espelta","pp","Continente","Trigo e Espelta",null,null,null,null,null,null,null,null,null,null,null,null,null,null,null,81.510000000000005,84.460000000000008,73.45,60.46,86.47999999999999,74.820000000000007,72.81,87,35.03,75.5,28.97,56.239999999999995,48.569999999999993,74.489999999999995,61.03,43.480000000000004,35.989999999999995,45.91,50.48,48.850000000000009,53]
["ppContinenteCenteio e Mistura de trigo e centeio","pp","Continente","Centeio e Mistura de trigo e centeio",null,null,null,null,null,null,null,null,null,null,null,null,null,null,null,3.67,6.04,4.45,3.0999999999999996,5.9899999999999993,4.58,2.8299999999999996,3.7800000000000002,2.8,3.1299999999999994,2.0099999999999998,2.52,2.92,3.8,2.23,2.25,2.61,2.4299999999999997,3.2600000000000002,3.1700000000000004,2.56]
["ppContinenteCevada","pp","Continente","Cevada",null,null,null,null,null,null,null,null,null,null,null,null,null,null,null,7.7700000000000005,10.31,3.35,2.99,3.38,4.29,1.72,2.5599999999999996,1.46,3.54,2.3199999999999998,12.690000000000001,12.940000000000001,20.73,9.9599999999999991,4.05,3.84,4.04,5.7,6.27,7.52]
["ppContinenteAveia e Mistura de cereais de verão","pp","Continente","Aveia e Mistura de cereais de verão",null,null,null,null,null,null,null,null,null,null,null,null,null,null,null,7.97,9.6,7.17,5.55,10.06,10.73,4.3099999999999996,6.12,5.9399999999999995,8.32,3.49,8.4400000000000013,8.6999999999999993,14.41,9.1999999999999993,8.6999999999999993,8.2800000000000011,5.57,11.110000000000001,10.37,7.62]
["ppContinenteMilho em grão","pp","Continente","Milho em grão",null,null,null,null,null,null,null,null,null,null,null,null,null,null,null,114.42,119.85000000000001,131.24,130.54000000000002,127.9,124.98999999999998,124.08,111.80000000000001,129.1,101.72,72.88,88.16,134.47999999999999,107.75,87.93,128.26,171.42000000000002,205.91,159.17000000000002,153.81,145.36000000000001]
["ppContinenteArroz","pp","Continente","Arroz",null,null,null,null,null,null,null,null,null,null,null,null,null,null,null,50.980000000000004,60.31,53.930000000000007,50.93,43.39,42.56,45.72,42.85,43.04,25.93,25.689999999999998,34.760000000000005,44.260000000000005,59.06,33.99,47.61,49.669999999999995,55.47,44.55,42.15,38.39]
["ppContinenteOutros cereais","pp","Continente","Outros cereais",null,null,null,null,null,null,null,null,null,null,null,null,null,null,null,8.0400000000000009,9.0299999999999994,6.54,2.2800000000000002,4.71,5.2299999999999995,2.2999999999999998,3.42,1.43,2.3199999999999998,0.8600000000000001,5.92,4.78,8.8899999999999988,5.82,4.32,3.2,2.6300000000000003,8.33,7.51,5.95]
["ppNorteTotal","pp","Norte","Total",null,null,null,null,null,null,null,null,null,null,null,null,null,null,null,43.910000000000004,44.639999999999993,39.08,36.300000000000004,37.349999999999994,34.22,38.710000000000008,32.049999999999997,32.03,29.92,20.619999999999997,22.47,30.74,24.05,19.369999999999997,25.35,29.49,32.590000000000003,26.33,24.9,23.580000000000002]
["ppNorteTrigo e Espelta","pp","Norte","Trigo e Espelta",null,null,null,null,null,null,null,null,null,null,null,null,null,null,null,4.5,7.08,5.78,9.31,6.93,5.47,12.41,8.7799999999999994,6.97,9.4499999999999993,3.08,2.04,3.93,2.81,3.39,3.38,4.0199999999999996,4,5.0599999999999996,2.97,2.91]
["ppNorteCenteio e Mistura de trigo e centeio","pp","Norte","Centeio e Mistura de trigo e centeio",null,null,null,null,null,null,null,null,null,null,null,null,null,null,null,2.4899999999999998,4.4400000000000004,3.2600000000000002,2.1999999999999997,4.0699999999999994,2.96,1.93,2.74,1.98,2.2799999999999998,1.62,1.79,2.0699999999999998,2.88,1.6,1.52,1.82,1.85,2.2200000000000002,2.2000000000000002,1.85]
["ppNorteCevada","pp","Norte","Cevada",null,null,null,null,null,null,null,null,null,null,null,null,null,null,null,0.04,0.05,0.03,0.03,0.06,0.05,0.05,0.06,0.05,0.06,0.03,0.04,0.05,7.0000000000000007E-2,0.02,0.02,0.03,0.03,0.03,0.03,0.03]
["ppNorteAveia e Mistura de cereais de verão","pp","Norte","Aveia e Mistura de cereais de verão",null,null,null,null,null,null,null,null,null,null,null,null,null,null,null,0.15,0.23,0.2,0.24,0.45,0.35,0.3,0.35,0.48,0.44,0.32,0.27,0.45,0.51,0.31,0.3,0.39,0.38,0.46,0.33,0.28999999999999998]
["ppNorteMilho em grão","pp","Norte","Milho em grão",null,null,null,null,null,null,null,null,null,null,null,null,null,null,null,36.71,32.83,29.8,24.51,25.82,25.38,24.01,20.11,22.54,17.68,15.57,18.329999999999998,24.18,17.73,14.01,20.100000000000001,23.19,26.29,18.489999999999998,19.3,18.350000000000001]
["ppNorteArroz","pp","Norte","Arroz",null,null,null,null,null,null,null,null,null,null,null,null,null,null,null,0,0,0,0,0,0,0,0,0,0,0,0,0,0,0,0,0,0,0,0,0]
["ppNorteOutros cereais","pp","Norte","Outros cereais",null,null,null,null,null,null,null,null,null,null,null,null,null,null,null,0.02,0.01,0.01,0.01,0.02,0.01,0.01,0.01,0.01,0.01,0,0,0.06,0.05,0.04,0.03,0.04,0.04,7.0000000000000007E-2,7.0000000000000007E-2,0.15]
["ppCentroTotal","pp","Centro","Total",null,null,null,null,null,null,null,null,null,null,null,null,null,null,null,66.87,61.68,57.81,51.730000000000004,56.03,55.72,48.999999999999993,45.47,45.69,36.130000000000003,32.409999999999997,41.100000000000009,54.91,48.529999999999994,42.48,56.440000000000005,67.029999999999987,70.359999999999985,58.18,57.690000000000005,57.66]
["ppCentroTrigo e Espelta","pp","Centro","Trigo e Espelta",null,null,null,null,null,null,null,null,null,null,null,null,null,null,null,5.5,3.0300000000000002,3.3099999999999996,3.65,3.98,3.37,4.29,5.0600000000000005,2.16,3.06,1.71,1.52,2.61,5.25,5.75,3.22,3.4499999999999997,2.9299999999999997,3.28,2.88,3.97]
["ppCentroCenteio e Mistura de trigo e centeio","pp","Centro","Centeio e Mistura de trigo e centeio",null,null,null,null,null,null,null,null,null,null,null,null,null,null,null,1.1000000000000001,1.5,1.1299999999999999,0.86,1.88,1.59,0.87,0.99,0.81,0.82,0.38,0.71,0.83,0.9,0.61,0.71,0.78,0.56999999999999995,1.02,0.95,0.68]
["ppCentroCevada","pp","Centro","Cevada",null,null,null,null,null,null,null,null,null,null,null,null,null,null,null,0.8,1.1399999999999999,0.46,0.55000000000000004,0.35,0.3,0.16,0.23,0.16,0.2,0.19,0.08,0.08,0.12,0.52,0.1,0.16,0.14000000000000001,0.28999999999999998,0.23,0.32]
["ppCentroAveia e Mistura de cereais de verão","pp","Centro","Aveia e Mistura de cereais de verão",null,null,null,null,null,null,null,null,null,null,null,null,null,null,null,0.66,0.75,0.66,0.43,1.04,0.85,0.7,0.86,0.95,1.05,0.61,0.61,0.74,0.81,0.52,0.47,0.64,0.45,0.66,0.52,0.47]
["ppCentroMilho em grão","pp","Centro","Milho em grão",null,null,null,null,null,null,null,null,null,null,null,null,null,null,null,41,39.44,38.619999999999997,33.840000000000003,37.89,38.33,32.729999999999997,29.33,31.97,25.47,23.23,30.37,40.96,28.83,27.91,41.1,51.55,54.62,43.18,45,44.86]
["ppCentroArroz","pp","Centro","Arroz",null,null,null,null,null,null,null,null,null,null,null,null,null,null,null,17.59,15.31,13.27,12.29,10.61,11.03,10.039999999999999,8.84,9.52,5.44,6.25,7.68,9.18,12.05,6.67,10.39,10.119999999999999,11.33,9.2799999999999994,7.67,6.95]
["ppCentroOutros cereais","pp","Centro","Outros cereais",null,null,null,null,null,null,null,null,null,null,null,null,null,null,null,0.22,0.51,0.36,0.11,0.28000000000000003,0.25,0.21,0.16,0.12,0.09,0.04,0.13,0.51,0.56999999999999995,0.5,0.45,0.33,0.32,0.47,0.44,0.41]
["ppAMLTotal","pp","AML","Total",null,null,null,null,null,null,null,null,null,null,null,null,null,null,null,7.96,5.7200000000000006,12.709999999999997,14.629999999999997,9.49,10.190000000000001,8.6,10.24,13.290000000000001,9.94,11.09,12.9,18.89,21.23,10.509999999999998,12.29,14.7,19.84,14.92,14.829999999999998,13.080000000000002]
["ppAMLTrigo e Espelta","pp","AML","Trigo e Espelta",null,null,null,null,null,null,null,null,null,null,null,null,null,null,null,1.83,0.27,1.9500000000000002,0.94,1.4100000000000001,1.4700000000000002,0.99,1.6400000000000001,0.6100000000000001,0.91999999999999993,0.94000000000000006,0.73,1.33,2.4300000000000002,2.0300000000000002,0.34,0.35,0.59,0.37,0.77,0.99]
["ppAMLCenteio e Mistura de trigo e centeio","pp","AML","Centeio e Mistura de trigo e centeio",null,null,null,null,null,null,null,null,null,null,null,null,null,null,null,0,0,0,0,0,0,0,0,0,0,0,0,0,0,0,0,0,0,0,0,0]
["ppAMLCevada","pp","AML","Cevada",null,null,null,null,null,null,null,null,null,null,null,null,null,null,null,0.04,0.08,0.14000000000000001,0.37,0.18,0.15,0.06,0.05,0.03,0.08,0.2,0.18,0.27,0.23,0.24,0.04,0.15,0.22,0.12,0.1,0.09]
["ppAMLAveia e Mistura de cereais de verão","pp","AML","Aveia e Mistura de cereais de verão",null,null,null,null,null,null,null,null,null,null,null,null,null,null,null,0.26,0.18,0.16,0.4,0.14000000000000001,0.13,0.06,0.08,0.1,0.09,0.06,0.06,7.0000000000000007E-2,7.0000000000000007E-2,0.06,0.01,0.02,0.02,0.02,0.02,0.02]
["ppAMLMilho em grão","pp","AML","Milho em grão",null,null,null,null,null,null,null,null,null,null,null,null,null,null,null,3.27,3.34,7.05,9.6999999999999993,4.24,4.7699999999999996,4.3499999999999996,5.6,9.81,7.28,8.09,9.5399999999999991,13.86,13.83,3.79,5.22,7.07,10.029999999999999,7.75,6.76,5.24]
["ppAMLArroz","pp","AML","Arroz",null,null,null,null,null,null,null,null,null,null,null,null,null,null,null,2.52,1.81,3.37,3.19,3.46,3.6,3.1,2.8,2.73,1.56,1.79,2.38,3.33,4.6100000000000003,4.3600000000000003,6.66,7.08,8.91,6.61,7.14,6.68]
["ppAMLOutros cereais","pp","AML","Outros cereais",null,null,null,null,null,null,null,null,null,null,null,null,null,null,null,0.04,0.04,0.04,0.03,0.06,7.0000000000000007E-2,0.04,7.0000000000000007E-2,0.01,0.01,0.01,0.01,0.03,0.06,0.03,0.02,0.03,7.0000000000000007E-2,0.05,0.04,0.06]
["ppAlentejoTotal","pp","Alentejo","Total",null,null,null,null,null,null,null,null,null,null,null,null,null,null,null,154.13,185.44,168.85,151.55000000000001,176.84,164.86,153.09,166.62,125.43,141.68,71.17,130.69,149.85,193.31,136.79000000000002,143.32999999999998,162.57999999999998,198.08,182,173.56,164.84]
["ppAlentejoTrigo e Espelta","pp","Alentejo","Trigo e Espelta",null,null,null,null,null,null,null,null,null,null,null,null,null,null,null,69.290000000000006,73.510000000000005,62.15,46.36,73.3,63.67,52.45,70,24.560000000000002,60.94,23.09,51.51,40.059999999999995,63.51,49.440000000000005,35.96,27.45,37.96,41.21,41.800000000000004,44.57]
["ppAlentejoCenteio e Mistura de trigo e centeio","pp","Alentejo","Centeio e Mistura de trigo e centeio",null,null,null,null,null,null,null,null,null,null,null,null,null,null,null,0.08,0.09,0.05,0.04,0.04,0.03,0.03,0.05,0.01,0.03,0.01,0.02,0.02,0.02,0.02,0.02,0.01,0.01,0.02,0.02,0.03]
["ppAlentejoCevada","pp","Alentejo","Cevada",null,null,null,null,null,null,null,null,null,null,null,null,null,null,null,6.8100000000000005,8.92,2.67,2.02,2.65,3.64,1.3,2.0699999999999998,1.1299999999999999,3.07,1.8699999999999999,12.21,12.4,20.12,9.129999999999999,3.85,3.44,3.62,5.19,5.85,7.02]
["ppAlentejoAveia e Mistura de cereais de verão","pp","Alentejo","Aveia e Mistura de cereais de verão",null,null,null,null,null,null,null,null,null,null,null,null,null,null,null,6.64,8,5.8999999999999995,4.34,8.24,9.2200000000000006,3.07,4.66,4.1899999999999995,6.27,2.39,7.36,7.25,12.84,8.27,7.88,7.16,4.6800000000000006,9.89,9.44,6.76]
["ppAlentejoMilho em grão","pp","Alentejo","Milho em grão",null,null,null,null,null,null,null,null,null,null,null,null,null,null,null,32.700000000000003,43.64,54.97,61.6,58.96,55.49,62.01,55.760000000000005,63.67,50.41,25.35,29.39,54.52,46.67,41.97,61.55,89.29,114.7,89.47,82.44,76.53]
["ppAlentejoArroz","pp","Alentejo","Arroz",null,null,null,null,null,null,null,null,null,null,null,null,null,null,null,30.87,42.83,36.99,35.07,29.32,27.93,32.21,30.92,30.59,18.760000000000002,17.649999999999999,24.44,31.44,41.96,22.73,30.27,32.44,34.92,28.5,27.07,24.62]
["ppAlentejoOutros cereais","pp","Alentejo","Outros cereais",null,null,null,null,null,null,null,null,null,null,null,null,null,null,null,7.74,8.4499999999999993,6.12,2.12,4.33,4.88,2.02,3.16,1.28,2.1999999999999997,0.81,5.76,4.16,8.19,5.23,3.8,2.79,2.1900000000000004,7.72,6.9399999999999995,5.3100000000000005]
["ppAlgarveTotal","pp","Algarve","Total",null,null,null,null,null,null,null,null,null,null,null,null,null,null,null,1.4900000000000002,2.12,1.6800000000000002,1.6400000000000001,2.2000000000000002,2.21,4.37,3.1500000000000004,2.3600000000000003,2.79,0.93,1.57,2.2600000000000002,2.0099999999999998,1.01,1.2599999999999998,1.21,1.0900000000000001,1.1700000000000002,1.1499999999999999,1.2400000000000002]
["ppAlgarveTrigo e Espelta","pp","Algarve","Trigo e Espelta",null,null,null,null,null,null,null,null,null,null,null,null,null,null,null,0.39,0.57000000000000006,0.26,0.2,0.86,0.84,2.67,1.52,0.73,1.1300000000000001,0.15,0.44,0.64,0.49,0.42000000000000004,0.57999999999999996,0.72,0.43,0.56000000000000005,0.43000000000000005,0.56000000000000005]
["ppAlgarveCenteio e Mistura de trigo e centeio","pp","Algarve","Centeio e Mistura de trigo e centeio",null,null,null,null,null,null,null,null,null,null,null,null,null,null,null,0,0.01,0.01,0,0,0,0,0,0,0,0,0,0,0,0,0,0,0,0,0,0]
["ppAlgarveCevada","pp","Algarve","Cevada",null,null,null,null,null,null,null,null,null,null,null,null,null,null,null,0.08,0.12,0.05,0.02,0.14000000000000001,0.15,0.15,0.15,0.09,0.13,0.03,0.18,0.14000000000000001,0.19,0.05,0.04,0.06,0.03,7.0000000000000007E-2,0.06,0.06]
["ppAlgarveAveia e Mistura de cereais de verão","pp","Algarve","Aveia e Mistura de cereais de verão",null,null,null,null,null,null,null,null,null,null,null,null,null,null,null,0.26,0.44,0.25,0.14000000000000001,0.19,0.18,0.18,0.17,0.22,0.47,0.11,0.14000000000000001,0.19,0.18,0.04,0.04,7.0000000000000007E-2,0.04,0.08,0.06,0.08]
["ppAlgarveMilho em grão","pp","Algarve","Milho em grão",null,null,null,null,null,null,null,null,null,null,null,null,null,null,null,0.74,0.6,0.8,0.89,0.99,1.02,0.98,1,1.1100000000000001,0.88,0.64,0.53,0.96,0.69,0.25,0.28999999999999998,0.32,0.27,0.28000000000000003,0.31,0.38]
["ppAlgarveArroz","pp","Algarve","Arroz",null,null,null,null,null,null,null,null,null,null,null,null,null,null,null,0,0.36,0.3,0.38,0,0,0.37,0.28999999999999998,0.2,0.17,0,0.26,0.31,0.44,0.23,0.28999999999999998,0.03,0.31,0.16,0.27,0.14000000000000001]
["ppAlgarveOutros cereais","pp","Algarve","Outros cereais",null,null,null,null,null,null,null,null,null,null,null,null,null,null,null,0.02,0.02,0.01,0.01,0.02,0.02,0.02,0.02,0.01,0.01,0,0.02,0.02,0.02,0.02,0.02,0.01,0.01,0.02,0.02,0.02]
["ppRAATotal","pp","RAA","Total",null,null,null,null,null,null,null,null,null,null,null,null,null,null,null,1.1100000000000001,0.81,0.75,0.56000000000000005,0.4,0.37,0.31,0.28000000000000003,0.3,0.23,0.19,0.2,0.22,0.13,0.11,0.14000000000000001,0.12,0.11,7.0000000000000007E-2,0.08,7.0000000000000007E-2]
["ppRAATrigo e Espelta","pp","RAA","Trigo e Espelta",null,null,null,null,null,null,null,null,null,null,null,null,null,null,null,0,0,0,0,0,0,0,0,0,0,0,0,0,0,0,0,0,0,0,0,0]
["ppRAACenteio e Mistura de trigo e centeio","pp","RAA","Centeio e Mistura de trigo e centeio",null,null,null,null,null,null,null,null,null,null,null,null,null,null,null,0,0,0,0,0,0,0,0,0,0,0,0,0,0,0,0,0,0,0,0,0]
["ppRAACevada","pp","RAA","Cevada",null,null,null,null,null,null,null,null,null,null,null,null,null,null,null,0,0,0,0,0,0,0,0,0,0,0,0,0,0,0,0,0,0,0,0,0]
["ppRAAAveia e Mistura de cereais de verão","pp","RAA","Aveia e Mistura de cereais de verão",null,null,null,null,null,null,null,null,null,null,null,null,null,null,null,0,0,0,0,0,0,0,0,0,0,0,0,0,0,0,0,0,0,0,0,0]
["ppRAAMilho em grão","pp","RAA","Milho em grão",null,null,null,null,null,null,null,null,null,null,null,null,null,null,null,1.1100000000000001,0.81,0.75,0.56000000000000005,0.4,0.37,0.31,0.28000000000000003,0.3,0.23,0.19,0.2,0.22,0.13,0.11,0.14000000000000001,0.12,0.11,7.0000000000000007E-2,0.08,7.0000000000000007E-2]
["ppRAAArroz","pp","RAA","Arroz",null,null,null,null,null,null,null,null,null,null,null,null,null,null,null,0,0,0,0,0,0,0,0,0,0,0,0,0,0,0,0,0,0,0,0,0]
["ppRAAOutros cereais","pp","RAA","Outros cereais",null,null,null,null,null,null,null,null,null,null,null,null,null,null,null,0,0,0,0,0,0,0,0,0,0,0,0,0,0,0,0,0,0,0,0,0]
["ppRAMTotal","pp","RAM","Total",null,null,null,null,null,null,null,null,null,null,null,null,null,null,null,0.02,0.01,0.02,0.05,7.0000000000000007E-2,7.0000000000000007E-2,0.14000000000000001,0.08,0.08,0.08,0.05,0.04,0.06,0.05,0.05,0.06,0.09,0.09,7.0000000000000007E-2,7.0000000000000007E-2,0.08]
["ppRAMTrigo e Espelta","pp","RAM","Trigo e Espelta",null,null,null,null,null,null,null,null,null,null,null,null,null,null,null,0.02,0.01,0.02,0.05,0.03,0.03,0.1,0.04,0.04,0.05,0.02,0.01,0.02,0.02,0.02,0.02,0.05,0.05,0.04,0.04,0.05]
["ppRAMCenteio e Mistura de trigo e centeio","pp","RAM","Centeio e Mistura de trigo e centeio",null,null,null,null,null,null,null,null,null,null,null,null,null,null,null,0,0,0,0,0,0,0,0,0,0,0,0,0,0,0,0,0,0,0,0,0]
["ppRAMCevada","pp","RAM","Cevada",null,null,null,null,null,null,null,null,null,null,null,null,null,null,null,0,0,0,0,0,0,0,0,0,0,0,0,0,0,0,0,0,0,0,0,0]
["ppRAMAveia e Mistura de cereais de verão","pp","RAM","Aveia e Mistura de cereais de verão",null,null,null,null,null,null,null,null,null,null,null,null,null,null,null,0,0,0,0,0,0,0,0,0,0,0,0,0,0,0,0,0,0,0,0,0]
["ppRAMMilho em grão","pp","RAM","Milho em grão",null,null,null,null,null,null,null,null,null,null,null,null,null,null,null,0,0,0,0,0.04,0.04,0.04,0.04,0.04,0.03,0.03,0.03,0.04,0.03,0.03,0.04,0.04,0.04,0.03,0.03,0.03]
["ppRAMArroz","pp","RAM","Arroz",null,null,null,null,null,null,null,null,null,null,null,null,null,null,null,0,0,0,0,0,0,0,0,0,0,0,0,0,0,0,0,0,0,0,0,0]
["ppRAMOutros cereais","pp","RAM","Outros cereais",null,null,null,null,null,null,null,null,null,null,null,null,null,null,null,0,0,0,0,0,0,0,0,0,0,0,0,0,0,0,0,0,0,0,0,0]
["pbPortugalTotal","pb","Portugal","Total",null,null,null,null,null,null,null,null,null,null,null,null,null,null,null,467.12,483.05000000000007,473.85999999999996,416.09000000000003,461.55,419.48,437.73,427.36,391.22999999999996,420.41999999999996,190.41999999999996,225.03,270.95,304.89999999999992,226.90000000000003,253.94999999999993,291.46999999999997,329.28999999999996,289.75,279.19000000000005,274.51]
["pbPortugalTrigo e Espelta","pb","Portugal","Trigo e Espelta",null,null,null,null,null,null,null,null,null,null,null,null,null,null,null,136.75,116.06000000000002,112.36,77.25,123.57,118.98000000000002,119.56,139.6,80.430000000000007,131.26999999999998,45.93,57.519999999999996,49.72,75.309999999999988,61.85,44.09,36.86999999999999,46.789999999999992,51.449999999999996,49.120000000000005,53.64]
["pbPortugalCenteio e Mistura de trigo e centeio","pb","Portugal","Centeio e Mistura de trigo e centeio",null,null,null,null,null,null,null,null,null,null,null,null,null,null,null,8.4499999999999993,9.7800000000000011,7.45,4.8599999999999994,8.8699999999999992,6.42,4.0199999999999996,5.09,3.96,4.1599999999999993,3.58,2.63,3.17,3.88,2.3199999999999998,2.37,2.81,2.6199999999999997,3.43,3.2100000000000004,2.67]
["pbPortugalCevada","pb","Portugal","Cevada",null,null,null,null,null,null,null,null,null,null,null,null,null,null,null,14.77,15.16,5.4700000000000006,4.41,4.9000000000000004,5.73,2.34,3.3299999999999996,2.02,4.53,4.4000000000000004,13.160000000000002,13.840000000000002,21.09,10.309999999999999,4.26,4.0699999999999994,4.3100000000000005,6.01,6.35,7.8299999999999992]
["pbPortugalAveia e Mistura de cereais de verão","pb","Portugal","Aveia e Mistura de cereais de verão",null,null,null,null,null,null,null,null,null,null,null,null,null,null,null,15.57,13.79,10.44,7.1,15.22,15.18,6.22,8.48,7.629999999999999,10.64,5.48,8.8300000000000018,9.3899999999999988,14.74,9.5399999999999991,9.1599999999999984,8.81,5.96,11.690000000000001,10.51,7.96]
["pbPortugalMilho em grão","pb","Portugal","Milho em grão",null,null,null,null,null,null,null,null,null,null,null,null,null,null,null,209.76,243.13,259.88,254.09000000000003,243.23000000000002,210.86,241.73,212.62,237.33999999999997,206.84,93.82,90.4,136.83999999999997,110.44,90.690000000000012,131.45999999999998,174.78,210.49,163.46,160.04000000000002,151.97]
["pbPortugalArroz","pb","Portugal","Arroz",null,null,null,null,null,null,null,null,null,null,null,null,null,null,null,67.41,72.240000000000009,68.84,65.17,59.34,55.49,60.76,53.85,57.93,60.03,35.699999999999996,46.39,52.930000000000007,70.400000000000006,46.2,58.11,60.669999999999995,56.269999999999996,44.94,42.35,44.230000000000004]
["pbPortugalOutros cereais","pb","Portugal","Outros cereais",null,null,null,null,null,null,null,null,null,null,null,null,null,null,null,14.41,12.889999999999999,9.42,3.21,6.42,6.8199999999999994,3.0999999999999996,4.3899999999999997,1.92,2.9499999999999997,1.5100000000000002,6.1,5.0600000000000005,9.0399999999999991,5.99,4.5,3.46,2.8500000000000005,8.77,7.6099999999999994,6.21]
["pbContinenteTotal","pb","Continente","Total",null,null,null,null,null,null,null,null,null,null,null,null,null,null,null,464.13,480.01000000000005,470.33,412.81000000000006,457.94000000000005,416.45,432.97,423.5,388.29999999999995,419.09,189.61999999999998,224.78999999999996,270.66999999999996,304.71999999999997,226.74,250.73000000000002,288.06,324.94999999999993,285.60000000000002,274.77999999999997,269.58]
["pbContinenteTrigo e Espelta","pb","Continente","Trigo e Espelta",null,null,null,null,null,null,null,null,null,null,null,null,null,null,null,136.73000000000002,116.05000000000001,112.34,77.2,123.53999999999999,118.95000000000002,119.46000000000001,139.56,80.390000000000015,131.22,45.91,57.51,49.699999999999996,75.289999999999992,61.83,44.070000000000007,36.819999999999993,46.739999999999995,51.41,49.080000000000005,53.59]
["pbContinenteCenteio e Mistura de trigo e centeio","pb","Continente","Centeio e Mistura de trigo e centeio",null,null,null,null,null,null,null,null,null,null,null,null,null,null,null,8.4499999999999993,9.7800000000000011,7.45,4.8599999999999994,8.8699999999999992,6.42,4.0199999999999996,5.09,3.96,4.1599999999999993,3.58,2.63,3.17,3.88,2.3199999999999998,2.36,2.81,2.6199999999999997,3.43,3.2100000000000004,2.67]
["pbContinenteCevada","pb","Continente","Cevada",null,null,null,null,null,null,null,null,null,null,null,null,null,null,null,14.77,15.16,5.4700000000000006,4.41,4.9000000000000004,5.73,2.34,3.3299999999999996,2.02,4.53,4.4000000000000004,13.160000000000002,13.840000000000002,21.09,10.309999999999999,4.26,4.0699999999999994,4.3100000000000005,6.01,6.35,7.8299999999999992]
["pbContinenteAveia e Mistura de cereais de verão","pb","Continente","Aveia e Mistura de cereais de verão",null,null,null,null,null,null,null,null,null,null,null,null,null,null,null,15.57,13.79,10.44,7.1,15.22,15.18,6.22,8.48,7.629999999999999,10.64,5.48,8.8300000000000018,9.3899999999999988,14.74,9.5399999999999991,9.1599999999999984,8.81,5.96,11.690000000000001,10.51,7.96]
["pbContinenteMilho em grão","pb","Continente","Milho em grão",null,null,null,null,null,null,null,null,null,null,null,null,null,null,null,206.79000000000002,240.10000000000002,256.42,250.86,239.65,207.85999999999999,237.07,208.8,234.45,205.56,93.039999999999992,90.17,136.57999999999998,110.28,90.550000000000011,128.26999999999998,171.42000000000002,206.2,159.35000000000002,155.67000000000002,147.09]
["pbContinenteArroz","pb","Continente","Arroz",null,null,null,null,null,null,null,null,null,null,null,null,null,null,null,67.41,72.240000000000009,68.790000000000006,65.17,59.34,55.49,60.76,53.85,57.93,60.03,35.699999999999996,46.39,52.930000000000007,70.400000000000006,46.2,58.11,60.669999999999995,56.269999999999996,44.94,42.35,44.230000000000004]
["pbContinenteOutros cereais","pb","Continente","Outros cereais",null,null,null,null,null,null,null,null,null,null,null,null,null,null,null,14.41,12.889999999999999,9.42,3.21,6.42,6.8199999999999994,3.0999999999999996,4.3899999999999997,1.92,2.9499999999999997,1.5100000000000002,6.1,5.0600000000000005,9.0399999999999991,5.99,4.5,3.46,2.8500000000000005,8.77,7.6099999999999994,6.21]
["pbNorteTotal","pb","Norte","Total",null,null,null,null,null,null,null,null,null,null,null,null,null,null,null,92.04000000000002,91.77000000000001,88.63,79.03,81.650000000000006,68.759999999999991,82.84,69.61999999999999,68.569999999999993,54.03,28.669999999999995,22.779999999999998,31.65,24.35,19.679999999999996,25.35,29.49,32.6,26.34,24.9,23.580000000000002]
["pbNorteTrigo e Espelta","pb","Norte","Trigo e Espelta",null,null,null,null,null,null,null,null,null,null,null,null,null,null,null,8.59,9.67,7.61,10.360000000000001,8.09,6.39,12.9,9.61,7.26,9.9599999999999991,3.93,2.11,3.93,2.81,3.39,3.38,4.0199999999999996,4,5.0599999999999996,2.97,2.91]
["pbNorteCenteio e Mistura de trigo e centeio","pb","Norte","Centeio e Mistura de trigo e centeio",null,null,null,null,null,null,null,null,null,null,null,null,null,null,null,5.43,6.69,4.93,3.1799999999999997,5.6199999999999992,3.95,2.5299999999999998,3.43,2.41,2.84,2.13,1.8,2.0699999999999998,2.88,1.6,1.52,1.82,1.85,2.2200000000000002,2.2000000000000002,1.85]
["pbNorteCevada","pb","Norte","Cevada",null,null,null,null,null,null,null,null,null,null,null,null,null,null,null,0.18000000000000002,0.15000000000000002,0.16,0.06,0.09,0.08,6.0000000000000005E-2,0.08,6.0000000000000005E-2,6.9999999999999993E-2,0.05,0.06,0.05,7.0000000000000007E-2,0.02,0.02,0.03,0.03,0.03,0.03,0.03]
["pbNorteAveia e Mistura de cereais de verão","pb","Norte","Aveia e Mistura de cereais de verão",null,null,null,null,null,null,null,null,null,null,null,null,null,null,null,0.67,0.53,0.43000000000000005,0.38,0.89,0.71,0.5,0.6,0.54,0.54,0.38,0.30000000000000004,0.45,0.51,0.31,0.3,0.39,0.38,0.46,0.33,0.28999999999999998]
["pbNorteMilho em grão","pb","Norte","Milho em grão",null,null,null,null,null,null,null,null,null,null,null,null,null,null,null,77.13,74.7,75.47,65.03,66.930000000000007,57.61,66.84,55.87,58.29,40.61,22.16,18.479999999999997,25.09,18.010000000000002,14.299999999999999,20.100000000000001,23.19,26.3,18.5,19.3,18.350000000000001]
["pbNorteArroz","pb","Norte","Arroz",null,null,null,null,null,null,null,null,null,null,null,null,null,null,null,0,0,0,0,0,0,0,0.01,0,0,0.02,0.02,0,0.02,0.02,0,0,0,0,0,0]
["pbNorteOutros cereais","pb","Norte","Outros cereais",null,null,null,null,null,null,null,null,null,null,null,null,null,null,null,0.04,0.03,0.03,0.02,0.03,0.02,0.01,0.02,0.01,0.01,0,0.01,0.06,0.05,0.04,0.03,0.04,0.04,7.0000000000000007E-2,7.0000000000000007E-2,0.15]
["pbCentroTotal","pb","Centro","Total",null,null,null,null,null,null,null,null,null,null,null,null,null,null,null,104.36000000000001,108.6,105.58000000000001,98.640000000000015,101.34,90.76,94.13,82.82,71.27,69.06,43.099999999999994,44.530000000000008,58.41,52.41,46.58,59.02,69.519999999999982,70.949999999999989,58.6,57.99,59.209999999999994]
["pbCentroTrigo e Espelta","pb","Centro","Trigo e Espelta",null,null,null,null,null,null,null,null,null,null,null,null,null,null,null,7.58,4.1500000000000004,4.5299999999999994,4.0999999999999996,4.96,4.25,5.16,5.6800000000000006,2.8600000000000003,3.62,2.82,1.55,2.75,5.35,5.83,3.3000000000000003,3.4999999999999996,2.9799999999999995,3.3299999999999996,2.8899999999999997,3.98]
["pbCentroCenteio e Mistura de trigo e centeio","pb","Centro","Centeio e Mistura de trigo e centeio",null,null,null,null,null,null,null,null,null,null,null,null,null,null,null,2.76,2.85,2.33,1.56,3.11,2.35,1.3900000000000001,1.54,1.53,1.27,1.4100000000000001,0.80999999999999994,0.86,0.91,0.62,0.80999999999999994,0.96,0.76,1.19,0.99,0.79]
["pbCentroCevada","pb","Centro","Cevada",null,null,null,null,null,null,null,null,null,null,null,null,null,null,null,1.74,1.8199999999999998,0.77,0.74,0.45999999999999996,0.39,0.21000000000000002,0.30000000000000004,0.22,0.26,0.36,0.08,0.19,0.16999999999999998,0.57000000000000006,0.11,0.17,0.15000000000000002,0.3,0.23,0.32]
["pbCentroAveia e Mistura de cereais de verão","pb","Centro","Aveia e Mistura de cereais de verão",null,null,null,null,null,null,null,null,null,null,null,null,null,null,null,2.41,1.72,1.42,0.78,2.17,1.7999999999999998,1.1599999999999999,1.4100000000000001,1.24,1.35,0.98,0.64,0.83,0.85000000000000009,0.56000000000000005,0.52,0.67,0.48,0.69000000000000006,0.52,0.47]
["pbCentroMilho em grão","pb","Centro","Milho em grão",null,null,null,null,null,null,null,null,null,null,null,null,null,null,null,67.05,79.33,78.710000000000008,75.09,75.34,66.97,71.449999999999989,61.48,52.45,49.519999999999996,28.67,31.07,41.78,29.909999999999997,29.03,41.11,51.55,54.79,43.31,45.24,45.17]
["pbCentroArroz","pb","Centro","Arroz",null,null,null,null,null,null,null,null,null,null,null,null,null,null,null,22.11,17.71,17,15.889999999999999,14.58,14.25,13.93,11.66,12.809999999999999,12.920000000000002,8.7899999999999991,10.25,11.45,14.63,9.4499999999999993,12.690000000000001,12.28,11.46,9.2999999999999989,7.68,8.07]
["pbCentroOutros cereais","pb","Centro","Outros cereais",null,null,null,null,null,null,null,null,null,null,null,null,null,null,null,0.71,1.02,0.82000000000000006,0.48,0.72,0.75,0.83,0.75,0.16,0.12,7.0000000000000007E-2,0.13,0.55000000000000004,0.59,0.52,0.48,0.39,0.33,0.48,0.44,0.41]
["pbAMLTotal","pb","AML","Total",null,null,null,null,null,null,null,null,null,null,null,null,null,null,null,16.350000000000001,16.100000000000001,23.65,25.159999999999997,15.57,15.07,13.59,14.780000000000001,21.560000000000002,19.95,15.68,14.01,20.010000000000002,23.32,12.739999999999998,13.889999999999999,16.509999999999998,20.12,15.11,14.969999999999999,13.510000000000002]
["pbAMLTrigo e Espelta","pb","AML","Trigo e Espelta",null,null,null,null,null,null,null,null,null,null,null,null,null,null,null,2.72,0.73,2.72,1.31,2.2800000000000002,2.29,1.74,2.04,1.4300000000000002,1.63,2.63,0.75,1.4400000000000002,2.5,2.1100000000000003,0.35000000000000003,0.36,0.6,0.41,0.77,1.01]
["pbAMLCenteio e Mistura de trigo e centeio","pb","AML","Centeio e Mistura de trigo e centeio",null,null,null,null,null,null,null,null,null,null,null,null,null,null,null,0,0,0,0,0,0,0,0,0,0,0,0,0.02,0.01,0.01,0,0,0,0,0,0]
["pbAMLCevada","pb","AML","Cevada",null,null,null,null,null,null,null,null,null,null,null,null,null,null,null,0.32999999999999996,0.28000000000000003,0.22000000000000003,0.44,0.26,0.22,0.08,0.09,0.04,0.1,0.38,0.19,0.35000000000000003,0.26,0.27,0.04,0.16,0.24,0.16,0.1,0.09]
["pbAMLAveia e Mistura de cereais de verão","pb","AML","Aveia e Mistura de cereais de verão",null,null,null,null,null,null,null,null,null,null,null,null,null,null,null,0.55000000000000004,0.33999999999999997,0.29000000000000004,0.46,0.33,0.29000000000000004,0.14000000000000001,0.15000000000000002,0.13,0.12,0.1,0.06,0.13,0.1,0.09,0.01,0.02,0.02,0.03,0.02,0.02]
["pbAMLMilho em grão","pb","AML","Milho em grão",null,null,null,null,null,null,null,null,null,null,null,null,null,null,null,9.19,12.28,16.059999999999999,18.89,7.84,7.52,7.7299999999999995,9.0500000000000007,16.28,14.379999999999999,10.039999999999999,9.8199999999999985,13.899999999999999,14.3,4.28,5.22,7.07,10.029999999999999,7.75,6.85,5.33]
["pbAMLArroz","pb","AML","Arroz",null,null,null,null,null,null,null,null,null,null,null,null,null,null,null,3.43,2.3200000000000003,4.2300000000000004,3.98,4.74,4.6400000000000006,3.83,3.34,3.67,3.71,2.52,3.1799999999999997,4.12,6.08,5.94,8.24,8.86,9.15,6.7,7.1899999999999995,7]
["pbAMLOutros cereais","pb","AML","Outros cereais",null,null,null,null,null,null,null,null,null,null,null,null,null,null,null,0.13,0.15,0.13,0.08,0.12,0.11000000000000001,7.0000000000000007E-2,0.11000000000000001,0.01,0.01,0.01,0.01,0.05,6.9999999999999993E-2,0.04,0.03,0.04,0.08,6.0000000000000005E-2,0.04,0.06]
["pbAlentejoTotal","pb","Alentejo","Total",null,null,null,null,null,null,null,null,null,null,null,null,null,null,null,249,260.36,249.85,207.32,256.18,238.75000000000003,237.15,252.29000000000002,223.37,271.63,100.85000000000001,141.85999999999999,158.31,202.58,146.67000000000002,151.13,171.26999999999998,200.19000000000003,184.38,175.77,172]
["pbAlentejoTrigo e Espelta","pb","Alentejo","Trigo e Espelta",null,null,null,null,null,null,null,null,null,null,null,null,null,null,null,117.08000000000001,100.77000000000001,97.039999999999992,61.14,107.12,104.91,96.81,120.52,67.75,114.41,36.21,52.66,40.94,64.14,50.080000000000005,36.46,28.22,38.730000000000004,42.050000000000004,42.02,45.13]
["pbAlentejoCenteio e Mistura de trigo e centeio","pb","Alentejo","Centeio e Mistura de trigo e centeio",null,null,null,null,null,null,null,null,null,null,null,null,null,null,null,0.26,0.23,0.18,0.12,0.14000000000000001,0.12,0.1,0.12000000000000001,0.02,0.05,0.04,0.02,0.22,0.08,9.0000000000000011E-2,0.03,0.03,0.01,0.02,0.02,0.03]
["pbAlentejoCevada","pb","Alentejo","Cevada",null,null,null,null,null,null,null,null,null,null,null,null,null,null,null,12.440000000000001,12.79,4.2699999999999996,3.1500000000000004,3.88,4.83,1.8,2.67,1.5899999999999999,3.9299999999999997,3.53,12.66,13.11,20.400000000000002,9.3999999999999986,4.05,3.65,3.8600000000000003,5.45,5.93,7.3299999999999992]
["pbAlentejoAveia e Mistura de cereais de verão","pb","Alentejo","Aveia e Mistura de cereais de verão",null,null,null,null,null,null,null,null,null,null,null,null,null,null,null,11.43,10.64,7.9699999999999989,5.3,11.52,12.08,4.1999999999999993,6.11,5.4599999999999991,8.0599999999999987,3.84,7.69,7.79,13.1,8.5399999999999991,8.2899999999999991,7.66,5.0400000000000009,10.43,9.58,7.1]
["pbAlentejoMilho em grão","pb","Alentejo","Milho em grão",null,null,null,null,null,null,null,null,null,null,null,null,null,null,null,52.410000000000004,72.52,84.77,90.19,88.01,74.33,89.58,80.94,105.66,99.34,31.44,30.27,54.830000000000005,47.35,42.67,61.55,89.29,114.81,89.51,83.97,77.86]
["pbAlentejoArroz","pb","Alentejo","Arroz",null,null,null,null,null,null,null,null,null,null,null,null,null,null,null,41.870000000000005,51.739999999999995,47.19,44.8,40,36.58,42.5,38.46,41.16,43.040000000000006,24.36,32.630000000000003,37.04,49.2,30.52,36.81,39.44,35.35,28.78,27.21,28.98]
["pbAlentejoOutros cereais","pb","Alentejo","Outros cereais",null,null,null,null,null,null,null,null,null,null,null,null,null,null,null,13.51,11.669999999999998,8.43,2.62,5.51,5.8999999999999995,2.1599999999999997,3.47,1.73,2.8,1.4300000000000002,5.93,4.38,8.3099999999999987,5.37,3.94,2.98,2.3900000000000006,8.14,7.0399999999999991,5.57]
["pbAlgarveTotal","pb","Algarve","Total",null,null,null,null,null,null,null,null,null,null,null,null,null,null,null,2.3800000000000003,3.18,2.62,2.66,3.2,3.11,5.26,3.99,3.5300000000000002,4.42,1.32,1.61,2.29,2.0599999999999996,1.07,1.3399999999999999,1.27,1.0900000000000001,1.1700000000000002,1.1499999999999999,1.2800000000000002]
["pbAlgarveTrigo e Espelta","pb","Algarve","Trigo e Espelta",null,null,null,null,null,null,null,null,null,null,null,null,null,null,null,0.76,0.73000000000000009,0.44,0.29000000000000004,1.0900000000000001,1.1099999999999999,2.85,1.71,1.0899999999999999,1.6,0.32,0.44,0.64,0.49,0.42000000000000004,0.57999999999999996,0.72,0.43,0.56000000000000005,0.43000000000000005,0.56000000000000005]
["pbAlgarveCenteio e Mistura de trigo e centeio","pb","Algarve","Centeio e Mistura de trigo e centeio",null,null,null,null,null,null,null,null,null,null,null,null,null,null,null,0,0.01,0.01,0,0,0,0,0,0,0,0,0,0,0,0,0,0,0,0,0,0]
["pbAlgarveCevada","pb","Algarve","Cevada",null,null,null,null,null,null,null,null,null,null,null,null,null,null,null,0.08,0.12,0.05,0.02,0.21000000000000002,0.21,0.19,0.19,0.11,0.17,0.08,0.16999999999999998,0.14000000000000001,0.19,0.05,0.04,0.06,0.03,7.0000000000000007E-2,0.06,0.06]
["pbAlgarveAveia e Mistura de cereais de verão","pb","Algarve","Aveia e Mistura de cereais de verão",null,null,null,null,null,null,null,null,null,null,null,null,null,null,null,0.51,0.56000000000000005,0.33,0.18000000000000002,0.31,0.3,0.22,0.21000000000000002,0.26,0.56999999999999995,0.18,0.14000000000000001,0.19,0.18,0.04,0.04,7.0000000000000007E-2,0.04,0.08,0.06,0.08]
["pbAlgarveMilho em grão","pb","Algarve","Milho em grão",null,null,null,null,null,null,null,null,null,null,null,null,null,null,null,1.01,1.27,1.4100000000000001,1.6600000000000001,1.53,1.43,1.47,1.46,1.77,1.71,0.73,0.53,0.98,0.71,0.27,0.28999999999999998,0.32,0.27,0.28000000000000003,0.31,0.38]
["pbAlgarveArroz","pb","Algarve","Arroz",null,null,null,null,null,null,null,null,null,null,null,null,null,null,null,0,0.47,0.37,0.5,0.02,0.02,0.5,0.38,0.29000000000000004,0.36,0.01,0.31,0.32,0.47,0.27,0.37,0.09,0.31,0.16,0.27,0.18000000000000002]
["pbAlgarveOutros cereais","pb","Algarve","Outros cereais",null,null,null,null,null,null,null,null,null,null,null,null,null,null,null,0.02,0.02,0.01,0.01,0.04,0.04,0.03,0.04,0.01,0.01,0,0.02,0.02,0.02,0.02,0.02,0.01,0.01,0.02,0.02,0.02]
["pbRAATotal","pb","RAA","Total",null,null,null,null,null,null,null,null,null,null,null,null,null,null,null,2.97,3.0300000000000002,3.51,3.23,3.54,2.96,4.6099999999999994,3.7800000000000002,2.8499999999999996,1.25,0.75,0.2,0.22,0.13,0.11,3.1599999999999997,3.3200000000000003,4.25,4.08,4.34,4.8500000000000005]
["pbRAATrigo e Espelta","pb","RAA","Trigo e Espelta",null,null,null,null,null,null,null,null,null,null,null,null,null,null,null,0,0,0,0,0,0,0,0,0,0,0,0,0,0,0,0,0,0,0,0,0]
["pbRAACenteio e Mistura de trigo e centeio","pb","RAA","Centeio e Mistura de trigo e centeio",null,null,null,null,null,null,null,null,null,null,null,null,null,null,null,0,0,0,0,0,0,0,0,0,0,0,0,0,0,0,0.01,0,0,0,0,0]
["pbRAACevada","pb","RAA","Cevada",null,null,null,null,null,null,null,null,null,null,null,null,null,null,null,0,0,0,0,0,0,0,0,0,0,0,0,0,0,0,0,0,0,0,0,0]
["pbRAAAveia e Mistura de cereais de verão","pb","RAA","Aveia e Mistura de cereais de verão",null,null,null,null,null,null,null,null,null,null,null,null,null,null,null,0,0,0,0,0,0,0,0,0,0,0,0,0,0,0,0,0,0,0,0,0]
["pbRAAMilho em grão","pb","RAA","Milho em grão",null,null,null,null,null,null,null,null,null,null,null,null,null,null,null,2.97,3.0300000000000002,3.46,3.23,3.54,2.96,4.6099999999999994,3.7800000000000002,2.8499999999999996,1.25,0.75,0.2,0.22,0.13,0.11,3.15,3.3200000000000003,4.25,4.08,4.34,4.8500000000000005]
["pbRAAArroz","pb","RAA","Arroz",null,null,null,null,null,null,null,null,null,null,null,null,null,null,null,0,0,0.05,0,0,0,0,0,0,0,0,0,0,0,0,0,0,0,0,0,0]
["pbRAAOutros cereais","pb","RAA","Outros cereais",null,null,null,null,null,null,null,null,null,null,null,null,null,null,null,0,0,0,0,0,0,0,0,0,0,0,0,0,0,0,0,0,0,0,0,0]
["pbRAMTotal","pb","RAM","Total",null,null,null,null,null,null,null,null,null,null,null,null,null,null,null,0.02,0.01,0.02,0.05,7.0000000000000007E-2,7.0000000000000007E-2,0.15000000000000002,0.08,0.08,0.08,0.05,0.04,0.06,0.05,0.05,0.06,0.09,0.09,7.0000000000000007E-2,7.0000000000000007E-2,0.08]
["pbRAMTrigo e Espelta","pb","RAM","Trigo e Espelta",null,null,null,null,null,null,null,null,null,null,null,null,null,null,null,0.02,0.01,0.02,0.05,0.03,0.03,0.1,0.04,0.04,0.05,0.02,0.01,0.02,0.02,0.02,0.02,0.05,0.05,0.04,0.04,0.05]
["pbRAMCenteio e Mistura de trigo e centeio","pb","RAM","Centeio e Mistura de trigo e centeio",null,null,null,null,null,null,null,null,null,null,null,null,null,null,null,0,0,0,0,0,0,0,0,0,0,0,0,0,0,0,0,0,0,0,0,0]
["pbRAMCevada","pb","RAM","Cevada",null,null,null,null,null,null,null,null,null,null,null,null,null,null,null,0,0,0,0,0,0,0,0,0,0,0,0,0,0,0,0,0,0,0,0,0]
["pbRAMAveia e Mistura de cereais de verão","pb","RAM","Aveia e Mistura de cereais de verão",null,null,null,null,null,null,null,null,null,null,null,null,null,null,null,0,0,0,0,0,0,0,0,0,0,0,0,0,0,0,0,0,0,0,0,0]
["pbRAMMilho em grão","pb","RAM","Milho em grão",null,null,null,null,null,null,null,null,null,null,null,null,null,null,null,0,0,0,0,0.04,0.04,0.05,0.04,0.04,0.03,0.03,0.03,0.04,0.03,0.03,0.04,0.04,0.04,0.03,0.03,0.03]
["pbRAMArroz","pb","RAM","Arroz",null,null,null,null,null,null,null,null,null,null,null,null,null,null,null,0,0,0,0,0,0,0,0,0,0,0,0,0,0,0,0,0,0,0,0,0]
["pbRAMOutros cereais","pb","RAM","Outros cereais",null,null,null,null,null,null,null,null,null,null,null,null,null,null,null,0,0,0,0,0,0,0,0,0,0,0,0,0,0,0,0,0,0,0,0,0]

{"sheet":"AUX_CEA","index":7,"n_rows":29,"n_cols":39,"rows_kept":29,"cut":false,"hidden":true,"merged":[]}
[]
[{"$f":"+A5&J6&F3","v":"PbPconstantesPortugalMilho em grão"},{"$f":"+B5&K6&G3","v":"PbPCorrentesPortugalMilho em grão"}]
[null,null,null,null,null,{"$f":"+INDEX(F5:F12,F4)","v":"Milho em grão"},{"$f":"+INDEX(F5:F12,G4)","v":"Milho em grão"}]
[null,null,null,null,null,6,6,null,null,null,null,null,null,2]
[{"$f":"+INDEX(A6:A7,A9)","v":"PbPconstantes"},{"$f":"+INDEX(A6:A7,B9)","v":"PbPCorrentes"},null,null,null,"Total",null,null,null,null,null,null,null,"Contas económicas da Agricultura Regionais (1995-2015)"]
[{"$f":"+INDEX(B6:C6,$N$4)","v":"PbPconstantes"},"pp","PbPconstantes",null,null,"Trigo e Espelta",null,null,null,{"$f":"+INDEX(J8:J16,J7)","v":"Portugal"},{"$f":"+INDEX(J8:J16,K7)","v":"Portugal"},null,null,"Contas económicas da Agricultura (Portugal 1980-2016)"]
["PbPCorrentes","pb","PbPCorrentes",null,null,"Centeio e Mistura de trigo e centeio",null,null,null,6,6]
[null,null,null,null,null,"Cevada",null,null,null,{"$f":"+INDEX(K8:L8,$N$4)","v":"Portugal"},"Portugal","Portugal",1]
[1,2,null,null,null,"Aveia e Mistura de cereais de verão",null,null,null,{"$f":"+INDEX(K9:L9,$N$4)","v":"Portugal"},"Continente","Portugal",2]
[{"$f":"+INDEX(B10:C10,$N$4)","v":"Preços constantes 2011"},"Preços no Produtor","Preços constantes 2011",null,null,"Milho em grão",null,null,null,"Portugal","Norte","Portugal",3]
[{"$f":"+INDEX(B11:C11,$N$4)","v":"Preços correntes"},"Preços base","Preços correntes",null,null,"Arroz",null,null,null,"Portugal","Centro","Portugal",4]
[null,null,null,null,null,"Outros cereais",null,null,null,"Portugal","AML","Portugal",5]
[{"$f":"+INDEX(A10:A11,A9)","v":"Preços constantes 2011"},{"$f":"+INDEX(A10:A11,B9)","v":"Preços correntes"},null,null,null,null,null,null,null,"Portugal","Alentejo","Portugal",6]
[null,null,null,null,null,null,null,null,null,"Portugal","Algarve","Portugal",7]
[null,null,null,null,null,null,null,null,null,"Portugal","RAA","Portugal",8]
[null,null,null,null,null,null,null,null,null,"Portugal","RAM","Portugal",9]
[]
[]
[]
[]
[]
[null,null,1980,1981,1982,1983,1984,1985,1986,1987,1988,1989,1990,1991,1992,1993,1994,1995,1996,1997,1998,1999,2000,2001,2002,2003,2004,2005,2006,2007,2008,2009,2010,2011,"2012","2013","2014","2015Po","2016Pe"]
[null,{"$f":"+F3& \" - \" & J6& \" (\"&A13&\")\"","v":"Milho em grão - Portugal (Preços constantes 2011)"},{"$f":"+SUMIF(CEA_DAdos!$A$2:$A$161,AUX_CEA!$A$2,CEA_DAdos!E$2:E$161)","v":105},{"$f":"+SUMIF(CEA_DAdos!$A$2:$A$161,AUX_CEA!$A$2,CEA_DAdos!F$2:F$161)","v":80.7},{"$f":"+SUMIF(CEA_DAdos!$A$2:$A$161,AUX_CEA!$A$2,CEA_DAdos!G$2:G$161)","v":90.02},{"$f":"+SUMIF(CEA_DAdos!$A$2:$A$161,AUX_CEA!$A$2,CEA_DAdos!H$2:H$161)","v":81.790000000000006},{"$f":"+SUMIF(CEA_DAdos!$A$2:$A$161,AUX_CEA!$A$2,CEA_DAdos!I$2:I$161)","v":103.34},{"$f":"+SUMIF(CEA_DAdos!$A$2:$A$161,AUX_CEA!$A$2,CEA_DAdos!J$2:J$161)","v":114.49},{"$f":"+SUMIF(CEA_DAdos!$A$2:$A$161,AUX_CEA!$A$2,CEA_DAdos!K$2:K$161)","v":132.04},{"$f":"+SUMIF(CEA_DAdos!$A$2:$A$161,AUX_CEA!$A$2,CEA_DAdos!L$2:L$161)","v":137.63999999999999},{"$f":"+SUMIF(CEA_DAdos!$A$2:$A$161,AUX_CEA!$A$2,CEA_DAdos!M$2:M$161)","v":138.29},{"$f":"+SUMIF(CEA_DAdos!$A$2:$A$161,AUX_CEA!$A$2,CEA_DAdos!N$2:N$161)","v":142.69},{"$f":"+SUMIF(CEA_DAdos!$A$2:$A$161,AUX_CEA!$A$2,CEA_DAdos!O$2:O$161)","v":139.91999999999999},{"$f":"+SUMIF(CEA_DAdos!$A$2:$A$161,AUX_CEA!$A$2,CEA_DAdos!P$2:P$161)","v":137.94},{"$f":"+SUMIF(CEA_DAdos!$A$2:$A$161,AUX_CEA!$A$2,CEA_DAdos!Q$2:Q$161)","v":142.51},{"$f":"+SUMIF(CEA_DAdos!$A$2:$A$161,AUX_CEA!$A$2,CEA_DAdos!R$2:R$161)","v":140.47999999999999},{"$f":"+SUMIF(CEA_DAdos!$A$2:$A$161,AUX_CEA!$A$2,CEA_DAdos!S$2:S$161)","v":149.51},{"$f":"+SUMIF(CEA_DAdos!$A$2:$A$161,AUX_CEA!$A$2,CEA_DAdos!T$2:T$161)","v":150.18},{"$f":"+SUMIF(CEA_DAdos!$A$2:$A$161,AUX_CEA!$A$2,CEA_DAdos!U$2:U$161)","v":165.87},{"$f":"+SUMIF(CEA_DAdos!$A$2:$A$161,AUX_CEA!$A$2,CEA_DAdos!V$2:V$161)","v":181.45},{"$f":"+SUMIF(CEA_DAdos!$A$2:$A$161,AUX_CEA!$A$2,CEA_DAdos!W$2:W$161)","v":206.13},{"$f":"+SUMIF(CEA_DAdos!$A$2:$A$161,AUX_CEA!$A$2,CEA_DAdos!X$2:X$161)","v":196.29},{"$f":"+SUMIF(CEA_DAdos!$A$2:$A$161,AUX_CEA!$A$2,CEA_DAdos!Y$2:Y$161)","v":185.25},{"$f":"+SUMIF(CEA_DAdos!$A$2:$A$161,AUX_CEA!$A$2,CEA_DAdos!Z$2:Z$161)","v":191.67},{"$f":"+SUMIF(CEA_DAdos!$A$2:$A$161,AUX_CEA!$A$2,CEA_DAdos!AA$2:AA$161)","v":168.68},{"$f":"+SUMIF(CEA_DAdos!$A$2:$A$161,AUX_CEA!$A$2,CEA_DAdos!AB$2:AB$161)","v":168.93},{"$f":"+SUMIF(CEA_DAdos!$A$2:$A$161,AUX_CEA!$A$2,CEA_DAdos!AC$2:AC$161)","v":167.02},{"$f":"+SUMIF(CEA_DAdos!$A$2:$A$161,AUX_CEA!$A$2,CEA_DAdos!AD$2:AD$161)","v":108.09},{"$f":"+SUMIF(CEA_DAdos!$A$2:$A$161,AUX_CEA!$A$2,CEA_DAdos!AE$2:AE$161)","v":114.02},{"$f":"+SUMIF(CEA_DAdos!$A$2:$A$161,AUX_CEA!$A$2,CEA_DAdos!AF$2:AF$161)","v":129.65},{"$f":"+SUMIF(CEA_DAdos!$A$2:$A$161,AUX_CEA!$A$2,CEA_DAdos!AG$2:AG$161)","v":147.44},{"$f":"+SUMIF(CEA_DAdos!$A$2:$A$161,AUX_CEA!$A$2,CEA_DAdos!AH$2:AH$161)","v":133.25},{"$f":"+SUMIF(CEA_DAdos!$A$2:$A$161,AUX_CEA!$A$2,CEA_DAdos!AI$2:AI$161)","v":131.6},{"$f":"+SUMIF(CEA_DAdos!$A$2:$A$161,AUX_CEA!$A$2,CEA_DAdos!AJ$2:AJ$161)","v":174.78},{"$f":"+SUMIF(CEA_DAdos!$A$2:$A$161,AUX_CEA!$A$2,CEA_DAdos!AK$2:AK$161)","v":181.04},{"$f":"+SUMIF(CEA_DAdos!$A$2:$A$161,AUX_CEA!$A$2,CEA_DAdos!AL$2:AL$161)","v":198.29},{"$f":"+SUMIF(CEA_DAdos!$A$2:$A$161,AUX_CEA!$A$2,CEA_DAdos!AM$2:AM$161)","v":191.96},{"$f":"+SUMIF(CEA_DAdos!$A$2:$A$161,AUX_CEA!$A$2,CEA_DAdos!AN$2:AN$161)","v":177.1},{"$f":"+SUMIF(CEA_DAdos!$A$2:$A$161,AUX_CEA!$A$2,CEA_DAdos!AO$2:AO$161)","v":151.43}]
[null,{"$f":"+G3& \" - \" & K6& \" (\"&B13&\")\"","v":"Milho em grão - Portugal (Preços correntes)"},{"$f":"+SUMIF(CEA_DAdos!$A$2:$A$161,AUX_CEA!$B$2,CEA_DAdos!E$2:E$161)","v":23.16},{"$f":"+SUMIF(CEA_DAdos!$A$2:$A$161,AUX_CEA!$B$2,CEA_DAdos!F$2:F$161)","v":25.36},{"$f":"+SUMIF(CEA_DAdos!$A$2:$A$161,AUX_CEA!$B$2,CEA_DAdos!G$2:G$161)","v":31.07},{"$f":"+SUMIF(CEA_DAdos!$A$2:$A$161,AUX_CEA!$B$2,CEA_DAdos!H$2:H$161)","v":44.41},{"$f":"+SUMIF(CEA_DAdos!$A$2:$A$161,AUX_CEA!$B$2,CEA_DAdos!I$2:I$161)","v":76.81},{"$f":"+SUMIF(CEA_DAdos!$A$2:$A$161,AUX_CEA!$B$2,CEA_DAdos!J$2:J$161)","v":100.02},{"$f":"+SUMIF(CEA_DAdos!$A$2:$A$161,AUX_CEA!$B$2,CEA_DAdos!K$2:K$161)","v":128.31},{"$f":"+SUMIF(CEA_DAdos!$A$2:$A$161,AUX_CEA!$B$2,CEA_DAdos!L$2:L$161)","v":133.75},{"$f":"+SUMIF(CEA_DAdos!$A$2:$A$161,AUX_CEA!$B$2,CEA_DAdos!M$2:M$161)","v":134.38},{"$f":"+SUMIF(CEA_DAdos!$A$2:$A$161,AUX_CEA!$B$2,CEA_DAdos!N$2:N$161)","v":138.66999999999999},{"$f":"+SUMIF(CEA_DAdos!$A$2:$A$161,AUX_CEA!$B$2,CEA_DAdos!O$2:O$161)","v":135.99},{"$f":"+SUMIF(CEA_DAdos!$A$2:$A$161,AUX_CEA!$B$2,CEA_DAdos!P$2:P$161)","v":134.97999999999999},{"$f":"+SUMIF(CEA_DAdos!$A$2:$A$161,AUX_CEA!$B$2,CEA_DAdos!Q$2:Q$161)","v":149.80000000000001},{"$f":"+SUMIF(CEA_DAdos!$A$2:$A$161,AUX_CEA!$B$2,CEA_DAdos!R$2:R$161)","v":148.64000000000001},{"$f":"+SUMIF(CEA_DAdos!$A$2:$A$161,AUX_CEA!$B$2,CEA_DAdos!S$2:S$161)","v":189.04000000000002},{"$f":"+SUMIF(CEA_DAdos!$A$2:$A$161,AUX_CEA!$B$2,CEA_DAdos!T$2:T$161)","v":209.76},{"$f":"+SUMIF(CEA_DAdos!$A$2:$A$161,AUX_CEA!$B$2,CEA_DAdos!U$2:U$161)","v":243.13},{"$f":"+SUMIF(CEA_DAdos!$A$2:$A$161,AUX_CEA!$B$2,CEA_DAdos!V$2:V$161)","v":259.88},{"$f":"+SUMIF(CEA_DAdos!$A$2:$A$161,AUX_CEA!$B$2,CEA_DAdos!W$2:W$161)","v":254.08999999999997},{"$f":"+SUMIF(CEA_DAdos!$A$2:$A$161,AUX_CEA!$B$2,CEA_DAdos!X$2:X$161)","v":243.23000000000002},{"$f":"+SUMIF(CEA_DAdos!$A$2:$A$161,AUX_CEA!$B$2,CEA_DAdos!Y$2:Y$161)","v":210.86},{"$f":"+SUMIF(CEA_DAdos!$A$2:$A$161,AUX_CEA!$B$2,CEA_DAdos!Z$2:Z$161)","v":241.73000000000002},{"$f":"+SUMIF(CEA_DAdos!$A$2:$A$161,AUX_CEA!$B$2,CEA_DAdos!AA$2:AA$161)","v":212.62},{"$f":"+SUMIF(CEA_DAdos!$A$2:$A$161,AUX_CEA!$B$2,CEA_DAdos!AB$2:AB$161)","v":237.34},{"$f":"+SUMIF(CEA_DAdos!$A$2:$A$161,AUX_CEA!$B$2,CEA_DAdos!AC$2:AC$161)","v":206.84},{"$f":"+SUMIF(CEA_DAdos!$A$2:$A$161,AUX_CEA!$B$2,CEA_DAdos!AD$2:AD$161)","v":93.82},{"$f":"+SUMIF(CEA_DAdos!$A$2:$A$161,AUX_CEA!$B$2,CEA_DAdos!AE$2:AE$161)","v":90.4},{"$f":"+SUMIF(CEA_DAdos!$A$2:$A$161,AUX_CEA!$B$2,CEA_DAdos!AF$2:AF$161)","v":136.84},{"$f":"+SUMIF(CEA_DAdos!$A$2:$A$161,AUX_CEA!$B$2,CEA_DAdos!AG$2:AG$161)","v":110.44},{"$f":"+SUMIF(CEA_DAdos!$A$2:$A$161,AUX_CEA!$B$2,CEA_DAdos!AH$2:AH$161)","v":90.69},{"$f":"+SUMIF(CEA_DAdos!$A$2:$A$161,AUX_CEA!$B$2,CEA_DAdos!AI$2:AI$161)","v":131.44999999999999},{"$f":"+SUMIF(CEA_DAdos!$A$2:$A$161,AUX_CEA!$B$2,CEA_DAdos!AJ$2:AJ$161)","v":174.76},{"$f":"+SUMIF(CEA_DAdos!$A$2:$A$161,AUX_CEA!$B$2,CEA_DAdos!AK$2:AK$161)","v":210.49},{"$f":"+SUMIF(CEA_DAdos!$A$2:$A$161,AUX_CEA!$B$2,CEA_DAdos!AL$2:AL$161)","v":163.46},{"$f":"+SUMIF(CEA_DAdos!$A$2:$A$161,AUX_CEA!$B$2,CEA_DAdos!AM$2:AM$161)","v":160.04},{"$f":"+SUMIF(CEA_DAdos!$A$2:$A$161,AUX_CEA!$B$2,CEA_DAdos!AN$2:AN$161)","v":151.97},{"$f":"+SUMIF(CEA_DAdos!$A$2:$A$161,AUX_CEA!$B$2,CEA_DAdos!AO$2:AO$161)","v":124.47}]
[]
[]
[null,null,1980,1981,1982,1983,1984,1985,1986,1987,1988,1989,1990,1991,1992,1993,1994,1995,1996,1997,1998,1999,2000,2001,2002,2003,2004,2005,2006,2007,2008,2009,2010,2011,"2012","2013","2014","2015Po","2016Pe"]
[null,{"$f":"+B23","v":"Milho em grão - Portugal (Preços constantes 2011)"},{"$f":"+IF($N$4=2,C23/$C23*100,C23/$R23*100)","v":100},{"$f":"+IF($N$4=2,D23/$C23*100,D23/$R23*100)","v":76.857142857142861},85.733333333333334,77.895238095238113,98.419047619047618,109.03809523809522,125.75238095238095,131.08571428571426,131.70476190476191,135.89523809523808,133.25714285714284,131.37142857142857,135.72380952380951,133.79047619047617,142.39047619047619,143.02857142857144,157.97142857142859,172.8095238095238,196.31428571428572,186.94285714285715,176.42857142857142,182.54285714285714,160.64761904761906,160.8857142857143,159.06666666666666,102.94285714285714,108.5904761904762,123.47619047619047,140.41904761904763,126.9047619047619,125.33333333333331,166.45714285714286,172.4190476190476,188.84761904761905,182.81904761904764,168.66666666666666,144.21904761904761]
[null,{"$f":"+B24","v":"Milho em grão - Portugal (Preços correntes)"},{"$f":"+IF($N$4=2,C24/$C24*100,C24/$R24*100)","v":100},109.49913644214162,134.15371329879102,191.7530224525043,331.64939550949913,431.8652849740933,554.01554404145077,577.50431778929192,580.22452504317789,598.74784110535404,587.1761658031088,582.81519861830736,646.80483592400697,641.79620034542313,816.2348877374784,905.69948186528495,1049.7841105354059,1122.1070811744387,1097.1070811744387,1050.2158894645943,910.4490500863559,1043.7392055267703,918.04835924006909,1024.7841105354059,893.09153713298792,405.09499136442139,390.32815198618312,590.84628670120901,476.85664939550946,391.58031088082896,567.57340241796192,754.57685664939549,908.85146804835927,705.78583765112262,691.01899827288423,656.17443868739201,537.43523316062169]

{"sheet":"CEA","index":8,"n_rows":36,"n_cols":12,"rows_kept":36,"cut":false,"hidden":true,"merged":[[10,1,10,24],[35,1,35,24]]}
["Fonte:",null,null,null,null,null,"Escolha 1",null,null,null,null,"Escolha 2"]
[]
[]
[]
[]
[]
[]
[]
[]
[]
[null,{"$f":"+ \"Evolução em Valor (M€) de \" & AUX_CEA!B23& \" e \" & AUX_CEA!B24","v":"Evolução em Valor (M€) de Milho em grão - Portugal (Preços constantes 2011) e Milho em grão - Portugal (Preços correntes)"}]
[]
[]
[]
[]
[]
[]
[]
[]
[]
[]
[]
[]
[]
[]
[]
[]
[]
[]
[]
[]
[]
[]
[]
[]
[null,{"$f":"+ \"Evolução em Índice 100 de \" & AUX_CEA!B23& \" e \" & AUX_CEA!B24","v":"Evolução em Índice 100 de Milho em grão - Portugal (Preços constantes 2011) e Milho em grão - Portugal (Preços correntes)"}]

{"sheet":"pr_UE","index":9,"n_rows":8,"n_cols":7,"rows_kept":8,"cut":false,"hidden":true,"merged":[[7,1,7,21]]}
[]
[null,null,"Seleção 1:",null,null,null,"Seleção 2:"]
[]
[]
[]
[]
[]
[null,"Evolução dos Preços Mensais do Mercado Interno do Grão por Destino e Tipo de Cereal e País da EU 1991-2017 (eur/ton)"]

{"sheet":"Preços_Cereais_CI","index":10,"n_rows":143,"n_cols":19,"rows_kept":143,"cut":false,"hidden":true,"merged":[]}
[]
[]
[]
[null,"Trigo mole e espelta","Trigo duro","Centeio","Cevada forrageira","Cevada (incl. dística)","Aveia e mistura de cereais de verão","Milho (grão)","Arroz","Outros cereais","Sementes e plantas","Electricidade","Combustíveis para aquecimento","Combustíveis para motores","Lubrificantes","Adubos e correctivos do solo","Adubos simples","Adubos compostos","Produtos de protecção das culturas"]
["Dezembro de 2015",150.4,199.9,164.1,"","","",121.1,134.1,"",132.6,114.6,141.6,113.5,138.80000000000001,178.8,179.2,178.3,168.1]
["Novembro de 2015","","","","","","",121.2,134.1,"",130.69999999999999,114.5,141.80000000000001,118.3,144.5,178.8,179.2,178.3,168.1]
["Outubro de 2015","","","","",148,103,121.7,134.1,"",131.69999999999999,114.6,141.9,119.7,144.1,178.7,179.2,178.1,168.1]
["Setembro de 2015",151.19999999999999,200.3,"",148.9,148,103,123.6,"",143.80000000000001,121.6,114.6,141.9,121.2,148.30000000000001,178.4,179.2,177.4,168.1]
["Agosto de 2015",151.30000000000001,200.3,166.7,148.9,148,105.1,"","",143.80000000000001,121.9,114.6,142.1,125,144.80000000000001,178.4,179.2,177.4,168.1]
["Julho de 2015",149,199.6,163.9,148.9,148,101.8,"","",140.6,121.4,114.6,144.1,132.1,142.30000000000001,178.4,179.2,177.4,168.1]
["Junho de 2015",142.9,196.7,"",148.9,148,91.5,"","",135.80000000000001,123.2,114.6,145.80000000000001,135.1,136.6,174.8,172.7,177.4,168.1]
["Maio de 2015","","","","","","","","","",124.7,114.6,147.9,136.19999999999999,140.5,174.8,172.7,177.4,168.1]
["Abril de 2015","","","","","","","","","",126.5,114.6,147.69999999999999,132.4,141.6,174.8,172.8,177.4,168.1]
["Março de 2015","","","","","","","","","",123.9,114.6,144.69999999999999,133.6,142.6,170.3,172.1,168.1,168.1]
["Fevereiro de 2015","","","","","","","",161.5,"",123.4,114.7,146.1,126.7,140.5,170.3,172.1,168.1,168.1]
["Janeiro de 2015","","","","","","","",161.5,"",120.1,114.5,154.4,122.7,137.80000000000001,170.3,172.1,168.1,168.1]
["Dezembro de 2014",148.5,163.19999999999999,175,"","","",113,148.1,"",120.2,110.7,158.9,131.9,131.9,170.4,172.1,168.3,171.3]
["Novembro de 2014","","","","","","",117.2,148.1,"",120.8,107.5,159.30000000000001,142.30000000000001,132.4,170.4,172.1,168.2,171.3]
["Outubro de 2014","","","","",136.9,97.3,115.8,148.1,"",120,102.7,159.5,146.5,133.6,170.4,172.1,168.2,171.3]
["Setembro de 2014",144.9,164.5,"",151,136.9,94.4,246.4,"",140.80000000000001,121.1,89.5,159.69999999999999,151,137.6,168.6,168.8,168.3,171.3]
["Agosto de 2014",147.9,164.5,175,157.19999999999999,148,97.3,"","",143.80000000000001,121.1,89.8,159.69999999999999,151.4,132.5,166.7,165.5,168.3,171.3]
["Julho de 2014",151,161.9,175,146.4,146.6,102.4,"","",143.80000000000001,121.5,90.3,159.69999999999999,152.6,132.80000000000001,166.7,165.5,168.3,171.3]
["Junho de 2014",155.5,157.4,"",144.69999999999999,141.5,97.3,"","",143.80000000000001,122,107.6,161,152,148.9,165.9,164.1,168.3,171.3]
["Maio de 2014","","","","","","","","","",121.7,115.2,169.5,150.6,143.19999999999999,165.9,164.1,168.3,171.3]
["Abril de 2014","","","","","","","","","",122,120.7,169.5,150.69999999999999,136.80000000000001,165.9,164,168.3,171.3]
["Março de 2014","","","","","","","","","",123,120.8,171.9,151.5,162.19999999999999,165.9,164.1,168.3,171.3]
["Fevereiro de 2014","","","","","","","",135.4,"",122.7,121.7,171.9,153,162.19999999999999,163.5,162.4,164.9,171.3]
["Janeiro de 2014","","","","","","","",134.19999999999999,"",122.7,122.1,171.9,156.4,160.80000000000001,163.5,162.4,164.9,171.3]
["Dezembro de 2013",166.7,165.7,175,"","","",116.5,136.6,"",115.5,115.2,173.5,158.69999999999999,194.3,163.5,162.4,164.9,174.8]
["Novembro de 2013","","","","","","",120.6,131.6,"",117.1,112.1,173.5,156.30000000000001,146.30000000000001,170.1,165.7,175.7,174.8]
["Outubro de 2013","","","","",148,108.7,116.7,131.6,"",114.2,106.6,173.5,157.80000000000001,162.6,170.1,165.6,175.7,174.8]
["Setembro de 2013",156.4,171.7,"",157.19999999999999,148,108.7,141.1,"",151.80000000000001,111.9,91.5,173.6,161.9,187.7,170.1,165.6,175.7,174.8]
["Agosto de 2013",164.3,171.7,175,162.9,147.80000000000001,113.6,"","",158.1,113,92.2,173.5,159.6,193.4,183.8,181,187.3,174.8]
["Julho de 2013",174.5,157.4,175,167.5,153.80000000000001,118.7,"","",163.69999999999999,112.4,93.7,173.5,159.1,193.4,183.8,180.9,187.3,174.8]
["Junho de 2013",172.1,157.4,"",169.6,155.4,114.4,"","",163.69999999999999,114.5,112.7,173.6,156.30000000000001,195.5,183.8,181,187.3,174.8]
["Maio de 2013","","","","","","","","","",114.6,119.8,174.3,156.19999999999999,184.6,183.8,181,187.3,174.8]
["Abril de 2013","","","","","","","","","",111.1,132.19999999999999,176.7,160.6,184.6,183.8,180.9,187.3,174.8]
["Março de 2013","","","","","","","","","",117.1,127.6,181.6,166.1,175,183.8,181,187.3,174.8]
["Fevereiro de 2013","","","","","","","",142.80000000000001,"",116.4,125.8,183.9,166.2,186.7,184.1,181,188.1,174.8]
["Janeiro de 2013","","","","","","","",147.9,"",116.9,127.1,183.2,163.6,186.7,184.1,180.9,188.1,174.8]
["Dezembro de 2012",180.3,185.3,167,"","","",176.4,147.9,"",127,125.3,180.6,164,207.3,184.1,181,188.1,156.69999999999999]
["Novembro de 2012","","","","","","",170.6,147.9,"",123.7,121.4,180.7,167.1,195.4,184.1,181,188.1,156.69999999999999]
["Outubro de 2012","","","","",162.80000000000001,125.9,165,146.1,"",124.8,116.3,175,171,176.9,184.1,180.9,188.1,156.69999999999999]
["Setembro de 2012",180.3,200.3,"",173.7,162.80000000000001,125.9,169.4,"",175.7,123,102.9,172.4,172.6,182.3,184.1,181,188.1,156.69999999999999]
["Agosto de 2012",180.2,200.3,171.7,173.7,161.4,125.9,"","",174.9,118.5,102.8,166.7,169.6,191.2,181.1,174.6,189.2,156.69999999999999]
["Julho de 2012",181,164.5,166.7,173.7,160.80000000000001,123,"","",173.1,118.3,102.4,166.4,160.5,187.4,181.1,174.6,189.2,156.69999999999999]
["Junho de 2012",171.9,164.5,"",173.7,151.69999999999999,108.7,"","",163.69999999999999,117.6,121.1,172.8,160.5,199.1,181.1,174.6,189.2,156.69999999999999]
["Maio de 2012","","","","","","","","","",118.3,130.30000000000001,173,168.1,164.9,184.8,182.1,188.2,156.69999999999999]
["Abril de 2012","","","","","","","","","",118.4,130.1,173.1,171.3,150,184.8,182.1,188.2,156.69999999999999]
["Março de 2012","","","","","","","","","",120,131.30000000000001,167.3,170.9,173.8,184.8,182.1,188.2,156.69999999999999]
["Fevereiro de 2012","","","","","","","",148.19999999999999,"",118.5,135.19999999999999,167,166.3,182.1,184.8,182.1,188.2,156.69999999999999]
["Janeiro de 2012","","","","","","","",145.19999999999999,"",121.6,130.6,163.4,159.30000000000001,153.69999999999999,184.8,182.1,188.2,156.69999999999999]
["Dezembro de 2011",163,144.1,136,"","","",143.5,144.9,"",115.7,127.9,162.69999999999999,159,184.4,184.8,182.1,188.2,152.69999999999999]
["Novembro de 2011","","","","","","",144.9,144.9,"",120,126.3,162.6,159.80000000000001,160.6,184.8,182.1,188.2,152.69999999999999]
["Outubro de 2011","","","","",148,108.7,145.19999999999999,149,"",106.9,121.9,162.19999999999999,151.1,176.6,184.8,182.1,188.2,152.69999999999999]
["Setembro de 2011",163.4,143.1,"",148.9,148,108.7,156.4,"",154.80000000000001,106.2,109.1,162.4,153.30000000000001,174.2,178.6,175.1,183.1,152.69999999999999]
["Agosto de 2011",161.9,143.1,177.1,148.9,148,108.7,"","",154.80000000000001,106.2,107.5,161.80000000000001,149.69999999999999,173,178.6,175.1,183.1,152.69999999999999]
["Julho de 2011",162.9,144.80000000000001,133.30000000000001,151,147.19999999999999,110.1,"","",154.80000000000001,106,109.9,162.30000000000001,152,209,178.6,175.1,183,152.69999999999999]
["Junho de 2011",177,150.19999999999999,"",157.19999999999999,144,114.4,"","",168.9,105.2,124.1,162.30000000000001,151.6,221.2,178.6,175.1,183.1,152.69999999999999]
["Maio de 2011","","","","","","","","","",104.6,130.5,162.30000000000001,152,155.19999999999999,182.2,185.5,178.1,152.69999999999999]
["Abril de 2011","","","","","","","","","",105.6,132.19999999999999,162.4,157.30000000000001,162.80000000000001,182.2,185.5,178.1,152.69999999999999]
["Março de 2011","","","","","","","","","",106.8,132.9,162.1,155.19999999999999,191.8,182.2,185.5,178.1,152.69999999999999]
["Fevereiro de 2011","","","","","","","",147.30000000000001,"",107.6,130.4,161.69999999999999,147.1,170.7,180.5,184.8,175.1,152.69999999999999]
["Janeiro de 2011","","","","","","","",155.1,"",108.8,125.4,158.80000000000001,137.9,144.5,171.4,171.7,171,152.69999999999999]
["Dezembro de 2010",121.9,118.5,124.8,"","","",144.69999999999999,142.80000000000001,"",103.79,123.9,152.78,134.13,204.3,168.61,168.56,168.68,145.51]
["Novembro de 2010","","","","","","",144.69999999999999,135.5,"",107,119.6,144.41999999999999,128.34,160.1,168.61,168.56,168.67,145.51]
["Outubro de 2010","","","","",112.5,95.5,144.1,134.69999999999999,"",106.88,122.6,144.37,126.53,181.3,168.61,168.55,168.68,145.51]
["Setembro de 2010",130.80000000000001,128.80000000000001,"",119.9,112.5,95.5,141.1,"",119.8,106.33,107,140.4,126.05,179.8,144.59,137.88,153.02000000000001,145.51]
["Agosto de 2010",123.6,112.3,121.7,117.5,109.1,84.7,"","",116.6,98.82,116.2,139.94999999999999,124.84,132.9,144.59,137.88999999999999,153.02000000000001,145.51]
["Julho de 2010",116.2,112.3,125,117.5,95.4,72,"","",110.6,96.44,107.1,142.52000000000001,127.42,154.6,144.59,137.88,153.02000000000001,145.51]
["Junho de 2010",115,168.2,"",84.8,91,71.5,"","",109.4,100.58,116.5,143.66,128.24,162.5,144.59,137.88,153.02000000000001,145.51]
["Maio de 2010","","","","","","","","","",103.12,124.3,143.72,128.4,145.1,147.22999999999999,141.91999999999999,153.9,145.51]
["Abril de 2010","","","","","","","","","",103.41,128.4,143.58000000000001,126.74,183.7,147.22,141.91999999999999,153.88,145.51]
["Março de 2010","","","","","","","","","",105.14,127,139.49,120.85,124.8,147.22,141.91999999999999,153.88999999999999,145.51]
["Fevereiro de 2010","","","","","","","",100,"",100.89,124.1,139.30000000000001,115.4,134.6,133.65,129.01,139.47999999999999,145.51]
["Janeiro de 2010","","","","","","","",101.6,"",104.54,119.1,133.71,115.49,148.1,133.63,128.99,139.47,145.51]
["Dezembro de 2009",111.7,163.1,110.4,"","","",109.3,105.8,"",100.37,127.9,125.31,111.97,109.4,141.91999999999999,128.41,158.91,150.19]
["Novembro de 2009","","","","","","",97.4,104.1,"",96.91,115.2,123.71,112.21,117.1,141.91999999999999,128.41,158.9,150.19]
["Outubro de 2009","","","","",106,79.7,96.3,103.7,"",96.65,113.9,123.53,107.63,154.5,141.91,128.4,158.9,150.19]
["Setembro de 2009",110.1,163.1,"",107.5,106,79.7,98.8,"",111.8,104.12,105.4,123.6,109.42,118.6,141.91999999999999,128.41,158.91,150.19]
["Agosto de 2009",110.2,163.1,100,107.5,106,79.7,"","",111.8,104.58,106.1,124.53,108.92,119,180.55,166.99,197.6,150.19]
["Julho de 2009",113.2,163.1,111.1,107.5,106,79.7,"","",111.8,105.41,91.5,124.58,106.89,151.30000000000001,180.54,166.97,197.61,150.19]
["Junho de 2009",113.7,163.1,"",107.5,115.5,97.3,"","",109.4,107.01,114.1,124.51,105.11,130.30000000000001,180.55,166.98,197.61,150.19]
["Maio de 2009","","","","","","","","","",108.55,115.8,124.38,101.14,169.1,180.55,166.98,197.61,150.19]
["Abril de 2009","","","","","","","","","",109.45,119.1,124.88,99.44,96.9,180.54,166.97,197.61,150.19]
["Março de 2009","","","","","","","","","",109.72,124.5,125.77,95.22,160.5,180.55,166.98,197.61,150.19]
["Fevereiro de 2009","","","","","","","",196.8,"",110.45,119.1,127.04,100.26,159.30000000000001,210.05,183.51,243.42,150.19]
["Janeiro de 2009","","","","","","","",196.8,"",109.68,109.6,127.1,98.38,154.9,210.04,183.49,243.42,150.19]
["Dezembro de 2008",165.7,189.6,161.4,"","","",105.8,196.4,"",104.84,119.1,128.52000000000001,105.63,154.19999999999999,223.86,196.96,257.68,122.55]
["Novembro de 2008","","","","","","",105.8,195.4,"",103.92,115.5,136.76,120.81,179.6,234.94,211.3,264.66000000000003,122.55]
["Outubro de 2008","","","","",177.6,97.3,110.6,187.9,"",103.53,113.3,139.74,135.16999999999999,157,234.94,211.29,264.67,122.55]
["Setembro de 2008",156.30000000000001,193.1,"",148.9,177.6,97.3,110.6,"",143.80000000000001,103.72,105.1,142.91999999999999,143.87,147.30000000000001,196.85,178.84,219.48,122.55]
["Agosto de 2008",162.19999999999999,187.8,166.7,152,171.7,93,"","",140.80000000000001,103.52,104.1,142.93,149.59,160.5,196.84,178.83,219.48,122.55]
["Julho de 2008",173.7,189.6,161.1,152,164.2,95.5,"","",140.80000000000001,102.6,105.9,140.03,160.62,137.19999999999999,196.84,178.83,219.49,122.55]
["Junho de 2008",173.7,189.6,"",165.4,170.2,95.5,"","",140.80000000000001,98.72,116.5,138.30000000000001,158.37,138.69999999999999,196.85,178.84,219.48,122.55]
["Maio de 2008","","","","","","","","","",95.95,117.9,138.46,149.57,156,169.41,158.21,183.48,122.55]
["Abril de 2008","","","","","","","","","",100.35,120.2,137.59,136.80000000000001,145.80000000000001,169.41,158.22,183.47,122.55]
["Março de 2008","","","","","","","","","",101,119.3,137.43,134.19,149.1,169.41,158.21,183.48,122.55]
["Fevereiro de 2008","","","","","","","",149,"",102.62,118.3,137.27000000000001,125,152.9,169.41,158.22,183.47,122.55]
["Janeiro de 2008","","","","","","","",147,"",101.26,111.9,137.24,126.29,135.9,169.41,158.21,183.48,122.55]
["Dezembro de 2007",145.1,150.19999999999999,121.5,"","","",152.1,141,"",103.93,112.4,143.07,127.57,147.69999999999999,119.76,120.53,118.8,103.19]
["Novembro de 2007","","","","","","",152.1,141.6,"",103.3,107.4,135.22999999999999,122.76,155.9,119.76,120.53,118.79,103.19]
["Outubro de 2007","","","","",133.19999999999999,91.5,155,138.69999999999999,"",102.97,109.5,129.43,116.84,187.2,119.76,120.52,118.8,103.19]
["Setembro de 2007",145.30000000000001,150.19999999999999,"",144.69999999999999,133.19999999999999,91.5,162,"",131.80000000000001,103.54,99.5,126.02,113.8,125.6,119.76,120.53,118.8,103.19]
["Agosto de 2007",145.1,150.19999999999999,131.30000000000001,144.69999999999999,136,91.5,"","",131.80000000000001,93.85,100.5,125.86,113.38,130.19999999999999,119.76,120.53,118.8,103.19]
["Julho de 2007",144,150.19999999999999,120.8,141.69999999999999,132.5,86.1,"","",130.80000000000001,93.55,103.8,126,113.01,129,119.76,120.52,118.8,103.19]
["Junho de 2007",144,150.19999999999999,"",141.69999999999999,116.2,71.5,"","",122.4,91.27,111.5,122.74,110.53,135,119.76,120.53,118.8,103.19]
["Maio de 2007","","","","","","","","","",95.12,114.3,122.66,108.69,127.4,119.76,120.52,118.8,103.19]
["Abril de 2007","","","","","","","","","",96.71,118.1,122.57,106.88,123.6,119.75,120.51,118.8,103.19]
["Março de 2007","","","","","","","","","",102.47,119.5,120.41,104.26,126.1,112.15,114.76,108.86,103.19]
["Fevereiro de 2007","","","","","","","",123.4,"",101.19,117.5,120.04,101.01,132,112.16,114.77,108.87,103.19]
["Janeiro de 2007","","","","","","","",123.4,"",101.64,111.8,121.73,103.02,128,112.15,114.77,108.86,103.19]
["Dezembro de 2006",95,90.1,100,"","","",112.9,120.5,"",96.94,110.6,121.99,104.1,136,109.61,112.55,105.92,100.38]
["Novembro de 2006","","","","","","",115.6,113.5,"",97.99,107.2,121.97,105,136.1,109.61,112.56,105.91,100.38]
["Outubro de 2006","","","","",99.9,57.2,114.1,109.2,"",97.73,107.1,122.01,106.11,123.9,109.62,112.56,105.92,100.38]
["Setembro de 2006",90.5,90.1,"",97.6,99.9,57.2,112.9,"",94.2,97.79,96.1,122.36,114.66,124.6,109.61,112.55,105.92,100.38]
["Agosto de 2006",94.8,90.1,100,97.6,98,57.2,"","",94.2,97.24,97.1,122.48,116.74,136.4,109.62,112.56,105.92,100.38]
["Julho de 2006",97.3,90.1,100,99.3,95.4,61.5,"","",92.9,96.99,97.8,121.68,115,117.9,109.62,112.56,105.92,100.38]
["Junho de 2006",99,90.1,"",91,88.4,55.1,"","",95.7,98.03,103.3,121.61,113.86,119.5,109.61,112.55,105.92,100.38]
["Maio de 2006","","","","","","","","","",97.29,109.3,123.91,115.72,123.8,109.61,112.56,105.91,100.38]
["Abril de 2006","","","","","","","","","",100.87,114.3,123.77,110.69,83.5,106.67,107.87,105.16,100.38]
["Março de 2006","","","","","","","","","",99.57,110.4,123.62,108.43,113.8,106.67,107.87,105.16,100.38]
["Fevereiro de 2006","","","","","","","",105.5,"",97.78,111.2,117.43,106.93,126.2,106.67,107.87,105.16,100.38]
["Janeiro de 2006","","","","","","","",104.3,"",98.85,96.8,117.36,104.71,112.6,106.68,107.89,105.15,100.38]
["Dezembro de 2005",100,100,100,"","","",99.7,105.4,"",102.83,103,112.13,103.92,107.5,107.13,108.32,105.64,100]
["Novembro de 2005","","","","","","",99.7,98.3,"",102.83,104.1,112.33,110.55,99,107.13,108.33,105.63,100]
["Outubro de 2005","","","","",103.6,105.8,100.2,96.7,"",102.64,99,108.18,112.26,98,98.71,98.33,99.19,100]
["Setembro de 2005",102.5,100.1,"",102.6,103.6,105.8,101.6,"",100.6,102.26,93.4,97.12,110.02,101.6,98.72,98.34,99.19,100]
["Agosto de 2005",103.3,100.1,100,99.3,100.1,100.1,"","",100.5,98.91,90.5,96.85,104.71,100.4,98.72,98.34,99.19,100]
["Julho de 2005",95.5,99.8,100,99.3,98.5,99.4,"","",99.8,94.43,91.5,96.82,104.37,102.7,98.72,98.34,99.2,100]
["Junho de 2005",98.4,99.8,"",99.3,96.2,87.7,"","",95.8,93.33,95,96.34,96.37,101.6,98.72,98.34,99.19,100]
["Maio de 2005","","","","","","","","","",97.2,100.6,96.17,96.36,98.6,98.72,98.34,99.19,100]
["Abril de 2005","","","","","","","","","",101.81,105.7,96.28,97.04,96.5,98.71,98.33,99.19,100]
["Março de 2005","","","","","","","","","",102.5,105.8,96.08,89.27,103.1,98.72,98.34,99.19,100]
["Fevereiro de 2005","","","","","","","",93.8,"",100.58,105.3,95.88,86.33,95.8,98.07,98.43,97.62,100]
["Janeiro de 2005","","","","","","","",93.8,"",100.69,106.1,95.84,88.88,95.1,98.07,98.43,97.62,100]
["Índice de preços de produtos agrícolas no produtor (Base 2005) por Produto agrícola; Mensal - INE, Índice de preços de produtos agrícolas (output)"]
[]
[]
["Sinais convencionais:"]
["-: Dado nulo ou não aplicável"]
[]
["Última atualização destes dados: 08 de março de 2016"]

{"sheet":"AUx_PR_C_CI","index":11,"n_rows":134,"n_cols":14,"rows_kept":134,"cut":false,"hidden":true,"merged":[]}
[null,null,1,7]
[null,null,{"$f":"+INDEX(L4:L21,AUx_PR_C_CI!$C$1)","v":"Cereal - Trigo mole e espelta"},{"$f":"+INDEX(L4:L21,D1)","v":"Cereal - Milho (grão)"}]
[null,"Dezembro de 2015",150.4,121.1,{"$f":"+INDEX(Preços_Cereais_CI!$B5:$S5,1,AUx_PR_C_CI!$C$1)","v":150.4},{"$f":"+INDEX(Preços_Cereais_CI!$B5:$S5,1,AUx_PR_C_CI!$D$1)","v":121.1}]
[null,"Novembro de 2015",null,121.2,{"$f":"+INDEX(Preços_Cereais_CI!$B6:$S6,1,AUx_PR_C_CI!$C$1)","v":""},{"$f":"+INDEX(Preços_Cereais_CI!$B6:$S6,1,AUx_PR_C_CI!$D$1)","v":121.2},null,null,null,null,null,{"$f":"+M4&N4","v":"Cereal - Trigo mole e espelta"},"Cereal - ","Trigo mole e espelta"]
[null,"Outubro de 2015",null,121.7,{"$f":"+INDEX(Preços_Cereais_CI!$B7:$S7,1,AUx_PR_C_CI!$C$1)","v":""},{"$f":"+INDEX(Preços_Cereais_CI!$B7:$S7,1,AUx_PR_C_CI!$D$1)","v":121.7},null,null,null,null,null,{"$f":"+M5&N5","v":"Cereal - Trigo duro"},"Cereal - ","Trigo duro"]
[null,"Setembro de 2015",151.19999999999999,123.6,{"$f":"+INDEX(Preços_Cereais_CI!$B8:$S8,1,AUx_PR_C_CI!$C$1)","v":151.19999999999999},{"$f":"+INDEX(Preços_Cereais_CI!$B8:$S8,1,AUx_PR_C_CI!$D$1)","v":123.6},null,null,null,null,null,"Cereal - Centeio","Cereal - ","Centeio"]
[null,"Agosto de 2015",151.30000000000001,null,{"$f":"+INDEX(Preços_Cereais_CI!$B9:$S9,1,AUx_PR_C_CI!$C$1)","v":151.30000000000001},{"$f":"+INDEX(Preços_Cereais_CI!$B9:$S9,1,AUx_PR_C_CI!$D$1)","v":""},null,null,null,null,null,"Cereal - Cevada forrageira","Cereal - ","Cevada forrageira"]
[null,"Julho de 2015",149,null,{"$f":"+INDEX(Preços_Cereais_CI!$B10:$S10,1,AUx_PR_C_CI!$C$1)","v":149},{"$f":"+INDEX(Preços_Cereais_CI!$B10:$S10,1,AUx_PR_C_CI!$D$1)","v":""},null,null,null,null,null,"Cereal - Cevada (incl. dística)","Cereal - ","Cevada (incl. dística)"]
[null,"Junho de 2015",142.9,null,{"$f":"+INDEX(Preços_Cereais_CI!$B11:$S11,1,AUx_PR_C_CI!$C$1)","v":142.9},{"$f":"+INDEX(Preços_Cereais_CI!$B11:$S11,1,AUx_PR_C_CI!$D$1)","v":""},null,null,null,null,null,"Cereal - Aveia e mistura de cereais de verão","Cereal - ","Aveia e mistura de cereais de verão"]
[null,"Maio de 2015",null,null,{"$f":"+INDEX(Preços_Cereais_CI!$B12:$S12,1,AUx_PR_C_CI!$C$1)","v":""},{"$f":"+INDEX(Preços_Cereais_CI!$B12:$S12,1,AUx_PR_C_CI!$D$1)","v":""},null,null,null,null,null,"Cereal - Milho (grão)","Cereal - ","Milho (grão)"]
[null,"Abril de 2015",null,null,{"$f":"+INDEX(Preços_Cereais_CI!$B13:$S13,1,AUx_PR_C_CI!$C$1)","v":""},{"$f":"+INDEX(Preços_Cereais_CI!$B13:$S13,1,AUx_PR_C_CI!$D$1)","v":""},null,null,null,null,null,"Cereal - Arroz","Cereal - ","Arroz"]
[null,"Março de 2015",null,null,{"$f":"+INDEX(Preços_Cereais_CI!$B14:$S14,1,AUx_PR_C_CI!$C$1)","v":""},{"$f":"+INDEX(Preços_Cereais_CI!$B14:$S14,1,AUx_PR_C_CI!$D$1)","v":""},null,null,null,null,null,"Cereal - Outros cereais","Cereal - ","Outros cereais"]
[null,"Fevereiro de 2015",null,null,{"$f":"+INDEX(Preços_Cereais_CI!$B15:$S15,1,AUx_PR_C_CI!$C$1)","v":""},{"$f":"+INDEX(Preços_Cereais_CI!$B15:$S15,1,AUx_PR_C_CI!$D$1)","v":""},null,null,null,null,null,"Consumos - Sementes e plantas","Consumos - ","Sementes e plantas"]
[null,"Janeiro de 2015",null,null,{"$f":"+INDEX(Preços_Cereais_CI!$B16:$S16,1,AUx_PR_C_CI!$C$1)","v":""},{"$f":"+INDEX(Preços_Cereais_CI!$B16:$S16,1,AUx_PR_C_CI!$D$1)","v":""},null,null,null,null,null,"Consumos - Electricidade","Consumos - ","Electricidade"]
[null,"Dezembro de 2014",148.5,113,{"$f":"+INDEX(Preços_Cereais_CI!$B17:$S17,1,AUx_PR_C_CI!$C$1)","v":148.5},{"$f":"+INDEX(Preços_Cereais_CI!$B17:$S17,1,AUx_PR_C_CI!$D$1)","v":113},null,null,null,null,null,"Consumos - Combustíveis para aquecimento","Consumos - ","Combustíveis para aquecimento"]
[null,"Novembro de 2014",null,117.2,{"$f":"+INDEX(Preços_Cereais_CI!$B18:$S18,1,AUx_PR_C_CI!$C$1)","v":""},{"$f":"+INDEX(Preços_Cereais_CI!$B18:$S18,1,AUx_PR_C_CI!$D$1)","v":117.2},null,null,null,null,null,"Consumos - Combustíveis para motores","Consumos - ","Combustíveis para motores"]
[null,"Outubro de 2014",null,115.8,{"$f":"+INDEX(Preços_Cereais_CI!$B19:$S19,1,AUx_PR_C_CI!$C$1)","v":""},{"$f":"+INDEX(Preços_Cereais_CI!$B19:$S19,1,AUx_PR_C_CI!$D$1)","v":115.8},null,null,null,null,null,"Consumos - Lubrificantes","Consumos - ","Lubrificantes"]
[null,"Setembro de 2014",144.9,246.4,{"$f":"+INDEX(Preços_Cereais_CI!$B20:$S20,1,AUx_PR_C_CI!$C$1)","v":144.9},{"$f":"+INDEX(Preços_Cereais_CI!$B20:$S20,1,AUx_PR_C_CI!$D$1)","v":246.4},null,null,null,null,null,"Consumos - Adubos e correctivos do solo","Consumos - ","Adubos e correctivos do solo"]
[null,"Agosto de 2014",147.9,null,{"$f":"+INDEX(Preços_Cereais_CI!$B21:$S21,1,AUx_PR_C_CI!$C$1)","v":147.9},{"$f":"+INDEX(Preços_Cereais_CI!$B21:$S21,1,AUx_PR_C_CI!$D$1)","v":""},null,null,null,null,null,"Consumos - Adubos simples","Consumos - ","Adubos simples"]
[null,"Julho de 2014",151,null,{"$f":"+INDEX(Preços_Cereais_CI!$B22:$S22,1,AUx_PR_C_CI!$C$1)","v":151},{"$f":"+INDEX(Preços_Cereais_CI!$B22:$S22,1,AUx_PR_C_CI!$D$1)","v":""},null,null,null,null,null,"Consumos - Adubos compostos","Consumos - ","Adubos compostos"]
[null,"Junho de 2014",155.5,null,{"$f":"+INDEX(Preços_Cereais_CI!$B23:$S23,1,AUx_PR_C_CI!$C$1)","v":155.5},{"$f":"+INDEX(Preços_Cereais_CI!$B23:$S23,1,AUx_PR_C_CI!$D$1)","v":""},null,null,null,null,null,"Consumos - Produtos de protecção das culturas","Consumos - ","Produtos de protecção das culturas"]
[null,"Maio de 2014",null,null,{"$f":"+INDEX(Preços_Cereais_CI!$B24:$S24,1,AUx_PR_C_CI!$C$1)","v":""},{"$f":"+INDEX(Preços_Cereais_CI!$B24:$S24,1,AUx_PR_C_CI!$D$1)","v":""}]
[null,"Abril de 2014",null,null,{"$f":"+INDEX(Preços_Cereais_CI!$B25:$S25,1,AUx_PR_C_CI!$C$1)","v":""},{"$f":"+INDEX(Preços_Cereais_CI!$B25:$S25,1,AUx_PR_C_CI!$D$1)","v":""}]
[null,"Março de 2014",null,null,{"$f":"+INDEX(Preços_Cereais_CI!$B26:$S26,1,AUx_PR_C_CI!$C$1)","v":""},{"$f":"+INDEX(Preços_Cereais_CI!$B26:$S26,1,AUx_PR_C_CI!$D$1)","v":""}]
[null,"Fevereiro de 2014",null,null,{"$f":"+INDEX(Preços_Cereais_CI!$B27:$S27,1,AUx_PR_C_CI!$C$1)","v":""},{"$f":"+INDEX(Preços_Cereais_CI!$B27:$S27,1,AUx_PR_C_CI!$D$1)","v":""}]
[null,"Janeiro de 2014",null,null,{"$f":"+INDEX(Preços_Cereais_CI!$B28:$S28,1,AUx_PR_C_CI!$C$1)","v":""},{"$f":"+INDEX(Preços_Cereais_CI!$B28:$S28,1,AUx_PR_C_CI!$D$1)","v":""}]
[null,"Dezembro de 2013",166.7,116.5,{"$f":"+INDEX(Preços_Cereais_CI!$B29:$S29,1,AUx_PR_C_CI!$C$1)","v":166.7},{"$f":"+INDEX(Preços_Cereais_CI!$B29:$S29,1,AUx_PR_C_CI!$D$1)","v":116.5}]
[null,"Novembro de 2013",null,120.6,{"$f":"+INDEX(Preços_Cereais_CI!$B30:$S30,1,AUx_PR_C_CI!$C$1)","v":""},{"$f":"+INDEX(Preços_Cereais_CI!$B30:$S30,1,AUx_PR_C_CI!$D$1)","v":120.6}]
[null,"Outubro de 2013",null,116.7,{"$f":"+INDEX(Preços_Cereais_CI!$B31:$S31,1,AUx_PR_C_CI!$C$1)","v":""},{"$f":"+INDEX(Preços_Cereais_CI!$B31:$S31,1,AUx_PR_C_CI!$D$1)","v":116.7}]
[null,"Setembro de 2013",156.4,141.1,{"$f":"+INDEX(Preços_Cereais_CI!$B32:$S32,1,AUx_PR_C_CI!$C$1)","v":156.4},{"$f":"+INDEX(Preços_Cereais_CI!$B32:$S32,1,AUx_PR_C_CI!$D$1)","v":141.1}]
[null,"Agosto de 2013",164.3,null,{"$f":"+INDEX(Preços_Cereais_CI!$B33:$S33,1,AUx_PR_C_CI!$C$1)","v":164.3},{"$f":"+INDEX(Preços_Cereais_CI!$B33:$S33,1,AUx_PR_C_CI!$D$1)","v":""}]
[null,"Julho de 2013",174.5,null,{"$f":"+INDEX(Preços_Cereais_CI!$B34:$S34,1,AUx_PR_C_CI!$C$1)","v":174.5},{"$f":"+INDEX(Preços_Cereais_CI!$B34:$S34,1,AUx_PR_C_CI!$D$1)","v":""}]
[null,"Junho de 2013",172.1,null,{"$f":"+INDEX(Preços_Cereais_CI!$B35:$S35,1,AUx_PR_C_CI!$C$1)","v":172.1},{"$f":"+INDEX(Preços_Cereais_CI!$B35:$S35,1,AUx_PR_C_CI!$D$1)","v":""}]
[null,"Maio de 2013",null,null,{"$f":"+INDEX(Preços_Cereais_CI!$B36:$S36,1,AUx_PR_C_CI!$C$1)","v":""},{"$f":"+INDEX(Preços_Cereais_CI!$B36:$S36,1,AUx_PR_C_CI!$D$1)","v":""}]
[null,"Abril de 2013",null,null,{"$f":"+INDEX(Preços_Cereais_CI!$B37:$S37,1,AUx_PR_C_CI!$C$1)","v":""},{"$f":"+INDEX(Preços_Cereais_CI!$B37:$S37,1,AUx_PR_C_CI!$D$1)","v":""}]
[null,"Março de 2013",null,null,{"$f":"+INDEX(Preços_Cereais_CI!$B38:$S38,1,AUx_PR_C_CI!$C$1)","v":""},{"$f":"+INDEX(Preços_Cereais_CI!$B38:$S38,1,AUx_PR_C_CI!$D$1)","v":""}]
[null,"Fevereiro de 2013",null,null,{"$f":"+INDEX(Preços_Cereais_CI!$B39:$S39,1,AUx_PR_C_CI!$C$1)","v":""},{"$f":"+INDEX(Preços_Cereais_CI!$B39:$S39,1,AUx_PR_C_CI!$D$1)","v":""}]
[null,"Janeiro de 2013",null,null,{"$f":"+INDEX(Preços_Cereais_CI!$B40:$S40,1,AUx_PR_C_CI!$C$1)","v":""},{"$f":"+INDEX(Preços_Cereais_CI!$B40:$S40,1,AUx_PR_C_CI!$D$1)","v":""}]
[null,"Dezembro de 2012",180.3,176.4,{"$f":"+INDEX(Preços_Cereais_CI!$B41:$S41,1,AUx_PR_C_CI!$C$1)","v":180.3},{"$f":"+INDEX(Preços_Cereais_CI!$B41:$S41,1,AUx_PR_C_CI!$D$1)","v":176.4}]
[null,"Novembro de 2012",null,170.6,{"$f":"+INDEX(Preços_Cereais_CI!$B42:$S42,1,AUx_PR_C_CI!$C$1)","v":""},{"$f":"+INDEX(Preços_Cereais_CI!$B42:$S42,1,AUx_PR_C_CI!$D$1)","v":170.6}]
[null,"Outubro de 2012",null,165,{"$f":"+INDEX(Preços_Cereais_CI!$B43:$S43,1,AUx_PR_C_CI!$C$1)","v":""},{"$f":"+INDEX(Preços_Cereais_CI!$B43:$S43,1,AUx_PR_C_CI!$D$1)","v":165}]
[null,"Setembro de 2012",180.3,169.4,{"$f":"+INDEX(Preços_Cereais_CI!$B44:$S44,1,AUx_PR_C_CI!$C$1)","v":180.3},{"$f":"+INDEX(Preços_Cereais_CI!$B44:$S44,1,AUx_PR_C_CI!$D$1)","v":169.4}]
[null,"Agosto de 2012",180.2,null,{"$f":"+INDEX(Preços_Cereais_CI!$B45:$S45,1,AUx_PR_C_CI!$C$1)","v":180.2},{"$f":"+INDEX(Preços_Cereais_CI!$B45:$S45,1,AUx_PR_C_CI!$D$1)","v":""}]
[null,"Julho de 2012",181,null,{"$f":"+INDEX(Preços_Cereais_CI!$B46:$S46,1,AUx_PR_C_CI!$C$1)","v":181},{"$f":"+INDEX(Preços_Cereais_CI!$B46:$S46,1,AUx_PR_C_CI!$D$1)","v":""}]
[null,"Junho de 2012",171.9,null,{"$f":"+INDEX(Preços_Cereais_CI!$B47:$S47,1,AUx_PR_C_CI!$C$1)","v":171.9},{"$f":"+INDEX(Preços_Cereais_CI!$B47:$S47,1,AUx_PR_C_CI!$D$1)","v":""}]
[null,"Maio de 2012",null,null,{"$f":"+INDEX(Preços_Cereais_CI!$B48:$S48,1,AUx_PR_C_CI!$C$1)","v":""},{"$f":"+INDEX(Preços_Cereais_CI!$B48:$S48,1,AUx_PR_C_CI!$D$1)","v":""}]
[null,"Abril de 2012",null,null,{"$f":"+INDEX(Preços_Cereais_CI!$B49:$S49,1,AUx_PR_C_CI!$C$1)","v":""},{"$f":"+INDEX(Preços_Cereais_CI!$B49:$S49,1,AUx_PR_C_CI!$D$1)","v":""}]
[null,"Março de 2012",null,null,{"$f":"+INDEX(Preços_Cereais_CI!$B50:$S50,1,AUx_PR_C_CI!$C$1)","v":""},{"$f":"+INDEX(Preços_Cereais_CI!$B50:$S50,1,AUx_PR_C_CI!$D$1)","v":""}]
[null,"Fevereiro de 2012",null,null,{"$f":"+INDEX(Preços_Cereais_CI!$B51:$S51,1,AUx_PR_C_CI!$C$1)","v":""},{"$f":"+INDEX(Preços_Cereais_CI!$B51:$S51,1,AUx_PR_C_CI!$D$1)","v":""}]
[null,"Janeiro de 2012",null,null,{"$f":"+INDEX(Preços_Cereais_CI!$B52:$S52,1,AUx_PR_C_CI!$C$1)","v":""},{"$f":"+INDEX(Preços_Cereais_CI!$B52:$S52,1,AUx_PR_C_CI!$D$1)","v":""}]
[null,"Dezembro de 2011",163,143.5,{"$f":"+INDEX(Preços_Cereais_CI!$B53:$S53,1,AUx_PR_C_CI!$C$1)","v":163},{"$f":"+INDEX(Preços_Cereais_CI!$B53:$S53,1,AUx_PR_C_CI!$D$1)","v":143.5}]
[null,"Novembro de 2011",null,144.9,{"$f":"+INDEX(Preços_Cereais_CI!$B54:$S54,1,AUx_PR_C_CI!$C$1)","v":""},{"$f":"+INDEX(Preços_Cereais_CI!$B54:$S54,1,AUx_PR_C_CI!$D$1)","v":144.9}]
[null,"Outubro de 2011",null,145.19999999999999,{"$f":"+INDEX(Preços_Cereais_CI!$B55:$S55,1,AUx_PR_C_CI!$C$1)","v":""},{"$f":"+INDEX(Preços_Cereais_CI!$B55:$S55,1,AUx_PR_C_CI!$D$1)","v":145.19999999999999}]
[null,"Setembro de 2011",163.4,156.4,{"$f":"+INDEX(Preços_Cereais_CI!$B56:$S56,1,AUx_PR_C_CI!$C$1)","v":163.4},{"$f":"+INDEX(Preços_Cereais_CI!$B56:$S56,1,AUx_PR_C_CI!$D$1)","v":156.4}]
[null,"Agosto de 2011",161.9,null,{"$f":"+INDEX(Preços_Cereais_CI!$B57:$S57,1,AUx_PR_C_CI!$C$1)","v":161.9},{"$f":"+INDEX(Preços_Cereais_CI!$B57:$S57,1,AUx_PR_C_CI!$D$1)","v":""}]
[null,"Julho de 2011",162.9,null,{"$f":"+INDEX(Preços_Cereais_CI!$B58:$S58,1,AUx_PR_C_CI!$C$1)","v":162.9},{"$f":"+INDEX(Preços_Cereais_CI!$B58:$S58,1,AUx_PR_C_CI!$D$1)","v":""}]
[null,"Junho de 2011",177,null,{"$f":"+INDEX(Preços_Cereais_CI!$B59:$S59,1,AUx_PR_C_CI!$C$1)","v":177},{"$f":"+INDEX(Preços_Cereais_CI!$B59:$S59,1,AUx_PR_C_CI!$D$1)","v":""}]
[null,"Maio de 2011",null,null,{"$f":"+INDEX(Preços_Cereais_CI!$B60:$S60,1,AUx_PR_C_CI!$C$1)","v":""},{"$f":"+INDEX(Preços_Cereais_CI!$B60:$S60,1,AUx_PR_C_CI!$D$1)","v":""}]
[null,"Abril de 2011",null,null,{"$f":"+INDEX(Preços_Cereais_CI!$B61:$S61,1,AUx_PR_C_CI!$C$1)","v":""},{"$f":"+INDEX(Preços_Cereais_CI!$B61:$S61,1,AUx_PR_C_CI!$D$1)","v":""}]
[null,"Março de 2011",null,null,{"$f":"+INDEX(Preços_Cereais_CI!$B62:$S62,1,AUx_PR_C_CI!$C$1)","v":""},{"$f":"+INDEX(Preços_Cereais_CI!$B62:$S62,1,AUx_PR_C_CI!$D$1)","v":""}]
[null,"Fevereiro de 2011",null,null,{"$f":"+INDEX(Preços_Cereais_CI!$B63:$S63,1,AUx_PR_C_CI!$C$1)","v":""},{"$f":"+INDEX(Preços_Cereais_CI!$B63:$S63,1,AUx_PR_C_CI!$D$1)","v":""}]
[null,"Janeiro de 2011",null,null,{"$f":"+INDEX(Preços_Cereais_CI!$B64:$S64,1,AUx_PR_C_CI!$C$1)","v":""},{"$f":"+INDEX(Preços_Cereais_CI!$B64:$S64,1,AUx_PR_C_CI!$D$1)","v":""}]
[null,"Dezembro de 2010",121.9,144.69999999999999,{"$f":"+INDEX(Preços_Cereais_CI!$B65:$S65,1,AUx_PR_C_CI!$C$1)","v":121.9},{"$f":"+INDEX(Preços_Cereais_CI!$B65:$S65,1,AUx_PR_C_CI!$D$1)","v":144.69999999999999}]
[null,"Novembro de 2010",null,144.69999999999999,{"$f":"+INDEX(Preços_Cereais_CI!$B66:$S66,1,AUx_PR_C_CI!$C$1)","v":""},{"$f":"+INDEX(Preços_Cereais_CI!$B66:$S66,1,AUx_PR_C_CI!$D$1)","v":144.69999999999999}]
[null,"Outubro de 2010",null,144.1,{"$f":"+INDEX(Preços_Cereais_CI!$B67:$S67,1,AUx_PR_C_CI!$C$1)","v":""},{"$f":"+INDEX(Preços_Cereais_CI!$B67:$S67,1,AUx_PR_C_CI!$D$1)","v":144.1}]
[null,"Setembro de 2010",130.80000000000001,141.1,{"$f":"+INDEX(Preços_Cereais_CI!$B68:$S68,1,AUx_PR_C_CI!$C$1)","v":130.80000000000001},{"$f":"+INDEX(Preços_Cereais_CI!$B68:$S68,1,AUx_PR_C_CI!$D$1)","v":141.1}]
[null,"Agosto de 2010",123.6,null,{"$f":"+INDEX(Preços_Cereais_CI!$B69:$S69,1,AUx_PR_C_CI!$C$1)","v":123.6},{"$f":"+INDEX(Preços_Cereais_CI!$B69:$S69,1,AUx_PR_C_CI!$D$1)","v":""}]
[null,"Julho de 2010",116.2,null,{"$f":"+INDEX(Preços_Cereais_CI!$B70:$S70,1,AUx_PR_C_CI!$C$1)","v":116.2},{"$f":"+INDEX(Preços_Cereais_CI!$B70:$S70,1,AUx_PR_C_CI!$D$1)","v":""}]
[null,"Junho de 2010",115,null,{"$f":"+INDEX(Preços_Cereais_CI!$B71:$S71,1,AUx_PR_C_CI!$C$1)","v":115},{"$f":"+INDEX(Preços_Cereais_CI!$B71:$S71,1,AUx_PR_C_CI!$D$1)","v":""}]
[null,"Maio de 2010",null,null,{"$f":"+INDEX(Preços_Cereais_CI!$B72:$S72,1,AUx_PR_C_CI!$C$1)","v":""},{"$f":"+INDEX(Preços_Cereais_CI!$B72:$S72,1,AUx_PR_C_CI!$D$1)","v":""}]
[null,"Abril de 2010",null,null,{"$f":"+INDEX(Preços_Cereais_CI!$B73:$S73,1,AUx_PR_C_CI!$C$1)","v":""},{"$f":"+INDEX(Preços_Cereais_CI!$B73:$S73,1,AUx_PR_C_CI!$D$1)","v":""}]
[null,"Março de 2010",null,null,{"$f":"+INDEX(Preços_Cereais_CI!$B74:$S74,1,AUx_PR_C_CI!$C$1)","v":""},{"$f":"+INDEX(Preços_Cereais_CI!$B74:$S74,1,AUx_PR_C_CI!$D$1)","v":""}]
[null,"Fevereiro de 2010",null,null,{"$f":"+INDEX(Preços_Cereais_CI!$B75:$S75,1,AUx_PR_C_CI!$C$1)","v":""},{"$f":"+INDEX(Preços_Cereais_CI!$B75:$S75,1,AUx_PR_C_CI!$D$1)","v":""}]
[null,"Janeiro de 2010",null,null,{"$f":"+INDEX(Preços_Cereais_CI!$B76:$S76,1,AUx_PR_C_CI!$C$1)","v":""},{"$f":"+INDEX(Preços_Cereais_CI!$B76:$S76,1,AUx_PR_C_CI!$D$1)","v":""}]
[null,"Dezembro de 2009",111.7,109.3,{"$f":"+INDEX(Preços_Cereais_CI!$B77:$S77,1,AUx_PR_C_CI!$C$1)","v":111.7},{"$f":"+INDEX(Preços_Cereais_CI!$B77:$S77,1,AUx_PR_C_CI!$D$1)","v":109.3}]
[null,"Novembro de 2009",null,97.4,{"$f":"+INDEX(Preços_Cereais_CI!$B78:$S78,1,AUx_PR_C_CI!$C$1)","v":""},{"$f":"+INDEX(Preços_Cereais_CI!$B78:$S78,1,AUx_PR_C_CI!$D$1)","v":97.4}]
[null,"Outubro de 2009",null,96.3,{"$f":"+INDEX(Preços_Cereais_CI!$B79:$S79,1,AUx_PR_C_CI!$C$1)","v":""},{"$f":"+INDEX(Preços_Cereais_CI!$B79:$S79,1,AUx_PR_C_CI!$D$1)","v":96.3}]
[null,"Setembro de 2009",110.1,98.8,{"$f":"+INDEX(Preços_Cereais_CI!$B80:$S80,1,AUx_PR_C_CI!$C$1)","v":110.1},{"$f":"+INDEX(Preços_Cereais_CI!$B80:$S80,1,AUx_PR_C_CI!$D$1)","v":98.8}]
[null,"Agosto de 2009",110.2,null,{"$f":"+INDEX(Preços_Cereais_CI!$B81:$S81,1,AUx_PR_C_CI!$C$1)","v":110.2},{"$f":"+INDEX(Preços_Cereais_CI!$B81:$S81,1,AUx_PR_C_CI!$D$1)","v":""}]
[null,"Julho de 2009",113.2,null,{"$f":"+INDEX(Preços_Cereais_CI!$B82:$S82,1,AUx_PR_C_CI!$C$1)","v":113.2},{"$f":"+INDEX(Preços_Cereais_CI!$B82:$S82,1,AUx_PR_C_CI!$D$1)","v":""}]
[null,"Junho de 2009",113.7,null,{"$f":"+INDEX(Preços_Cereais_CI!$B83:$S83,1,AUx_PR_C_CI!$C$1)","v":113.7},{"$f":"+INDEX(Preços_Cereais_CI!$B83:$S83,1,AUx_PR_C_CI!$D$1)","v":""}]
[null,"Maio de 2009",null,null,{"$f":"+INDEX(Preços_Cereais_CI!$B84:$S84,1,AUx_PR_C_CI!$C$1)","v":""},{"$f":"+INDEX(Preços_Cereais_CI!$B84:$S84,1,AUx_PR_C_CI!$D$1)","v":""}]
[null,"Abril de 2009",null,null,{"$f":"+INDEX(Preços_Cereais_CI!$B85:$S85,1,AUx_PR_C_CI!$C$1)","v":""},{"$f":"+INDEX(Preços_Cereais_CI!$B85:$S85,1,AUx_PR_C_CI!$D$1)","v":""}]
[null,"Março de 2009",null,null,{"$f":"+INDEX(Preços_Cereais_CI!$B86:$S86,1,AUx_PR_C_CI!$C$1)","v":""},{"$f":"+INDEX(Preços_Cereais_CI!$B86:$S86,1,AUx_PR_C_CI!$D$1)","v":""}]
[null,"Fevereiro de 2009",null,null,{"$f":"+INDEX(Preços_Cereais_CI!$B87:$S87,1,AUx_PR_C_CI!$C$1)","v":""},{"$f":"+INDEX(Preços_Cereais_CI!$B87:$S87,1,AUx_PR_C_CI!$D$1)","v":""}]
[null,"Janeiro de 2009",null,null,{"$f":"+INDEX(Preços_Cereais_CI!$B88:$S88,1,AUx_PR_C_CI!$C$1)","v":""},{"$f":"+INDEX(Preços_Cereais_CI!$B88:$S88,1,AUx_PR_C_CI!$D$1)","v":""}]
[null,"Dezembro de 2008",165.7,105.8,{"$f":"+INDEX(Preços_Cereais_CI!$B89:$S89,1,AUx_PR_C_CI!$C$1)","v":165.7},{"$f":"+INDEX(Preços_Cereais_CI!$B89:$S89,1,AUx_PR_C_CI!$D$1)","v":105.8}]
[null,"Novembro de 2008",null,105.8,{"$f":"+INDEX(Preços_Cereais_CI!$B90:$S90,1,AUx_PR_C_CI!$C$1)","v":""},{"$f":"+INDEX(Preços_Cereais_CI!$B90:$S90,1,AUx_PR_C_CI!$D$1)","v":105.8}]
[null,"Outubro de 2008",null,110.6,{"$f":"+INDEX(Preços_Cereais_CI!$B91:$S91,1,AUx_PR_C_CI!$C$1)","v":""},{"$f":"+INDEX(Preços_Cereais_CI!$B91:$S91,1,AUx_PR_C_CI!$D$1)","v":110.6}]
[null,"Setembro de 2008",156.30000000000001,110.6,{"$f":"+INDEX(Preços_Cereais_CI!$B92:$S92,1,AUx_PR_C_CI!$C$1)","v":156.30000000000001},{"$f":"+INDEX(Preços_Cereais_CI!$B92:$S92,1,AUx_PR_C_CI!$D$1)","v":110.6}]
[null,"Agosto de 2008",162.19999999999999,null,{"$f":"+INDEX(Preços_Cereais_CI!$B93:$S93,1,AUx_PR_C_CI!$C$1)","v":162.19999999999999},{"$f":"+INDEX(Preços_Cereais_CI!$B93:$S93,1,AUx_PR_C_CI!$D$1)","v":""}]
[null,"Julho de 2008",173.7,null,{"$f":"+INDEX(Preços_Cereais_CI!$B94:$S94,1,AUx_PR_C_CI!$C$1)","v":173.7},{"$f":"+INDEX(Preços_Cereais_CI!$B94:$S94,1,AUx_PR_C_CI!$D$1)","v":""}]
[null,"Junho de 2008",173.7,null,{"$f":"+INDEX(Preços_Cereais_CI!$B95:$S95,1,AUx_PR_C_CI!$C$1)","v":173.7},{"$f":"+INDEX(Preços_Cereais_CI!$B95:$S95,1,AUx_PR_C_CI!$D$1)","v":""}]
[null,"Maio de 2008",null,null,{"$f":"+INDEX(Preços_Cereais_CI!$B96:$S96,1,AUx_PR_C_CI!$C$1)","v":""},{"$f":"+INDEX(Preços_Cereais_CI!$B96:$S96,1,AUx_PR_C_CI!$D$1)","v":""}]
[null,"Abril de 2008",null,null,{"$f":"+INDEX(Preços_Cereais_CI!$B97:$S97,1,AUx_PR_C_CI!$C$1)","v":""},{"$f":"+INDEX(Preços_Cereais_CI!$B97:$S97,1,AUx_PR_C_CI!$D$1)","v":""}]
[null,"Março de 2008",null,null,{"$f":"+INDEX(Preços_Cereais_CI!$B98:$S98,1,AUx_PR_C_CI!$C$1)","v":""},{"$f":"+INDEX(Preços_Cereais_CI!$B98:$S98,1,AUx_PR_C_CI!$D$1)","v":""}]
[null,"Fevereiro de 2008",null,null,{"$f":"+INDEX(Preços_Cereais_CI!$B99:$S99,1,AUx_PR_C_CI!$C$1)","v":""},{"$f":"+INDEX(Preços_Cereais_CI!$B99:$S99,1,AUx_PR_C_CI!$D$1)","v":""}]
[null,"Janeiro de 2008",null,null,{"$f":"+INDEX(Preços_Cereais_CI!$B100:$S100,1,AUx_PR_C_CI!$C$1)","v":""},{"$f":"+INDEX(Preços_Cereais_CI!$B100:$S100,1,AUx_PR_C_CI!$D$1)","v":""}]
[null,"Dezembro de 2007",145.1,152.1,{"$f":"+INDEX(Preços_Cereais_CI!$B101:$S101,1,AUx_PR_C_CI!$C$1)","v":145.1},{"$f":"+INDEX(Preços_Cereais_CI!$B101:$S101,1,AUx_PR_C_CI!$D$1)","v":152.1}]
[null,"Novembro de 2007",null,152.1,{"$f":"+INDEX(Preços_Cereais_CI!$B102:$S102,1,AUx_PR_C_CI!$C$1)","v":""},{"$f":"+INDEX(Preços_Cereais_CI!$B102:$S102,1,AUx_PR_C_CI!$D$1)","v":152.1}]
[null,"Outubro de 2007",null,155,{"$f":"+INDEX(Preços_Cereais_CI!$B103:$S103,1,AUx_PR_C_CI!$C$1)","v":""},{"$f":"+INDEX(Preços_Cereais_CI!$B103:$S103,1,AUx_PR_C_CI!$D$1)","v":155}]
[null,"Setembro de 2007",145.30000000000001,162,{"$f":"+INDEX(Preços_Cereais_CI!$B104:$S104,1,AUx_PR_C_CI!$C$1)","v":145.30000000000001},{"$f":"+INDEX(Preços_Cereais_CI!$B104:$S104,1,AUx_PR_C_CI!$D$1)","v":162}]
[null,"Agosto de 2007",145.1,null,{"$f":"+INDEX(Preços_Cereais_CI!$B105:$S105,1,AUx_PR_C_CI!$C$1)","v":145.1},{"$f":"+INDEX(Preços_Cereais_CI!$B105:$S105,1,AUx_PR_C_CI!$D$1)","v":""}]
[null,"Julho de 2007",144,null,{"$f":"+INDEX(Preços_Cereais_CI!$B106:$S106,1,AUx_PR_C_CI!$C$1)","v":144},{"$f":"+INDEX(Preços_Cereais_CI!$B106:$S106,1,AUx_PR_C_CI!$D$1)","v":""}]
[null,"Junho de 2007",144,null,{"$f":"+INDEX(Preços_Cereais_CI!$B107:$S107,1,AUx_PR_C_CI!$C$1)","v":144},{"$f":"+INDEX(Preços_Cereais_CI!$B107:$S107,1,AUx_PR_C_CI!$D$1)","v":""}]
[null,"Maio de 2007",null,null,{"$f":"+INDEX(Preços_Cereais_CI!$B108:$S108,1,AUx_PR_C_CI!$C$1)","v":""},{"$f":"+INDEX(Preços_Cereais_CI!$B108:$S108,1,AUx_PR_C_CI!$D$1)","v":""}]
[null,"Abril de 2007",null,null,{"$f":"+INDEX(Preços_Cereais_CI!$B109:$S109,1,AUx_PR_C_CI!$C$1)","v":""},{"$f":"+INDEX(Preços_Cereais_CI!$B109:$S109,1,AUx_PR_C_CI!$D$1)","v":""}]
[null,"Março de 2007",null,null,{"$f":"+INDEX(Preços_Cereais_CI!$B110:$S110,1,AUx_PR_C_CI!$C$1)","v":""},{"$f":"+INDEX(Preços_Cereais_CI!$B110:$S110,1,AUx_PR_C_CI!$D$1)","v":""}]
[null,"Fevereiro de 2007",null,null,{"$f":"+INDEX(Preços_Cereais_CI!$B111:$S111,1,AUx_PR_C_CI!$C$1)","v":""},{"$f":"+INDEX(Preços_Cereais_CI!$B111:$S111,1,AUx_PR_C_CI!$D$1)","v":""}]
[null,"Janeiro de 2007",null,null,{"$f":"+INDEX(Preços_Cereais_CI!$B112:$S112,1,AUx_PR_C_CI!$C$1)","v":""},{"$f":"+INDEX(Preços_Cereais_CI!$B112:$S112,1,AUx_PR_C_CI!$D$1)","v":""}]
[null,"Dezembro de 2006",95,112.9,{"$f":"+INDEX(Preços_Cereais_CI!$B113:$S113,1,AUx_PR_C_CI!$C$1)","v":95},{"$f":"+INDEX(Preços_Cereais_CI!$B113:$S113,1,AUx_PR_C_CI!$D$1)","v":112.9}]
[null,"Novembro de 2006",null,115.6,{"$f":"+INDEX(Preços_Cereais_CI!$B114:$S114,1,AUx_PR_C_CI!$C$1)","v":""},{"$f":"+INDEX(Preços_Cereais_CI!$B114:$S114,1,AUx_PR_C_CI!$D$1)","v":115.6}]
[null,"Outubro de 2006",null,114.1,{"$f":"+INDEX(Preços_Cereais_CI!$B115:$S115,1,AUx_PR_C_CI!$C$1)","v":""},{"$f":"+INDEX(Preços_Cereais_CI!$B115:$S115,1,AUx_PR_C_CI!$D$1)","v":114.1}]
[null,"Setembro de 2006",90.5,112.9,{"$f":"+INDEX(Preços_Cereais_CI!$B116:$S116,1,AUx_PR_C_CI!$C$1)","v":90.5},{"$f":"+INDEX(Preços_Cereais_CI!$B116:$S116,1,AUx_PR_C_CI!$D$1)","v":112.9}]
[null,"Agosto de 2006",94.8,null,{"$f":"+INDEX(Preços_Cereais_CI!$B117:$S117,1,AUx_PR_C_CI!$C$1)","v":94.8},{"$f":"+INDEX(Preços_Cereais_CI!$B117:$S117,1,AUx_PR_C_CI!$D$1)","v":""}]
[null,"Julho de 2006",97.3,null,{"$f":"+INDEX(Preços_Cereais_CI!$B118:$S118,1,AUx_PR_C_CI!$C$1)","v":97.3},{"$f":"+INDEX(Preços_Cereais_CI!$B118:$S118,1,AUx_PR_C_CI!$D$1)","v":""}]
[null,"Junho de 2006",99,null,{"$f":"+INDEX(Preços_Cereais_CI!$B119:$S119,1,AUx_PR_C_CI!$C$1)","v":99},{"$f":"+INDEX(Preços_Cereais_CI!$B119:$S119,1,AUx_PR_C_CI!$D$1)","v":""}]
[null,"Maio de 2006",null,null,{"$f":"+INDEX(Preços_Cereais_CI!$B120:$S120,1,AUx_PR_C_CI!$C$1)","v":""},{"$f":"+INDEX(Preços_Cereais_CI!$B120:$S120,1,AUx_PR_C_CI!$D$1)","v":""}]
[null,"Abril de 2006",null,null,{"$f":"+INDEX(Preços_Cereais_CI!$B121:$S121,1,AUx_PR_C_CI!$C$1)","v":""},{"$f":"+INDEX(Preços_Cereais_CI!$B121:$S121,1,AUx_PR_C_CI!$D$1)","v":""}]
[null,"Março de 2006",null,null,{"$f":"+INDEX(Preços_Cereais_CI!$B122:$S122,1,AUx_PR_C_CI!$C$1)","v":""},{"$f":"+INDEX(Preços_Cereais_CI!$B122:$S122,1,AUx_PR_C_CI!$D$1)","v":""}]
[null,"Fevereiro de 2006",null,null,{"$f":"+INDEX(Preços_Cereais_CI!$B123:$S123,1,AUx_PR_C_CI!$C$1)","v":""},{"$f":"+INDEX(Preços_Cereais_CI!$B123:$S123,1,AUx_PR_C_CI!$D$1)","v":""}]
[null,"Janeiro de 2006",null,null,{"$f":"+INDEX(Preços_Cereais_CI!$B124:$S124,1,AUx_PR_C_CI!$C$1)","v":""},{"$f":"+INDEX(Preços_Cereais_CI!$B124:$S124,1,AUx_PR_C_CI!$D$1)","v":""}]
[null,"Dezembro de 2005",100,99.7,{"$f":"+INDEX(Preços_Cereais_CI!$B125:$S125,1,AUx_PR_C_CI!$C$1)","v":100},{"$f":"+INDEX(Preços_Cereais_CI!$B125:$S125,1,AUx_PR_C_CI!$D$1)","v":99.7}]
[null,"Novembro de 2005",null,99.7,{"$f":"+INDEX(Preços_Cereais_CI!$B126:$S126,1,AUx_PR_C_CI!$C$1)","v":""},{"$f":"+INDEX(Preços_Cereais_CI!$B126:$S126,1,AUx_PR_C_CI!$D$1)","v":99.7}]
[null,"Outubro de 2005",null,100.2,{"$f":"+INDEX(Preços_Cereais_CI!$B127:$S127,1,AUx_PR_C_CI!$C$1)","v":""},{"$f":"+INDEX(Preços_Cereais_CI!$B127:$S127,1,AUx_PR_C_CI!$D$1)","v":100.2}]
[null,"Setembro de 2005",102.5,101.6,{"$f":"+INDEX(Preços_Cereais_CI!$B128:$S128,1,AUx_PR_C_CI!$C$1)","v":102.5},{"$f":"+INDEX(Preços_Cereais_CI!$B128:$S128,1,AUx_PR_C_CI!$D$1)","v":101.6}]
[null,"Agosto de 2005",103.3,null,{"$f":"+INDEX(Preços_Cereais_CI!$B129:$S129,1,AUx_PR_C_CI!$C$1)","v":103.3},{"$f":"+INDEX(Preços_Cereais_CI!$B129:$S129,1,AUx_PR_C_CI!$D$1)","v":""}]
[null,"Julho de 2005",95.5,null,{"$f":"+INDEX(Preços_Cereais_CI!$B130:$S130,1,AUx_PR_C_CI!$C$1)","v":95.5},{"$f":"+INDEX(Preços_Cereais_CI!$B130:$S130,1,AUx_PR_C_CI!$D$1)","v":""}]
[null,"Junho de 2005",98.4,null,{"$f":"+INDEX(Preços_Cereais_CI!$B131:$S131,1,AUx_PR_C_CI!$C$1)","v":98.4},{"$f":"+INDEX(Preços_Cereais_CI!$B131:$S131,1,AUx_PR_C_CI!$D$1)","v":""}]
[null,"Maio de 2005",null,null,{"$f":"+INDEX(Preços_Cereais_CI!$B132:$S132,1,AUx_PR_C_CI!$C$1)","v":""},{"$f":"+INDEX(Preços_Cereais_CI!$B132:$S132,1,AUx_PR_C_CI!$D$1)","v":""}]
[null,"Abril de 2005",null,null,{"$f":"+INDEX(Preços_Cereais_CI!$B133:$S133,1,AUx_PR_C_CI!$C$1)","v":""},{"$f":"+INDEX(Preços_Cereais_CI!$B133:$S133,1,AUx_PR_C_CI!$D$1)","v":""}]
[null,"Março de 2005",null,null,{"$f":"+INDEX(Preços_Cereais_CI!$B134:$S134,1,AUx_PR_C_CI!$C$1)","v":""},{"$f":"+INDEX(Preços_Cereais_CI!$B134:$S134,1,AUx_PR_C_CI!$D$1)","v":""}]
[null,"Fevereiro de 2005",null,null,{"$f":"+INDEX(Preços_Cereais_CI!$B135:$S135,1,AUx_PR_C_CI!$C$1)","v":""},{"$f":"+INDEX(Preços_Cereais_CI!$B135:$S135,1,AUx_PR_C_CI!$D$1)","v":""}]
[null,"Janeiro de 2005",null,null,{"$f":"+INDEX(Preços_Cereais_CI!$B136:$S136,1,AUx_PR_C_CI!$C$1)","v":""},{"$f":"+INDEX(Preços_Cereais_CI!$B136:$S136,1,AUx_PR_C_CI!$D$1)","v":""}]

{"sheet":"PR_NAC","index":12,"n_rows":6,"n_cols":3,"rows_kept":6,"cut":false,"hidden":true,"merged":[[5,1,5,20]]}
[null,null,"Escolher variáveis de comparação"]
[]
[]
[]
[]
[null,"Evolução comparativa de Índices de preços dos cereais e meios de produção (globais) em Portugal Continental (Base IND100 = média do ano de 2005)"]

{"sheet":"indice","index":13,"n_rows":65,"n_cols":16,"rows_kept":65,"cut":false,"hidden":true,"merged":[[3,0,3,16],[5,0,5,19],[6,0,6,19],[7,0,7,19],[8,0,8,19],[20,0,20,19],[9,0,9,19],[10,0,10,19],[11,0,11,19],[12,0,12,19],[13,0,13,19],[14,0,14,19],[15,0,15,19],[16,0,16,19],[17,0,17,19],[18,0,18,19],[19,0,19,19],[32,0,32,19],[21,0,21,19],[22,0,22,19],[23,0,23,19],[24,0,24,19],[25,0,25,19],[26,0,26,19],[27,0,27,19],[28,0,28,19],[29,0,29,19],[30,0,30,19],[31,0,31,19],[44,0,44,19],[33,0,33,19],[34,0,34,19],[35,0,35,19],[36,0,36,19],[37,0,37,19],[38,0,38,19],[39,0,39,19],[40,0,40,19],[41,0,41,19],[42,0,42,19],[43,0,43,19],[56,0,56,19],[45,0,45,19],[46,0,46,19],[47,0,47,19],[48,0,48,19],[49,0,49,19],[50,0,50,19],[51,0,51,19],[52,0,52,19],[53,0,53,19],[54,0,54,19],[55,0,55,19],[63,0,63,19],[64,0,64,19],[57,0,57,19],[58,0,58,19],[59,0,59,19],[60,0,60,19],[61,0,61,19],[62,0,62,19]]}
[]
[]
[null,null,null,null,null,null,null,null,null,null,null,null,null,null,null,"Versão 1.2"]
["Índice de Dados Disponibilizados para o Setor dos Cereais em Base Excel"]
[]
[]
["1.      Evolução da Superfície, Produção e Produtividade dos Cereais e Principais Forrageiras por Região em Portugal - 1986 a 2016"]
[]
["Fonte: INE"]
["Variáveis – Área, Produção e Produtividade, para 2 cereais e 2 regiões "]
["Cereais: Cereais p/ grão, Trigo, Trigo mole, Trigo duro, Centeio, Aveia, Cevada, Triticale, Milho, Milho regadio, Milho sequeiro, Arroz, Milho forrageiro (apenas a partir de 20111) e Aveia forrageira (apenas a partir de 20111)"]
["Regiões: PT e Regiões Agrárias do Continente e RA"]
[]
["2.       Evolução da Superfície, Produção e Produtividade dos Cereais por país da União Europeia -1993 a 2017"]
[]
["Fonte: Eurostat"]
["Variáveis – Área, Produção e Produtividade, para 2 cereais e 2 países da UE"]
["Cereais: Cereais, Trigo mole, Trigo duro, Centeio, Aveia, Cevada, Triticale, Milho grão, Sorgo e Outros cereais"]
["País: Países da União Europeia"]
[]
[]
["3.       Índice de Preços dos Cereais e principais Consumos Intermédios em Portugal (Base 2005) - 2005 a 2015"]
[]
["Fonte: INE"]
["Variáveis – Índice de Preços e principais Consumos Intermédios"]
["Índice de Preços: Trigo mole e Espelta, Trigo duro, Centeio, Cevada forrageira, Cevada, Aveia, Milho grão, Arroz e Outros cereais"]
["Consumos Intermédios: Sementes e Plantas, Eletricidade, Combustíveis para Aquecimento, Combustíveis para motores, Lubrificantes, Adubos e Corretivos, Adubos simples, Adubos compostos e Produtos de proteção das culturas"]
[]
["4.       Evolução dos Preços Mensais do Grão por Destino e Tipo de Cereal e País da UE - 1991 a 2017"]
[]
["Fonte: Comissão Europeia; DGAGRI"]
["Variáveis – Cereais e Países (é possível comparar 2)"]
["Cereais: Trigo panificável, Trigo forrageiro, Trigo duro, Centeio panificável, Centeio forrageiro, Cevada forrageira, Cevada para malte, Aveia forrageira, Aveia para trituração e Milho forrageiro"]
["País: Países da União Europeia"]
[]
["5.       O Cereais nas Contas Económicas da Agricultura Nacionais e Regionais em Portugal - 1980 a 2016"]
[]
["Fonte: INE, Contas Nacionais, Contas Satélite."]
["CEA – Contas Económica da Agricultura – 1980 a 2016"]
["CEAR - Contas Económica da Agricultura Regionais – 1995 a 2015"]
["Variáveis – Preços Constantes 2011 / Preços Correntes e Cereais"]
["Cereais: Total, Trigo e Espelta, Centeio e Mistura de trigo e centeio, Cevada, Aveia e mistura de cereais de verão, Milho em grão, Arroz e Outros cereais"]
[]
[]
["6.       Principais Parceiros Comerciais nas Trocas de Cereais em Portugal – Triénios 2008 e 2015"]
[]
["Fonte: INE, Base de Dados de Comércio Internacional de bens transacionáveis."]
["Top 5 de Importações e Top 3 de Exportações de Cereais. Avaliação da média de três anos centrada em 2008 e 2015"]
["Cereais: Trigo, Centeio, Cevada, Aveia, Milho, Arroz, Sorgo de grão, Outros cereais, Farinhas de trigo ou de mistura de trigo com centeio, Farinhas de cereais (exceto de trigo ou de mistura de trigo com centeio), Grumos, sêmolas e \"pellets\", de cereais\", Grãos de cereais trabalhados de outro modo (por exemplo: descascados, pelados, esmagados em flocos, em pérolas, cortados ou partidos); germes de cereais, inteiros, esmagados, em flocos ou moídos, Malte, mesmo torrado, Amidos e féculas e inulina, Glúten de trigo, mesmo seco, Todos os Cereais e Produtos Indústria de Moagem"]
[]
["7.       Componentes do Balanço de Aprovisionamento dos Cereais em Portugal - 1989 a 2015"]
[]
["Fonte: INE "]
["Variáveis: Cereal e Rubricas do Balanço"]
["Cereal: Total de cereais, Trigo, Trigo mole, Trigo duro, Centeio, Cevada, Aveia, Milho e Outros cereais"]
["Rubricas do Balanço: Produção utilizável, Entradas, Saídas, Recursos disponíveis, Utilização Interna total, Alimentação animal, Consumo humano, Consumo humano per capita e Grau de autoaprovisionamento"]
[]
[]
["8.       Análise do Número de explorações, Superfície e Superfície média de cereais das explorações com cereais para grão Por Região e classe de área de cultura – 1989 a 2013"]
[]
["Fonte: INE; Recenseamentos da Agricultura (1989, 1999 e 2009) e Inquéritos à estrutura das explorações agrícola (restantes anos)"]
["Variáveis: Classes de área, Região Agrária e Rubrica"]
["Classes de Área: <0,5 ha; 0,5 a <1 ha; 1 a <2 ha; 2 a <5 ha; 5 a <20 ha; 20 a <50 ha; 50 a <100 ha; >100 ha"]
["Região Agrária: PT e Regiões Agrárias do Continente e RA"]
["Rubrica: Nº Explorações com cereais para grão, Superfície de cereais para grão, Área média de cereais para grão por exploração"]

{"sheet":"Inicio","index":14,"n_rows":4,"n_cols":16,"rows_kept":4,"cut":false,"hidden":false,"merged":[[3,0,3,16]]}
[]
[]
[null,null,null,null,null,null,null,null,null,null,null,null,null,null,null,"Versão 1.2"]
["Sistema de Análise de Informação Estatística dos Cereais"]

{"sheet":"base_parc","index":15,"n_rows":154,"n_cols":11,"rows_kept":154,"cut":false,"hidden":true,"merged":[]}
[null,null,null,null,"Triéniuo 2008",null,null,"Triéniuo 2015"]
["tipo1imp2exp","Ordem","Row Labels","Cereal","Cod País","Pais","Valor","Cod País","Pais","Valor","index"]
[1,1,"1001","Trigo e mistura de trigo com centeio","0001","França",121196179.33333333,"0001","França",112135352,{"$f":"+A3&B3&C3","v":"111001"}]
[1,2,"1001","Trigo e mistura de trigo com centeio","0006","Reino Unido",43763519.333333336,"0011","Espanha",53194692.333333336,{"$f":"+A4&B4&C4","v":"121001"}]
[1,3,"1001","Trigo e mistura de trigo com centeio","0011","Espanha",37522928.333333336,"0006","Reino Unido",30176694.333333332,"131001"]
[1,4,"1001","Trigo e mistura de trigo com centeio","0400","Estados Unidos",23566618.333333332,"0004","Alemanha",20502571.333333332,"141001"]
[1,5,"1001","Trigo e mistura de trigo com centeio","0072","Ucrânia",18264694,"0404","Canadá",17918143.5,"151001"]
[1,1,"1002","Centeio","0011","Espanha",2636951,"0011","Espanha",3407955.3333333335,"111002"]
[1,2,"1002","Centeio","0004","Alemanha",1395277,"0030","Suécia",1278766.5,"121002"]
[1,3,"1002","Centeio","0060","Polónia",1269182,"0060","Polónia",636646,"131002"]
[1,4,"1002","Centeio","0001","França",46968,"0004","Alemanha",289889,"141002"]
[1,5,"1002","Centeio","0003","Países Baixos",1124.5,"0003","Países Baixos",18732.5,"151002"]
[1,1,"1003","Cevada","0011","Espanha",20786048,"0011","Espanha",21278831.333333332,"111003"]
[1,2,"1003","Cevada","0001","França",17285570.666666668,"0006","Reino Unido",19033703.333333332,"121003"]
[1,3,"1003","Cevada","0006","Reino Unido",11239422.333333334,"0001","França",9703973,"131003"]
[1,4,"1003","Cevada","0055","Lituânia",4216186,"0004","Alemanha",3441954,"141003"]
[1,5,"1003","Cevada","0004","Alemanha",3619937.3333333335,"0032","Finlândia",2690670,"151003"]
[1,1,"1004","Aveia","0011","Espanha",2176614,"0011","Espanha",2245595,"111004"]
[1,2,"1004","Aveia","0006","Reino Unido",374768.66666666669,"0038","Áustria",624743,"121004"]
[1,3,"1004","Aveia","0388","África do Sul",44083,"0068","Bulgária",547245,"131004"]
[1,4,"1004","Aveia","0004","Alemanha",14420.5,"0006","Reino Unido",268376.66666666669,"141004"]
[1,5,"1004","Aveia","0001","França",6455.666666666667,"0004","Alemanha",125067,"151004"]
[1,1,"1005","Milho","0528","Argentina",81271966,"0072","Ucrânia",114353504,"111005"]
[1,2,"1005","Milho","0508","Brasil",75216311.666666672,"0404","Canadá",37372364,"121005"]
[1,3,"1005","Milho","0001","França",54809985,"0001","França",36013953.333333336,"131005"]
[1,4,"1005","Milho","0011","Espanha",25239009.666666668,"0508","Brasil",32449800,"141005"]
[1,5,"1005","Milho","90XS","Sérvia",23880235,"0011","Espanha",26749119.666666668,"151005"]
[1,1,"1006","Arroz","0488","Guiana",18094749.666666668,"0488","Guiana",22491712.333333332,"111006"]
[1,2,"1006","Arroz","0456","Dominicana, República",7135435,"0011","Espanha",14158356,"121006"]
[1,3,"1006","Arroz","0680","Tailândia",5441005,"0492","Suriname",4737935,"131006"]
[1,4,"1006","Arroz","0011","Espanha",5291013,"0696","Camboja",4688033,"141006"]
[1,5,"1006","Arroz","0003","Países Baixos",3771974,"0664","Índia",4603475.333333333,"151006"]
[1,1,"1007","Sorgo de grão","0528","Argentina",5189399.5,"0011","Espanha",723218.66666666663,"111007"]
[1,2,"1007","Sorgo de grão","0400","Estados Unidos",4442300,"0064","Hungria",277608,"121007"]
[1,3,"1007","Sorgo de grão","0011","Espanha",805632.66666666663,"0001","França",213123,"131007"]
[1,4,"1007","Sorgo de grão","0001","França",115535.33333333333,"0005","Itália",113336.5,"141007"]
[1,5,"1007","Sorgo de grão","0224","Sudão",89907.5,"0072","Ucrânia",76750.5,"151007"]
[1,1,"1008","Trigo mourisco, painço, alpista e outros cereais (exceto trigo e mistura de trigo com centeio, centeio, cevada, aveia, milho, arroz e sorgo de grão)","0011","Espanha",7378914.333333333,"0404","Canadá",2307182.3333333335,"111008"]
[1,2,"1008","Trigo mourisco, painço, alpista e outros cereais (exceto trigo e mistura de trigo com centeio, centeio, cevada, aveia, milho, arroz e sorgo de grão)","0404","Canadá",2256474.6666666665,"0001","França",1820236.3333333333,"121008"]
[1,3,"1008","Trigo mourisco, painço, alpista e outros cereais (exceto trigo e mistura de trigo com centeio, centeio, cevada, aveia, milho, arroz e sorgo de grão)","0800","Austrália",349470.66666666669,"0072","Ucrânia",592781.33333333337,"131008"]
[1,4,"1008","Trigo mourisco, painço, alpista e outros cereais (exceto trigo e mistura de trigo com centeio, centeio, cevada, aveia, milho, arroz e sorgo de grão)","0001","França",304969.33333333331,"0011","Espanha",480765,"141008"]
[1,5,"1008","Trigo mourisco, painço, alpista e outros cereais (exceto trigo e mistura de trigo com centeio, centeio, cevada, aveia, milho, arroz e sorgo de grão)","0720","China, República Popular da",270560.33333333331,"0075","Rússia, Federação da",266688,"151008"]
[1,1,"1101","Farinhas de trigo ou de mistura de trigo com centeio","0011","Espanha",10050030.333333334,"0011","Espanha",22364940.666666668,"111101"]
[1,2,"1101","Farinhas de trigo ou de mistura de trigo com centeio","0001","França",1650963.3333333333,"0005","Itália",494594,"121101"]
[1,3,"1101","Farinhas de trigo ou de mistura de trigo com centeio","0005","Itália",181833,"0001","França",340970,"131101"]
[1,4,"1101","Farinhas de trigo ou de mistura de trigo com centeio","0017","Bélgica",91580.333333333328,"0732","Japão",210927.66666666666,"141101"]
[1,5,"1101","Farinhas de trigo ou de mistura de trigo com centeio","0003","Países Baixos",76509.333333333328,"0004","Alemanha",127481,"151101"]
[1,1,"1102","Farinhas de cereais (exceto de trigo ou de mistura de trigo com centeio)","0011","Espanha",7293569.333333333,"0011","Espanha",4005243.6666666665,"111102"]
[1,2,"1102","Farinhas de cereais (exceto de trigo ou de mistura de trigo com centeio)","0004","Alemanha",1204900.3333333333,"0001","França",1079472.6666666667,"121102"]
[1,3,"1102","Farinhas de cereais (exceto de trigo ou de mistura de trigo com centeio)","0480","Colômbia",500827,"0004","Alemanha",1052723,"131102"]
[1,4,"1102","Farinhas de cereais (exceto de trigo ou de mistura de trigo com centeio)","0017","Bélgica",450686,"0480","Colômbia",306053,"141102"]
[1,5,"1102","Farinhas de cereais (exceto de trigo ou de mistura de trigo com centeio)","0001","França",362511.33333333331,"0400","Estados Unidos",280635,"151102"]
[1,1,"1103","Grumos, sêmolas e \"pellets\", de cereais\"","0011","Espanha",5585504.333333333,"0011","Espanha",4588480.666666667,"111103"]
[1,2,"1103","Grumos, sêmolas e \"pellets\", de cereais\"","0001","França",138509.66666666666,"0006","Reino Unido",230302.66666666666,"121103"]
[1,3,"1103","Grumos, sêmolas e \"pellets\", de cereais\"","0003","Países Baixos",61222,"0001","França",94226.666666666672,"131103"]
[1,4,"1103","Grumos, sêmolas e \"pellets\", de cereais\"","0004","Alemanha",17428.666666666668,"0003","Países Baixos",56678.666666666664,"141103"]
[1,5,"1103","Grumos, sêmolas e \"pellets\", de cereais\"","0005","Itália",5523.666666666667,"0004","Alemanha",18679,"151103"]
[1,1,"1104","Grãos de cereais trabalhados de outro modo (por exemplo: descascados, pelados, esmagados em flocos, em pérolas, cortados ou partidos); germes de cereais, inteiros, esmagados, em flocos ou moídos (excepto farinhas de cereais, arroz semibranqueado ou bra","0011","Espanha",2082610.3333333333,"0011","Espanha",3400935.3333333335,"111104"]
[1,2,"1104","Grãos de cereais trabalhados de outro modo (por exemplo: descascados, pelados, esmagados em flocos, em pérolas, cortados ou partidos); germes de cereais, inteiros, esmagados, em flocos ou moídos (excepto farinhas de cereais, arroz semibranqueado ou bra","0001","França",828129,"0004","Alemanha",1119168.3333333333,"121104"]
[1,3,"1104","Grãos de cereais trabalhados de outro modo (por exemplo: descascados, pelados, esmagados em flocos, em pérolas, cortados ou partidos); germes de cereais, inteiros, esmagados, em flocos ou moídos (excepto farinhas de cereais, arroz semibranqueado ou bra","0004","Alemanha",387152.66666666669,"0001","França",530616.33333333337,"131104"]
[1,4,"1104","Grãos de cereais trabalhados de outro modo (por exemplo: descascados, pelados, esmagados em flocos, em pérolas, cortados ou partidos); germes de cereais, inteiros, esmagados, em flocos ou moídos (excepto farinhas de cereais, arroz semibranqueado ou bra","0006","Reino Unido",335379.33333333331,"0006","Reino Unido",423589.66666666669,"141104"]
[1,5,"1104","Grãos de cereais trabalhados de outro modo (por exemplo: descascados, pelados, esmagados em flocos, em pérolas, cortados ou partidos); germes de cereais, inteiros, esmagados, em flocos ou moídos (excepto farinhas de cereais, arroz semibranqueado ou bra","0003","Países Baixos",165028,"0003","Países Baixos",264457,"151104"]
[1,1,"1105","Farinha, sêmola, pó, flocos, grânulos e \"pellets\", de batata\"","0003","Países Baixos",1420568.6666666667,"0017","Bélgica",1356296.6666666667,"111105"]
[1,2,"1105","Farinha, sêmola, pó, flocos, grânulos e \"pellets\", de batata\"","0001","França",1381116.3333333333,"0003","Países Baixos",1178662,"121105"]
[1,3,"1105","Farinha, sêmola, pó, flocos, grânulos e \"pellets\", de batata\"","0017","Bélgica",648636.66666666663,"0001","França",989304.66666666663,"131105"]
[1,4,"1105","Farinha, sêmola, pó, flocos, grânulos e \"pellets\", de batata\"","0004","Alemanha",123939.66666666667,"0004","Alemanha",113512,"141105"]
[1,5,"1105","Farinha, sêmola, pó, flocos, grânulos e \"pellets\", de batata\"","0011","Espanha",85165.333333333328,"0006","Reino Unido",40080.333333333336,"151105"]
[1,1,"1106","Farinhas, sêmolas e pós, de ervilhas, feijões, lentilhas e outros legumes de vagem secos da posição 0713, de sagu ou de raízes ou tubérculos de mandioca, de araruta e de salepo, topinambos, batatas-doces e raízes ou tubérculos semelhantes, com elevado t","0004","Alemanha",1074870,"0508","Brasil",356091,{"$f":"+A68&B68&C68","v":"111106"}]
[1,2,"1106","Farinhas, sêmolas e pós, de ervilhas, feijões, lentilhas e outros legumes de vagem secos da posição 0713, de sagu ou de raízes ou tubérculos de mandioca, de araruta e de salepo, topinambos, batatas-doces e raízes ou tubérculos semelhantes, com elevado t","0508","Brasil",375912.66666666669,"0006","Reino Unido",113339.66666666667,"121106"]
[1,3,"1106","Farinhas, sêmolas e pós, de ervilhas, feijões, lentilhas e outros legumes de vagem secos da posição 0713, de sagu ou de raízes ou tubérculos de mandioca, de araruta e de salepo, topinambos, batatas-doces e raízes ou tubérculos semelhantes, com elevado t","0011","Espanha",269211.66666666669,"0005","Itália",66799,"131106"]
[1,4,"1106","Farinhas, sêmolas e pós, de ervilhas, feijões, lentilhas e outros legumes de vagem secos da posição 0713, de sagu ou de raízes ou tubérculos de mandioca, de araruta e de salepo, topinambos, batatas-doces e raízes ou tubérculos semelhantes, com elevado t","0001","França",103384.33333333333,"0302","Camarões",66240.666666666672,"141106"]
[1,5,"1106","Farinhas, sêmolas e pós, de ervilhas, feijões, lentilhas e outros legumes de vagem secos da posição 0713, de sagu ou de raízes ou tubérculos de mandioca, de araruta e de salepo, topinambos, batatas-doces e raízes ou tubérculos semelhantes, com elevado t","0039","Suíça",69775,"0011","Espanha",61581.333333333336,"151106"]
[1,1,"1107","Malte, mesmo torrado","0004","Alemanha",2292007,"0011","Espanha",3627253.6666666665,"111107"]
[1,2,"1107","Malte, mesmo torrado","0001","França",2156368.6666666665,"0005","Itália",255711.33333333334,"121107"]
[1,3,"1107","Malte, mesmo torrado","0008","Dinamarca",2029426,"0006","Reino Unido",234836.66666666666,"131107"]
[1,4,"1107","Malte, mesmo torrado","0011","Espanha",1524885.3333333333,"0004","Alemanha",84207.666666666672,"141107"]
[1,5,"1107","Malte, mesmo torrado","0017","Bélgica",255377.33333333334,"0001","França",65780.333333333328,"151107"]
[1,1,"1108","Amidos e féculas; inulina","0011","Espanha",1419634,"0011","Espanha",16996928.333333332,"111108"]
[1,2,"1108","Amidos e féculas; inulina","0017","Bélgica",1057760.3333333333,"0017","Bélgica",1509687,"121108"]
[1,3,"1108","Amidos e féculas; inulina","0003","Países Baixos",923609,"0003","Países Baixos",1378580.6666666667,"131108"]
[1,4,"1108","Amidos e féculas; inulina","0001","França",659708,"0001","França",470160.33333333331,"141108"]
[1,5,"1108","Amidos e féculas; inulina","0004","Alemanha",430548.33333333331,"0004","Alemanha",359263.33333333331,"151108"]
[1,1,"1109","Glúten de trigo, mesmo seco","0011","Espanha",759045.66666666663,"0001","França",1076256,"111109"]
[1,2,"1109","Glúten de trigo, mesmo seco","0001","França",332743,"0011","Espanha",1062277.3333333333,"121109"]
[1,3,"1109","Glúten de trigo, mesmo seco","0004","Alemanha",205580,"0017","Bélgica",438395.33333333331,"131109"]
[1,4,"1109","Glúten de trigo, mesmo seco","0003","Países Baixos",175000.33333333334,"0003","Países Baixos",260133,"141109"]
[1,5,"1109","Glúten de trigo, mesmo seco","0017","Bélgica",171229.66666666666,"0004","Alemanha",82431.333333333328,"151109"]
[2,1,"1001","Trigo e mistura de trigo com centeio","0011","Espanha",11560562.333333334,"0011","Espanha",5908940.333333333,"211001"]
[2,2,"1001","Trigo e mistura de trigo com centeio","0484","Venezuela",3362705,"0232","Mali",127410,"221001"]
[2,3,"1001","Trigo e mistura de trigo com centeio","0039","Suíça",14457.666666666666,"0330","Angola",2351.5,"231001"]
[2,1,"1002","Centeio","0011","Espanha",11088.5,"0011","Espanha",10706.666666666666,"211002"]
[2,2,"1002","Centeio","0001","França",0,"0001","França",431,"221002"]
[2,3,"1002","Centeio","0330","Angola",0,"0330","Angola",0,"231002"]
[2,1,"1003","Cevada","0011","Espanha",4255880,"0011","Espanha",3614551.6666666665,"211003"]
[2,2,"1003","Cevada","0247","Cabo Verde",199.5,"0330","Angola",24797,"221003"]
[2,3,"1003","Cevada","0001","França",151.33333333333334,"0001","França",3797,"231003"]
[2,1,"1004","Aveia","0011","Espanha",620595.33333333337,"0011","Espanha",485723.33333333331,"211004"]
[2,2,"1004","Aveia","0951","Abast/provisões de bordo no âmbito das trocas UE",101,"0330","Angola",5891,"221004"]
[2,3,"1004","Aveia","0247","Cabo Verde",24,"0064","Hungria",4850.5,"231004"]
[2,1,"1005","Milho","0011","Espanha",13493105.333333334,"0011","Espanha",11777869.666666666,"211005"]
[2,2,"1005","Milho","0001","França",904576.66666666663,"0001","França",2167485.3333333335,"221005"]
[2,3,"1005","Milho","0053","Estónia",352115,"0247","Cabo Verde",205257.66666666666,"231005"]
[2,1,"1006","Arroz","0001","França",1808927.6666666667,"0052","Turquia",6453053,"211006"]
[2,2,"1006","Arroz","0011","Espanha",1515475.6666666667,"0011","Espanha",4856200.333333333,"221006"]
[2,3,"1006","Arroz","0005","Itália",1425047,"0001","França",3867459,"231006"]
[2,1,"1007","Sorgo de grão","0011","Espanha",840167.66666666663,"0001","França",80073.333333333328,"211007"]
[2,2,"1007","Sorgo de grão","0001","França",8424.6666666666661,"0011","Espanha",60013,"221007"]
[2,3,"1007","Sorgo de grão","0330","Angola",211,"0366","Moçambique",1103,"231007"]
[2,1,"1008","Trigo mourisco, painço, alpista e outros cereais (exceto trigo e mistura de trigo com centeio, centeio, cevada, aveia, milho, arroz e sorgo de grão)","0011","Espanha",1332199.6666666667,"0011","Espanha",713257.66666666663,"211008"]
[2,2,"1008","Trigo mourisco, painço, alpista e outros cereais (exceto trigo e mistura de trigo com centeio, centeio, cevada, aveia, milho, arroz e sorgo de grão)","0720","China, República Popular da",14947,"0600","Chipre",17152,"221008"]
[2,3,"1008","Trigo mourisco, painço, alpista e outros cereais (exceto trigo e mistura de trigo com centeio, centeio, cevada, aveia, milho, arroz e sorgo de grão)","0247","Cabo Verde",5732.666666666667,"0330","Angola",8528.3333333333339,"231008"]
[2,1,"1101","Farinhas de trigo ou de mistura de trigo com centeio","0011","Espanha",6382589.666666667,"0330","Angola",17970574.333333332,"211101"]
[2,2,"1101","Farinhas de trigo ou de mistura de trigo com centeio","0311","São Tomé e Príncipe",1235485,"0011","Espanha",5803688.333333333,"221101"]
[2,3,"1101","Farinhas de trigo ou de mistura de trigo com centeio","0330","Angola",1173099.3333333333,"0311","São Tomé e Príncipe",2173312.3333333335,"231101"]
[2,1,"1102","Farinhas de cereais (exceto de trigo ou de mistura de trigo com centeio)","0060","Polónia",3297669.6666666665,"0011","Espanha",3033908.3333333335,"211102"]
[2,2,"1102","Farinhas de cereais (exceto de trigo ou de mistura de trigo com centeio)","0011","Espanha",1656514.6666666667,"0060","Polónia",2752995.3333333335,"221102"]
[2,3,"1102","Farinhas de cereais (exceto de trigo ou de mistura de trigo com centeio)","0330","Angola",390942.33333333331,"0001","França",1085561,"231102"]
[2,1,"1103","Grumos, sêmolas e \"pellets\", de cereais\"","0011","Espanha",974592.33333333337,"0011","Espanha",1066276.6666666667,"211103"]
[2,2,"1103","Grumos, sêmolas e \"pellets\", de cereais\"","0247","Cabo Verde",81415,"0330","Angola",260664,"221103"]
[2,3,"1103","Grumos, sêmolas e \"pellets\", de cereais\"","0311","São Tomé e Príncipe",54740.333333333336,"0311","São Tomé e Príncipe",170357.66666666666,"231103"]
[2,1,"1104","Grãos de cereais trabalhados de outro modo (por exemplo: descascados, pelados, esmagados em flocos, em pérolas, cortados ou partidos); germes de cereais, inteiros, esmagados, em flocos ou moídos (excepto farinhas de cereais, arroz semibranqueado ou bra","0011","Espanha",276565.66666666669,"0001","França",396298.33333333331,"211104"]
[2,2,"1104","Grãos de cereais trabalhados de outro modo (por exemplo: descascados, pelados, esmagados em flocos, em pérolas, cortados ou partidos); germes de cereais, inteiros, esmagados, em flocos ou moídos (excepto farinhas de cereais, arroz semibranqueado ou bra","0003","Países Baixos",26257.666666666668,"0011","Espanha",219848,"221104"]
[2,3,"1104","Grãos de cereais trabalhados de outro modo (por exemplo: descascados, pelados, esmagados em flocos, em pérolas, cortados ou partidos); germes de cereais, inteiros, esmagados, em flocos ou moídos (excepto farinhas de cereais, arroz semibranqueado ou bra","0330","Angola",15406.333333333334,"0330","Angola",152104,"231104"]
[2,1,"1105","Farinha, sêmola, pó, flocos, grânulos e \"pellets\", de batata\"","0330","Angola",223686,"0330","Angola",106070,"211105"]
[2,2,"1105","Farinha, sêmola, pó, flocos, grânulos e \"pellets\", de batata\"","0247","Cabo Verde",57725,"0247","Cabo Verde",74792.333333333328,"221105"]
[2,3,"1105","Farinha, sêmola, pó, flocos, grânulos e \"pellets\", de batata\"","0366","Moçambique",4488.333333333333,"0011","Espanha",10161,"231105"]
[2,1,"1106","Farinhas, sêmolas e pós, de ervilhas, feijões, lentilhas e outros legumes de vagem secos da posição 0713, de sagu ou de raízes ou tubérculos de mandioca, de araruta e de salepo, topinambos, batatas-doces e raízes ou tubérculos semelhantes, com elevado t","0011","Espanha",81144,"0011","Espanha",77123.333333333328,"211106"]
[2,2,"1106","Farinhas, sêmolas e pós, de ervilhas, feijões, lentilhas e outros legumes de vagem secos da posição 0713, de sagu ou de raízes ou tubérculos de mandioca, de araruta e de salepo, topinambos, batatas-doces e raízes ou tubérculos semelhantes, com elevado t","0039","Suíça",16499.666666666668,"0001","França",49766.666666666664,"221106"]
[2,3,"1106","Farinhas, sêmolas e pós, de ervilhas, feijões, lentilhas e outros legumes de vagem secos da posição 0713, de sagu ou de raízes ou tubérculos de mandioca, de araruta e de salepo, topinambos, batatas-doces e raízes ou tubérculos semelhantes, com elevado t","0001","França",13942.666666666666,"0060","Polónia",43859,"231106"]
[2,1,"1107","Malte, mesmo torrado","0011","Espanha",1412816.5,"0288","Nigéria",6058675.333333333,"211107"]
[2,2,"1107","Malte, mesmo torrado","0311","São Tomé e Príncipe",400056.33333333331,"0334","Etiópia",1540802.5,"221107"]
[2,3,"1107","Malte, mesmo torrado","0247","Cabo Verde",265512,"0311","São Tomé e Príncipe",677982,{"$f":"+A132&B132&C132","v":"231107"}]
[2,1,"1108","Amidos e féculas; inulina","0011","Espanha",1473406,"0011","Espanha",3887736.3333333335,"211108"]
[2,2,"1108","Amidos e féculas; inulina","0330","Angola",129459,"0001","França",353933.33333333331,"221108"]
[2,3,"1108","Amidos e féculas; inulina","0247","Cabo Verde",17478,"0330","Angola",204907.66666666666,"231108"]
[2,1,"1109","Glúten de trigo, mesmo seco","0247","Cabo Verde",1500,"0011","Espanha",116661.66666666667,"211109"]
[2,2,"1109","Glúten de trigo, mesmo seco","0330","Angola",157.5,"0330","Angola",3677,"221109"]
[2,3,"1109","Glúten de trigo, mesmo seco","0011","Espanha",53,"0366","Moçambique",255.5,"231109"]
[1,1,"10","Todos os Cereais","0001","França",196349520,"0001","França",160362077.00000003,"1110"]
[1,2,"10","Todos os Cereais","0011","Espanha",101837111,"0011","Espanha",122238533.33333334,"1210"]
[1,3,"10","Todos os Cereais","0528","Argentina",86710207,"0072","Ucrânia",115023035.83333333,"1310"]
[1,4,"10","Todos os Cereais","0508","Brasil",75742731,"0404","Canadá",57597689.833333336,"1410"]
[1,5,"10","Todos os Cereais","0006","Reino Unido",58611615.333333336,"0006","Reino Unido",49959018.666666664,"1510"]
[1,1,"11","Produtos Indústria de Moagem","0011","Espanha",29069656.333333332,"0011","Espanha",56120104.333333336,"1111"]
[1,2,"11","Produtos Indústria de Moagem","0001","França",7613433.666666666,"0001","França",4686059.666666667,"1211"]
[1,3,"11","Produtos Indústria de Moagem","0004","Alemanha",5808664.333333333,"0017","Bélgica",3669334.0000000005,"1311"]
[1,4,"11","Produtos Indústria de Moagem","0003","Países Baixos",2934660.0000000005,"0003","Países Baixos",3501159.666666667,"1411"]
[1,5,"11","Produtos Indústria de Moagem","0017","Bélgica",2740721.6666666665,"0004","Alemanha",3004877.6666666665,"1511"]
[2,1,"10","Todos os Cereais","0011","Espanha",33629074.5,"0011","Espanha",27427262.666666664,"2110"]
[2,2,"10","Todos os Cereais","0484","Venezuela",3362705,"0052","Turquia",6453053,"2210"]
[2,3,"10","Todos os Cereais","0001","França",2722080.3333333335,"0001","França",6119884.333333334,"2310"]
[2,1,"11","Produtos Indústria de Moagem","0011","Espanha",12258508.833333334,"0330","Angola",20077626.166666664,"2111"]
[2,2,"11","Produtos Indústria de Moagem","0060","Polónia",3297669.6666666665,"0011","Espanha",14215403.666666666,"2211"]
[2,3,"11","Produtos Indústria de Moagem","0330","Angola",1945849.833333333,"0288","Nigéria",6058675.333333333,"2311"]

{"sheet":"analise","index":16,"n_rows":180,"n_cols":9,"rows_kept":180,"cut":false,"hidden":true,"merged":[[3,2,3,7],[0,0,0,8],[58,1,58,2],[5,1,6,1],[5,2,5,4],[5,5,5,7],[32,1,33,1],[32,2,32,4],[32,5,32,7],[30,2,30,7],[53,1,53,2],[54,1,54,2],[55,1,55,2],[56,1,56,2],[57,1,57,2]]}
["Principais Parceiros Comerciais"]
[]
[]
[null,null,{"$f":"+ \"Top 5 de Importações de \" & aux!$I$20","v":"Top 5 de Importações de Todos os Cereais"}]
[]
[null,"Posição","Triénio 2008 (País; M€; %)",null,null,"Triénio 2015 (País; M€; %)"]
[null,null,"Pais","Valor","(%) do total","Pais","Valor","(%) do total"]
[{"$f":"+IF(ISNA(MATCH(C8,$F$8:$F$12,0)),\"Saiu\",MATCH(C8,$F$8:$F$12,0))","v":1},1,{"$f":"+INDEX(base_parc!$F$3:$F$154,MATCH(1&analise!$B8&aux!$H$20,base_parc!$K$3:$K$154,0))","v":"França"},{"$f":"+INDEX(base_parc!$G$3:$G$154,MATCH(1&analise!$B8&aux!$H$20,base_parc!$K$3:$K$154,0))","v":196349520},{"$f":"+D8/D$14*100","v":24.968577600912639},{"$f":"+INDEX(base_parc!$I$3:$I$154,MATCH(1&analise!$B8&aux!$H$20,base_parc!$K$3:$K$154,0))","v":"França"},{"$f":"+INDEX(base_parc!$J$3:$J$154,MATCH(1&analise!$B8&aux!$H$20,base_parc!$K$3:$K$154,0))","v":160362077.00000003},{"$f":"+G8/G$14*100","v":20.513960176727558},{"$f":"+IF(ISNA(MATCH(F8,$C$8:$C$12,0)),\"Entrou\",MATCH(F8,$C$8:$C$12,0))","v":1}]
[{"$f":"+IF(ISNA(MATCH(C9,$F$8:$F$12,0)),\"Saiu\",MATCH(C9,$F$8:$F$12,0))","v":2},2,{"$f":"+INDEX(base_parc!$F$3:$F$154,MATCH(1&analise!$B9&aux!$H$20,base_parc!$K$3:$K$154,0))","v":"Espanha"},{"$f":"+INDEX(base_parc!$G$3:$G$154,MATCH(1&analise!$B9&aux!$H$20,base_parc!$K$3:$K$154,0))","v":101837111},{"$f":"+D9/D$14*100","v":12.950007765011366},{"$f":"+INDEX(base_parc!$I$3:$I$154,MATCH(1&analise!$B9&aux!$H$20,base_parc!$K$3:$K$154,0))","v":"Espanha"},{"$f":"+INDEX(base_parc!$J$3:$J$154,MATCH(1&analise!$B9&aux!$H$20,base_parc!$K$3:$K$154,0))","v":122238533.33333334},{"$f":"+G9/G$14*100","v":15.637091086451715},{"$f":"+IF(ISNA(MATCH(F9,$C$8:$C$12,0)),\"Entrou\",MATCH(F9,$C$8:$C$12,0))","v":2}]
["Saiu",3,{"$f":"+INDEX(base_parc!$F$3:$F$154,MATCH(1&analise!$B10&aux!$H$20,base_parc!$K$3:$K$154,0))","v":"Argentina"},{"$f":"+INDEX(base_parc!$G$3:$G$154,MATCH(1&analise!$B10&aux!$H$20,base_parc!$K$3:$K$154,0))","v":86710207},11.026411127822968,{"$f":"+INDEX(base_parc!$I$3:$I$154,MATCH(1&analise!$B10&aux!$H$20,base_parc!$K$3:$K$154,0))","v":"Ucrânia"},{"$f":"+INDEX(base_parc!$J$3:$J$154,MATCH(1&analise!$B10&aux!$H$20,base_parc!$K$3:$K$154,0))","v":115023035.83333333},14.714064700542052,"Entrou"]
["Saiu",4,{"$f":"+INDEX(base_parc!$F$3:$F$154,MATCH(1&analise!$B11&aux!$H$20,base_parc!$K$3:$K$154,0))","v":"Brasil"},{"$f":"+INDEX(base_parc!$G$3:$G$154,MATCH(1&analise!$B11&aux!$H$20,base_parc!$K$3:$K$154,0))","v":75742731},9.6317437225135638,{"$f":"+INDEX(base_parc!$I$3:$I$154,MATCH(1&analise!$B11&aux!$H$20,base_parc!$K$3:$K$154,0))","v":"Canadá"},{"$f":"+INDEX(base_parc!$J$3:$J$154,MATCH(1&analise!$B11&aux!$H$20,base_parc!$K$3:$K$154,0))","v":57597689.833333336},7.3680557000549793,"Entrou"]
[5,5,{"$f":"+INDEX(base_parc!$F$3:$F$154,MATCH(1&analise!$B12&aux!$H$20,base_parc!$K$3:$K$154,0))","v":"Reino Unido"},{"$f":"+INDEX(base_parc!$G$3:$G$154,MATCH(1&analise!$B12&aux!$H$20,base_parc!$K$3:$K$154,0))","v":58611615.333333336},7.453283643194923,{"$f":"+INDEX(base_parc!$I$3:$I$154,MATCH(1&analise!$B12&aux!$H$20,base_parc!$K$3:$K$154,0))","v":"Reino Unido"},{"$f":"+INDEX(base_parc!$J$3:$J$154,MATCH(1&analise!$B12&aux!$H$20,base_parc!$K$3:$K$154,0))","v":49959018.666666664},6.3908957689316317,5]
[null,null,"Total top 5",{"$f":"SUM(D8:D12)","v":519251184.33333331},66.030023859455454,"Total top 5",{"$f":"SUM(G8:G12)","v":505180354.66666669},64.624067432707932]
[null,null,"Total",{"$f":"+INDEX(aux!$J$3:$J$19,MATCH(aux!$H$20,aux!$H$3:$H$19,0))","v":786386486},100,"Total",{"$f":"+INDEX(aux!$K$3:$K$19,MATCH(aux!$H$20,aux!$H$3:$H$19,0))","v":781721693.99999988},100]
[]
[]
[]
[]
[]
[]
[]
[]
[]
[]
[]
[]
[]
[]
[]
[]
[null,null,{"$f":"+ \"Top 3 de Exportações de \" & aux!$I$20","v":"Top 3 de Exportações de Todos os Cereais"}]
[]
[null,"Posição","Triénio 2008 (País; M€; %)",null,null,"Triénio 2015 (País; M€; %)"]
[null,null,"Pais","Valor","(%) do total","Pais","Valor","(%) do total"]
[{"$f":"+IF(ISNA(MATCH(C35,$F$35:$F$37,0)),\"Saiu\",MATCH(C35,$F$35:$F$37,0))","v":1},1,{"$f":"+INDEX(base_parc!F$3:F$154,MATCH(2&analise!$B35&aux!$H$20,base_parc!$K$3:$K$154,0))","v":"Espanha"},{"$f":"+INDEX(base_parc!G$3:G$154,MATCH(2&analise!$B35&aux!$H$20,base_parc!$K$3:$K$154,0))","v":33629074.5},{"$f":"+D35/D$39*100","v":73.083693313389304},{"$f":"+INDEX(base_parc!I$3:I$154,MATCH(2&analise!$B35&aux!$H$20,base_parc!$K$3:$K$154,0))","v":"Espanha"},{"$f":"+INDEX(base_parc!J$3:J$154,MATCH(2&analise!$B35&aux!$H$20,base_parc!$K$3:$K$154,0))","v":27427262.666666664},{"$f":"+G35/G$39*100","v":45.045167940180534},{"$f":"+IF(ISNA(MATCH(F35,$C$35:$C$37,0)),\"Entrou\",MATCH(F35,$C$35:$C$37,0))","v":1}]
[{"$f":"+IF(ISNA(MATCH(C36,$F$35:$F$37,0)),\"Saiu\",MATCH(C36,$F$35:$F$37,0))","v":"Saiu"},2,{"$f":"+INDEX(base_parc!F$3:F$154,MATCH(2&analise!$B36&aux!$H$20,base_parc!$K$3:$K$154,0))","v":"Venezuela"},{"$f":"+INDEX(base_parc!G$3:G$154,MATCH(2&analise!$B36&aux!$H$20,base_parc!$K$3:$K$154,0))","v":3362705},{"$f":"+D36/D$39*100","v":7.3079293610474103},{"$f":"+INDEX(base_parc!I$3:I$154,MATCH(2&analise!$B36&aux!$H$20,base_parc!$K$3:$K$154,0))","v":"Turquia"},{"$f":"+INDEX(base_parc!J$3:J$154,MATCH(2&analise!$B36&aux!$H$20,base_parc!$K$3:$K$154,0))","v":6453053},{"$f":"+G36/G$39*100","v":10.59817232381554},{"$f":"+IF(ISNA(MATCH(F36,$C$35:$C$37,0)),\"Entrou\",MATCH(F36,$C$35:$C$37,0))","v":"Entrou"}]
[3,3,{"$f":"+INDEX(base_parc!F$3:F$154,MATCH(2&analise!$B37&aux!$H$20,base_parc!$K$3:$K$154,0))","v":"França"},{"$f":"+INDEX(base_parc!G$3:G$154,MATCH(2&analise!$B37&aux!$H$20,base_parc!$K$3:$K$154,0))","v":2722080.3333333335},5.9157050026976474,{"$f":"+INDEX(base_parc!I$3:I$154,MATCH(2&analise!$B37&aux!$H$20,base_parc!$K$3:$K$154,0))","v":"França"},{"$f":"+INDEX(base_parc!J$3:J$154,MATCH(2&analise!$B37&aux!$H$20,base_parc!$K$3:$K$154,0))","v":6119884.333333334},10.050992726463837,3]
[null,null,"Total top 3",{"$f":"SUM(D35:D37)","v":39713859.833333336},86.307327677134367,"Total top 5",{"$f":"SUM(G35:G37)","v":40000200},65.694332990459912]
[null,null,"Total",{"$f":"+INDEX(aux!$L$3:$L$19,MATCH(aux!$H$20,aux!$H$3:$H$19,0))","v":46014470.500000007},100,"Total",{"$f":"+INDEX(aux!$M$3:$M$19,MATCH(aux!$H$20,aux!$H$3:$H$19,0))","v":60888356.999999985},100]
[]
[]
[]
[]
[]
[]
[]
[]
[]
[]
[]
[]
[null,{"$f":"+ \"Indicadores Globais para \" & aux!$I$20","v":"Indicadores Globais para Todos os Cereais"}]
[]
[null,null,null,"Triénio 2008","Triénio 2015"]
[null,"Peso das Exportações nas Importações (%)",null,{"$f":"+D39/D14*100","v":5.8513811362724777},{"$f":"+G39/G14*100","v":7.7890069403651463}]
[null,{"$f":"+\"Peso no total das importações de \"& aux!$I$21 & \"(%)\"","v":"Peso no total das importações de Total de Cereais(%)"},null,{"$f":"+D14/aux!J21*100","v":100},{"$f":"+G14/aux!K21*100","v":100}]
[null,{"$f":"+\"Peso no total de importações de cereais e produtos industriais de moagem (%)\"","v":"Peso no total de importações de cereais e produtos industriais de moagem (%)"},null,{"$f":"+D14/aux!J23*100","v":94.346678412768711},{"$f":"+G14/aux!K23*100","v":91.618584408670429}]
[null,{"$f":"+\"Peso no total das exportações de \"& aux!$I$21 & \"(%)\"","v":"Peso no total das exportações de Total de Cereais(%)"},null,{"$f":"+D39/aux!L21*100","v":100},{"$f":"+G39/aux!M21*100","v":100}]
[null,{"$f":"+\"Peso no total de exportações de cereais e produtos industriais de moagem (%)\"","v":"Peso no total de exportações de cereais e produtos industriais de moagem (%)"},null,{"$f":"+D39/aux!L23*100","v":69.023358686882148},{"$f":"+G39/aux!M23*100","v":52.605538735707555}]
[]
[]
[]
[]
[]
[]
[]
[]
[]
[]
[]
[]
[]
[]
[]
[]
[]
[]
[]
[]
[]
[]
[]
[]
[]
[]
[]
[]
[]
[]
[]
[]
[]
[]
[]
[]
[]
[]
[]
[]
[]
[]
[]
[]
[]
[]
[]
[]
[]
[]
[]
[]
[]
[]
[]
[]
[]
[]
[]
[]
[]
[]
[]
[]
[]
[]
[]
[]
[]
[]
[]
[]
[]
[]
[]
[]
[]
[]
[]
[]
[]
[]
[]
[]
[]
[]
[]
[]
[]
[]
[]
[]
[]
[]
[]
[]
[]
[]
[]
[]
[]
[]
[]
[]
[]
[]
[null,null,null,"Triénio 2008",null,null,"Triénio 2015"]
[null,null,{"$f":"+C8","v":"França"},{"$f":"+D8/1000000","v":196.34952000000001},null,{"$f":"+F8","v":"França"},{"$f":"+G8/1000000","v":160.36207700000003}]
[null,null,{"$f":"+C9","v":"Espanha"},{"$f":"+D9/1000000","v":101.83711099999999},null,{"$f":"+F9","v":"Espanha"},{"$f":"+G9/1000000","v":122.23853333333334}]
[null,null,{"$f":"+C10","v":"Argentina"},{"$f":"+D10/1000000","v":86.710206999999997},null,{"$f":"+F10","v":"Ucrânia"},{"$f":"+G10/1000000","v":115.02303583333332}]
[null,null,{"$f":"+C11","v":"Brasil"},{"$f":"+D11/1000000","v":75.742731000000006},null,{"$f":"+F11","v":"Canadá"},{"$f":"+G11/1000000","v":57.597689833333334}]
[null,null,{"$f":"+C12","v":"Reino Unido"},{"$f":"+D12/1000000","v":58.611615333333333},null,{"$f":"+F12","v":"Reino Unido"},{"$f":"+G12/1000000","v":49.959018666666665}]
[null,null,"Resto do Mundo",{"$f":"+(D14-D13)/1000000","v":267.13530166666669},null,"Resto do Mundo",{"$f":"+(G14-G13)/1000000","v":276.54133933333321}]
[]
[]
[]
[null,null,null,"Triénio 2008",null,null,"Triénio 2015"]
[null,null,{"$f":"+C35","v":"Espanha"},{"$f":"+D35/1000000","v":33.629074500000002},null,{"$f":"+F35","v":"Espanha"},{"$f":"+G35/1000000","v":27.427262666666664}]
[null,null,{"$f":"+C36","v":"Venezuela"},{"$f":"+D36/1000000","v":3.3627050000000001},null,{"$f":"+F36","v":"Turquia"},{"$f":"+G36/1000000","v":6.4530529999999997}]
[null,null,"França",2.7220803333333334,null,"França",6.1198843333333341]
[null,null,"Resto do Mundo",{"$f":"+(D39-D38)/1000000","v":6.3006106666666719},null,"Resto do Mundo",{"$f":"+(G39-G38)/1000000","v":20.888156999999985}]

{"sheet":"aux","index":17,"n_rows":40,"n_cols":39,"rows_kept":40,"cut":false,"hidden":true,"merged":[[0,29,1,29],[0,30,0,32],[0,33,0,35],[30,30,30,32],[30,33,30,35]]}
["codig_territorio",null,null,null,null,null,null,null,null,null,null,null,null,null,null,null,null,null,null,null,null,null,null,"Importações",null,null,null,null,null,null,"Importações",null,null,"Exportações"]
["ARR1","Arroz com casca",null,null,null,null,null,"Row Labels","Produto","IMP Triénio 2008","IMP Triénio 2015","EXP Triénio 2008","EXP Triénio 2015",null,"IMP Triénio 2008","IMP Triénio 2015","EXP Triénio 2008","EXP Triénio 2015",null,null,null,null,null,"IMP Triénio 2008","IMP Triénio 2015","EXP Triénio 2008","EXP Triénio 2015",null,null,null,"Triénio 2008","Triénio 2015","Evolução (M€)","Triénio 2008","Triénio 2015","Evolução (M€)"]
["ARR2","Arroz descascado",null,null,null,null,{"$f":"+LEFT(H3,2)","v":"10"},"1001","Trigo",319601377,283785350.66666663,14937725,6040370.833333333,null,{"$f":"+J3/SUM(J$3:J$10)*100","v":40.641768734565971},{"$f":"+K3/SUM(K$3:K$10)*100","v":36.302606521582177},{"$f":"+L3/SUM(L$3:L$10)*100","v":32.463103101447174},9.9204037207529421,null,null,null,null,"Trigo",{"$f":"+J3/1000000","v":319.60137700000001},{"$f":"+K3/1000000","v":283.7853506666666},14.937725,6.0403708333333332,null,null,"Trigo",{"$f":"+X3","v":319.60137700000001},{"$f":"+Y3","v":283.7853506666666},{"$f":"+AF3-AE3","v":-35.816026333333411},{"$f":"+Z3","v":14.937725},6.0403708333333332,{"$f":"+AI3-AH3","v":-8.8973541666666662}]
["ARR3","Arroz semibranqueado e branqueado",null,null,null,null,{"$f":"+LEFT(H4,2)","v":"10"},"1002","Centeio",5349502.5,5631993.833333334,11088.5,11137.666666666666,null,{"$f":"+J4/SUM(J$3:J$10)*100","v":0.68026378825640199},0.72046021961024598,2.4097854173938605E-2,1.8291948108678097E-2,null,{"$f":"+P3+P7","v":81.986529274957036},null,null,"Centeio",{"$f":"+J4/1000000","v":5.3495024999999998},5.6319938333333344,1.1088499999999999E-2,1.1137666666666666E-2,null,null,"Centeio",{"$f":"+X4","v":5.3495024999999998},5.6319938333333344,{"$f":"+AF4-AE4","v":0.28249133333333454},1.1088499999999999E-2,1.1137666666666666E-2,{"$f":"+AI4-AH4","v":4.9166666666666109E-5}]
["AVE","Aveia",null,null,null,null,"10","1003","Cevada",66509603.666666664,59607136.833333336,4256555.333333333,3647035.333333333,null,8.4576229183402649,7.6251097149842364,9.2504711823932251,5.9897088918548649,null,null,null,null,"Cevada",66.509603666666663,59.607136833333335,4.256555333333333,3.6470353333333332,null,null,"Cevada",66.509603666666663,59.607136833333335,-6.9024668333333281,4.256555333333333,3.6470353333333332,-0.60951999999999984]
["CEREAIS_SEGREDO","Segredo",null,null,null,null,"10","1004","Aveia",2631049.6666666665,4013820.1666666665,620720.33333333337,499591.16666666663,null,0.3345746288252805,0.51345897107297978,1.3489676760125562,0.82050360903426367,null,null,null,null,"Aveia",2.6310496666666667,4.0138201666666662,0.62072033333333332,0.49959116666666664,null,null,"Aveia",2.6310496666666667,4.0138201666666662,1.3827704999999995,0.62072033333333332,0.49959116666666664,-0.12112916666666668]
["CEV","Cevada",null,null,null,null,"10","1005","Milho",316064814.66666669,357121134.83333331,15569348.16666667,14321054.33333333,null,40.192045551844167,45.683922753374858,33.835765135375553,23.520185202785704,null,null,null,null,"Milho",316.06481466666668,357.12113483333331,15.56934816666667,14.321054333333331,null,null,"Milho",316.06481466666668,357.12113483333331,41.056320166666637,15.56934816666667,14.321054333333331,-1.2482938333333387]
["CNT","Centeio",null,null,null,null,"10","1006","Arroz",54016820.5,63414632.166666672,8414071.5000000019,35475306.833333321,null,6.8689914516155612,8.1121750430360553,18.285707536284701,58.262874186822501,null,null,null,null,"Arroz",54.016820500000001,63.414632166666671,8.4140715000000021,35.47530683333332,null,null,"Arroz",54.016820500000001,63.414632166666671,9.3978116666666693,8.4140715000000021,35.47530683333332,27.061235333333318]
["FARR","Farinha de arroz",null,null,null,null,"10","1007","Sorgo de grão",10841072,1658270.9999999998,848847.33333333326,141213.33333333331,null,1.3785933752681503,0.21213061025782404,1.8447399787710979,0.23192173395865048,null,null,null,null,"Sorgo de grão",10.841072,1.6582709999999998,0.84884733333333329,0.1412133333333333,null,null,"Sorgo de grão",10.841072,1.6582709999999998,-9.1828010000000013,0.84884733333333329,0.1412133333333333,-0.70763399999999999]
["FAVE","Farinha de Aveia",null,null,null,null,"10","1008","Outros cereais",11372246,6489354.5000000009,1356114.3333333335,752647.49999999988,null,1.4461395512842015,0.83013616608163399,2.9471475355417449,1.236110706682396,null,null,null,null,"Outros cereais",11.372246000000001,6.489354500000001,1.3561143333333334,0.75264749999999991,null,null,"Outros cereais",11.372246000000001,6.489354500000001,-4.8828914999999995,1.3561143333333334,0.75264749999999991,-0.60346683333333351]
["FCEV","Farinha de cevada",null,null,null,null,"11","1101","Farinhas de trigo ou de mistura de trigo com centeio",12205925.166666668,23987867.5,9305954.166666666,29096817.833333332,null,null,null,null,null,null,null,null,null,"Farinhas de trigo ou de mistura de trigo com centeio",12.205925166666669,23.9878675,9.3059541666666661,29.096817833333333,null,null,"Total de cereais",{"$f":"SUM(AE3:AE10)","v":786.3864860000001},{"$f":"SUM(AF3:AF10)","v":781.72169400000007},-4.664792000000034,{"$f":"SUM(AH3:AH10)","v":46.014470500000002},{"$f":"SUM(AI3:AI10)","v":60.888356999999985},14.873886499999983]
["FCNT","Farinha de centeio",null,null,null,null,"11","1102","Farinhas de cereais (exceto de trigo ou de mistura de trigo com centeio)",10096747.999999998,7422813.833333333,6041698.4999999981,9039536.1666666679,null,null,"PrimeiroDedescritivo",null,null,null,null,null,null,"Farinhas de cereais (exceto de trigo ou de mistura de trigo com centeio)",10.096747999999998,7.4228138333333327,6.0416984999999981,9.039536166666668]
["FMIL","Farinha de milho",null,null,null,null,"11","1103","Grumos, sêmolas e \"pellets\", de cereais\"",5817322.5,5020742,1161649.3333333333,1773918.0000000002,null,"10","Total de Cereais",null,null,null,null,null,null,"Grumos, sêmolas e \"pellets\", de cereais\"",5.8173225000000004,5.0207420000000003,1.1616493333333333,1.7739180000000003]
["FTD","Farinha de trigo duro",null,null,null,null,"11","1104","Grãos de cereais trabalhados de outro modo (por exemplo: descascados, pelados, esmagados em flocos, em pérolas, cortados ou partidos); germes de cereais, inteiros, esmagados, em flocos ou moídos (excepto farinhas de cereais, arroz semibranqueado ou bra",4015345.0000000005,6433921.833333334,367735.5,1071326.1666666665,null,"11","Produtos da indústria de moagem",null,null,null,null,null,null,"Grãos de cereais trabalhados de outro modo (por exemplo: descascados, pelados, esmagados em flocos, em pérolas, cortados ou partidos); germes de cereais, inteiros, esmagados, em flocos ou moídos (excepto farinhas de cereais, arroz semibranqueado ou bra",4.0153450000000008,6.4339218333333337,0.36773549999999999,1.0713261666666665]
["GSP_CEREAIS","Grumos, sêmolas e Pellets de cereais",null,null,null,null,"11","1107","Malte, mesmo torrado",8505585,4322750.666666667,2079134.8333333333,9036677.3333333321,null,null,"Produtos da indústria de moagem; malte; amidos e féculas; inulina; glúten de trigo",null,null,null,null,null,null,"Malte, mesmo torrado",8.505585,4.3227506666666669,2.0791348333333333,9.0366773333333317]
["MALTE","Maltes e Amidos de Cereais",null,null,null,null,"11","1108","Amidos e féculas; inulina",4802901.833333333,21387975.166666664,1692716.8333333333,4717918.166666667,null,null,null,null,null,null,null,null,null,"Amidos e féculas; inulina",4.8029018333333333,21.387975166666664,1.6927168333333333,4.7179181666666672,null,null,null,null,null,null,null,null,"Agroalimentar"]
["MIL","Milho",null,null,null,null,"11","1109","Glúten de trigo, mesmo seco",1677022.6666666667,2937088,1710.5,120594.16666666667,null,null,null,null,null,null,null,null,null,"Glúten de trigo, mesmo seco",1.6770226666666668,2.9370880000000001,1.7105E-3,0.12059416666666667,null,2007,2008,2009,null,null,null,null,2014,2015,2016,"média"]
["MTC","Mistura de trigos e centeio",null,null,null,null,"10","10","Todos os Cereais",{"$f":"SUM(J3:J10)","v":786386486},{"$f":"SUM(K3:K10)","v":781721693.99999988},46014470.500000007,60888356.999999985,null,null,null,null,null,null,null,null,null,null,{"$f":"SUM(X3:X17)","v":833.50733616666685},{"$f":"SUM(Y3:Y17)","v":853.23485300000016},66.665070166666666,115.7451448333333,null,28990.516117000014,28482.729289999996,23453.147866999992,null,null,null,"Exportações ",5155.188149999999,5379.8276990000022,5460.289311999999,{"$f":"+AVERAGE(AJ18:AL18)","v":5331.7683870000001}]
["SRG","Sorgo",null,null,null,null,"11","11","Produtos Indústria de Moagem",{"$f":"SUM(J11:J17)","v":47120850.166666664},{"$f":"SUM(K11:K17)","v":71513159},20650599.666666664,54856787.833333328,null,null,null,null,null,null,null,null,null,null,null,{"$f":"+Y18/AM19*100","v":10.999333211613212},null,{"$f":"+AA18/AM18*100","v":2.1708584550586423},null,45820.449477000002,47928.345818999987,40277.834187,null,null,null,"Importações ",7534.6956259999997,7763.9767119999997,7972.7797560000017,{"$f":"+AVERAGE(AJ19:AL19)","v":7757.1506980000004}]
["TD","Trigo duro",null,null,null,null,null,{"$f":"+INDEX(H3:H19,G21)","v":"10"},{"$f":"+INDEX(I3:I19,G21)","v":"Todos os Cereais"}]
["TM","Trigo mole",null,null,null,null,16,{"$f":"+LEFT(H20,2)","v":"10"},{"$f":"+INDEX(P13:P14,MATCH(H21,O13:O14,0))","v":"Total de Cereais"},{"$f":"+SUMIF($G$3:$G$17,$H$21,J3:J17)","v":786386486},{"$f":"+SUMIF($G$3:$G$17,$H$21,K3:K17)","v":781721693.99999988},{"$f":"+SUMIF($G$3:$G$17,$H$21,L3:L17)","v":46014470.500000007},{"$f":"+SUMIF($G$3:$G$17,$H$21,M3:M17)","v":60888356.999999985},null,null,null,null,null,null,null,null,null,"Cereais",{"$f":"+SUMIF($G$3:$G$17,$H$21,X3:X17)","v":786.3864860000001},781.72169400000007,46.014470500000002,60.888356999999985,{"$f":"+Y21-AA21","v":720.83333700000003},{"$f":"+Y21/Y23*100","v":91.618584408670415},null,null,null,null,null,null,"Total da Economia"]
[null,null,null,null,null,null,null,null,null,null,null,null,null,null,null,null,null,null,null,null,null,null,"Produtos da indústria de moagem; malte; amidos e féculas; inulina; glúten de trigo",{"$f":"+X23-X21","v":47.120850166666742},{"$f":"+Y23-Y21","v":71.513159000000087},20.650599666666665,54.856787833333314]
[null,null,null,null,null,null,null,null,"Total",{"$f":"SUM(J3:J17)","v":833507336.16666663},{"$f":"SUM(K3:K17)","v":853234852.99999988},{"$f":"SUM(L3:L17)","v":66665070.166666679},{"$f":"SUM(M3:M17)","v":115745144.83333333},{"$f":"+M21/M23*100","v":52.605538735707555},null,null,null,null,null,null,null,null,"TOtal",{"$f":"SUM(X3:X17)","v":833.50733616666685},853.23485300000016,66.665070166666666,115.7451448333333,null,null,null,null,null,null,null,null,2014,2015,2016]
[null,null,null,null,null,null,null,null,null,null,null,2008,2015,null,null,null,null,null,null,null,null,null,null,null,null,2008,2015,null,null,null,null,null,null,null,"Exportações ",69360.347999999998,72812.421999999991,74473.960000000006,{"$f":"+AVERAGE(AJ24:AL24)","v":72215.57666666666}]
[null,null,null,null,null,null,null,null,null,null,null,{"$f":"+L21/J21*100","v":5.8513811362724777},{"$f":"+M21/K21*100","v":7.7890069403651463},null,null,null,null,null,null,null,null,null,null,null,null,{"$f":"+Z21/X21*100","v":5.8513811362724759},{"$f":"+AA21/Y21*100","v":7.7890069403651454},null,null,null,null,null,null,null,"Importações ",69033.241999999998,71502.728000000003,72327.377999999997,{"$f":"+AVERAGE(AJ25:AL25)","v":70954.449333333338}]
[null,null,null,null,null,null,null,null,null,null,null,{"$f":"+L23/J23*100","v":7.9981383815122724},{"$f":"+M23/K23*100","v":13.565449703135057},null,null,null,null,null,null,null,null,null,null,null,null,{"$f":"+Z23/X23*100","v":7.998138381512268},{"$f":"+AA23/Y23*100","v":13.56544970313505}]
[null,null,null,null,null,null,null,null,null,null,null,null,null,null,null,null,null,null,null,null,null,null,null,"Peso no Agroalimentar"]
[null,null,null,null,null,null,null,null,null,null,null,null,null,null,null,null,null,null,null,null,null,null,"Cereais",null,{"$f":"+Y21/AM19*100","v":10.077433382872769},null,{"$f":"+AA21/AM18*100","v":1.1419917854732571}]
[null,null,null,null,null,null,null,null,null,null,null,null,null,null,null,null,null,null,null,null,null,null,"Total",null,{"$f":"+Y23/AM19*100","v":10.999333211613212},null,{"$f":"+AA23/AM18*100","v":2.1708584550586423}]
[]
[null,null,null,null,null,null,null,null,null,null,null,null,null,null,null,null,null,null,null,null,null,null,null,"Peso no Total da Economia",null,null,null,null,null,null,"Importações",null,null,"Exportações"]
[null,null,null,null,null,null,null,null,null,null,null,null,null,null,null,null,null,null,null,null,null,null,null,null,{"$f":"+Y21/AM25*100","v":1.1017232905685577},null,{"$f":"+AA21/AM24*100","v":8.4314714097000212E-2},null,null,null,"Triénio 2008","Triénio 2015","Evolução (M€)","Triénio 2008","Triénio 2015","Evolução (M€)"]
[null,null,null,null,null,null,null,null,null,null,null,null,null,null,null,null,null,null,null,null,null,null,null,null,{"$f":"+Y23/AM25*100","v":1.2025107107683002},null,{"$f":"+AA23/AM24*100","v":0.1602772562041439},null,null,"Cereais",786.3864860000001,781.72169400000007,{"$f":"+AF33-AE33","v":-4.664792000000034},46.014470500000002,60.888356999999985,{"$f":"+AI33-AH33","v":14.873886499999983}]
[null,null,null,null,null,null,null,null,null,null,null,null,null,null,null,null,null,null,null,null,null,null,null,null,null,null,null,null,null,"Produtos da indústria de moagem; malte; amidos de cereais",47.120850166666742,71.513159000000087,{"$f":"+AF34-AE34","v":24.392308833333345},20.650599666666665,54.856787833333314,{"$f":"+AI34-AH34","v":34.206188166666649}]
[null,null,null,null,null,null,null,null,null,null,null,null,null,null,null,null,null,null,null,null,null,null,null,null,null,null,null,null,null,"Total",833.50733616666685,853.23485300000016,{"$f":"+AF35-AE35","v":19.727516833333311},66.665070166666666,115.7451448333333,49.080074666666633]
[]
[]
[null,null,null,null,null,null,null,null,null,null,null,null,null,null,null,null,null,null,null,null,null,null,null,null,null,null,null,null,null,null,null,{"$f":"+AG33/AE33*100","v":-0.59319330673238868},null,null,{"$f":"+AJ33/AH33*100","v":32.324367396556227}]
[null,null,null,null,null,null,null,null,null,null,null,null,null,null,null,null,null,null,null,null,null,null,null,null,null,null,null,null,null,null,null,51.765426020663028,null,null,165.64259013689008]
[null,null,null,null,null,null,null,null,null,null,null,null,null,null,null,null,null,null,null,null,null,null,null,null,null,null,null,null,null,null,null,{"$f":"+AG35/AE35*100","v":2.3668078224795162},null,null,{"$f":"+AJ35/AH35*100","v":73.621875059852954}]

{"sheet":"AUX_BAl","index":18,"n_rows":12,"n_cols":12,"rows_kept":12,"cut":false,"hidden":true,"merged":[]}
[null,null,null,null,null,null,null,{"$f":"+INDEX(I4:I12,H3)","v":"Exportações "},{"$f":"+INDEX(I4:I12,I3)","v":"Consumo humano "},null,{"$f":"+INDEX(J4:J12,H3)","v":"(1000 ton)"},{"$f":"+INDEX(J4:J12,I3)","v":"(1000 ton)"}]
[null,null,{"$f":"+INDEX(C4:C12,C3)","v":"Total de cereais"},{"$f":"+INDEX(C4:C12,D3)","v":"Total de cereais"},null,{"$f":"+C2&H2","v":"Total de cereaisSaídas (milhares de toneladas)"},null,{"$f":"+INDEX(H4:H12,H3)","v":"Saídas (milhares de toneladas)"},{"$f":"+INDEX(H4:H12,I3)","v":"Consumo humano (milhares de toneladas)"}]
[null,null,1,1,null,{"$f":"+D2&I2","v":"Total de cereaisConsumo humano (milhares de toneladas)"},null,3,7]
[null,null,"Total de cereais",1,null,null,null,"Produção utilizável (milhares de toneladas)","Produção utilizável ","(1000 ton)"]
[null,null,"Trigo",2,null,null,null,"Entradas (milhares de toneladas)","Importações ","(1000 ton)"]
[null,null,"Trigo mole",3,null,null,null,"Saídas (milhares de toneladas)","Exportações ","(1000 ton)"]
[null,null,"Trigo duro",4,null,null,null,"Recursos disponíveis (milhares de toneladas)","Recursos disponíveis ","(1000 ton)"]
[null,null,"Centeio",5,null,null,null,"Utilização Interna Total (milhares de toneladas)","Utilização Interna Total ","(1000 ton)"]
[null,null,"Cevada",6,null,null,null,"Alimentação Animal (milhares de toneladas)","Alimentação Animal ","(1000 ton)"]
[null,null,"Aveia",7,null,null,null,"Consumo humano (milhares de toneladas)","Consumo humano ","(1000 ton)"]
[null,null,"Milho",8,null,null,null,"Consumo humano per capita (kg / habitante) ","Consumo humano per capita","(Kg/Hab)"]
[null,null,"Outros cereais",9,null,null,null,"Grau de auto-aprovisionamento (%)","Grau de auto-aprovisionamento","(%)"]

{"sheet":"BAL","index":19,"n_rows":246,"n_cols":28,"rows_kept":246,"cut":false,"hidden":true,"merged":[[1,0,1,13]]}
[]
["Dados do Balanço de Aprovisionamento dos Cereais em Portugal 1989 - 2015"]
[null,"Escolha 1",null,null,null,"Escolha 2"]
[]
[""]
[]
[]
[]
[]
[null,"1989/1990","1990/1991","1991/1992","1992/1993","1993/1994","1994/1995","1995/1996","1996/1997","1997/1998","1998/1999","1999/2000","2000/2001","2001/2002","2002/2003","2003/2004","2004/2005","2005/2006","2006/2007","2007/2008","2008/2009","2009/2010","2010/2011","2011/2012","2012/2013","2013/2014","2014/2015","2015/2016"]
[{"$f":"+AUX_BAl!H1&\" - \"&AUX_BAl!C2& \" \" &AUX_BAl!K1","v":"Exportações  - Total de cereais (1000 ton)"},{"$f":"+SUMIF(bal_dados!$A$4:$A$84,AUX_BAl!$F$2,bal_dados!D4:D84)","v":24},{"$f":"+SUMIF(bal_dados!$A$4:$A$84,AUX_BAl!$F$2,bal_dados!E4:E84)","v":47},{"$f":"+SUMIF(bal_dados!$A$4:$A$84,AUX_BAl!$F$2,bal_dados!F4:F84)","v":73},{"$f":"+SUMIF(bal_dados!$A$4:$A$84,AUX_BAl!$F$2,bal_dados!G4:G84)","v":31},{"$f":"+SUMIF(bal_dados!$A$4:$A$84,AUX_BAl!$F$2,bal_dados!H4:H84)","v":79},{"$f":"+SUMIF(bal_dados!$A$4:$A$84,AUX_BAl!$F$2,bal_dados!I4:I84)","v":86},{"$f":"+SUMIF(bal_dados!$A$4:$A$84,AUX_BAl!$F$2,bal_dados!J4:J84)","v":127},{"$f":"+SUMIF(bal_dados!$A$4:$A$84,AUX_BAl!$F$2,bal_dados!K4:K84)","v":145},{"$f":"+SUMIF(bal_dados!$A$4:$A$84,AUX_BAl!$F$2,bal_dados!L4:L84)","v":193},{"$f":"+SUMIF(bal_dados!$A$4:$A$84,AUX_BAl!$F$2,bal_dados!M4:M84)","v":154},{"$f":"+SUMIF(bal_dados!$A$4:$A$84,AUX_BAl!$F$2,bal_dados!N4:N84)","v":176},{"$f":"+SUMIF(bal_dados!$A$4:$A$84,AUX_BAl!$F$2,bal_dados!O4:O84)","v":188},{"$f":"+SUMIF(bal_dados!$A$4:$A$84,AUX_BAl!$F$2,bal_dados!P4:P84)","v":284},{"$f":"+SUMIF(bal_dados!$A$4:$A$84,AUX_BAl!$F$2,bal_dados!Q4:Q84)","v":319},{"$f":"+SUMIF(bal_dados!$A$4:$A$84,AUX_BAl!$F$2,bal_dados!R4:R84)","v":283},{"$f":"+SUMIF(bal_dados!$A$4:$A$84,AUX_BAl!$F$2,bal_dados!S4:S84)","v":279},{"$f":"+SUMIF(bal_dados!$A$4:$A$84,AUX_BAl!$F$2,bal_dados!T4:T84)","v":457},{"$f":"+SUMIF(bal_dados!$A$4:$A$84,AUX_BAl!$F$2,bal_dados!U4:U84)","v":391},{"$f":"+SUMIF(bal_dados!$A$4:$A$84,AUX_BAl!$F$2,bal_dados!V4:V84)","v":429},{"$f":"+SUMIF(bal_dados!$A$4:$A$84,AUX_BAl!$F$2,bal_dados!W4:W84)","v":327},{"$f":"+SUMIF(bal_dados!$A$4:$A$84,AUX_BAl!$F$2,bal_dados!X4:X84)","v":432},{"$f":"+SUMIF(bal_dados!$A$4:$A$84,AUX_BAl!$F$2,bal_dados!Y4:Y84)","v":380},{"$f":"+SUMIF(bal_dados!$A$4:$A$84,AUX_BAl!$F$2,bal_dados!Z4:Z84)","v":397},{"$f":"+SUMIF(bal_dados!$A$4:$A$84,AUX_BAl!$F$2,bal_dados!AA4:AA84)","v":350},{"$f":"+SUMIF(bal_dados!$A$4:$A$84,AUX_BAl!$F$2,bal_dados!AB4:AB84)","v":470},{"$f":"+SUMIF(bal_dados!$A$4:$A$84,AUX_BAl!$F$2,bal_dados!AC4:AC84)","v":520},{"$f":"+SUMIF(bal_dados!$A$4:$A$84,AUX_BAl!$F$2,bal_dados!AD4:AD84)","v":520}]
[{"$f":"+AUX_BAl!I1&\" - \"&AUX_BAl!D2& \" \" &AUX_BAl!L1","v":"Consumo humano  - Total de cereais (1000 ton)"},{"$f":"+SUMIF(bal_dados!$A$4:$A$84,AUX_BAl!$F$3,bal_dados!D4:D84)","v":1169},{"$f":"+SUMIF(bal_dados!$A$4:$A$84,AUX_BAl!$F$3,bal_dados!E4:E84)","v":1139},{"$f":"+SUMIF(bal_dados!$A$4:$A$84,AUX_BAl!$F$3,bal_dados!F4:F84)","v":1143},{"$f":"+SUMIF(bal_dados!$A$4:$A$84,AUX_BAl!$F$3,bal_dados!G4:G84)","v":1170},{"$f":"+SUMIF(bal_dados!$A$4:$A$84,AUX_BAl!$F$3,bal_dados!H4:H84)","v":1213},{"$f":"+SUMIF(bal_dados!$A$4:$A$84,AUX_BAl!$F$3,bal_dados!I4:I84)","v":1224},{"$f":"+SUMIF(bal_dados!$A$4:$A$84,AUX_BAl!$F$3,bal_dados!J4:J84)","v":1205},{"$f":"+SUMIF(bal_dados!$A$4:$A$84,AUX_BAl!$F$3,bal_dados!K4:K84)","v":1216},{"$f":"+SUMIF(bal_dados!$A$4:$A$84,AUX_BAl!$F$3,bal_dados!L4:L84)","v":1276},{"$f":"+SUMIF(bal_dados!$A$4:$A$84,AUX_BAl!$F$3,bal_dados!M4:M84)","v":1300},{"$f":"+SUMIF(bal_dados!$A$4:$A$84,AUX_BAl!$F$3,bal_dados!N4:N84)","v":1303},{"$f":"+SUMIF(bal_dados!$A$4:$A$84,AUX_BAl!$F$3,bal_dados!O4:O84)","v":1310},{"$f":"+SUMIF(bal_dados!$A$4:$A$84,AUX_BAl!$F$3,bal_dados!P4:P84)","v":1309},{"$f":"+SUMIF(bal_dados!$A$4:$A$84,AUX_BAl!$F$3,bal_dados!Q4:Q84)","v":1319},{"$f":"+SUMIF(bal_dados!$A$4:$A$84,AUX_BAl!$F$3,bal_dados!R4:R84)","v":1333},{"$f":"+SUMIF(bal_dados!$A$4:$A$84,AUX_BAl!$F$3,bal_dados!S4:S84)","v":1343},{"$f":"+SUMIF(bal_dados!$A$4:$A$84,AUX_BAl!$F$3,bal_dados!T4:T84)","v":1387},{"$f":"+SUMIF(bal_dados!$A$4:$A$84,AUX_BAl!$F$3,bal_dados!U4:U84)","v":1394},{"$f":"+SUMIF(bal_dados!$A$4:$A$84,AUX_BAl!$F$3,bal_dados!V4:V84)","v":1354},{"$f":"+SUMIF(bal_dados!$A$4:$A$84,AUX_BAl!$F$3,bal_dados!W4:W84)","v":1409},{"$f":"+SUMIF(bal_dados!$A$4:$A$84,AUX_BAl!$F$3,bal_dados!X4:X84)","v":1405},{"$f":"+SUMIF(bal_dados!$A$4:$A$84,AUX_BAl!$F$3,bal_dados!Y4:Y84)","v":1388},{"$f":"+SUMIF(bal_dados!$A$4:$A$84,AUX_BAl!$F$3,bal_dados!Z4:Z84)","v":1378},{"$f":"+SUMIF(bal_dados!$A$4:$A$84,AUX_BAl!$F$3,bal_dados!AA4:AA84)","v":1354},{"$f":"+SUMIF(bal_dados!$A$4:$A$84,AUX_BAl!$F$3,bal_dados!AB4:AB84)","v":1261},{"$f":"+SUMIF(bal_dados!$A$4:$A$84,AUX_BAl!$F$3,bal_dados!AC4:AC84)","v":1293},{"$f":"+SUMIF(bal_dados!$A$4:$A$84,AUX_BAl!$F$3,bal_dados!AD4:AD84)","v":1335}]
[]
[]
[]
[]
[]
[]
[]
[]
[]
[]
[]
[]
[]
[]
[]
[]
[]
[]
[]
[]
[]
[]
[]
[]
[]
[]
[]
[]
[]
[]
[]
[]
[]
[]
[]
[]
[]
[]
[]
[]
[]
[]
[]
[]
[]
[]
[]
[]
[]
[]
[]
[]
[]
[]
[]
[]
[]
[]
[]
[]
[]
[]
[]
[]
[]
[]
[]
[]
[]
[]
[]
[]
[]
[]
[]
[]
[]
[]
[]
[]
[]
[]
[]
[]
[]
[]
[]
[]
[]
[]
[]
[]
[]
[]
[]
[]
[]
[]
[]
[]
[]
[]
[]
[]
[]
[]
[]
[]
[]
[]
[]
[]
[]
[]
[]
[]
[]
[]
[]
[]
[]
[]
[]
[]
[]
[]
[]
[]
[]
[]
[]
[]
[]
[]
[]
[]
[]
[]
[]
[]
[]
[]
[]
[]
[]
[]
[]
[]
[]
[]
[]
[]
[]
[]
[]
[]
[]
[]
[]
[]
[]
[]
[]
[]
[]
[]
[]
[]
[]
[]
[]
[]
[]
[]
[]
[]
[]
[]
[]
[]
[]
[]
[]
[]
[]
[]
[]
[]
[]
[]
[]
[]
[]
[]
[]
[]
[]
[]
[]
[]
[]
[]
[]
[]
[]
[]
[]
[]
[]
[]
[]
[]
[]
[]
[]
[]
[]
[]
[]
[]
[]
[]
[]
[]
[]
[]
[]
[]
[]
[]
[]
[null,"1989/1990","1990/1991","1991/1992","1992/1993","1993/1994","1994/1995","1995/1996","1996/1997","1997/1998","1998/1999","1999/2000","2000/2001","2001/2002","2002/2003","2003/2004","2004/2005","2005/2006","2006/2007","2007/2008","2008/2009","2009/2010","2010/2011","2011/2012","2012/2013","2013/2014","2014/2015","2015/2016"]
["Alimentação Animal  - Trigo mole (1000 ton)",{"$f":"+B11/$B$11*100","v":100},106,140,226,320,302,374,452,443,452,468,449,448,512,420,520,510,420,200,420,330,210,270,190,185,205,230]
["Alimentação Animal  - Milho (1000 ton)",{"$f":"+B12/$B$12*100","v":100},1125,1183,1260,1380,1405,1366,1500,1613,1703,1687,1678,1680,1700,1731,1740,1370,1690,2100,1820,1640,1950,2100,2230,2250,2150,2270]

{"sheet":"bal_dados","index":20,"n_rows":85,"n_cols":30,"rows_kept":85,"cut":false,"hidden":true,"merged":[]}
[null,null,"Balanços de Aprovisionamento de Cereais"]
[]
["conc","tipo","Total de cereais","1989/1990","1990/1991","1991/1992","1992/1993","1993/1994","1994/1995","1995/1996","1996/1997","1997/1998","1998/1999","1999/2000","2000/2001","2001/2002","2002/2003","2003/2004","2004/2005","2005/2006","2006/2007","2007/2008","2008/2009","2009/2010","2010/2011","2011/2012","2012/2013","2013/2014","2014/2015","2015/2016"]
["Total de cereaisProdução utilizável (milhares de toneladas)","Total de cereais","Produção utilizável (milhares de toneladas)",1688,1272,1628,1286,1437,1535,1294,1471,1364,1255,1521,1482,1173,1357,1043,1218,679,1054,914,1165,960,854,974,995,1186,1169,1057]
["Total de cereaisEntradas (milhares de toneladas)","Total de cereais","Entradas (milhares de toneladas)",1365,1709,1637,2162,2344,2440,2671,2839,2980,3270,3190,3167,3459,3520,3524,3616,3950,3900,4139,4004,4137,3925,4044,3740,3700,3782,4207]
["Total de cereaisSaídas (milhares de toneladas)","Total de cereais","Saídas (milhares de toneladas)",24,47,73,31,79,86,127,145,193,154,176,188,284,319,283,279,457,391,429,327,432,380,397,350,470,520,520]
["Total de cereaisRecursos disponíveis (milhares de toneladas)","Total de cereais","Recursos disponíveis (milhares de toneladas)",3029,2934,3192,3417,3702,3890,3838,4165,4151,4371,4535,4461,4348,4558,4284,4555,4172,4563,4624,4842,4665,4399,4621,4385,4416,4431,4744]
["Total de cereaisUtilização Interna Total (milhares de toneladas)","Total de cereais","Utilização Interna Total (milhares de toneladas)",3008,3028,3257,3341,3687,3761,3809,4076,4148,4378,4500,4474,4429,4522,4395,4541,4078,4340,4518,4787,4495,4531,4528,4498,4461,4386,4605]
["Total de cereaisAlimentação Animal (milhares de toneladas)","Total de cereais","Alimentação Animal (milhares de toneladas)",1435,1465,1653,1659,1937,1985,2025,2251,2301,2386,2516,2517,2488,2642,2513,2692,2184,2442,2629,2840,2584,2639,2686,2685,2744,2664,2825]
["Total de cereaisConsumo humano (milhares de toneladas)","Total de cereais","Consumo humano (milhares de toneladas)",1169,1139,1143,1170,1213,1224,1205,1216,1276,1300,1303,1310,1309,1319,1333,1343,1387,1394,1354,1409,1405,1388,1378,1354,1261,1293,1335]
["Total de cereaisConsumo humano per capita (kg / habitante) ","Total de cereais","Consumo humano per capita (kg / habitante) ",118.2,115.4,114.6,117.2,121.4,122.2,120.1,120.7,126.2,128,127.8,127.8,126.8,126.8,127.3,127.5,131,131.5,127.4,133.30000000000001,132.80000000000001,131.19999999999999,130.69999999999999,129,121.1,124.7,129.19999999999999]
["Total de cereaisGrau de auto-aprovisionamento (%)","Total de cereais","Grau de auto-aprovisionamento (%)",56.1,42,50,38.5,39,40.799999999999997,34,36.1,32.9,28.7,33.799999999999997,33.1,26.5,30,23.7,26.8,16.7,24.3,20.2,24.3,21.4,18.8,21.5,22.1,26.6,26.7,23]
["TrigoProdução utilizável (milhares de toneladas)","Trigo","Produção utilizável (milhares de toneladas)",616,297,619,362,422,462,360,406,329,151,352,355,154,413,149,293,81,249,102,203,124,83,51,59,92,99,80]
["TrigoEntradas (milhares de toneladas)","Trigo","Entradas (milhares de toneladas)",441,795,574,1024,1079,1077,1269,1385,1460,1673,1620,1536,1758,1850,1551,1841,2009,1789,1456,1925,1987,1505,1789,1468,1430,1554,1740]
["TrigoSaídas (milhares de toneladas)","Trigo","Saídas (milhares de toneladas)",10,34,55,13,32,46,72,105,155,128,135,138,188,265,154,184,276,247,190,195,229,179,229,200,255,278,294]
["TrigoRecursos disponíveis (milhares de toneladas)","Trigo","Recursos disponíveis (milhares de toneladas)",1047,1058,1138,1373,1469,1493,1557,1686,1634,1696,1837,1753,1724,1998,1546,1950,1814,1791,1368,1933,1882,1409,1611,1327,1267,1375,1526]
["TrigoUtilização Interna Total (milhares de toneladas)","Trigo","Utilização Interna Total (milhares de toneladas)",1029,1117,1175,1303,1431,1431,1513,1621,1652,1715,1790,1785,1770,1929,1726,1893,1808,1701,1432,1867,1787,1524,1526,1422,1323,1370,1445]
["TrigoAlimentação Animal (milhares de toneladas)","Trigo","Alimentação Animal (milhares de toneladas)",22,106,152,238,334,322,399,483,471,480,559,555,540,662,500,660,540,440,215,590,520,300,300,230,220,237,265]
["TrigoConsumo humano (milhares de toneladas)","Trigo","Consumo humano (milhares de toneladas)",963,942,951,981,1023,1028,1024,1040,1099,1123,1124,1128,1129,1141,1155,1163,1207,1210,1169,1217,1211,1188,1182,1156,1067,1096,1139]
["TrigoConsumo humano per capita (kg / habitante) ","Trigo","Consumo humano per capita (kg / habitante) ",97.4,95.5,95.4,98.3,102.4,102.6,102,103.2,108.7,110.6,110.2,110,109.3,109.7,110.3,110.5,114.1,114.2,110.1,115.2,114.6,112.4,112.1,110.2,102.4,105.7,110.1]
["TrigoGrau de auto-aprovisionamento (%)","Trigo","Grau de auto-aprovisionamento (%)",59.9,26.6,52.7,27.8,29.5,32.299999999999997,23.8,25,19.899999999999999,8.8000000000000007,19.7,19.899999999999999,8.6999999999999993,21.4,8.6,15.5,4.5,14.6,7.1,10.9,6.9,5.4,3.3,4.0999999999999996,7,7.2,5.5]
["Trigo moleProdução utilizável (milhares de toneladas)","Trigo mole","Produção utilizável (milhares de toneladas)",585,273,582,341,403,420,329,362,297,123,237,182,51,86,36,58,80,242,100,196,104,67,47,55,89,95,74]
["Trigo moleEntradas (milhares de toneladas)","Trigo mole","Entradas (milhares de toneladas)",375,741,492,912,964,945,1099,1225,1291,1506,1450,1348,1530,1737,1410,1714,1816,1592,1229,1554,1514,1290,1597,1229,1208,1338,1508]
["Trigo moleSaídas (milhares de toneladas)","Trigo mole","Saídas (milhares de toneladas)",8,32,52,11,30,41,63,83,123,105,109,92,142,182,125,159,244,223,164,157,187,146,180,166,218,239,242]
["Trigo moleRecursos disponíveis (milhares de toneladas)","Trigo mole","Recursos disponíveis (milhares de toneladas)",952,982,1022,1242,1337,1324,1365,1504,1465,1524,1578,1438,1439,1641,1321,1613,1652,1611,1165,1593,1431,1211,1464,1118,1079,1194,1340]
["Trigo moleUtilização Interna Total (milhares de toneladas)","Trigo mole","Utilização Interna Total (milhares de toneladas)",944,1032,1064,1182,1294,1284,1349,1454,1478,1526,1519,1491,1490,1581,1471,1597,1632,1531,1255,1523,1421,1281,1349,1228,1134,1184,1255]
["Trigo moleAlimentação Animal (milhares de toneladas)","Trigo mole","Alimentação Animal (milhares de toneladas)",22,106,140,226,320,302,374,452,443,452,468,449,448,512,420,520,510,420,200,420,330,210,270,190,185,205,230]
["Trigo moleConsumo humano (milhares de toneladas)","Trigo mole","Consumo humano (milhares de toneladas)",883,862,861,881,911,915,910,913,968,990,992,993,993,1003,1016,1022,1067,1065,1013,1057,1051,1037,1037,1004,915,944,987]
["Trigo moleConsumo humano per capita (kg / habitante) ","Trigo mole","Consumo humano per capita (kg / habitante) ",89.3,87.4,86.4,88.3,91.2,91.3,90.6,90.6,95.7,97.5,97.3,96.8,96.1,96.4,97,97.1,100.9,100.5,95.4,100.1,99.4,98.1,98.4,95.7,87.8,91,95.4]
["Trigo moleGrau de auto-aprovisionamento (%)","Trigo mole","Grau de auto-aprovisionamento (%)",62,26.5,54.7,28.8,31.1,32.700000000000003,24.4,24.9,20.100000000000001,8.1,15.6,12.2,3.4,5.4,2.4,3.6,4.9000000000000004,15.8,8,12.9,7.3,5.2,3.5,4.5,7.8,8,5.9]
["Trigo duroProdução utilizável (milhares de toneladas)","Trigo duro","Produção utilizável (milhares de toneladas)",31,24,37,21,19,42,31,44,32,28,115,173,103,327,113,235,1,7,2,7,20,16,4,4,3,4,6]
["Trigo duroEntradas (milhares de toneladas)","Trigo duro","Entradas (milhares de toneladas)",66,54,82,112,115,132,170,160,169,167,170,188,228,113,141,127,193,197,227,371,473,215,192,239,222,216,232]
["Trigo duroSaídas (milhares de toneladas)","Trigo duro","Saídas (milhares de toneladas)",2,2,3,2,2,5,9,22,32,23,26,46,46,83,29,25,32,24,26,38,42,33,49,34,37,39,52]
["Trigo duroRecursos disponíveis (milhares de toneladas)","Trigo duro","Recursos disponíveis (milhares de toneladas)",95,76,116,131,132,169,192,182,169,172,259,315,285,357,225,337,162,180,203,340,451,198,147,209,188,181,186]
["Trigo duroUtilização Interna Total (milhares de toneladas)","Trigo duro","Utilização Interna Total (milhares de toneladas)",85,85,111,121,137,147,164,167,174,189,271,294,280,348,255,296,176,170,177,344,366,243,177,194,189,186,190]
["Trigo duroAlimentação Animal (milhares de toneladas)","Trigo duro","Alimentação Animal (milhares de toneladas)",0,0,12,12,14,20,25,31,28,28,91,106,92,150,80,140,30,20,15,170,190,90,30,40,35,32,35]
["Trigo duroConsumo humano (milhares de toneladas)","Trigo duro","Consumo humano (milhares de toneladas)",80,80,90,100,112,113,114,127,131,133,132,135,136,138,139,141,140,145,156,160,160,151,145,152,152,152,152]
["Trigo duroConsumo humano per capita (kg / habitante) ","Trigo duro","Consumo humano per capita (kg / habitante) ",8.1,8.1,9,10,11.2,11.3,11.4,12.6,13,13.1,12.9,13.2,13.2,13.3,13.3,13.4,13.2,13.7,14.7,15.1,15.2,14.3,13.7,14.5,14.6,14.7,14.7]
["Trigo duroGrau de auto-aprovisionamento (%)","Trigo duro","Grau de auto-aprovisionamento (%)",36.5,28.2,33.299999999999997,17.399999999999999,13.9,28.6,18.899999999999999,26.3,18.399999999999999,14.8,42.4,58.8,36.799999999999997,94,44.3,79.400000000000006,0.6,4.0999999999999996,1.1000000000000001,2,5.5,6.6,2.2999999999999998,2.1,1.6,2.2000000000000002,3.2]
["CenteioProdução utilizável (milhares de toneladas)","Centeio","Produção utilizável (milhares de toneladas)",119,97,80,69,67,64,36,54,41,32,56,46,24,34,27,27,20,24,23,22,19,18,18,15,18,18,15]
["CenteioEntradas (milhares de toneladas)","Centeio","Entradas (milhares de toneladas)",0,0,2,0,2,15,17,8,13,20,12,13,22,22,33,28,30,28,30,30,38,29,32,38,31,35,26]
["CenteioSaídas (milhares de toneladas)","Centeio","Saídas (milhares de toneladas)",0,0,0,0,0,0,0,1,0,1,0,0,1,2,3,3,1,1,1,0,0,1,1,1,1,2,2]
["CenteioRecursos disponíveis (milhares de toneladas)","Centeio","Recursos disponíveis (milhares de toneladas)",119,97,82,69,69,79,53,61,54,51,68,59,45,54,57,52,49,51,52,52,57,46,49,52,48,51,39]
["CenteioUtilização Interna Total (milhares de toneladas)","Centeio","Utilização Interna Total (milhares de toneladas)",114,94,84,79,78,76,63,59,55,55,60,58,55,55,55,55,54,53,52,52,53,51,49,52,49,48,43]
["CenteioAlimentação Animal (milhares de toneladas)","Centeio","Alimentação Animal (milhares de toneladas)",22,9,5,5,5,3,4,3,1,1,1,1,1,1,1,1,1,1,1,1,1,1,1,1,1,1,1]
["CenteioConsumo humano (milhares de toneladas)","Centeio","Consumo humano (milhares de toneladas)",77,72,68,64,64,63,50,48,47,47,52,51,49,49,49,50,49,48,47,47,48,47,45,47,45,44,39]
["CenteioConsumo humano per capita (kg / habitante) ","Centeio","Consumo humano per capita (kg / habitante) ",7.8,7.3,6.8,6.4,6.4,6.3,5,4.8,4.5999999999999996,4.5999999999999996,5.0999999999999996,5,4.7,4.7,4.7,4.7,4.5999999999999996,4.5,4.4000000000000004,4.4000000000000004,4.5,4.4000000000000004,4.3,4.5,4.3,4.2,3.8]
["CenteioGrau de auto-aprovisionamento (%)","Centeio","Grau de auto-aprovisionamento (%)",104.4,103.2,95.2,87.3,85.9,84.2,57.1,91.5,74.5,58.2,93.3,79.3,43.6,61.8,49.1,49.1,37,45.3,44.2,42.3,35.799999999999997,35.299999999999997,36.700000000000003,28.8,36.700000000000003,37.5,34.9]
["AveiaProdução utilizável (milhares de toneladas)","Aveia","Produção utilizável (milhares de toneladas)",127,72,76,45,76,79,58,60,44,29,100,112,39,61,39,61,25,87,62,92,71,66,48,31,63,67,49]
["AveiaEntradas (milhares de toneladas)","Aveia","Entradas (milhares de toneladas)",1,4,14,4,2,9,20,23,27,21,7,6,16,16,21,31,31,8,20,17,26,20,26,17,21,19,23]
["AveiaSaídas (milhares de toneladas)","Aveia","Saídas (milhares de toneladas)",0,0,0,5,11,1,1,0,0,0,1,1,0,0,1,1,9,13,4,3,1,1,0,0,4,5,1]
["AveiaRecursos disponíveis (milhares de toneladas)","Aveia","Recursos disponíveis (milhares de toneladas)",128,76,90,44,67,87,77,83,71,50,106,117,55,77,59,91,47,82,78,106,96,85,74,48,80,81,71]
["AveiaUtilização Interna Total (milhares de toneladas)","Aveia","Utilização Interna Total (milhares de toneladas)",126,82,93,49,63,82,77,76,65,54,111,114,56,76,59,81,54,74,76,101,91,85,73,49,79,79,73]
["AveiaAlimentação Animal (milhares de toneladas)","Aveia","Alimentação Animal (milhares de toneladas)",104,61,72,26,41,59,54,53,45,31,87,92,36,55,41,61,35,55,56,80,70,65,55,30,60,60,55]
["AveiaConsumo humano (milhares de toneladas)","Aveia","Consumo humano (milhares de toneladas)",12,12,13,13,13,14,14,14,13,13,14,14,14,14,12,13,13,13,13,13,13,13,13,13,12,13,13]
["AveiaConsumo humano per capita (kg / habitante) ","Aveia","Consumo humano per capita (kg / habitante) ",1.2,1.2,1.3,1.3,1.3,1.4,1.4,1.4,1.3,1.3,1.4,1.4,1.4,1.3,1.1000000000000001,1.2,1.2,1.2,1.2,1.2,1.2,1.2,1.2,1.2,1.2,1.3,1.3]
["AveiaGrau de auto-aprovisionamento (%)","Aveia","Grau de auto-aprovisionamento (%)",100.8,87.8,81.7,91.8,120.6,96.3,75.3,78.900000000000006,67.7,53.7,90.1,98.2,69.599999999999994,80.3,66.099999999999994,75.3,46.3,117.6,81.599999999999994,91.1,78,77.599999999999994,65.8,63.3,79.7,84.8,67.099999999999994]
["CevadaProdução utilizável (milhares de toneladas)","Cevada","Produção utilizável (milhares de toneladas)",84,79,124,63,98,96,53,70,29,26,29,36,13,20,13,26,26,106,81,100,73,31,21,21,33,38,44]
["CevadaEntradas (milhares de toneladas)","Cevada","Entradas (milhares de toneladas)",108,164,212,158,147,187,298,270,251,244,227,279,420,354,419,356,505,382,285,447,599,507,358,299,309,328,365]
["CevadaSaídas (milhares de toneladas)","Cevada","Saídas (milhares de toneladas)",1,1,0,2,7,16,20,9,9,5,8,6,65,16,69,19,116,53,18,32,103,61,61,37,59,72,74]
["CevadaRecursos disponíveis (milhares de toneladas)","Cevada","Recursos disponíveis (milhares de toneladas)",191,242,336,219,238,267,331,331,271,265,248,309,368,358,363,363,415,435,348,515,569,477,318,283,283,294,335]
["CevadaUtilização Interna Total (milhares de toneladas)","Cevada","Utilização Interna Total (milhares de toneladas)",198,230,317,223,251,259,304,298,276,283,268,301,351,354,360,361,373,383,348,456,483,468,319,287,289,276,301]
["CevadaAlimentação Animal (milhares de toneladas)","Cevada","Alimentação Animal (milhares de toneladas)",90,110,180,70,90,87,120,126,108,119,115,140,183,185,188,183,190,195,160,250,280,270,180,150,155,160,182]
["CevadaConsumo humano (milhares de toneladas)","Cevada","Consumo humano (milhares de toneladas)",2,2,3,3,5,7,6,6,7,7,6,7,7,7,8,10,10,10,10,10,10,12,11,11,11,13,14]
["CevadaConsumo humano per capita (kg / habitante) ","Cevada","Consumo humano per capita (kg / habitante) ",0.2,0.2,0.3,0.3,0.5,0.7,0.6,0.6,0.7,0.7,0.6,0.7,0.7,0.7,0.8,0.9,0.9,0.9,0.9,0.9,0.9,1.1000000000000001,1,1,1.1000000000000001,1.3,1.4]
["CevadaGrau de auto-aprovisionamento (%)","Cevada","Grau de auto-aprovisionamento (%)",42.4,34.299999999999997,39.1,28.3,39,37.1,17.399999999999999,23.5,10.5,9.1999999999999993,10.8,12,3.7,5.6,3.6,7.2,7,27.7,23.3,21.9,15.1,6.6,6.6,7.3,11.4,13.8,14.6]
["MilhoProdução utilizável (milhares de toneladas)","Milho","Produção utilizável (milhares de toneladas)",679,666,656,678,668,711,715,789,863,981,934,875,907,797,798,789,514,543,617,702,634,626,810,849,930,897,828]
["MilhoEntradas (milhares de toneladas)","Milho","Entradas (milhares de toneladas)",810,741,829,965,1106,1141,1038,1139,1216,1294,1290,1316,1224,1251,1434,1321,1323,1646,2173,1495,1429,1825,1795,1890,1884,1822,2028]
["MilhoSaídas (milhares de toneladas)","Milho","Saídas (milhares de toneladas)",13,12,13,7,19,22,29,29,26,19,30,40,29,29,41,64,41,56,193,82,79,105,94,107,148,160,147]
["MilhoRecursos disponíveis (milhares de toneladas)","Milho","Recursos disponíveis (milhares de toneladas)",1476,1395,1472,1636,1755,1830,1724,1899,2053,2256,2194,2151,2102,2019,2191,2046,1796,2133,2597,2115,1984,2346,2511,2632,2666,2559,2709]
["MilhoUtilização Interna Total (milhares de toneladas)","Milho","Utilização Interna Total (milhares de toneladas)",1475,1439,1511,1611,1762,1787,1755,1922,2026,2208,2193,2155,2140,2062,2136,2097,1735,2060,2502,2201,1999,2342,2504,2636,2654,2550,2684]
["MilhoAlimentação Animal (milhares de toneladas)","Milho","Alimentação Animal (milhares de toneladas)",1143,1125,1183,1260,1380,1405,1366,1500,1613,1703,1687,1678,1680,1700,1731,1740,1370,1690,2100,1820,1640,1950,2100,2230,2250,2150,2270]
["MilhoConsumo humano (milhares de toneladas)","Milho","Consumo humano (milhares de toneladas)",113,107,104,105,104,108,107,104,106,106,103,106,106,105,106,105,106,110,112,118,120,125,125,125,124,125,128]
["MilhoConsumo humano per capita (kg / habitante) ","Milho","Consumo humano per capita (kg / habitante) ",11.4,10.8,10.4,10.5,10.4,10.8,10.7,10.3,10.5,10.4,10.1,10.3,10.3,10.1,10.1,10,10,10.4,10.5,11.2,11.3,11.8,11.9,11.9,11.9,12,12.4]
["MilhoGrau de auto-aprovisionamento (%)","Milho","Grau de auto-aprovisionamento (%)",46,46.3,43.4,42.1,37.9,39.799999999999997,40.700000000000003,41.1,42.6,44.4,42.6,40.6,42.4,38.700000000000003,37.4,37.6,29.6,26.4,24.7,31.9,31.7,26.7,32.299999999999997,32.200000000000003,35,35.200000000000003,30.8]
["Outros cereaisProdução utilizável (milhares de toneladas)","Outros cereais","Produção utilizável (milhares de toneladas)",63,61,73,69,106,123,72,92,58,36,50,58,36,32,17,22,13,45,29,46,39,30,26,20,50,50,41]
["Outros cereaisEntradas (milhares de toneladas)","Outros cereais","Entradas (milhares de toneladas)",5,5,6,11,8,11,29,14,13,18,34,17,19,27,66,39,52,47,175,90,58,39,44,28,25,24,25]
["Outros cereaisSaídas (milhares de toneladas)","Outros cereais","Saídas (milhares de toneladas)",0,0,5,4,10,1,5,1,3,1,2,3,1,7,15,8,14,21,23,15,20,33,12,5,3,3,2]
["Outros cereaisRecursos disponíveis (milhares de toneladas)","Outros cereais","Recursos disponíveis (milhares de toneladas)",68,66,74,76,104,134,96,105,68,53,82,72,54,52,68,53,51,71,181,121,77,36,58,43,72,71,64]
["Outros cereaisUtilização Interna Total (milhares de toneladas)","Outros cereais","Utilização Interna Total (milhares de toneladas)",66,66,77,76,102,126,97,100,74,63,78,61,57,46,59,54,54,69,108,110,82,61,57,52,67,63,59]
["Outros cereaisAlimentação Animal (milhares de toneladas)","Outros cereais","Alimentação Animal (milhares de toneladas)",54,54,61,60,87,109,82,86,63,52,67,51,48,39,52,47,48,61,97,99,73,53,50,44,58,56,52]
["Outros cereaisConsumo humano (milhares de toneladas)","Outros cereais","Consumo humano (milhares de toneladas)",2,4,4,4,4,4,4,4,4,4,4,4,4,3,3,2,2,3,3,4,3,3,2,2,2,2,2]
["Outros cereaisConsumo humano per capita (kg / habitante) ","Outros cereais","Consumo humano per capita (kg / habitante) ",0.2,0.4,0.4,0.4,0.4,0.4,0.4,0.4,0.4,0.4,0.4,0.4,0.4,0.3,0.3,0.2,0.2,0.3,0.3,0.4,0.3,0.3,0.2,0.2,0.2,0.2,0.2]
["Outros cereaisGrau de auto-aprovisionamento (%)","Outros cereais","Grau de auto-aprovisionamento (%)",95.5,92.4,94.8,90.8,103.9,97.6,74.2,92,78.400000000000006,57.1,64.099999999999994,95.1,63.2,69.599999999999994,28.8,40.700000000000003,24.1,65.2,26.9,41.8,47.6,49.2,45.6,38.5,74.599999999999994,79.400000000000006,69.5]
[null,null,"Fonte: INE"]

{"sheet":"BAse","index":21,"n_rows":110,"n_cols":14,"rows_kept":110,"cut":false,"hidden":true,"merged":[[1,0,2,11],[101,0,103,0],[104,0,106,0],[12,1,13,1],[14,0,14,10],[29,0,29,10]]}
[]
["Análise do número de explorações, superfície e superfície média das explorações com cereais para grão"]
[]
[]
["Escolher linha azul","Escolher linha Laranja",null,null,"Escolher Variável a Representar"]
[]
[]
[]
[]
[]
[]
[null,null,1989,1993,1995,1997,1999,2003,2005,2007,2009,2013]
[{"$f":"+A102","v":">= 100 ha de Ribatejo e Oeste"},{"$f":"+INDEX(B102:B104,MetaInfo!O2)","v":"Nº explorações com cereais para grão"},{"$f":"+ROUND(INDEX(C102:C104,MetaInfo!$O$2),MetaInfo!$I$2)","v":95},{"$f":"+ROUND(INDEX(D102:D104,MetaInfo!$O$2),MetaInfo!$I$2)","v":66},{"$f":"+ROUND(INDEX(E102:E104,MetaInfo!$O$2),MetaInfo!$I$2)","v":75},{"$f":"+ROUND(INDEX(F102:F104,MetaInfo!$O$2),MetaInfo!$I$2)","v":101},{"$f":"+ROUND(INDEX(G102:G104,MetaInfo!$O$2),MetaInfo!$I$2)","v":102},{"$f":"+ROUND(INDEX(H102:H104,MetaInfo!$O$2),MetaInfo!$I$2)","v":81},{"$f":"+ROUND(INDEX(I102:I104,MetaInfo!$O$2),MetaInfo!$I$2)","v":61},{"$f":"+ROUND(INDEX(J102:J104,MetaInfo!$O$2),MetaInfo!$I$2)","v":61},{"$f":"+ROUND(INDEX(K102:K104,MetaInfo!$O$2),MetaInfo!$I$2)","v":97},{"$f":"+ROUND(INDEX(L102:L104,MetaInfo!$O$2),MetaInfo!$I$2)","v":108}]
[{"$f":"+A105","v":"<0,5 ha de Alentejo"},null,{"$f":"+ROUND(INDEX(C105:C107,MetaInfo!$O$2),MetaInfo!$I$2)","v":817},{"$f":"+ROUND(INDEX(D105:D107,MetaInfo!$O$2),MetaInfo!$I$2)","v":427},{"$f":"+ROUND(INDEX(E105:E107,MetaInfo!$O$2),MetaInfo!$I$2)","v":180},{"$f":"+ROUND(INDEX(F105:F107,MetaInfo!$O$2),MetaInfo!$I$2)","v":180},{"$f":"+ROUND(INDEX(G105:G107,MetaInfo!$O$2),MetaInfo!$I$2)","v":568},{"$f":"+ROUND(INDEX(H105:H107,MetaInfo!$O$2),MetaInfo!$I$2)","v":268},{"$f":"+ROUND(INDEX(I105:I107,MetaInfo!$O$2),MetaInfo!$I$2)","v":142},{"$f":"+ROUND(INDEX(J105:J107,MetaInfo!$O$2),MetaInfo!$I$2)","v":115},{"$f":"+ROUND(INDEX(K105:K107,MetaInfo!$O$2),MetaInfo!$I$2)","v":107},{"$f":"+ROUND(INDEX(L105:L107,MetaInfo!$O$2),MetaInfo!$I$2)","v":37}]
[{"$f":"+B13& \" - \" &A13 &\" e \" &A14 & \" \"&MetaInfo!J2","v":"Nº explorações com cereais para grão - >= 100 ha de Ribatejo e Oeste e <0,5 ha de Alentejo (Nº exp.)"}]
[]
[]
[]
[]
[]
[]
[]
[]
[]
[]
[]
[]
[]
[]
[{"$f":"+B13& \" - \" &A13 &\" e \" &A14 & \" (Ind100= valor 1989)\"","v":"Nº explorações com cereais para grão - >= 100 ha de Ribatejo e Oeste e <0,5 ha de Alentejo (Ind100= valor 1989)"}]
[]
[]
[]
[]
[]
[]
[]
[]
[]
[]
[]
[]
[]
[]
[]
[]
[]
[]
[]
[]
[]
[]
[]
[]
[]
[]
[]
[]
[]
[]
[]
[]
[]
[]
[]
[]
[]
[]
[]
[]
[]
[]
[]
[]
[]
[]
[]
[]
[]
[]
[]
[]
[]
[]
[]
[]
[]
[]
[]
[]
[]
[]
[]
[]
[]
[]
[]
[]
[]
[]
[null,null,1989,1993,1995,1997,1999,2003,2005,2007,2009,2013]
[{"$f":"+MetaInfo!K2& \" de \" & MetaInfo!M2","v":">= 100 ha de Ribatejo e Oeste"},"Nº explorações com cereais para grão",{"$f":"+SUMIF(Dados!$A$11:$A$154,\"1\"&MetaInfo!$J$3,Dados!E$11:E$154)","v":95},{"$f":"+SUMIF(Dados!$A$11:$A$154,\"1\"&MetaInfo!$J$3,Dados!F$11:F$154)","v":66},{"$f":"+SUMIF(Dados!$A$11:$A$154,\"1\"&MetaInfo!$J$3,Dados!G$11:G$154)","v":75},{"$f":"+SUMIF(Dados!$A$11:$A$154,\"1\"&MetaInfo!$J$3,Dados!H$11:H$154)","v":101},{"$f":"+SUMIF(Dados!$A$11:$A$154,\"1\"&MetaInfo!$J$3,Dados!I$11:I$154)","v":102},{"$f":"+SUMIF(Dados!$A$11:$A$154,\"1\"&MetaInfo!$J$3,Dados!J$11:J$154)","v":81},{"$f":"+SUMIF(Dados!$A$11:$A$154,\"1\"&MetaInfo!$J$3,Dados!K$11:K$154)","v":61},{"$f":"+SUMIF(Dados!$A$11:$A$154,\"1\"&MetaInfo!$J$3,Dados!L$11:L$154)","v":61},{"$f":"+SUMIF(Dados!$A$11:$A$154,\"1\"&MetaInfo!$J$3,Dados!M$11:M$154)","v":97},{"$f":"+SUMIF(Dados!$A$11:$A$154,\"1\"&MetaInfo!$J$3,Dados!N$11:N$154)","v":108},"(Nº exp.)",0]
[null,"Superfície de cereais para grão",{"$f":"+SUMIF(Dados!$A$11:$A$154,\"2\"&MetaInfo!$J$3,Dados!E$11:E$154)","v":18294},{"$f":"+SUMIF(Dados!$A$11:$A$154,\"2\"&MetaInfo!$J$3,Dados!F$11:F$154)","v":11469},{"$f":"+SUMIF(Dados!$A$11:$A$154,\"2\"&MetaInfo!$J$3,Dados!G$11:G$154)","v":13790},{"$f":"+SUMIF(Dados!$A$11:$A$154,\"2\"&MetaInfo!$J$3,Dados!H$11:H$154)","v":19763},{"$f":"+SUMIF(Dados!$A$11:$A$154,\"2\"&MetaInfo!$J$3,Dados!I$11:I$154)","v":19123},{"$f":"+SUMIF(Dados!$A$11:$A$154,\"2\"&MetaInfo!$J$3,Dados!J$11:J$154)","v":15340},{"$f":"+SUMIF(Dados!$A$11:$A$154,\"2\"&MetaInfo!$J$3,Dados!K$11:K$154)","v":10873},{"$f":"+SUMIF(Dados!$A$11:$A$154,\"2\"&MetaInfo!$J$3,Dados!L$11:L$154)","v":11225},{"$f":"+SUMIF(Dados!$A$11:$A$154,\"2\"&MetaInfo!$J$3,Dados!M$11:M$154)","v":16660},{"$f":"+SUMIF(Dados!$A$11:$A$154,\"2\"&MetaInfo!$J$3,Dados!N$11:N$154)","v":20226},"(ha)",0]
[null,"Área média de cereais para grão por exploração",{"$f":"+C103/C102","v":192.56842105263158},{"$f":"+D103/D102","v":173.77272727272728},183.86666666666667,195.67326732673268,187.48039215686273,189.38271604938271,178.24590163934425,184.01639344262296,171.75257731958763,187.27777777777777,"(ha/exp)",1]
[{"$f":"+MetaInfo!L2& \" de \" & MetaInfo!N2","v":"<0,5 ha de Alentejo"},"Nº explorações com cereais para grão",{"$f":"+SUMIF(Dados!$A$11:$A$154,\"1\"&MetaInfo!$J$4,Dados!E$11:E$154)","v":817},{"$f":"+SUMIF(Dados!$A$11:$A$154,\"1\"&MetaInfo!$J$4,Dados!F$11:F$154)","v":427},{"$f":"+SUMIF(Dados!$A$11:$A$154,\"1\"&MetaInfo!$J$4,Dados!G$11:G$154)","v":180},{"$f":"+SUMIF(Dados!$A$11:$A$154,\"1\"&MetaInfo!$J$4,Dados!H$11:H$154)","v":180},{"$f":"+SUMIF(Dados!$A$11:$A$154,\"1\"&MetaInfo!$J$4,Dados!I$11:I$154)","v":568},{"$f":"+SUMIF(Dados!$A$11:$A$154,\"1\"&MetaInfo!$J$4,Dados!J$11:J$154)","v":268},{"$f":"+SUMIF(Dados!$A$11:$A$154,\"1\"&MetaInfo!$J$4,Dados!K$11:K$154)","v":142},{"$f":"+SUMIF(Dados!$A$11:$A$154,\"1\"&MetaInfo!$J$4,Dados!L$11:L$154)","v":115},{"$f":"+SUMIF(Dados!$A$11:$A$154,\"1\"&MetaInfo!$J$4,Dados!M$11:M$154)","v":107},{"$f":"+SUMIF(Dados!$A$11:$A$154,\"1\"&MetaInfo!$J$4,Dados!N$11:N$154)","v":37}]
[null,"Superfície de cereais para grão",{"$f":"+SUMIF(Dados!$A$11:$A$154,\"2\"&MetaInfo!$J$4,Dados!E$11:E$154)","v":216},{"$f":"+SUMIF(Dados!$A$11:$A$154,\"2\"&MetaInfo!$J$4,Dados!F$11:F$154)","v":125},{"$f":"+SUMIF(Dados!$A$11:$A$154,\"2\"&MetaInfo!$J$4,Dados!G$11:G$154)","v":57},{"$f":"+SUMIF(Dados!$A$11:$A$154,\"2\"&MetaInfo!$J$4,Dados!H$11:H$154)","v":47},{"$f":"+SUMIF(Dados!$A$11:$A$154,\"2\"&MetaInfo!$J$4,Dados!I$11:I$154)","v":128},{"$f":"+SUMIF(Dados!$A$11:$A$154,\"2\"&MetaInfo!$J$4,Dados!J$11:J$154)","v":45},{"$f":"+SUMIF(Dados!$A$11:$A$154,\"2\"&MetaInfo!$J$4,Dados!K$11:K$154)","v":39},{"$f":"+SUMIF(Dados!$A$11:$A$154,\"2\"&MetaInfo!$J$4,Dados!L$11:L$154)","v":21},{"$f":"+SUMIF(Dados!$A$11:$A$154,\"2\"&MetaInfo!$J$4,Dados!M$11:M$154)","v":28},{"$f":"+SUMIF(Dados!$A$11:$A$154,\"2\"&MetaInfo!$J$4,Dados!N$11:N$154)","v":11}]
[null,"Área média de cereais para grão por exploração",{"$f":"+C106/C105","v":0.26438188494492043},{"$f":"+D106/D105","v":0.29274004683840749},0.31666666666666665,0.26111111111111113,0.22535211267605634,0.16791044776119404,0.27464788732394368,0.18260869565217391,0.26168224299065418,0.29729729729729731]
[]
[null,null,{"$f":"+C13/$C13*100","v":100},{"$f":"+D13/$C13*100","v":69.473684210526315},78.94736842105263,106.31578947368421,107.36842105263158,85.263157894736835,64.21052631578948,64.21052631578948,102.10526315789474,113.68421052631578]
[null,null,{"$f":"+C14/$C14*100","v":100},52.264381884944925,22.031823745410037,22.031823745410037,69.522643818849446,32.802937576499389,17.380660954712361,14.075887392900857,13.096695226438188,4.5287637698898413]

{"sheet":"Sheet3","index":22,"n_rows":409,"n_cols":35,"rows_kept":409,"cut":false,"hidden":true,"merged":[]}
[null,"id_variavel","Id_cultura","ID_Regiao","1986","1987","1988","1989","1990","1991","1992","1993","1994","1995","1996","1997","1998","1999","2000","2001","2002","2003","2004","2005","2006","2007","2008","2009","2010","2011","2012","2013","2014","2015","2016"]
["1110",1,1,10,878969,897211,838894,907535,757348,827647,768420,721793,677354,675657,652818,690234,506538,592345,577921,492715,514921,450798,463646,389343,373192,312099,365374,339899,304118,283096,287943,314182,301915,269207,257347]
["1111",1,1,11,102381,104210,105103,101534,102815,101095,92339,83778,75341,68061,63598,59471,53476,44905,43200,41382,36944,35978,35729,33781,32424,31200,31749,28889,26290,26856,27069,26883,26695,25505,24377]
["1112",1,1,12,90339,92937,80379,97783,76515,81615,72909,80430,70996,68265,69138,66798,62107,57241,53433,47718,43846,41995,40084,36823,33635,32175,33083,29367,28661,27634,27244,28119,26118,24110,22907]
["1113",1,1,13,88006,89403,92720,90464,85950,81372,73664,72608,67836,63852,59393,55756,52522,51736,49618,47741,42973,41387,41326,38761,37343,36024,35995,33987,32072,32623,32309,32744,31546,31503,31341]
["1114",1,1,14,69055,70744,57259,69787,62604,62451,54219,38567,35438,35777,37157,36352,29588,38926,36116,33425,28640,25370,23319,17957,16364,15850,15338,16449,15878,15632,14812,16695,15869,14214,13829]
["1115",1,1,15,78519,79259,75446,80273,70717,74915,65046,60307,58698,67681,57065,73549,64823,70116,64841,53907,63114,56063,55692,50921,47687,47829,57663,52998,41204,45475,49399,53875,51495,47783,44331]
["1116",1,1,16,422164,432170,402951,441418,339848,401176,389165,361953,349854,353540,349921,379102,233181,319516,320919,259718,290153,241945,257959,205171,200393,144649,187216,175752,157783,132718,134921,153531,147978,123793,118295]
["1117",1,1,17,23195,23400,20687,22248,15718,22090,18142,21571,17115,16695,14925,17640,9288,8766,8765,7853,8315,7188,8793,5321,4799,3882,3895,2093,1902,1831,1868,2017,1892,1975,1971]
["1118",1,1,18,4999,4767,4052,3698,2970,2627,2684,2401,1898,1733,1568,1485,1472,975,871,820,793,735,616,490,441,392,344,285,250,247,239,238,238,242,211]
["1119",1,1,19,311,321,297,330,211,306,252,178,178,53,53,81,81,164,157,151,144,137,128,119,108,99,90,79,79,80,82,80,83,83,83]
["1210",1,2,10,306843,314682,286042,321842,207553,294874,280293,250189,235187,259402,236789,276593,148687,220281,226250,183488,230686,174307,187432,122708,104660,54889,88279,72991,57727,42496,54793,52176,47826,39736,38198]
["1211",1,2,11,396,406,374,418,268,385,321,320,316,279,272,273,259,120,109,70,80,54,50,49,48,57,53,40,40,40,103,65,59,54,51]
["1212",1,2,12,30789,31709,29371,32694,20858,30277,28457,28370,21626,23212,25000,23189,22445,15723,14381,13017,10493,9852,9064,8266,6373,6025,6617,6667,6312,5780,5785,6046,5009,4157,3959]
["1213",1,2,13,3507,3612,3343,3723,2376,3446,2839,3000,2690,2599,2510,2536,1896,1320,1320,664,1215,1033,1048,1025,966,966,954,1424,1421,945,986,1116,794,702,617]
["1214",1,2,14,5166,5321,4929,5487,3500,5082,4182,4427,3964,4195,3955,4000,2798,2529,2340,2131,1835,1340,1141,844,756,697,1344,1500,1422,1462,1085,1211,1042,992,925]
["1215",1,2,15,24920,25416,22520,25713,16824,23215,23618,22409,15676,20606,7577,16500,4362,14224,13388,4111,13607,5153,7937,8057,6403,4520,10088,9229,2867,3274,4736,3485,4030,3520,3181]
["1216",1,2,16,234454,240382,218255,245732,158573,224995,214711,185000,185448,203485,193113,224540,114830,183400,191749,160967,200562,154829,166306,103170,88884,41711,68262,53314,44930,30280,41315,39445,36184,29619,28774]
["1217",1,2,17,7249,7463,6905,7691,4909,7118,5872,6474,5278,4973,4309,5474,2016,2897,2897,2463,2832,1987,1831,1247,1187,873,927,788,705,684,752,776,672,657,657]
["1218",1,2,18,51,52,48,54,34,50,41,11,11,0,0,0,0,0,0,0,0,0,0,0,0,0,0,0,0,0,0,0,0,0,0]
["1219",1,2,19,311,321,297,330,211,306,252,178,178,53,53,81,81,69,67,65,63,60,55,50,45,40,35,29,29,30,32,32,35,35,35]
["1310",1,3,10,278843,287182,266043,296125,188895,274258,255246,238189,214477,234724,210162,247644,121911,145324,87364,49950,42367,30144,35388,120620,101397,53495,85322,61963,48610,39628,51081,50754,46187,37015,33511]
["1311",1,3,11,382,393,364,405,259,375,309,320,300,279,272,273,259,120,109,70,80,54,50,49,48,57,53,40,40,40,103,65,59,54,51]
["1312",1,3,12,30767,31687,29355,32674,20843,30261,28437,28370,21600,23212,25000,23189,22445,15723,14381,13017,10493,9852,9064,8266,6373,6025,6617,6667,6312,5780,5785,6046,5009,4157,3959]
["1313",1,3,13,3494,3599,3334,3711,2367,3437,2828,3000,2675,2599,2510,2536,1896,1320,1320,664,1215,1033,1048,1025,966,966,954,1378,1375,913,976,1115,794,702,617]
["1314",1,3,14,5166,5321,4929,5487,3500,5082,4182,4427,3964,4095,3955,4000,2798,2524,2335,2124,1835,1340,1141,844,756,697,1344,1500,1422,1462,1085,1211,1042,992,925]
["1315",1,3,15,19680,20269,18777,20900,13332,19357,18930,18377,13586,17078,6500,14900,3162,7977,7104,1089,4371,1431,1913,7789,6275,4425,9681,7089,2800,3228,4663,3441,3973,3354,3048]
["1316",1,3,16,211786,218119,202064,224912,143469,208304,194434,177032,166935,182485,167613,197230,89270,115292,59749,30966,22063,14958,20736,101435,85780,40412,65712,44556,35927,27490,37685,38154,34687,27150,24304]
["1317",1,3,17,7206,7421,6875,7652,4880,7086,5833,6474,5228,4923,4259,5435,2000,2300,2300,1955,2248,1417,1381,1162,1155,873,927,703,705,684,752,690,587,571,571]
["1318",1,3,18,51,52,48,54,34,50,41,11,11,0,0,0,0,0,0,0,0,0,0,0,0,0,0,0,0,0,0,0,0,0,0]
["1319",1,3,19,311,321,297,330,211,306,252,178,178,53,53,81,81,69,67,65,63,60,55,50,45,40,35,29,29,30,32,32,35,35,35]
["1410",1,4,10,28000,27500,19999,25717,18658,20616,25047,12000,20710,24678,26627,28949,26776,74957,138886,133538,188319,144163,152044,2088,3263,1394,2957,11029,9117,2868,3712,1422,1639,2721,4688]
["1411",1,4,11,14,13,10,13,9,10,12,0,16,0,0,0,0,0,0,0,0,0,0,0,0,0,0,0,0,0,0,0,0,0,0]
["1412",1,4,12,22,22,16,20,15,16,20,0,26,0,0,0,0,0,0,0,0,0,0,0,0,0,0,0,0,0,0,0,0,0,0]
["1413",1,4,13,13,13,9,12,9,9,11,0,15,0,0,0,0,0,0,0,0,0,0,0,0,0,0,47,47,32,10,1,0,0,0]
["1414",1,4,14,0,0,0,0,0,0,0,0,0,100,0,0,0,5,5,7,0,0,0,0,0,0,0,0,0,0,0,0,0,0,0]
["1415",1,4,15,5240,5147,3743,4813,3492,3858,4688,4032,2090,3528,1077,1600,1200,6247,6284,3022,9236,3722,6024,268,128,95,407,2140,67,46,73,44,57,166,133]
["1416",1,4,16,22668,22263,16191,20820,15104,16691,20277,7968,18513,21000,25500,27310,25560,68108,132000,130001,178499,139871,145570,1735,3104,1299,2550,8758,9003,2790,3630,1291,1497,2469,4470]
["1417",1,4,17,43,42,30,39,29,32,39,0,50,50,50,39,16,597,597,508,584,570,450,85,32,0,0,84,0,0,0,86,86,86,86]
["1418",1,4,18,0,0,0,0,0,0,0,0,0,0,0,0,0,0,0,0,0,0,0,0,0,0,0,0,0,0,0,0,0,0,0]
["1419",1,4,19,0,0,0,0,0,0,0,0,0,0,0,0,0,0,0,0,0,0,0,0,0,0,0,0,0,0,0,0,0,0,0]
["1510",1,5,10,106118,109511,103302,108344,95069,86533,75043,72516,66112,62252,60556,59007,50756,48605,44676,37572,33504,30349,28619,25365,23477,22219,21324,20558,20441,19719,19508,21059,19791,18099,17268]
["1511",1,5,11,10100,10422,14030,7808,8024,7596,7111,6288,5477,5499,5160,5123,4936,2368,2243,1754,1822,1460,1477,1395,1061,984,916,670,666,641,635,638,556,539,493]
["1512",1,5,12,47622,49145,39488,53382,43756,39024,34502,44226,40000,37073,36529,35269,31184,27014,24825,21032,19800,18635,17742,16180,14845,14052,14274,12560,12490,12157,12000,12405,11869,11124,10415]
["1513",1,5,13,5902,6091,10712,5510,3556,3138,3129,3234,3185,2900,2432,2417,2347,2193,2193,1913,1734,1490,1477,908,1408,1407,1081,765,820,784,781,746,678,665,671]
["1514",1,5,14,37759,38967,29617,39021,36730,33676,27585,16939,16000,15195,15000,14500,11361,16239,14618,12297,9407,8378,7535,6441,5824,5549,4825,6273,6200,5963,5945,7127,6537,5578,5540]
["1515",1,5,15,811,837,2459,399,282,271,166,276,150,178,110,140,50,134,124,73,68,49,49,41,43,32,36,32,19,12,21,0,0,0,0]
["1516",1,5,16,3503,3614,6600,1861,2339,2461,2196,1153,1069,1176,1110,1260,580,610,627,464,629,297,299,375,273,174,169,251,241,162,124,142,147,178,135]
["1517",1,5,17,421,435,396,363,382,367,354,400,231,231,215,298,298,44,44,37,43,39,39,24,23,21,21,6,4,0,0,0,4,14,14]
["1518",1,5,18,0,0,0,0,0,0,0,0,0,0,0,0,0,0,0,0,0,0,0,0,0,0,0,0,0,0,0,0,0,0,0]
["1519",1,5,19,0,0,0,0,0,0,0,0,0,0,0,0,0,2,2,2,1,1,1,1,1,1,1,1,1,1,1,0,0,0,0]
["1610",1,6,10,129351,131211,111422,122336,87657,91956,75047,92000,74790,73448,70593,75697,48211,83363,85034,61344,57127,54101,55801,53658,53674,46064,55233,58447,61748,52351,41122,50192,50540,40415,42411]
["1611",1,6,11,873,886,612,605,535,887,657,950,636,636,599,587,573,481,478,409,387,338,319,307,279,230,222,276,279,263,262,261,248,237,212]
["1612",1,6,12,2882,2923,2677,2649,2340,1831,1384,1390,1086,1145,1193,1235,1204,4855,4763,4443,4477,4371,4307,4286,4535,4504,4498,4203,4203,4068,3973,3944,3443,3169,3183]
["1613",1,6,13,7691,7802,8210,8935,6767,2928,2201,4000,2825,2105,1889,1935,1550,3651,3651,2911,3092,2788,2691,2400,2640,2598,2598,1690,1656,1647,1626,1751,1454,1496,1703]
["1614",1,6,14,14922,15136,11425,13565,10273,11802,9278,3997,3162,3608,3438,3188,1726,5959,5071,4684,4451,3926,3574,2870,2705,2647,2681,2995,2995,2885,2775,3210,3080,2626,2783]
["1615",1,6,15,6352,6443,5293,6022,5321,4287,3062,5000,4231,4725,3019,3800,2589,6122,5452,2683,4134,3307,3931,4020,2590,1718,1627,950,361,177,145,199,250,322,382]
["1616",1,6,16,87862,89126,76710,83489,57959,61663,51939,67083,55449,53686,53704,57075,36631,59228,62551,43608,38086,37075,37050,37675,39580,33080,42320,47979,51920,43000,32010,40397,41672,32102,33684]
["1617",1,6,17,8769,8895,6495,7071,4462,8558,6526,9580,7401,7543,6751,7877,3938,3067,3067,2606,2500,2296,3929,2100,1345,1287,1287,356,334,311,330,431,392,463,463]
["1618",1,6,18,0,0,0,0,0,0,0,0,0,0,0,0,0,0,0,0,0,0,0,0,0,0,0,0,0,0,0,0,0,0,0]
["1619",1,6,19,0,0,0,0,0,0,0,0,0,0,0,0,0,0,0,0,0,0,0,0,0,0,0,0,0,0,0,0,0,0,0]
["1710",1,7,10,73325,70462,62619,69001,66716,65045,66650,61643,53388,50887,45508,32779,26221,24646,21766,11769,11206,11505,15899,34338,44159,40480,43084,40859,20224,16627,18342,18383,17165,21170,20622]
["1711",1,7,11,171,165,195,183,181,106,106,50,9,8,8,9,8,15,15,15,10,8,5,5,4,3,2,0,0,0,0,0,0,0,0]
["1712",1,7,12,609,585,495,466,639,595,546,530,432,400,400,400,379,625,612,596,586,578,542,505,458,433,431,274,273,263,271,305,290,264,247]
["1713",1,7,13,498,478,601,623,567,234,216,280,195,224,223,223,178,136,136,103,127,121,120,120,114,90,86,60,68,67,53,61,39,49,48]
["1714",1,7,14,1280,1230,1195,1239,1128,1031,1166,569,217,200,185,185,172,181,161,146,122,114,145,283,108,94,89,156,160,107,146,116,78,75,95]
["1715",1,7,15,8217,7896,6522,8606,8210,7209,6438,6700,5955,5843,5421,4802,5760,3339,2833,1583,1538,1970,1916,3315,5306,6358,6193,6244,1090,2175,2472,2780,1677,2257,1587]
["1716",1,7,16,57932,55670,48849,52946,52254,52044,54653,50000,44455,42111,37474,25000,18750,18979,16641,8160,7486,7438,11710,28980,36860,32777,35529,33806,18352,13750,15120,14768,14775,18231,18350]
["1717",1,7,17,4618,4438,4762,4938,3737,3826,3525,3514,2125,2101,1797,2160,974,1358,1358,1155,1328,1268,1453,1122,1305,720,750,319,280,263,278,353,305,294,294]
["1718",1,7,18,0,0,0,0,0,0,0,0,0,0,0,0,0,0,0,0,0,0,0,0,0,0,0,0,0,0,0,0,0,0,0]
["1719",1,7,19,0,0,0,0,0,0,0,0,0,0,0,0,0,12,11,10,9,8,8,8,5,4,3,1,1,1,1,0,0,0,0]
["1810",1,8,10,17794,22695,32336,37160,48673,40000,54000,52700,50048,44126,42320,43517,22989,26521,23832,18820,17058,13439,11926,20488,19228,15928,20242,23846,24487,20485,20807,30403,30198,22734,21085]
["1811",1,8,11,0,0,0,0,0,0,0,4,0,0,0,0,0,0,0,0,0,0,0,0,0,0,0,0,0,0,0,0,0,0,0]
["1812",1,8,12,0,0,0,0,0,0,0,80,169,144,95,100,67,95,94,94,75,64,54,39,17,44,24,23,24,16,16,79,80,84,84]
["1813",1,8,13,0,0,0,0,0,0,0,30,0,21,21,17,17,48,47,43,20,17,17,17,17,10,10,38,38,40,47,59,62,60,88]
["1814",1,8,14,0,0,270,365,660,400,810,700,288,900,2500,2000,964,1361,1359,2357,1459,1197,698,779,737,700,672,1434,1219,1005,952,1000,920,962,977]
["1815",1,8,15,0,0,700,750,800,800,810,900,700,1000,1500,2200,862,1421,1450,623,937,592,382,385,311,217,350,731,420,301,450,358,519,351,407]
["1816",1,8,16,17794,22695,31366,36045,47213,38800,52380,50896,48630,41800,38000,38995,20874,23436,20721,15566,14410,11423,10620,19150,18020,14870,19100,21495,22660,19000,19220,28784,28491,21136,19389]
["1817",1,8,17,0,0,0,0,0,0,0,90,261,261,204,205,205,160,160,137,157,146,155,118,126,87,87,125,126,122,122,122,125,141,140]
["1818",1,8,18,0,0,0,0,0,0,0,0,0,0,0,0,0,0,0,0,0,0,0,0,0,0,0,0,0,0,0,0,0,0,0]
["1819",1,8,19,0,0,0,0,0,0,0,0,0,0,0,0,0,0,0,0,0,0,0,0,0,0,0,0,0,0,0,0,0,0,0]
["1910",1,9,10,212686,215860,209572,215222,217856,215773,196269,179545,173778,163816,168774,174101,182654,163622,152504,154786,140124,141440,137349,109906,102603,105615,110877,94727,90371,99983,102197,111792,107642,97911,88614]
["1911",1,9,11,90841,92331,89892,92520,93807,92121,84144,76166,68903,61639,57559,53479,47700,41921,40355,39134,34645,34119,33878,32025,31032,29926,30555,27903,25305,25912,26068,25917,25831,24675,23621]
["1912",1,9,12,8437,8575,8348,8592,8922,9888,8020,5834,7683,6291,5921,6605,6828,8929,8758,8536,8415,8496,8375,7547,7409,7116,7239,5641,5359,5350,5198,5340,5427,5312,5019]
["1913",1,9,13,62632,63659,61978,63790,64756,64014,59739,55464,51941,48418,45073,41728,39856,37983,35873,35638,30350,29353,29388,27706,25614,24458,25006,23499,21557,22584,22277,22581,22711,22327,22002]
["1914",1,9,14,9928,10090,9823,10110,10313,10460,11198,11935,11807,11679,12079,12479,12567,12656,12568,11810,11366,10415,10226,6740,6234,6163,5728,4090,3881,4210,3910,4032,4211,3980,3510]
["1915",1,9,15,28439,28905,28142,28965,29405,29076,24177,21822,25165,27188,30538,36257,42500,36110,32829,36109,33817,35890,31895,25552,23675,24756,28841,23575,23802,24843,27141,32795,31223,27277,24483]
["1916",1,9,16,5567,5659,5509,5670,5744,5613,4680,4421,4803,5282,14577,20609,30100,23728,19934,21427,19428,21131,21737,9076,7558,12084,12518,9414,9927,16548,17142,20642,17766,13848,9521]
["1917",1,9,17,1894,1926,1876,1931,1973,2024,1668,1513,1589,1586,1459,1459,1631,1239,1239,1239,1239,1234,1170,710,583,666,595,272,242,241,175,198,187,202,199]
["1918",1,9,18,4948,4715,4004,3644,2936,2577,2643,2390,1887,1733,1568,1485,1472,975,871,820,793,735,616,490,441,392,344,285,250,247,239,238,238,242,211]
["1919",1,9,19,0,0,0,0,0,0,0,0,0,0,0,0,0,81,77,74,71,68,64,60,57,54,51,48,48,48,48,48,48,48,48]
["11010",1,10,10,184887,187919,182956,188304,189130,176106,162425,155795,158926,149750,155066,160281,170178,145780,136320,140733,126992,128566,124784,99347,92186,94737,100184,83954,79916,89522,92625,101947,97673,88547,80445]
["11011",1,10,11,82500,83853,81638,84025,84393,78582,72678,69341,63940,56577,53055,48938,45638,39868,38367,37391,32511,32056,31848,30140,29234,28148,28778,25370,22805,23380,23556,23414,23346,22264,21273]
["11012",1,10,12,5675,5768,5615,5779,5805,5405,4558,4110,5398,4106,4156,4267,4419,5620,5562,5488,5447,5566,5499,4867,4837,4660,4743,3184,2902,2900,2822,2952,2992,2950,2842]
["11013",1,10,13,56135,57056,55549,57173,57424,53470,50600,47759,49741,46371,43098,40020,38124,32444,31592,31915,26741,25949,25949,24492,22270,20398,21011,19652,17941,18977,19026,19300,19442,19107,19502]
["11014",1,10,14,8430,8568,8341,8585,8623,8029,8768,10365,10204,11598,12009,12479,12567,10806,10718,10023,9725,8947,8763,5605,5022,4951,4491,3283,3030,3365,3112,3221,3450,3237,2959]
["11015",1,10,15,25475,25893,25209,25946,26060,24265,20462,19122,23563,24716,27532,34000,41000,33740,30560,34260,32540,34168,30250,24556,22776,23922,28091,22767,23058,24100,26766,32203,30462,26905,24111]
["11016",1,10,16,5104,5188,5051,5198,5221,4862,4100,3821,4731,5212,14263,19317,27000,22177,18400,20538,18913,20765,21403,8935,7500,12031,12465,9414,9927,16548,17142,20642,17766,13848,9521]
["11017",1,10,17,1568,1593,1553,1598,1604,1494,1259,1278,1350,1170,954,1259,1430,1044,1044,1044,1044,1047,1008,692,490,573,553,235,205,204,153,168,168,188,189]
["11018",1,10,18,0,0,0,0,0,0,0,0,0,0,0,0,0,0,0,0,0,0,0,0,0,0,0,0,0,0,0,0,0,0,0]
["11019",1,10,19,0,0,0,0,0,0,0,0,0,0,0,0,0,81,77,74,71,68,64,60,57,54,51,48,48,48,48,48,48,48,48]
["11110",1,11,10,22851,23226,22612,23274,25790,37090,31201,21360,12965,12333,12140,12335,11004,17842,16184,14053,13132,12874,12565,10559,10417,10879,10693,10774,10455,10461,9572,9845,9969,9364,8169]
["11111",1,11,11,8341,8478,8254,8495,9414,13539,11466,6825,4963,5062,4504,4541,2062,2053,1988,1743,2134,2062,2030,1885,1798,1778,1777,2533,2500,2532,2511,2504,2485,2411,2348]
["11112",1,11,12,2762,2807,2733,2813,3117,4483,3462,1724,2285,2185,1765,2338,2409,3309,3196,3047,2968,2930,2876,2680,2572,2456,2496,2457,2457,2450,2375,2388,2435,2362,2177]
["11113",1,11,13,6497,6603,6429,6617,7332,10545,9139,7705,2200,2047,1975,1708,1732,5539,4281,3723,3609,3404,3439,3214,3344,4061,3995,3847,3616,3607,3252,3282,3269,3220,2500]
["11114",1,11,14,1498,1522,1482,1525,1690,2431,2430,1570,1603,81,70,0,0,1850,1850,1787,1641,1468,1463,1135,1212,1212,1237,807,851,845,798,810,762,743,551]
["11115",1,11,15,2964,3012,2933,3019,3345,4811,3715,2700,1602,2472,3006,2257,1500,2371,2269,1849,1277,1722,1645,996,899,834,750,807,744,743,375,592,761,372,372]
["11116",1,11,16,463,471,458,472,523,751,580,600,72,70,314,1292,3100,1551,1534,889,515,366,334,141,58,53,53,0,0,0,0,0,0,0,0]
["11117",1,11,17,326,333,323,333,369,530,409,235,239,416,505,200,201,195,195,195,195,187,162,18,93,93,42,37,37,37,22,31,19,14,10]
["11118",1,11,18,0,0,0,0,0,0,0,0,0,0,0,0,0,975,871,820,793,735,616,490,441,392,344,285,250,247,239,238,238,242,211]
["11119",1,11,19,0,0,0,0,0,0,0,0,0,0,0,0,0,0,0,0,0,0,0,0,0,0,0,0,0,0,0,0,0,0,0]
["11210",1,12,10,32852,32790,33601,33630,33824,33466,21118,13200,24051,21726,28278,28540,27020,25307,23859,24936,25216,25657,26620,22881,25392,26903,26334,28470,29120,31436,31174,30177,28754,29142,29149]
["11211",1,12,11,0,0,0,0,0,0,0,0,0,0,0,0,0,0,0,0,0,0,0,0,0,0,0,0,0,0,0,0,0,0,0]
["11212",1,12,12,0,0,0,0,0,0,0,0,0,0,0,0,0,0,0,0,0,0,0,0,0,0,0,0,0,0,0,0,0,0,0]
["11213",1,12,13,7776,7761,7876,7883,7928,7612,5540,6600,7000,7585,7245,6900,6678,6405,6398,6469,6435,6585,6585,6585,6585,6494,6260,6512,6512,6555,6540,6429,5808,6203,6212]
["11214",1,12,14,0,0,0,0,0,0,0,0,0,0,0,0,0,0,0,0,0,0,0,0,0,0,0,0,0,0,0,0,0,0,0]
["11215",1,12,15,9780,9762,9810,9818,9875,10057,6775,3200,6821,8141,8900,9850,8700,8766,8765,8725,9013,9102,9582,9551,9359,10228,10528,12237,12645,14692,14434,14258,13796,14056,14291]
["11216",1,12,16,15052,15024,15662,15675,15766,15600,8606,3400,10000,6000,11943,11623,11416,10135,8696,9526,9552,9752,10237,6745,9218,9953,9318,9493,9753,9978,9990,9353,8943,8679,8443]
["11217",1,12,17,244,243,253,254,255,197,197,0,230,0,190,167,226,1,0,216,216,218,216,0,230,228,228,228,210,210,210,137,207,204,204]
["11218",1,12,18,0,0,0,0,0,0,0,0,0,0,0,0,0,0,0,0,0,0,0,0,0,0,0,0,0,0,0,0,0,0,0]
["11219",1,12,19,0,0,0,0,0,0,0,0,0,0,0,0,0,0,0,0,0,0,0,0,0,0,0,0,0,0,0,0,0,0,0]
["2110",2,1,10,1654610,1717838,1454188,1831518,1425942,1789423,1387311,1478936,1630319,1394255,1607467,1509650,1398328,1655612,1614405,1303355,1502830,1191546,1374973,801314,1197572,1066037,1311584,1118224,1019204,1157419,1178144,1362407,1333256,1240202,1138086]
["2111",2,1,11,235371,246865,248333,253723,249059,245965,256032,250494,238789,223666,211284,189730,178502,177016,167971,163059,131572,127208,124816,99585,101780,100457,104901,93225,90899,102032,100758,99292,103056,95838,89083]
["2112",2,1,12,115528,123893,81953,134831,89453,107128,83433,90505,84143,48593,77789,61632,49332,76755,62939,43192,58027,48013,49439,37112,39634,38110,38419,30394,26899,28074,25905,32993,29941,26040,26160]
["2113",2,1,13,226080,234317,232958,240885,229121,228936,234611,246489,237304,244527,238526,229976,218428,227082,229224,192243,166131,161716,162317,142125,169744,177782,175293,189093,181387,217820,198821,206833,199256,203521,216453]
["2114",2,1,14,73557,77443,56028,71688,61273,63378,56141,60653,51491,50103,55578,49500,53727,62852,61794,43540,46930,39385,37789,15979,22960,24963,24511,20488,20432,24275,17338,23389,24212,20548,18554]
["2115",2,1,15,279970,288620,261767,297185,263879,312195,252933,246576,300781,322879,322285,398075,449129,424102,407095,419064,431837,408557,393091,293676,307948,329699,413998,381706,361550,423262,458605,491224,474596,469461,393636]
["2116",2,1,16,688814,713378,547159,801519,511851,804649,484309,559380,697242,488691,685246,566371,435539,670802,668700,425409,651239,392836,590793,205146,544614,384602,544288,397722,332957,356765,372874,503671,496825,419388,388471]
["2117",2,1,17,18061,18379,14518,18582,13029,18405,11074,16303,14000,8867,11371,9357,9365,13711,13715,14185,14754,11649,14582,6072,9381,9148,9105,4608,4187,4362,3148,4338,4674,4734,5063]
["2118",2,1,18,16710,14389,11049,12451,7973,8118,8466,8313,6345,6862,5322,4907,4204,2889,2580,2292,1985,1843,1830,1323,1235,1019,832,770,675,587,451,422,446,424,417]
["2119",2,1,19,519,554,423,654,304,649,312,224,224,67,67,102,102,403,385,370,355,339,317,296,276,257,238,219,218,242,243,244,250,250,250]
["2210",2,2,10,500261,533094,394757,616238,296623,618697,361963,421838,462536,359849,405826,329271,150938,352148,354710,153604,413031,149569,292866,81530,249580,102258,203289,124146,82577,51003,58990,92014,98794,80393,90017]
["2211",2,2,11,350,373,282,437,206,435,210,322,297,192,186,152,158,78,78,32,65,40,37,31,38,49,48,35,35,35,52,45,43,39,37]
["2212",2,2,12,40507,43167,32988,50966,23761,50628,27829,40569,31140,19025,32637,24784,19828,22876,18224,10601,16652,12457,12854,8556,8876,8103,7526,6165,5496,5323,4832,9010,5823,4175,4004]
["2213",2,2,13,5162,5501,4201,6491,3028,6451,3105,5000,4139,3900,3997,3619,2445,2268,2268,1151,2282,1360,1522,1130,1576,1522,1535,2088,2125,1416,888,1195,845,702,622]
["2214",2,2,14,6237,6646,5080,7848,3658,7796,3752,6254,4789,4103,4501,3200,2147,2652,2569,1688,2012,1389,1126,387,838,815,1765,1434,1545,1694,763,1194,1041,846,846]
["2215",2,2,15,55816,59476,42691,67346,33432,68321,39037,56000,42651,51868,16260,25652,7847,33883,30971,7092,33890,9488,15068,12704,17866,15724,32073,21967,5207,4733,6113,8056,11053,9524,10991]
["2216",2,2,16,386996,412396,305291,476620,229490,478576,284905,308600,376010,278999,345553,270665,117957,286992,297213,130007,354481,122971,260097,58217,218410,74676,158975,91571,67186,36787,45757,71361,78989,64151,72534]
["2217",2,2,17,4589,4891,3732,5770,2694,5735,2762,4855,3272,1695,2625,1097,454,3311,3303,2951,3569,1789,2093,442,1919,1319,1321,848,946,954,523,1091,931,887,913]
["2218",2,2,18,85,90,69,106,50,106,51,14,14,0,0,0,0,0,0,0,0,0,0,0,0,0,0,0,0,0,0,0,0,0,0]
["2219",2,2,19,519,554,423,654,304,649,312,224,224,67,67,102,102,87,85,82,80,76,69,63,57,50,44,37,37,61,62,64,70,70,70]
["2310",2,3,10,465261,495822,378986,585464,272922,581620,340924,403238,419987,329080,361589,297239,122808,237326,182200,50910,85835,36149,58290,80362,242083,99762,196344,103766,66962,47096,54722,89336,94957,74490,77299]
["2311",2,3,11,341,364,278,429,200,426,205,322,282,192,186,152,158,78,78,32,65,40,37,31,38,49,48,35,35,35,52,45,43,39,37]
["2312",2,3,12,40478,43137,32972,50936,23745,50602,27811,40569,31104,19025,32637,24784,19828,22876,18224,10601,16652,12457,12854,8556,8876,8103,7526,6165,5496,5323,4832,9010,5823,4175,4004]
["2313",2,3,13,5151,5489,4196,6481,3021,6439,3098,5000,4120,3900,3997,3619,2445,2268,2268,1151,2282,1360,1522,1130,1576,1522,1535,2028,2062,1372,879,1194,845,702,622]
["2314",2,3,14,6237,6646,5080,7848,3658,7796,3752,6254,4789,4003,4501,3200,2147,2647,2564,1683,2012,1389,1126,387,838,815,1765,1434,1545,1694,763,1194,1041,846,846]
["2315",2,3,15,48194,51360,39257,60645,28271,60247,34455,48000,37335,44744,14253,23700,6179,21065,17906,1993,13168,3248,4667,12335,17572,15440,30814,17476,5115,4678,6028,7974,10936,9108,10613]
["2316",2,3,16,359684,383310,292987,452611,210991,449639,268489,298000,338878,255479,303368,240620,91509,185829,138608,33164,48910,16407,36596,57440,211255,72464,153290,75881,51726,32979,41584,68900,75401,58792,60326]
["2317",2,3,17,4572,4872,3724,5754,2682,5716,2751,4855,3241,1670,2580,1062,440,2475,2467,2204,2666,1173,1419,420,1872,1319,1321,711,946,954,523,956,799,758,781]
["2318",2,3,18,85,90,69,106,50,106,51,14,14,0,0,0,0,0,0,0,0,0,0,0,0,0,0,0,0,0,0,0,0,0,0]
["2319",2,3,19,519,554,423,654,304,649,312,224,224,67,67,102,102,87,85,82,80,76,69,63,57,50,44,37,37,61,62,64,70,70,70]
["2410",2,4,10,35000,37272,15771,30774,23701,37077,21039,18600,42549,30769,44237,32032,28130,114822,172510,102694,327196,113420,234576,1168,7497,2496,6944,20379,15615,3907,4268,2678,3836,5903,12718]
["2411",2,4,11,9,9,4,8,6,9,5,0,15,0,0,0,0,0,0,0,0,0,0,0,0,0,0,0,0,0,0,0,0,0,0]
["2412",2,4,12,29,30,16,30,16,26,18,0,36,0,0,0,0,0,0,0,0,0,0,0,0,0,0,0,0,0,0,0,0,0,0]
["2413",2,4,13,11,12,5,10,7,12,7,0,19,0,0,0,0,0,0,0,0,0,0,0,0,0,0,61,63,44,9,1,0,0,0]
["2414",2,4,14,0,0,0,0,0,0,0,0,0,100,0,0,0,5,5,5,0,0,0,0,0,0,0,0,0,0,0,0,0,0,0]
["2415",2,4,15,7622,8116,3434,6701,5161,8074,4582,8000,5316,7124,2007,1952,1668,12818,13065,5099,20722,6240,10401,369,294,284,1259,4491,92,55,85,82,117,416,378]
["2416",2,4,16,27312,29086,12304,24009,18499,28937,16416,10600,37132,23520,42185,30045,26448,101163,158605,96843,305571,106564,223501,777,7155,2212,5685,15690,15460,3808,4174,2460,3587,5359,12209]
["2417",2,4,17,17,19,8,16,12,19,11,0,31,25,45,35,14,836,836,747,903,616,674,22,48,0,0,138,0,0,0,135,132,129,132]
["2418",2,4,18,0,0,0,0,0,0,0,0,0,0,0,0,0,0,0,0,0,0,0,0,0,0,0,0,0,0,0,0,0,0,0]
["2419",2,4,19,0,0,0,0,0,0,0,0,0,0,0,0,0,0,0,0,0,0,0,0,0,0,0,0,0,0,0,0,0,0,0]
["2510",2,5,10,112393,121682,86112,118975,96502,80358,69500,66727,63792,36263,53924,40689,32488,55615,46453,24195,34297,26955,27265,19747,23803,22702,22214,19444,17553,18388,14784,18210,17629,15494,15588]
["2511",2,5,11,10141,10979,10853,8721,7611,7419,6129,5976,5519,4298,4194,3265,3755,2122,2187,1320,1628,1257,1256,1027,900,779,697,531,525,508,420,528,437,411,381]
["2512",2,5,12,63801,69074,39058,72981,54884,44490,44855,42015,41508,20254,35419,26594,19217,35613,27785,15182,23224,17789,18612,14875,15948,15330,16121,13446,11310,12305,10873,11910,11816,10791,10827]
["2513",2,5,13,6139,6646,10178,6336,3060,3159,1925,1949,2733,2349,2654,1613,2230,2375,2375,2058,1774,1524,1593,557,1273,1268,977,654,701,732,510,768,664,589,654]
["2514",2,5,14,27915,30222,20028,28274,27323,21656,14843,15802,13120,8507,10722,8700,6814,15078,13735,5338,7164,6224,5507,3122,5404,5155,4240,4629,4864,4749,2940,4908,4593,3509,3558]
["2515",2,5,15,602,651,1565,254,221,235,142,232,122,100,79,66,34,103,86,48,64,39,40,26,39,28,31,29,13,12,15,0,0,0,0]
["2516",2,5,16,3532,3824,4117,2169,3197,3168,1537,633,709,706,763,400,387,306,266,231,423,110,243,136,220,126,132,149,135,81,25,97,115,181,155]
["2517",2,5,17,263,286,313,240,206,231,69,120,81,49,93,51,51,18,18,16,19,12,13,4,18,16,15,5,3,0,0,0,4,12,12]
["2518",2,5,18,0,0,0,0,0,0,0,0,0,0,0,0,0,0,0,0,0,0,0,0,0,0,0,0,0,0,0,0,0,0,0]
["2519",2,5,19,0,0,0,0,0,0,0,0,0,0,0,0,0,1,1,1,1,1,1,1,1,1,1,1,1,1,1,0,0,0,0]
["2610",2,6,10,152727,155229,81476,126950,72104,76100,45103,76400,79217,57636,60480,44295,28714,99724,112395,38696,61466,39020,61317,25151,87108,62039,92422,70716,66145,48255,30506,62632,67443,48971,65774]
["2611",2,6,11,930,945,315,466,361,699,605,808,548,504,538,496,502,415,414,269,292,256,241,204,214,162,155,172,166,178,157,200,190,176,159]
["2612",2,6,12,2653,2696,1094,1617,1254,1778,1236,1188,1037,565,880,752,716,4077,3248,2406,3233,2908,2991,2074,2547,3056,3141,2245,2095,2088,1898,2405,1970,1656,1605]
["2613",2,6,13,11285,11470,7638,10458,5793,3001,2795,4149,2910,2168,2148,1774,1386,4151,4151,3188,2892,2613,2613,1690,2640,2479,2373,1424,1441,1553,1047,1455,1170,1110,1384]
["2614",2,6,14,18255,18554,8843,12107,7243,10790,9034,4170,2340,1704,1990,1594,757,3900,3318,2294,3300,2793,2587,904,1732,1779,1926,1974,2106,2110,1344,2161,2068,1556,1726]
["2615",2,6,15,9965,10128,5417,7738,5144,4820,3094,5065,5035,3576,2794,2660,2237,6460,5597,2378,4389,2757,4605,3089,2754,1758,1591,1052,138,205,145,273,330,555,701]
["2616",2,6,16,104436,106147,55680,91155,50496,50757,26619,56045,64341,47236,49383,35444,22371,78883,93827,26519,45702,26271,44800,16390,75728,51460,82082,63519,59873,41740,25693,55712,61301,43418,59689]
["2617",2,6,17,5203,5289,2489,3409,1813,4255,1720,4975,3006,1883,2747,1575,745,1840,1840,1642,1658,1421,3480,800,1494,1345,1154,330,326,381,223,426,413,499,511]
["2618",2,6,18,0,0,0,0,0,0,0,0,0,0,0,0,0,0,0,0,0,0,0,0,0,0,0,0,0,0,0,0,0,0,0]
["2619",2,6,19,0,0,0,0,0,0,0,0,0,0,0,0,0,0,0,0,0,0,0,0,0,0,0,0,0,0,0,0,0,0,0]
["2710",2,7,10,89617,79439,50718,84437,78532,124104,63000,98500,96213,53058,69950,28792,26203,29304,36353,12597,20022,13028,26248,26271,105552,80718,99827,72799,30620,21000,21151,32949,37914,44402,46615]
["2711",2,7,11,88,78,52,86,80,81,95,49,7,5,4,4,4,8,8,8,6,4,3,3,3,2,2,0,0,0,0,0,0,0,0]
["2712",2,7,12,549,487,227,388,480,674,685,493,416,246,355,291,249,526,437,343,475,434,422,290,314,328,326,154,144,143,139,186,178,153,132]
["2713",2,7,13,663,588,654,810,689,397,417,415,238,202,202,164,130,137,137,104,136,129,127,107,134,104,100,68,81,82,43,56,35,44,44]
["2714",2,7,14,949,842,578,965,788,1068,847,512,165,135,131,100,79,150,129,79,131,97,110,61,110,105,106,168,209,148,122,135,89,75,101]
["2715",2,7,15,10957,9713,4234,7460,10013,14076,13221,13704,11748,7073,9758,6051,9216,6199,5035,2500,3028,3420,3696,8249,16996,19508,14232,10610,1265,3145,3373,6436,4365,5488,5110]
["2716",2,7,16,73994,65590,42886,71534,64283,105430,46788,81921,82725,44881,58677,21750,16313,21032,29356,8444,15043,8141,20890,17260,86535,59768,84152,61415,28581,17147,17293,25712,32889,38304,40883]
["2717",2,7,17,2417,2141,2087,3194,2199,2378,947,1406,914,516,823,432,212,1242,1242,1110,1195,797,992,294,1456,898,907,382,339,334,180,424,358,338,345]
["2718",2,7,18,0,0,0,0,0,0,0,0,0,0,0,0,0,0,0,0,0,0,0,0,0,0,0,0,0,0,0,0,0,0,0]
["2719",2,7,19,0,0,0,0,0,0,0,0,0,0,0,0,0,11,10,9,8,7,7,7,5,4,3,1,1,1,1,0,0,0,0]
["2810",2,8,10,25000,32000,40000,61900,60549,63500,60000,78000,85388,48268,55768,39004,17289,33067,40293,16188,25403,11275,16659,8252,40236,25200,41546,35290,25871,23492,17019,46909,47161,38481,40168]
["2811",2,8,11,0,0,0,0,0,0,0,6,0,0,0,0,0,0,0,0,0,0,0,0,0,0,0,0,0,0,0,0,0,0,0]
["2812",2,8,12,0,0,0,0,0,0,0,120,233,94,81,56,37,111,110,85,85,73,61,34,18,59,28,30,30,23,21,87,85,88,90]
["2813",2,8,13,0,0,0,0,0,0,0,50,0,30,30,26,23,70,70,67,40,34,31,16,18,11,11,43,40,43,35,51,52,49,91]
["2814",2,8,14,0,0,100,438,411,370,900,715,260,765,2125,1340,553,1362,1371,1174,846,694,407,188,670,696,712,1294,1347,1217,552,944,879,738,828]
["2815",2,8,15,0,0,700,800,800,900,900,1200,1414,1280,2100,2310,1061,2238,2351,758,1589,909,675,447,574,412,601,1071,435,333,465,772,1022,718,860]
["2816",2,8,16,25000,32000,39200,60662,59338,62230,58200,75797,83283,45980,51300,35225,15568,29164,36271,13995,22712,9479,15390,7540,38816,23932,40110,32732,23884,21745,15881,44924,44990,36742,38147]
["2817",2,8,17,0,0,0,0,0,0,0,112,198,119,132,47,47,121,121,109,131,86,95,27,139,89,84,120,134,131,65,131,132,145,153]
["2818",2,8,18,0,0,0,0,0,0,0,0,0,0,0,0,0,0,0,0,0,0,0,0,0,0,0,0,0,0,0,0,0,0,0]
["2819",2,8,19,0,0,0,0,0,0,0,0,0,0,0,0,0,0,0,0,0,0,0,0,0,0,0,0,0,0,0,0,0,0,0]
["2910",2,9,10,627994,654692,657768,678749,665560,656187,678041,668472,711432,714627,789290,863410,980922,934104,881589,912143,802707,803897,794819,514415,542620,616917,701606,634069,626222,810267,848666,929538,896995,827544,710634]
["2911",2,9,11,223862,234490,236831,244013,240801,237331,248993,243333,232418,218667,206362,185813,174083,174393,165285,161430,129581,125651,123278,98320,100625,99464,103999,92487,90173,101312,100129,98519,102386,95211,88506]
["2912",2,9,12,8018,8469,8586,8879,9074,9558,8828,6120,9809,8409,8417,9155,9285,13553,13136,14575,14359,14353,14499,11283,11931,11234,11278,8354,7823,8192,8141,9396,10069,9177,9501]
["2913",2,9,13,173751,182007,183828,189408,186950,184328,197837,200436,197184,193020,185976,182760,173482,181152,183437,153896,129415,123889,124263,108470,131968,140745,140300,153078,139859,177137,159516,167254,166921,168494,181156]
["2914",2,9,14,20201,21179,21399,22056,21850,21698,26765,33200,30817,34889,36109,34566,43377,39711,40673,32967,33477,28188,28052,11317,14206,16414,15760,10988,10360,14357,11616,14047,15542,13823,11496]
["2915",2,9,15,159072,166554,168187,173255,170668,167604,160630,153715,199158,210136,237182,305191,376203,322733,310572,353018,333077,336756,310417,212471,211432,230123,301533,274578,279452,327334,359791,389854,378037,358437,294148]
["2916",2,9,16,21938,22948,23164,23852,23400,22792,21940,18534,30674,38039,106001,135782,193653,192191,158427,186496,153356,166098,185369,66501,67758,113340,123206,91830,96291,179636,207714,248237,221637,179625,122949]
["2917",2,9,17,4527,4746,4793,4941,4894,4864,4633,4835,5041,4605,3921,5236,6635,7178,7191,7191,7191,6864,6872,4505,3252,4376,4507,1804,1409,1533,1128,1630,1778,2174,2281]
["2918",2,9,18,16625,14299,10980,12345,7923,8012,8415,8299,6331,6862,5322,4907,4204,2889,2580,2292,1985,1843,1830,1323,1235,1019,832,770,675,587,451,422,446,424,417]
["2919",2,9,19,0,0,0,0,0,0,0,0,0,0,0,0,0,304,289,278,266,255,240,225,214,203,191,180,180,180,180,180,180,180,180]
["21010",2,10,10,581433,607895,613461,631537,618179,599337,624445,635501,691386,691500,766212,841850,963083,904209,848891,883086,774056,776732,769610,496752,520029,591163,676413,607869,602003,785147,830124,909455,874719,808995,693011]
["21011",2,10,11,212916,222607,224645,231264,226373,219473,232297,235757,226688,211572,200051,179828,169523,168199,159394,156228,124137,120682,118646,94880,97285,96219,100790,87828,85981,97039,95841,94338,97892,91180,84508]
["21012",2,10,12,5866,6133,6190,6372,6237,6047,5835,5096,8142,6708,6941,7110,7573,10556,10115,11011,10882,11273,11662,9228,9789,9261,9281,6235,5681,5804,5856,6782,7222,6989,7199]
["21013",2,10,13,165050,172561,174141,179273,175481,170132,184256,191036,195133,190477,183021,180092,170881,169489,167333,140166,115007,110795,111902,99078,118562,123759,124166,137703,125716,162935,149581,157292,156339,158286,172187]
["21014",2,10,14,18744,19597,19777,20359,19929,19321,24142,31632,29797,34793,36026,34566,43377,39008,39970,32527,33083,27820,27685,11120,13771,16012,15296,10740,10081,14012,11374,13683,15194,13533,11235]
["21015",2,10,15,153022,159986,161451,166208,162693,157734,152216,149152,196156,205761,231024,300000,372649,318608,307445,350081,330743,333381,307605,211240,209534,228120,299037,271591,276711,324060,358469,387364,374514,357058,292493]
["21016",2,10,16,21642,22627,22835,23507,23010,22309,21528,18228,30610,38000,105733,135219,192645,191103,157397,185848,152991,165896,185190,66483,67740,113332,123198,91830,96291,179636,207714,248237,221637,179625,122949]
["21017",2,10,17,4193,4384,4422,4554,4456,4321,4171,4600,4860,4189,3416,5036,6435,6943,6947,6947,6947,6630,6680,4498,3133,4258,4455,1762,1362,1481,1109,1580,1741,2145,2260]
["21018",2,10,18,0,0,0,0,0,0,0,0,0,0,0,0,0,0,0,0,0,0,0,0,0,0,0,0,0,0,0,0,0,0,0]
["21019",2,10,19,0,0,0,0,0,0,0,0,0,0,0,0,0,304,289,278,266,255,240,225,214,203,191,180,180,180,180,180,180,180,180]
["21110",2,11,10,29936,32498,33327,34867,39458,48838,45181,24672,13715,16265,17756,16653,13635,29895,32698,29057,28651,27164,25209,17663,22591,25754,25193,26200,24219,25120,18542,20083,22276,18549,17623]
["21111",2,11,11,10946,11883,12186,12749,14428,17858,16696,7576,5730,7095,6311,5986,4560,6195,5891,5202,5444,4969,4632,3440,3340,3246,3210,4659,4192,4272,4287,4181,4494,4031,3998]
["21112",2,11,12,2152,2336,2396,2507,2837,3511,2993,1024,1667,1701,1476,2045,1712,2997,3021,3564,3477,3080,2837,2055,2142,1972,1997,2119,2143,2388,2285,2614,2846,2188,2303]
["21113",2,11,13,8701,9446,9687,10135,11469,14196,13581,9400,2051,2543,2955,2668,2602,11663,16104,13730,14408,13094,12361,9392,13406,16986,16135,15374,14143,14202,9935,9961,10582,10208,8969]
["21114",2,11,14,1457,1582,1622,1697,1921,2377,2623,1568,1020,96,83,0,0,703,703,440,394,368,367,197,435,402,464,248,279,345,242,364,347,290,260]
["21115",2,11,15,6050,6568,6736,7047,7975,9870,8414,4563,3002,4375,6158,5191,3554,4125,3127,2937,2334,3375,2812,1231,1897,2003,2496,2987,2741,3274,1322,2490,3523,1380,1656]
["21116",2,11,16,296,321,329,345,390,483,412,306,64,39,268,563,1008,1088,1030,648,365,202,179,18,18,8,8,0,0,0,0,0,0,0,0]
["21117",2,11,17,334,362,371,387,438,543,462,235,181,416,505,200,200,235,244,244,244,234,192,7,119,118,52,42,47,52,20,50,37,29,21]
["21118",2,11,18,0,0,0,0,0,0,0,0,0,0,0,0,0,2889,2580,2292,1985,1843,1830,1323,1235,1019,832,770,675,587,451,422,446,424,417]
["21119",2,11,19,0,0,0,0,0,0,0,0,0,0,0,0,0,0,0,0,0,0,0,0,0,0,0,0,0,0,0,0,0,0,0]
["21210",2,12,10,146618,141702,143357,144269,156072,170477,109704,69000,131741,124554,172230,164189,161774,151650,142611,145932,145905,147802,155799,125947,148673,156203,150680,161761,170216,185016,187028,180155,167322,184918,169289]
["21211",2,12,11,0,0,0,0,0,0,0,0,0,0,0,0,0,0,0,0,0,0,0,0,0,0,0,0,0,0,0,0,0,0,0]
["21212",2,12,12,0,0,0,0,0,0,0,0,0,0,0,0,0,0,0,0,0,0,0,0,0,0,0,0,0,0,0,0,0,0,0]
["21213",2,12,13,29080,28105,26459,27382,29601,31600,28532,34490,30100,42858,43519,40020,38732,36928,36786,31779,29592,32168,32168,30155,32135,31652,29996,31739,37140,36857,36783,36055,29569,32533,32503]
["21214",2,12,14,0,0,0,0,0,0,0,0,0,0,0,0,0,0,0,0,0,0,0,0,0,0,0,0,0,0,0,0,0,0,0]
["21215",2,12,15,43558,42098,38973,40332,43601,56239,35909,16660,40653,48846,54112,56145,52531,52486,52484,53270,55800,55188,58590,56690,58287,62145,63937,72398,75040,87500,88704,85834,79788,94738,81826]
["21216",2,12,16,72918,70473,76821,75527,81647,81696,44320,17850,59500,32850,73569,67105,69290,62234,53341,59717,59522,59766,64004,39102,57147,61300,55630,56506,57007,59630,60512,57630,56905,56968,54114]
["21217",2,12,17,1062,1026,1104,1028,1223,942,943,0,1488,0,1030,919,1221,1,0,1166,991,680,1037,0,1104,1106,1117,1117,1029,1029,1029,636,1059,679,847]
["21218",2,12,18,0,0,0,0,0,0,0,0,0,0,0,0,0,0,0,0,0,0,0,0,0,0,0,0,0,0,0,0,0,0,0]
["21219",2,12,19,0,0,0,0,0,0,0,0,0,0,0,0,0,0,0,0,0,0,0,0,0,0,0,0,0,0,0,0,0,0,0]
["3110",3,1,10,1882,1915,1733,2018,1883,2162,1805,2049,2407,2064,2462,2187,2761,2795,2793,2645,2919,2643,2966,2058,3209,3416,3590,3290,3351,4088,4092,4336,4416,4607,4422]
["3111",3,1,11,2299,2369,2363,2499,2422,2433,2773,2990,3169,3286,3322,3190,3338,3942,3888,3940,3561,3536,3493,2948,3139,3220,3304,3227,3458,3799,3722,3694,3860,3758,3654]
["3112",3,1,12,1279,1333,1020,1379,1169,1313,1144,1125,1185,712,1125,923,794,1341,1178,905,1323,1143,1233,1008,1178,1184,1161,1035,939,1016,951,1173,1146,1080,1142]
["3113",3,1,13,2569,2621,2512,2663,2666,2813,3185,3395,3498,3830,4016,4125,4159,4389,4620,4027,3866,3907,3928,3667,4546,4935,4870,5564,5656,6677,6154,6317,6316,6460,6906]
["3114",3,1,14,1065,1095,979,1027,979,1015,1035,1573,1453,1400,1496,1362,1816,1615,1711,1303,1639,1552,1621,890,1403,1575,1598,1246,1287,1553,1171,1401,1526,1446,1342]
["3115",3,1,15,3566,3641,3470,3702,3731,4167,3889,4089,5124,4771,5648,5412,6929,6049,6278,7774,6842,7287,7058,5767,6458,6893,7180,7202,8775,9308,9284,9118,9216,9825,8879]
["3116",3,1,16,1632,1651,1358,1816,1506,2006,1244,1545,1993,1382,1958,1494,1868,2099,2084,1638,2244,1624,2290,1000,2718,2659,2907,2263,2110,2688,2764,3281,3357,3388,3284]
["3117",3,1,17,779,785,702,835,829,833,610,756,818,531,762,530,1008,1564,1565,1806,1774,1621,1658,1141,1955,2357,2338,2202,2202,2382,1685,2151,2470,2397,2569]
["3118",3,1,18,3343,3018,2727,3367,2685,3090,3154,3462,3343,3960,3394,3304,2856,2963,2962,2795,2503,2507,2971,2700,2800,2599,2419,2702,2700,2377,1887,1773,1874,1752,1976]
["3119",3,1,19,1669,1726,1424,1982,1441,2121,1238,1256,1257,1258,1259,1260,1261,2459,2454,2452,2464,2473,2475,2486,2557,2598,2648,2766,2761,3016,2985,3038,3004,3004,3004]
["3210",3,2,10,1630,1694,1380,1915,1429,2098,1291,1686,1967,1387,1714,1190,1015,1599,1568,837,1790,858,1563,664,2385,1863,2303,1701,1430,1200,1077,1764,2066,2023,2357]
["3211",3,2,11,884,919,754,1045,769,1130,654,1006,940,688,684,557,611,656,713,462,823,742,747,637,807,859,908,879,876,877,501,690,726,727,727]
["3212",3,2,12,1316,1361,1123,1559,1139,1672,978,1430,1440,820,1305,1069,883,1455,1267,814,1587,1264,1418,1035,1393,1345,1137,925,871,921,835,1490,1163,1004,1011]
["3213",3,2,13,1472,1523,1257,1743,1274,1872,1094,1667,1539,1501,1592,1427,1290,1719,1719,1733,1878,1316,1452,1102,1632,1576,1610,1466,1496,1498,901,1070,1063,999,1008]
["3214",3,2,14,1207,1249,1031,1430,1045,1534,897,1413,1208,978,1138,800,767,1049,1098,792,1096,1037,987,459,1109,1169,1314,956,1086,1159,704,986,999,852,914]
["3215",3,2,15,2240,2340,1896,2619,1987,2943,1653,2499,2721,2517,2146,1555,1799,2382,2313,1725,2491,1841,1898,1577,2790,3479,3179,2380,1816,1446,1291,2312,2743,2706,3455]
["3216",3,2,16,1651,1716,1399,1940,1447,2127,1327,1668,2028,1371,1789,1205,1027,1565,1550,808,1767,794,1564,564,2457,1790,2329,1718,1495,1215,1108,1809,2183,2166,2521]
["3217",3,2,17,633,655,540,750,549,806,470,750,620,341,609,200,225,1143,1140,1198,1260,900,1143,354,1617,1511,1425,1077,1342,1395,695,1406,1384,1350,1390]
["3218",3,2,18,1667,1731,1438,1963,1471,2120,1244,1273,1273,"","","","","","","","","","","","","","","","","","","","","",""]
["3219",3,2,19,1669,1726,1424,1982,1441,2121,1238,1256,1257,1258,1259,1260,1261,1261,1269,1262,1270,1267,1255,1260,1267,1250,1257,1276,1261,2003,1964,1985,1986,1986,1986]
["3310",3,3,10,1669,1727,1425,1977,1445,2121,1336,1693,1958,1402,1721,1200,1007,1633,2086,1019,2026,1199,1647,666,2387,1865,2301,1675,1378,1188,1071,1760,2056,2012,2307]
["3311",3,3,11,893,926,764,1059,772,1136,663,1006,940,688,684,557,611,656,713,462,823,742,747,637,807,859,908,879,876,877,501,690,726,727,727]
["3312",3,3,12,1316,1361,1123,1559,1139,1672,978,1430,1440,820,1305,1069,883,1455,1267,814,1587,1264,1418,1035,1393,1345,1137,925,871,921,835,1490,1163,1004,1011]
["3313",3,3,13,1474,1525,1259,1746,1276,1873,1095,1667,1540,1501,1592,1427,1290,1719,1719,1733,1878,1316,1452,1102,1632,1576,1610,1471,1500,1502,901,1070,1063,999,1008]
["3314",3,3,14,1207,1249,1031,1430,1045,1534,897,1413,1208,978,1138,800,767,1049,1098,792,1096,1037,987,459,1109,1169,1314,956,1086,1159,704,986,999,852,914]
["3315",3,3,15,2449,2534,2091,2902,2121,3112,1820,2612,2748,2620,2193,1591,1954,2641,2521,1830,3013,2270,2440,1584,2800,3489,3183,2465,1827,1449,1293,2317,2753,2716,3482]
["3316",3,3,16,1698,1757,1450,2012,1471,2159,1381,1683,2030,1400,1810,1220,1025,1612,2320,1071,2217,1097,1765,566,2463,1793,2333,1703,1440,1200,1103,1806,2174,2165,2482]
["3317",3,3,17,634,657,542,752,550,807,472,750,620,339,606,195,220,1076,1073,1127,1186,828,1028,361,1620,1511,1425,1010,1342,1395,695,1386,1361,1327,1367]
["3318",3,3,18,1667,1731,1438,1963,1471,2120,1244,1273,1273,"","","","","","","","","","","","","","","","","","","","","",""]
["3319",3,3,19,1669,1726,1424,1982,1441,2121,1238,1256,1257,1258,1259,1260,1261,1261,1269,1262,1270,1267,1255,1260,1267,1250,1257,1276,1261,2003,1964,1985,1986,1986,1986]
["3410",3,4,10,1250,1355,789,1197,1270,1798,840,1550,2055,1247,1661,1106,1051,1532,1242,769,1737,787,1543,559,2297,1790,2348,1848,1713,1362,1150,1884,2341,2170,2713]
["3411",3,4,11,643,692,400,615,667,900,417,"",938,"","","","","","","","","","","","","","","","","","","","","",""]
["3412",3,4,12,1318,1364,1000,1500,1067,1625,900,"",1385,"","","","","","","","","","","","","","","","","","","","","",""]
["3413",3,4,13,846,923,556,833,778,1333,636,"",1267,"","","","","","","","","","","","","","",1301,1360,1369,953,1029,"","",""]
["3414",3,4,14,"","","","","","","","","",1000,"","","",900,900,714,"","","","","","","","","","","","","","",""]
["3415",3,4,15,1455,1577,917,1392,1478,2093,977,1984,2544,2019,1864,1220,1390,2052,2079,1687,2244,1677,1727,1377,2304,2989,3093,2098,1373,1207,1171,1864,2066,2503,2846]
["3416",3,4,16,1205,1306,760,1153,1225,1734,810,1330,2006,1120,1654,1100,1035,1485,1202,745,1712,762,1535,448,2305,1703,2229,1792,1717,1365,1150,1906,2397,2170,2731]
["3417",3,4,17,395,452,267,410,414,594,282,"",620,500,900,897,875,1400,1400,1470,1546,1081,1498,259,1500,"","",1632,"","","",1574,1542,1503,1542]
["3418",3,4,18,"","","","","","","","","","","","","","","","","","","","","","","","","","","","","","",""]
["3419",3,4,19,"","","","","","","","","","","","","","","","","","","","","","","","","","","","","","",""]
["3510",3,5,10,1059,1111,834,1098,1015,929,926,920,965,583,890,690,640,1144,1040,644,1024,888,953,779,1014,1022,1042,946,859,932,758,865,891,856,903]
["3511",3,5,11,1004,1053,774,1117,949,977,862,950,1008,782,813,637,761,896,975,753,893,861,850,736,848,792,761,792,788,792,661,826,786,763,773]
["3512",3,5,12,1340,1406,989,1367,1254,1140,1300,950,1038,546,970,754,616,1318,1119,722,1173,955,1049,919,1074,1091,1129,1071,906,1012,906,960,996,970,1040]
["3513",3,5,13,1040,1091,950,1150,861,1007,615,603,858,810,1091,667,950,1083,1083,1076,1023,1023,1079,613,904,901,903,855,855,934,654,1028,979,886,975]
["3514",3,5,14,739,776,676,725,744,643,538,933,820,560,715,600,600,928,940,434,762,743,731,485,928,929,879,738,785,796,494,689,703,629,642]
["3515",3,5,15,742,778,636,637,784,867,855,841,813,562,718,471,680,765,694,658,941,796,816,629,904,875,861,906,701,1000,691,"","","",""]
["3516",3,5,16,1008,1058,624,1166,1367,1287,700,549,663,600,687,317,667,501,424,498,672,370,813,363,806,725,782,592,561,502,200,680,782,1016,1155]
["3517",3,5,17,625,657,790,661,539,629,195,300,351,212,433,171,171,409,409,432,442,308,333,167,796,762,714,935,820,"","","",862,844,861]
["3518",3,5,18,"","","","","","","","","","","","","","","","","","","","","","","","","","","","","","",""]
["3519",3,5,19,"","","","","","","","","","","","","",650,650,650,650,650,650,650,650,650,650,650,650,650,650,"","","",""]
["3610",3,6,10,1181,1183,731,1038,823,828,601,830,1059,785,857,585,596,1196,1322,631,1076,721,1099,469,1623,1347,1673,1210,1071,922,742,1248,1334,1212,1551]
["3611",3,6,11,1065,1067,515,770,675,788,921,851,862,792,898,845,876,862,866,658,755,758,755,664,765,706,699,626,596,677,600,766,767,745,750]
["3612",3,6,12,921,922,409,610,536,971,893,855,955,493,738,609,595,840,682,542,722,665,694,484,562,679,698,534,498,513,478,610,572,522,504]
["3613",3,6,13,1467,1470,930,1170,856,1025,1270,1037,1030,1030,1137,917,894,1137,1137,1095,935,937,971,704,1000,954,913,843,870,943,644,831,805,742,812]
["3614",3,6,14,1223,1226,774,893,705,914,974,1043,740,472,579,500,439,654,654,490,741,711,724,315,640,672,719,659,703,731,484,673,671,593,620]
["3615",3,6,15,1569,1572,1023,1285,967,1124,1010,1013,1190,757,925,700,864,1055,1027,886,1062,834,1171,768,1063,1023,978,1107,382,1158,995,1373,1323,1723,1834]
["3616",3,6,16,1189,1191,726,1092,871,823,513,835,1160,880,920,621,611,1332,1500,608,1200,709,1209,435,1913,1556,1940,1324,1153,971,803,1379,1471,1353,1772]
["3617",3,6,17,593,595,383,482,406,497,264,519,406,250,407,200,189,600,600,630,663,619,886,381,1111,1045,897,928,976,1225,674,989,1054,1077,1102]
["3618",3,6,18,"","","","","","","","","","","","","","","","","","","","","","","","","","","","","","",""]
["3619",3,6,19,"","","","","","","","","","","","","","","","","","","","","","","","","","","","","","",""]
["3710",3,7,10,1222,1127,810,1224,1177,1908,945,1598,1802,1043,1537,878,999,1189,1670,1070,1787,1132,1651,765,2390,1994,2317,1782,1514,1263,1153,1792,2209,2097,2261]
["3711",3,7,11,515,473,267,470,442,764,896,980,778,625,500,444,500,500,500,507,569,497,680,689,724,676,661,"","",646,646,854,804,813,813]
["3712",3,7,12,901,832,459,833,751,1133,1255,930,963,615,888,728,657,842,714,576,811,751,779,574,687,757,756,562,528,543,513,609,613,579,536]
["3713",3,7,13,1331,1230,1088,1300,1215,1697,1931,1482,1221,902,906,735,730,1007,1010,1010,1071,1062,1058,892,1179,1160,1160,1139,1196,1220,809,922,909,898,905]
["3714",3,7,14,741,685,484,779,699,1036,726,900,760,675,708,541,459,826,804,541,1074,848,759,216,1017,1114,1191,1079,1307,1391,839,1171,1139,1004,1062]
["3715",3,7,15,1333,1230,649,867,1220,1953,2054,2045,1973,1211,1800,1260,1600,1856,1777,1579,1969,1736,1929,2488,3203,3068,2298,1699,1161,1446,1364,2315,2602,2432,3220]
["3716",3,7,16,1277,1178,878,1351,1230,2026,856,1638,1861,1066,1566,870,870,1108,1764,1035,2009,1095,1784,596,2348,1823,2369,1817,1557,1247,1144,1741,2226,2101,2228]
["3717",3,7,17,523,482,438,647,588,622,269,400,430,246,458,200,218,915,915,961,900,629,683,262,1115,1248,1209,1200,1211,1272,648,1201,1173,1151,1174]
["3718",3,7,18,"","","","","","","","","","","","","","","","","","","","","","","","","","","","","","",""]
["3719",3,7,19,"","","","","","","","","","","","","",917,909,900,900,900,900,900,900,900,900,900,900,900,900,"","","",""]
["3810",3,8,10,1405,1410,1237,1666,1244,1588,1111,1480,1706,1094,1318,896,752,1247,1691,860,1489,839,1397,403,2093,1582,2052,1480,1056,1147,818,1543,1562,1693,1905]
["3811",3,8,11,"","","","","","","",1500,"","","","","","","","","","","","","","","","","","","","","","",""]
["3812",3,8,12,"","","","","","","",1500,1379,653,853,560,552,1166,1164,908,1125,1142,1130,872,1082,1345,1167,1265,1234,1449,1334,1106,1066,1051,1069]
["3813",3,8,13,"","","","","","","",1667,"",1429,1428,1529,1353,1468,1483,1558,2000,2000,1824,941,1082,1080,1080,1147,1046,1059,737,862,837,816,1039]
["3814",3,8,14,"","",370,1200,623,925,1111,1021,902,850,850,670,574,1001,1009,498,580,580,583,241,909,995,1060,902,1105,1211,580,944,956,767,847]
["3815",3,8,15,"","",1000,1067,1000,1125,1111,1333,2020,1280,1400,1050,1231,1575,1621,1217,1696,1535,1767,1161,1846,1898,1717,1465,1036,1105,1034,2155,1968,2045,2110]
["3816",3,8,16,1405,1410,1250,1683,1257,1604,1111,1489,1713,1100,1350,903,746,1244,1750,899,1576,830,1449,394,2154,1609,2100,1523,1054,1144,826,1561,1579,1738,1967]
["3817",3,8,17,"","","","","","","",1244,759,456,647,229,229,756,756,796,834,589,613,229,1102,1023,966,965,1065,1073,534,1073,1051,1028,1096]
["3818",3,8,18,"","","","","","","","","","","","","","","","","","","","","","","","","","","","","","",""]
["3819",3,8,19,"","","","","","","","","","","","","","","","","","","","","","","","","","","","","","",""]
["3910",3,9,10,2953,3033,3139,3154,3055,3041,3455,3723,4094,4362,4677,4959,5370,5709,5781,5893,5729,5684,5787,4681,5289,5841,6328,6694,6929,8104,8304,8315,8333,8452,8019]
["3911",3,9,11,2464,2540,2635,2637,2567,2576,2959,3195,3373,3548,3585,3475,3650,4160,4096,4125,3740,3683,3639,3070,3243,3324,3404,3315,3563,3910,3841,3801,3964,3859,3747]
["3912",3,9,12,950,988,1029,1033,1017,967,1101,1049,1277,1337,1422,1386,1360,1518,1500,1708,1706,1689,1731,1495,1610,1579,1558,1481,1460,1531,1566,1759,1855,1728,1893]
["3913",3,9,13,2774,2859,2966,2969,2887,2879,3312,3614,3796,3987,4126,4380,4353,4769,5113,4318,4264,4221,4228,3915,5152,5755,5611,6514,6488,7843,7160,7407,7350,7547,8234]
["3914",3,9,14,2035,2099,2178,2182,2119,2074,2390,2782,2610,2987,2989,2770,3452,3138,3236,2791,2945,2706,2743,1679,2279,2663,2752,2686,2669,3410,2971,3484,3690,3473,3276]
["3915",3,9,15,5593,5762,5976,5982,5804,5764,6644,7044,7914,7729,7767,8417,8852,8937,9460,9776,9849,9383,9732,8315,8931,9296,10455,11647,11741,13176,13256,11888,12108,13141,12014]
["3916",3,9,16,3941,4055,4205,4207,4074,4061,4688,4192,6386,7202,7272,6588,6434,8100,7948,8704,7894,7860,8528,7327,8965,9379,9842,9755,9700,10855,12117,12026,12475,12972,12913]
["3917",3,9,17,2390,2464,2555,2559,2480,2403,2778,3196,3172,2904,2687,3589,4068,5793,5804,5804,5804,5562,5874,6345,5578,6570,7575,6632,5820,6359,6454,8215,9518,10758,11479]
["3918",3,9,18,3360,3033,2742,3388,2699,3109,3184,3472,3355,3960,3394,3304,2856,2963,2962,2795,2503,2507,2971,2700,2800,2599,2419,2702,2700,2377,1887,1773,1874,1752,1976]
["3919",3,9,19,"","","","","","","","","","","","","",3753,3753,3757,3746,3750,3750,3750,3754,3759,3745,3750,3750,3750,3750,3750,3750,3750,3750]
["31010",3,10,10,3145,3235,3353,3354,3269,3403,3845,4079,4350,4618,4941,5252,5659,6203,6227,6275,6095,6042,6168,5000,5641,6240,6752,7241,7533,8770,8962,8921,8956,9136,8615]
["31011",3,10,11,2581,2655,2752,2752,2682,2793,3196,3400,3545,3740,3771,3675,3715,4219,4154,4178,3818,3765,3725,3148,3328,3418,3502,3462,3770,4150,4069,4029,4193,4095,3973]
["31012",3,10,12,1034,1063,1102,1103,1074,1119,1280,1240,1508,1634,1670,1666,1714,1878,1819,2006,1998,2025,2121,1896,2024,1987,1957,1958,1957,2001,2075,2297,2414,2369,2533]
["31013",3,10,13,2940,3024,3135,3136,3056,3182,3641,4000,3923,4108,4247,4500,4482,5224,5297,4392,4301,4270,4312,4045,5324,6067,5909,7007,7007,8586,7862,8150,8041,8284,8829]
["31014",3,10,14,2223,2287,2371,2371,2311,2406,2754,3052,2920,3000,3000,2770,3452,3610,3729,3245,3402,3109,3159,1984,2742,3234,3406,3271,3327,4164,3655,4248,4405,4180,3797]
["31015",3,10,15,6007,6179,6405,6406,6243,6501,7439,7800,8325,8325,8391,8824,9089,9443,10060,10218,10164,9757,10169,8602,9200,9536,10645,11929,12001,13446,13393,12029,12295,13271,12131]
["31016",3,10,16,4240,4361,4521,4522,4407,4588,5251,4770,6470,7291,7413,7000,7135,8617,8554,9049,8089,7989,8653,7441,9032,9420,9884,9755,9700,10855,12117,12026,12475,12972,12913]
["31017",3,10,17,2674,2752,2847,2850,2778,2893,3313,3599,3600,3580,3581,4000,4500,6650,6654,6654,6654,6332,6627,6500,6394,7430,8056,7496,6641,7258,7263,9407,10365,11392,11954]
["31018",3,10,18,"","","","","","","","","","","","","","","","","","","","","","","","","","","","","","",""]
["31019",3,10,19,"","","","","","","","","","","","","",3753,3753,3757,3746,3750,3750,3750,3754,3759,3745,3750,3750,3750,3750,3750,3750,3750,3750]
["31110",3,11,10,1310,1399,1474,1498,1530,1317,1448,1155,1058,1319,1463,1350,1239,1675,2020,2068,2182,2110,2006,1673,2169,2367,2356,2432,2317,2401,1937,2040,2234,1981,2157]
["31111",3,11,11,1312,1402,1476,1501,1533,1319,1456,1110,1154,1402,1401,1318,2211,3017,2964,2985,2551,2409,2282,1825,1858,1825,1806,1839,1677,1688,1707,1670,1808,1672,1702]
["31112",3,11,12,779,832,877,891,910,783,865,594,730,778,836,875,711,906,945,1169,1171,1051,986,767,833,803,800,862,872,975,962,1095,1169,926,1058]
["31113",3,11,13,1339,1431,1507,1532,1564,1346,1486,1220,932,1243,1496,1562,1502,2106,3761,3688,3993,3846,3594,2922,4009,4183,4039,3996,3911,3937,3055,3036,3237,3170,3587]
["31114",3,11,14,973,1039,1094,1113,1137,978,1079,998,636,1180,1175,"","",380,380,246,240,251,251,174,359,332,375,307,328,408,303,449,456,390,473]
["31115",3,11,15,2041,2181,2297,2334,2384,2051,2265,1690,1874,1770,2049,2300,2369,1740,1378,1588,1828,1960,1709,1236,2110,2402,3328,3700,3683,4406,3529,4203,4629,3711,4453]
["31116",3,11,16,639,682,718,731,746,643,710,510,889,557,853,436,325,702,671,729,709,552,536,128,317,150,150,"","","","","","","",""]
["31117",3,11,17,1025,1087,1149,1162,1187,1025,1130,1000,757,1000,1000,1000,995,1205,1251,1251,1251,1251,1185,406,1275,1269,1238,1142,1268,1401,891,1653,1964,2122,2191]
["31118",3,11,18,"","","","","","","","","","","","","",2963,2962,2795,2503,2507,2971,2700,2800,2599,2419,2702,2700,2377,1887,1773,1874,1752,1976]
["31119",3,11,19,"","","","","","","","","","","","","","","","","","","","","","","","","","","","","","",""]
["31210",3,12,10,4463,4322,4266,4290,4614,5094,5195,5227,5478,5733,6091,5753,5987,5992,5977,5852,5786,5761,5853,5504,5855,5806,5722,5682,5845,5885,5999,5970,5819,6346,5808]
["31211",3,12,11,"","","","","","","","","","","","","","","","","","","","","","","","","","","","","","",""]
["31212",3,12,12,"","","","","","","","","","","","","","","","","","","","","","","","","","","","","","",""]
["31213",3,12,13,3740,3621,3359,3474,3734,4151,5150,5226,4300,5650,6007,5800,5800,5765,5750,4913,4599,4885,4885,4579,4880,4874,4792,4874,5703,5622,5624,5608,5091,5245,5232]
["31214",3,12,14,"","","","","","","","","","","","","","","","","","","","","","","","","","","","","","",""]
["31215",3,12,15,4454,4312,3973,4108,4415,5592,5300,5206,5960,6000,6080,5700,6038,5987,5988,6105,6191,6063,6115,5936,6228,6076,6073,5916,5934,5955,6145,6020,5783,6740,5726]
["31216",3,12,16,4844,4691,4905,4818,5179,5237,5150,5250,5950,5475,6160,5773,6070,6141,6134,6269,6231,6129,6252,5797,6200,6159,5970,5952,5845,5976,6057,6162,6363,6564,6409]
["31217",3,12,17,4352,4222,4364,4047,4796,4782,4787,"",6470,"",5421,5503,5403,1000,"",5398,4588,3119,4801,"",4800,4851,4899,4900,4900,4900,4900,4655,5121,3328,4154]
["31218",3,12,18,"","","","","","","","","","","","",""]
["31219",3,12,19,"","","","","","","","","","","","","","","","","","","","","","","","","","","","","","",""]
[{"$f":"+B362&C362&D362","v":"11310"},1,13,10,null,null,null,null,null,null,null,null,null,null,null,null,null,null,null,null,null,null,null,null,null,null,null,null,null,81511,80329,84418,85387,80781,80258]
[{"$f":"+B363&C363&D363","v":"11311"},1,13,11,null,null,null,null,null,null,null,null,null,null,null,null,null,null,null,null,null,null,null,null,null,null,null,null,null,36241,36335,36293,36205,36152,36067]
["11312",1,13,12,null,null,null,null,null,null,null,null,null,null,null,null,null,null,null,null,null,null,null,null,null,null,null,null,null,4410,4331,4379,4504,4468,4348]
["11313",1,13,13,null,null,null,null,null,null,null,null,null,null,null,null,null,null,null,null,null,null,null,null,null,null,null,null,null,12878,12297,14775,14270,14048,13904]
["11314",1,13,14,null,null,null,null,null,null,null,null,null,null,null,null,null,null,null,null,null,null,null,null,null,null,null,null,null,11215,10988,8768,8803,8803,8695]
["11315",1,13,15,null,null,null,null,null,null,null,null,null,null,null,null,null,null,null,null,null,null,null,null,null,null,null,null,null,4271,4936,4413,2207,2621,2665]
["11316",1,13,16,null,null,null,null,null,null,null,null,null,null,null,null,null,null,null,null,null,null,null,null,null,null,null,null,null,3540,3442,6507,9950,3376,3196]
["11317",1,13,17,null,null,null,null,null,null,null,null,null,null,null,null,null,null,null,null,null,null,null,null,null,null,null,null,null,54,124,70,70,75,70]
["11410",1,14,10,null,null,null,null,null,null,null,null,null,null,null,null,null,null,null,null,null,null,null,null,null,null,null,null,null,141880,145293,148199,148361,130559,74587]
["11411",1,14,11,null,null,null,null,null,null,null,null,null,null,null,null,null,null,null,null,null,null,null,null,null,null,null,null,null,3129,3189,3279,3260,3158,2790]
["11412",1,14,12,null,null,null,null,null,null,null,null,null,null,null,null,null,null,null,null,null,null,null,null,null,null,null,null,null,15456,15453,15565,15728,16399,16756]
["11413",1,14,13,null,null,null,null,null,null,null,null,null,null,null,null,null,null,null,null,null,null,null,null,null,null,null,null,null,6236,5920,5072,4783,4626,4651]
["11414",1,14,14,null,null,null,null,null,null,null,null,null,null,null,null,null,null,null,null,null,null,null,null,null,null,null,null,null,25844,25943,24281,22815,21685,21802]
["11415",1,14,15,null,null,null,null,null,null,null,null,null,null,null,null,null,null,null,null,null,null,null,null,null,null,null,null,null,10908,13547,14723,14723,1036,2498]
["11416",1,14,16,null,null,null,null,null,null,null,null,null,null,null,null,null,null,null,null,null,null,null,null,null,null,null,null,null,78495,78495,83155,84953,81547,24021]
["11417",1,14,17,null,null,null,null,null,null,null,null,null,null,null,null,null,null,null,null,null,null,null,null,null,null,null,null,null,1752,2686,2065,2040,2050,2010]
["31310",3,13,10,null,null,null,null,null,null,null,null,null,null,null,null,null,null,null,null,null,null,null,null,null,null,null,null,null,39962,40369,40719,42020,39022,38262]
["31311",3,13,11,null,null,null,null,null,null,null,null,null,null,null,null,null,null,null,null,null,null,null,null,null,null,null,null,null,50927,51138,51498,50903,47818,46009]
["31312",3,13,12,null,null,null,null,null,null,null,null,null,null,null,null,null,null,null,null,null,null,null,null,null,null,null,null,null,26750,23877,25736,26299,25252,26556]
["31313",3,13,13,null,null,null,null,null,null,null,null,null,null,null,null,null,null,null,null,null,null,null,null,null,null,null,null,null,35397,30177,34438,36461,35581,34750]
["31314",3,13,14,null,null,null,null,null,null,null,null,null,null,null,null,null,null,null,null,null,null,null,null,null,null,null,null,null,18334,16165,17783,17093,15963,16625]
["31315",3,13,15,null,null,null,null,null,null,null,null,null,null,null,null,null,null,null,null,null,null,null,null,null,null,null,null,null,55000,55982,52624,56754,57041,56903]
["31316",3,13,16,null,null,null,null,null,null,null,null,null,null,null,null,null,null,null,null,null,null,null,null,null,null,null,null,null,55000,52754,50413,55814,54184,53298]
["31317",3,13,17,null,null,null,null,null,null,null,null,null,null,null,null,null,null,null,null,null,null,null,null,null,null,null,null,null,41149,41145,41220,41220,41218,41160]
["31410",3,14,10,null,null,null,null,null,null,null,null,null,null,null,null,null,null,null,null,null,null,null,null,null,null,null,null,null,17913,10677,17107,17590,15135,16263]
["31411",3,14,11,null,null,null,null,null,null,null,null,null,null,null,null,null,null,null,null,null,null,null,null,null,null,null,null,null,26366,20507,24843,22438,22064,20474]
["31412",3,14,12,null,null,null,null,null,null,null,null,null,null,null,null,null,null,null,null,null,null,null,null,null,null,null,null,null,15075,11296,16057,16053,14015,13993]
["31413",3,14,13,null,null,null,null,null,null,null,null,null,null,null,null,null,null,null,null,null,null,null,null,null,null,null,null,null,14362,8773,12533,13100,12383,13121]
["31414",3,14,14,null,null,null,null,null,null,null,null,null,null,null,null,null,null,null,null,null,null,null,null,null,null,null,null,null,12085,5910,10844,11063,9422,10743]
["31415",3,14,15,null,null,null,null,null,null,null,null,null,null,null,null,null,null,null,null,null,null,null,null,null,null,null,null,null,20000,13148,17304,17304,16378,16090]
["31416",3,14,16,null,null,null,null,null,null,null,null,null,null,null,null,null,null,null,null,null,null,null,null,null,null,null,null,null,20000,11397,19000,19686,16627,22727]
["31417",3,14,17,null,null,null,null,null,null,null,null,null,null,null,null,null,null,null,null,null,null,null,null,null,null,null,null,null,20000,12000,20000,20000,20000,19404]
["21310",2,13,10,null,null,null,null,null,null,null,null,null,null,null,null,null,null,null,null,null,null,null,null,null,null,null,null,null,3257398,3242795,3437464,3587924,3152230,3070832]
["21311",2,13,11,null,null,null,null,null,null,null,null,null,null,null,null,null,null,null,null,null,null,null,null,null,null,null,null,null,1845636,1858084,1869020,1842959,1728714,1659406]
["21312",2,13,12,null,null,null,null,null,null,null,null,null,null,null,null,null,null,null,null,null,null,null,null,null,null,null,null,null,117958,103407,112697,118438,112820,115467]
["21313",2,13,13,null,null,null,null,null,null,null,null,null,null,null,null,null,null,null,null,null,null,null,null,null,null,null,null,null,455839,371091,508821,520317,499849,483159]
["21314",2,13,14,null,null,null,null,null,null,null,null,null,null,null,null,null,null,null,null,null,null,null,null,null,null,null,null,null,205621,177615,155920,150469,140518,144545]
["21315",2,13,15,null,null,null,null,null,null,null,null,null,null,null,null,null,null,null,null,null,null,null,null,null,null,null,null,null,234905,276337,232228,125233,149499,151631]
["21316",2,13,16,null,null,null,null,null,null,null,null,null,null,null,null,null,null,null,null,null,null,null,null,null,null,null,null,null,194700,181579,328037,555333,182924,170340]
["21317",2,13,17,null,null,null,null,null,null,null,null,null,null,null,null,null,null,null,null,null,null,null,null,null,null,null,null,null,2210,5102,2885,2885,3091,2873]
["21410",2,14,10,null,null,null,null,null,null,null,null,null,null,null,null,null,null,null,null,null,null,null,null,null,null,null,null,null,2541569,1551256,2535322,2609658,1976056,1213009]
["21411",2,14,11,null,null,null,null,null,null,null,null,null,null,null,null,null,null,null,null,null,null,null,null,null,null,null,null,null,82509,65392,81463,73140,69683,57118]
["21412",2,14,12,null,null,null,null,null,null,null,null,null,null,null,null,null,null,null,null,null,null,null,null,null,null,null,null,null,232997,174569,249916,252474,229836,234464]
["21413",2,14,13,null,null,null,null,null,null,null,null,null,null,null,null,null,null,null,null,null,null,null,null,null,null,null,null,null,89561,51939,63571,62661,57281,61022]
["21414",2,14,14,null,null,null,null,null,null,null,null,null,null,null,null,null,null,null,null,null,null,null,null,null,null,null,null,null,312328,153332,263305,252389,204318,234214]
["21415",2,14,15,null,null,null,null,null,null,null,null,null,null,null,null,null,null,null,null,null,null,null,null,null,null,null,null,null,218160,178115,254755,254755,16962,40197]
["21416",2,14,16,null,null,null,null,null,null,null,null,null,null,null,null,null,null,null,null,null,null,null,null,null,null,null,null,null,1569900,894610,1579945,1672371,1355909,545923]
["21417",2,14,17,null,null,null,null,null,null,null,null,null,null,null,null,null,null,null,null,null,null,null,null,null,null,null,null,null,35047,32232,41300,40800,41000,39003]

{"sheet":"Sheet1","index":23,"n_rows":16,"n_cols":14,"rows_kept":16,"cut":false,"hidden":true,"merged":[]}
[{"$f":"+INDEX(B3:B16,A2)","v":"Trigo mole"},{"$f":"+INDEX(B3:B16,B2)","v":"Cevada"},null,null,null,{"$f":"+INDEX(G4:G6,F2)","v":"Produção "},{"$f":"+INDEX(H4:H6,F2)","v":"(ton)"},null,{"$f":"+INDEX(J3:J12,I2)","v":"Portugal"},{"$f":"+INDEX(J3:J12,J2)","v":"Portugal"}]
[3,7,null,null,null,2,null,null,1,1,null,null,{"$f":"+INDEX(F4:F6,F2)&INDEX(A3:A16,A2)&INDEX(I3:I12,I2)","v":"2310"},{"$f":"+INDEX(F4:F6,F2)&INDEX(A3:A16,B2)&INDEX(I3:I12,J2)","v":"2710"}]
[1,"Cereais para grão",null,null,null,null,null,null,10,"Portugal"]
[2,"Trigo",null,null,null,1,"Superfície","(ha)",11,"Entre Douro e Minho"]
[3,"Trigo mole",null,null,null,2,"Produção ","(ton)",12,"Trás-os-Montes"]
[4,"Trigo duro",null,null,null,3,"Produtividade","(Kg/ha)",13,"Beira Litoral"]
[5,"Centeio",null,null,null,null,null,null,14,"Beira Interior"]
[6,"Aveia",null,null,null,null,null,null,15,"Ribatejo e Oeste"]
[7,"Cevada",null,null,null,null,null,null,16,"Alentejo"]
[8,"Triticale",null,null,null,null,null,null,17,"Algarve"]
[9,"Milho",null,null,null,null,null,null,18,"Açores"]
[10,"Milho regadio",null,null,null,null,null,null,19,"Madeira"]
[11,"Milho sequeiro"]
[12,"Arroz"]
[13,"Milho Forrageiro"]
[14,"Aveia Forrageira"]

{"sheet":"Prod_Superf","index":24,"n_rows":138,"n_cols":32,"rows_kept":138,"cut":false,"hidden":true,"merged":[[36,0,36,21],[14,0,14,21],[1,0,1,20]]}
[]
["Evolução da Superfície, Produção e Produtividades dos Cereais por Região 1986 -2016"]
[]
["Variável de análise:",null,null,"Escolher Cultura:",null,null,"Escolher Região:"]
[null,"Caso 1"]
[]
[null,"Caso 2"]
[]
[null,1986,1987,1988,1989,1990,1991,1992,1993,1994,1995,1996,1997,1998,1999,2000,2001,2002,2003,2004,2005,2006,2007,2008,2009,2010,2011,2012,2013,2014,2015,2016]
[{"$f":"+Sheet1!F1&\" de \"&Sheet1!A1&\" em \"&Sheet1!I1 & \" \" &Sheet1!G1","v":"Produção  de Trigo mole em Portugal (ton)"},{"$f":"+IF(SUMIF(Sheet3!$A$2:$A$419,Sheet1!$M$2,Sheet3!E2:E419)=0,\"\",SUMIF(Sheet3!$A$2:$A$419,Sheet1!$M$2,Sheet3!E2:E419))","v":465261},{"$f":"+IF(SUMIF(Sheet3!$A$2:$A$419,Sheet1!$M$2,Sheet3!F2:F419)=0,\"\",SUMIF(Sheet3!$A$2:$A$419,Sheet1!$M$2,Sheet3!F2:F419))","v":495822},{"$f":"+IF(SUMIF(Sheet3!$A$2:$A$419,Sheet1!$M$2,Sheet3!G2:G419)=0,\"\",SUMIF(Sheet3!$A$2:$A$419,Sheet1!$M$2,Sheet3!G2:G419))","v":378986},{"$f":"+IF(SUMIF(Sheet3!$A$2:$A$419,Sheet1!$M$2,Sheet3!H2:H419)=0,\"\",SUMIF(Sheet3!$A$2:$A$419,Sheet1!$M$2,Sheet3!H2:H419))","v":585464},{"$f":"+IF(SUMIF(Sheet3!$A$2:$A$419,Sheet1!$M$2,Sheet3!I2:I419)=0,\"\",SUMIF(Sheet3!$A$2:$A$419,Sheet1!$M$2,Sheet3!I2:I419))","v":272922},{"$f":"+IF(SUMIF(Sheet3!$A$2:$A$419,Sheet1!$M$2,Sheet3!J2:J419)=0,\"\",SUMIF(Sheet3!$A$2:$A$419,Sheet1!$M$2,Sheet3!J2:J419))","v":581620},{"$f":"+IF(SUMIF(Sheet3!$A$2:$A$419,Sheet1!$M$2,Sheet3!K2:K419)=0,\"\",SUMIF(Sheet3!$A$2:$A$419,Sheet1!$M$2,Sheet3!K2:K419))","v":340924},{"$f":"+IF(SUMIF(Sheet3!$A$2:$A$419,Sheet1!$M$2,Sheet3!L2:L419)=0,\"\",SUMIF(Sheet3!$A$2:$A$419,Sheet1!$M$2,Sheet3!L2:L419))","v":403238},{"$f":"+IF(SUMIF(Sheet3!$A$2:$A$419,Sheet1!$M$2,Sheet3!M2:M419)=0,\"\",SUMIF(Sheet3!$A$2:$A$419,Sheet1!$M$2,Sheet3!M2:M419))","v":419987},{"$f":"+IF(SUMIF(Sheet3!$A$2:$A$419,Sheet1!$M$2,Sheet3!N2:N419)=0,\"\",SUMIF(Sheet3!$A$2:$A$419,Sheet1!$M$2,Sheet3!N2:N419))","v":329080},{"$f":"+IF(SUMIF(Sheet3!$A$2:$A$419,Sheet1!$M$2,Sheet3!O2:O419)=0,\"\",SUMIF(Sheet3!$A$2:$A$419,Sheet1!$M$2,Sheet3!O2:O419))","v":361589},{"$f":"+IF(SUMIF(Sheet3!$A$2:$A$419,Sheet1!$M$2,Sheet3!P2:P419)=0,\"\",SUMIF(Sheet3!$A$2:$A$419,Sheet1!$M$2,Sheet3!P2:P419))","v":297239},{"$f":"+IF(SUMIF(Sheet3!$A$2:$A$419,Sheet1!$M$2,Sheet3!Q2:Q419)=0,\"\",SUMIF(Sheet3!$A$2:$A$419,Sheet1!$M$2,Sheet3!Q2:Q419))","v":122808},{"$f":"+IF(SUMIF(Sheet3!$A$2:$A$419,Sheet1!$M$2,Sheet3!R2:R419)=0,\"\",SUMIF(Sheet3!$A$2:$A$419,Sheet1!$M$2,Sheet3!R2:R419))","v":237326},{"$f":"+IF(SUMIF(Sheet3!$A$2:$A$419,Sheet1!$M$2,Sheet3!S2:S419)=0,\"\",SUMIF(Sheet3!$A$2:$A$419,Sheet1!$M$2,Sheet3!S2:S419))","v":182200},{"$f":"+IF(SUMIF(Sheet3!$A$2:$A$419,Sheet1!$M$2,Sheet3!T2:T419)=0,\"\",SUMIF(Sheet3!$A$2:$A$419,Sheet1!$M$2,Sheet3!T2:T419))","v":50910},{"$f":"+IF(SUMIF(Sheet3!$A$2:$A$419,Sheet1!$M$2,Sheet3!U2:U419)=0,\"\",SUMIF(Sheet3!$A$2:$A$419,Sheet1!$M$2,Sheet3!U2:U419))","v":85835},{"$f":"+IF(SUMIF(Sheet3!$A$2:$A$419,Sheet1!$M$2,Sheet3!V2:V419)=0,\"\",SUMIF(Sheet3!$A$2:$A$419,Sheet1!$M$2,Sheet3!V2:V419))","v":36149},{"$f":"+IF(SUMIF(Sheet3!$A$2:$A$419,Sheet1!$M$2,Sheet3!W2:W419)=0,\"\",SUMIF(Sheet3!$A$2:$A$419,Sheet1!$M$2,Sheet3!W2:W419))","v":58290},{"$f":"+IF(SUMIF(Sheet3!$A$2:$A$419,Sheet1!$M$2,Sheet3!X2:X419)=0,\"\",SUMIF(Sheet3!$A$2:$A$419,Sheet1!$M$2,Sheet3!X2:X419))","v":80362},{"$f":"+IF(SUMIF(Sheet3!$A$2:$A$419,Sheet1!$M$2,Sheet3!Y2:Y419)=0,\"\",SUMIF(Sheet3!$A$2:$A$419,Sheet1!$M$2,Sheet3!Y2:Y419))","v":242083},{"$f":"+IF(SUMIF(Sheet3!$A$2:$A$419,Sheet1!$M$2,Sheet3!Z2:Z419)=0,\"\",SUMIF(Sheet3!$A$2:$A$419,Sheet1!$M$2,Sheet3!Z2:Z419))","v":99762},{"$f":"+IF(SUMIF(Sheet3!$A$2:$A$419,Sheet1!$M$2,Sheet3!AA2:AA419)=0,\"\",SUMIF(Sheet3!$A$2:$A$419,Sheet1!$M$2,Sheet3!AA2:AA419))","v":196344},{"$f":"+IF(SUMIF(Sheet3!$A$2:$A$419,Sheet1!$M$2,Sheet3!AB2:AB419)=0,\"\",SUMIF(Sheet3!$A$2:$A$419,Sheet1!$M$2,Sheet3!AB2:AB419))","v":103766},{"$f":"+IF(SUMIF(Sheet3!$A$2:$A$419,Sheet1!$M$2,Sheet3!AC2:AC419)=0,\"\",SUMIF(Sheet3!$A$2:$A$419,Sheet1!$M$2,Sheet3!AC2:AC419))","v":66962},{"$f":"+IF(SUMIF(Sheet3!$A$2:$A$419,Sheet1!$M$2,Sheet3!AD2:AD419)=0,\"\",SUMIF(Sheet3!$A$2:$A$419,Sheet1!$M$2,Sheet3!AD2:AD419))","v":47096},{"$f":"+IF(SUMIF(Sheet3!$A$2:$A$419,Sheet1!$M$2,Sheet3!AE2:AE419)=0,\"\",SUMIF(Sheet3!$A$2:$A$419,Sheet1!$M$2,Sheet3!AE2:AE419))","v":54722},{"$f":"+IF(SUMIF(Sheet3!$A$2:$A$419,Sheet1!$M$2,Sheet3!AF2:AF419)=0,\"\",SUMIF(Sheet3!$A$2:$A$419,Sheet1!$M$2,Sheet3!AF2:AF419))","v":89336},{"$f":"+IF(SUMIF(Sheet3!$A$2:$A$419,Sheet1!$M$2,Sheet3!AG2:AG419)=0,\"\",SUMIF(Sheet3!$A$2:$A$419,Sheet1!$M$2,Sheet3!AG2:AG419))","v":94957},{"$f":"+SUMIF(Sheet3!$A$2:$A$419,Sheet1!$M$2,Sheet3!AH2:AH419)","v":74490},{"$f":"+SUMIF(Sheet3!$A$2:$A$419,Sheet1!$M$2,Sheet3!AI2:AI419)","v":77299}]
[{"$f":"+Sheet1!F1&\" de \"&Sheet1!B1&\" em \"&Sheet1!J1 & \" \" &Sheet1!G1","v":"Produção  de Cevada em Portugal (ton)"},{"$f":"+IF(SUMIF(Sheet3!$A$2:$A$419,Sheet1!$N$2,Sheet3!E2:E419)=0,\"\",SUMIF(Sheet3!$A$2:$A$419,Sheet1!$N$2,Sheet3!E2:E419))","v":89617},{"$f":"+IF(SUMIF(Sheet3!$A$2:$A$419,Sheet1!$N$2,Sheet3!F2:F419)=0,\"\",SUMIF(Sheet3!$A$2:$A$419,Sheet1!$N$2,Sheet3!F2:F419))","v":79439},{"$f":"+IF(SUMIF(Sheet3!$A$2:$A$419,Sheet1!$N$2,Sheet3!G2:G419)=0,\"\",SUMIF(Sheet3!$A$2:$A$419,Sheet1!$N$2,Sheet3!G2:G419))","v":50718},{"$f":"+IF(SUMIF(Sheet3!$A$2:$A$419,Sheet1!$N$2,Sheet3!H2:H419)=0,\"\",SUMIF(Sheet3!$A$2:$A$419,Sheet1!$N$2,Sheet3!H2:H419))","v":84437},{"$f":"+IF(SUMIF(Sheet3!$A$2:$A$419,Sheet1!$N$2,Sheet3!I2:I419)=0,\"\",SUMIF(Sheet3!$A$2:$A$419,Sheet1!$N$2,Sheet3!I2:I419))","v":78532},{"$f":"+IF(SUMIF(Sheet3!$A$2:$A$419,Sheet1!$N$2,Sheet3!J2:J419)=0,\"\",SUMIF(Sheet3!$A$2:$A$419,Sheet1!$N$2,Sheet3!J2:J419))","v":124104},{"$f":"+IF(SUMIF(Sheet3!$A$2:$A$419,Sheet1!$N$2,Sheet3!K2:K419)=0,\"\",SUMIF(Sheet3!$A$2:$A$419,Sheet1!$N$2,Sheet3!K2:K419))","v":63000},{"$f":"+IF(SUMIF(Sheet3!$A$2:$A$419,Sheet1!$N$2,Sheet3!L2:L419)=0,\"\",SUMIF(Sheet3!$A$2:$A$419,Sheet1!$N$2,Sheet3!L2:L419))","v":98500},{"$f":"+IF(SUMIF(Sheet3!$A$2:$A$419,Sheet1!$N$2,Sheet3!M2:M419)=0,\"\",SUMIF(Sheet3!$A$2:$A$419,Sheet1!$N$2,Sheet3!M2:M419))","v":96213},{"$f":"+IF(SUMIF(Sheet3!$A$2:$A$419,Sheet1!$N$2,Sheet3!N2:N419)=0,\"\",SUMIF(Sheet3!$A$2:$A$419,Sheet1!$N$2,Sheet3!N2:N419))","v":53058},{"$f":"+IF(SUMIF(Sheet3!$A$2:$A$419,Sheet1!$N$2,Sheet3!O2:O419)=0,\"\",SUMIF(Sheet3!$A$2:$A$419,Sheet1!$N$2,Sheet3!O2:O419))","v":69950},{"$f":"+IF(SUMIF(Sheet3!$A$2:$A$419,Sheet1!$N$2,Sheet3!P2:P419)=0,\"\",SUMIF(Sheet3!$A$2:$A$419,Sheet1!$N$2,Sheet3!P2:P419))","v":28792},{"$f":"+IF(SUMIF(Sheet3!$A$2:$A$419,Sheet1!$N$2,Sheet3!Q2:Q419)=0,\"\",SUMIF(Sheet3!$A$2:$A$419,Sheet1!$N$2,Sheet3!Q2:Q419))","v":26203},{"$f":"+IF(SUMIF(Sheet3!$A$2:$A$419,Sheet1!$N$2,Sheet3!R2:R419)=0,\"\",SUMIF(Sheet3!$A$2:$A$419,Sheet1!$N$2,Sheet3!R2:R419))","v":29304},{"$f":"+IF(SUMIF(Sheet3!$A$2:$A$419,Sheet1!$N$2,Sheet3!S2:S419)=0,\"\",SUMIF(Sheet3!$A$2:$A$419,Sheet1!$N$2,Sheet3!S2:S419))","v":36353},{"$f":"+IF(SUMIF(Sheet3!$A$2:$A$419,Sheet1!$N$2,Sheet3!T2:T419)=0,\"\",SUMIF(Sheet3!$A$2:$A$419,Sheet1!$N$2,Sheet3!T2:T419))","v":12597},{"$f":"+IF(SUMIF(Sheet3!$A$2:$A$419,Sheet1!$N$2,Sheet3!U2:U419)=0,\"\",SUMIF(Sheet3!$A$2:$A$419,Sheet1!$N$2,Sheet3!U2:U419))","v":20022},{"$f":"+IF(SUMIF(Sheet3!$A$2:$A$419,Sheet1!$N$2,Sheet3!V2:V419)=0,\"\",SUMIF(Sheet3!$A$2:$A$419,Sheet1!$N$2,Sheet3!V2:V419))","v":13028},{"$f":"+IF(SUMIF(Sheet3!$A$2:$A$419,Sheet1!$N$2,Sheet3!W2:W419)=0,\"\",SUMIF(Sheet3!$A$2:$A$419,Sheet1!$N$2,Sheet3!W2:W419))","v":26248},{"$f":"+IF(SUMIF(Sheet3!$A$2:$A$419,Sheet1!$N$2,Sheet3!X2:X419)=0,\"\",SUMIF(Sheet3!$A$2:$A$419,Sheet1!$N$2,Sheet3!X2:X419))","v":26271},{"$f":"+IF(SUMIF(Sheet3!$A$2:$A$419,Sheet1!$N$2,Sheet3!Y2:Y419)=0,\"\",SUMIF(Sheet3!$A$2:$A$419,Sheet1!$N$2,Sheet3!Y2:Y419))","v":105552},{"$f":"+IF(SUMIF(Sheet3!$A$2:$A$419,Sheet1!$N$2,Sheet3!Z2:Z419)=0,\"\",SUMIF(Sheet3!$A$2:$A$419,Sheet1!$N$2,Sheet3!Z2:Z419))","v":80718},{"$f":"+IF(SUMIF(Sheet3!$A$2:$A$419,Sheet1!$N$2,Sheet3!AA2:AA419)=0,\"\",SUMIF(Sheet3!$A$2:$A$419,Sheet1!$N$2,Sheet3!AA2:AA419))","v":99827},{"$f":"+IF(SUMIF(Sheet3!$A$2:$A$419,Sheet1!$N$2,Sheet3!AB2:AB419)=0,\"\",SUMIF(Sheet3!$A$2:$A$419,Sheet1!$N$2,Sheet3!AB2:AB419))","v":72799},{"$f":"+IF(SUMIF(Sheet3!$A$2:$A$419,Sheet1!$N$2,Sheet3!AC2:AC419)=0,\"\",SUMIF(Sheet3!$A$2:$A$419,Sheet1!$N$2,Sheet3!AC2:AC419))","v":30620},{"$f":"+IF(SUMIF(Sheet3!$A$2:$A$419,Sheet1!$N$2,Sheet3!AD2:AD419)=0,\"\",SUMIF(Sheet3!$A$2:$A$419,Sheet1!$N$2,Sheet3!AD2:AD419))","v":21000},{"$f":"+IF(SUMIF(Sheet3!$A$2:$A$419,Sheet1!$N$2,Sheet3!AE2:AE419)=0,\"\",SUMIF(Sheet3!$A$2:$A$419,Sheet1!$N$2,Sheet3!AE2:AE419))","v":21151},{"$f":"+IF(SUMIF(Sheet3!$A$2:$A$419,Sheet1!$N$2,Sheet3!AF2:AF419)=0,\"\",SUMIF(Sheet3!$A$2:$A$419,Sheet1!$N$2,Sheet3!AF2:AF419))","v":32949},{"$f":"+IF(SUMIF(Sheet3!$A$2:$A$419,Sheet1!$N$2,Sheet3!AG2:AG419)=0,\"\",SUMIF(Sheet3!$A$2:$A$419,Sheet1!$N$2,Sheet3!AG2:AG419))","v":37914},{"$f":"+IF(SUMIF(Sheet3!$A$2:$A$419,Sheet1!$N$2,Sheet3!AH2:AH419)=0,\"\",SUMIF(Sheet3!$A$2:$A$419,Sheet1!$N$2,Sheet3!AH2:AH419))","v":44402},{"$f":"+IF(SUMIF(Sheet3!$A$2:$A$419,Sheet1!$N$2,Sheet3!AI2:AI419)=0,\"\",SUMIF(Sheet3!$A$2:$A$419,Sheet1!$N$2,Sheet3!AI2:AI419))","v":46615}]
[]
[]
[]
[{"$f":"+\"Evolução da \"&Sheet1!F1&\" \"&Sheet1!G1&\" por Cultura e Região\"","v":"Evolução da Produção  (ton) por Cultura e Região"}]
[]
[]
[]
[]
[]
[]
[]
[]
[]
[]
[]
[]
[]
[]
[]
[]
[]
[]
[]
[]
[]
[{"$f":"+\"Evolução da \"&Sheet1!F1&\" (IND100= 1986) por Cultura e Região\"","v":"Evolução da Produção  (IND100= 1986) por Cultura e Região"}]
[]
[]
[]
[]
[]
[]
[]
[]
[]
[]
[]
[]
[]
[]
[]
[]
[]
[]
[]
[]
[]
[]
[]
[]
[]
[]
[]
[]
[]
[]
[]
[]
[]
[]
[]
[]
[]
[]
[]
[]
[]
[]
[]
[]
[]
[]
[]
[]
[]
[]
[]
[]
[]
[]
[]
[]
[]
[]
[]
[]
[]
[]
[]
[]
[]
[]
[]
[]
[]
[]
[]
[]
[]
[]
[]
[]
[]
[]
[]
[]
[]
[]
[]
[]
[]
[]
[]
[]
[]
[]
[]
[]
[]
[]
[]
[]
[]
[]
[null,1986,1987,1988,1989,1990,1991,1992,1993,1994,1995,1996,1997,1998,1999,2000,2001,2002,2003,2004,2005,2006,2007,2008,2009,2010,2011,2012,2013,2014,2015,2016]
[{"$f":"+Sheet1!F1&\" de \"&Sheet1!A1&\" em \"&Sheet1!I1 & \" (IND100=1986)\"","v":"Produção  de Trigo mole em Portugal (IND100=1986)"},{"$f":"+B10/$B$10*100","v":100},106.56857118907452,81.456644764981377,125.83560625111497,58.65997794786152,125.00940332415568,73.275860216093761,86.669202877524654,90.269117764007731,70.730192300665649,77.717453214432325,63.88650671343612,26.395507037985134,51.009218481669429,39.160815112377783,10.942245320368567,18.448784660652837,7.7696174835200029,12.528451772231069,17.272455675416595,52.03165535043771,21.442158272453526,42.200829211990687,22.302750499182181,14.392351819731292,10.122490387116049,11.761570387373968,19.201265526231513,20.409404613754432,16.010368373880468,16.614115517956588]
[{"$f":"+Sheet1!F1&\" de \"&Sheet1!B1&\" em \"&Sheet1!J1 & \" (IND100=1986)\"","v":"Produção  de Cevada em Portugal (IND100=1986)"},{"$f":"+B11/$B$11*100","v":100},88.642779829719814,56.594172980572885,94.219846680875293,87.630695069015914,138.48265396074407,70.299161989354701,109.912181840499,107.36021067431403,59.205284711606055,78.054387002466058,32.127832888849213,29.238872089000971,32.699153062476988,40.564848187285897,14.05648481872859,22.341743196045392,14.537420355512905,29.289085776136226,29.314750549560909,117.78122454445028,90.069964404075122,111.39292768113194,81.233471327984645,34.167624446254621,23.433053996451566,23.601548813283195,36.76646172043251,42.306705201022126,49.546403026211543,52.015800573551893]

{"sheet":"Prod_Superf_UE","index":25,"n_rows":138,"n_cols":26,"rows_kept":138,"cut":false,"hidden":true,"merged":[[1,0,1,20],[14,0,14,21],[36,0,36,21]]}
[]
["Evolução da Superfície, Produção e Produtividades por Cereal e por País da UE 1993 -2017"]
[]
["Variável de análise:",null,null,"Escolher Cereal:",null,null,"Escolher País:"]
[null,"Caso 1"]
[]
[null,"Caso 2"]
[]
[null,1993,1994,1995,1996,1997,1998,1999,2000,2001,2002,2003,2004,2005,2006,2007,2008,2009,2010,2011,2012,2013,2014,2015,2016,2017]
[{"$f":"+aux_ue!I4&\" de \"&aux_ue!A2&\" - \"&aux_ue!E2 & \" \" &aux_ue!K4","v":"Produção de Trigo mole - Eslováquia (mil ton)"},{"$f":"+ROUND(SUMIF(data_EU!$A$2:$A$931,aux_ue!$H$2,data_EU!F2:F931),aux_ue!$L$4)","v":1529},{"$f":"+ROUND(SUMIF(data_EU!$A$2:$A$931,aux_ue!$H$2,data_EU!G2:G931),aux_ue!$L$4)","v":2145},{"$f":"+ROUND(SUMIF(data_EU!$A$2:$A$931,aux_ue!$H$2,data_EU!H2:H931),aux_ue!$L$4)","v":1938},{"$f":"+ROUND(SUMIF(data_EU!$A$2:$A$931,aux_ue!$H$2,data_EU!I2:I931),aux_ue!$L$4)","v":1713},{"$f":"+ROUND(SUMIF(data_EU!$A$2:$A$931,aux_ue!$H$2,data_EU!J2:J931),aux_ue!$L$4)","v":1886},{"$f":"+ROUND(SUMIF(data_EU!$A$2:$A$931,aux_ue!$H$2,data_EU!K2:K931),aux_ue!$L$4)","v":1776},{"$f":"+ROUND(SUMIF(data_EU!$A$2:$A$931,aux_ue!$H$2,data_EU!L2:L931),aux_ue!$L$4)","v":1174},{"$f":"+ROUND(SUMIF(data_EU!$A$2:$A$931,aux_ue!$H$2,data_EU!M2:M931),aux_ue!$L$4)","v":1244},{"$f":"+ROUND(SUMIF(data_EU!$A$2:$A$931,aux_ue!$H$2,data_EU!N2:N931),aux_ue!$L$4)","v":1766},{"$f":"+ROUND(SUMIF(data_EU!$A$2:$A$931,aux_ue!$H$2,data_EU!O2:O931),aux_ue!$L$4)","v":1542},{"$f":"+ROUND(SUMIF(data_EU!$A$2:$A$931,aux_ue!$H$2,data_EU!P2:P931),aux_ue!$L$4)","v":918},{"$f":"+ROUND(SUMIF(data_EU!$A$2:$A$931,aux_ue!$H$2,data_EU!Q2:Q931),aux_ue!$L$4)","v":1733},{"$f":"+ROUND(SUMIF(data_EU!$A$2:$A$931,aux_ue!$H$2,data_EU!R2:R931),aux_ue!$L$4)","v":1586},{"$f":"+ROUND(SUMIF(data_EU!$A$2:$A$931,aux_ue!$H$2,data_EU!S2:S931),aux_ue!$L$4)","v":1325},{"$f":"+ROUND(SUMIF(data_EU!$A$2:$A$931,aux_ue!$H$2,data_EU!T2:T931),aux_ue!$L$4)","v":1366},{"$f":"+ROUND(SUMIF(data_EU!$A$2:$A$931,aux_ue!$H$2,data_EU!U2:U931),aux_ue!$L$4)","v":1784},{"$f":"+ROUND(SUMIF(data_EU!$A$2:$A$931,aux_ue!$H$2,data_EU!V2:V931),aux_ue!$L$4)","v":1501},{"$f":"+ROUND(SUMIF(data_EU!$A$2:$A$931,aux_ue!$H$2,data_EU!W2:W931),aux_ue!$L$4)","v":1112},{"$f":"+ROUND(SUMIF(data_EU!$A$2:$A$931,aux_ue!$H$2,data_EU!X2:X931),aux_ue!$L$4)","v":1579},{"$f":"+ROUND(SUMIF(data_EU!$A$2:$A$931,aux_ue!$H$2,data_EU!Y2:Y931),aux_ue!$L$4)","v":1247},{"$f":"+ROUND(SUMIF(data_EU!$A$2:$A$931,aux_ue!$H$2,data_EU!Z2:Z931),aux_ue!$L$4)","v":1637},{"$f":"+ROUND(SUMIF(data_EU!$A$2:$A$931,aux_ue!$H$2,data_EU!AA2:AA931),aux_ue!$L$4)","v":2020},{"$f":"+ROUND(SUMIF(data_EU!$A$2:$A$931,aux_ue!$H$2,data_EU!AB2:AB931),aux_ue!$L$4)","v":1969},{"$f":"+ROUND(SUMIF(data_EU!$A$2:$A$931,aux_ue!$H$2,data_EU!AC2:AC931),aux_ue!$L$4)","v":2223},{"$f":"+ROUND(SUMIF(data_EU!$A$2:$A$931,aux_ue!$H$2,data_EU!AD2:AD931),aux_ue!$L$4)","v":1657}]
[{"$f":"+aux_ue!I4&\" de \"&aux_ue!B2&\" - \"&aux_ue!F2&\" \"&aux_ue!K4","v":"Produção de Trigo duro - Itália (mil ton)"},{"$f":"+ROUND(SUMIF(data_EU!$A$2:$A$931,aux_ue!$H$3,data_EU!F2:F931),aux_ue!$L$4)","v":3749},{"$f":"+ROUND(SUMIF(data_EU!$A$2:$A$931,aux_ue!$H$3,data_EU!G2:G931),aux_ue!$L$4)","v":4007},{"$f":"+ROUND(SUMIF(data_EU!$A$2:$A$931,aux_ue!$H$3,data_EU!H2:H931),aux_ue!$L$4)","v":3765},{"$f":"+ROUND(SUMIF(data_EU!$A$2:$A$931,aux_ue!$H$3,data_EU!I2:I931),aux_ue!$L$4)","v":3900},{"$f":"+ROUND(SUMIF(data_EU!$A$2:$A$931,aux_ue!$H$3,data_EU!J2:J931),aux_ue!$L$4)","v":3457},{"$f":"+ROUND(SUMIF(data_EU!$A$2:$A$931,aux_ue!$H$3,data_EU!K2:K931),aux_ue!$L$4)","v":4499},{"$f":"+ROUND(SUMIF(data_EU!$A$2:$A$931,aux_ue!$H$3,data_EU!L2:L931),aux_ue!$L$4)","v":4153},{"$f":"+ROUND(SUMIF(data_EU!$A$2:$A$931,aux_ue!$H$3,data_EU!M2:M931),aux_ue!$L$4)","v":4310},{"$f":"+ROUND(SUMIF(data_EU!$A$2:$A$931,aux_ue!$H$3,data_EU!N2:N931),aux_ue!$L$4)","v":3624},{"$f":"+ROUND(SUMIF(data_EU!$A$2:$A$931,aux_ue!$H$3,data_EU!O2:O931),aux_ue!$L$4)","v":4268},{"$f":"+ROUND(SUMIF(data_EU!$A$2:$A$931,aux_ue!$H$3,data_EU!P2:P931),aux_ue!$L$4)","v":3718},{"$f":"+ROUND(SUMIF(data_EU!$A$2:$A$931,aux_ue!$H$3,data_EU!Q2:Q931),aux_ue!$L$4)","v":5546},{"$f":"+ROUND(SUMIF(data_EU!$A$2:$A$931,aux_ue!$H$3,data_EU!R2:R931),aux_ue!$L$4)","v":4431},{"$f":"+ROUND(SUMIF(data_EU!$A$2:$A$931,aux_ue!$H$3,data_EU!S2:S931),aux_ue!$L$4)","v":3989},{"$f":"+ROUND(SUMIF(data_EU!$A$2:$A$931,aux_ue!$H$3,data_EU!T2:T931),aux_ue!$L$4)","v":3923},{"$f":"+ROUND(SUMIF(data_EU!$A$2:$A$931,aux_ue!$H$3,data_EU!U2:U931),aux_ue!$L$4)","v":5113},{"$f":"+ROUND(SUMIF(data_EU!$A$2:$A$931,aux_ue!$H$3,data_EU!V2:V931),aux_ue!$L$4)","v":3648},{"$f":"+ROUND(SUMIF(data_EU!$A$2:$A$931,aux_ue!$H$3,data_EU!W2:W931),aux_ue!$L$4)","v":3824},{"$f":"+ROUND(SUMIF(data_EU!$A$2:$A$931,aux_ue!$H$3,data_EU!X2:X931),aux_ue!$L$4)","v":3793},{"$f":"+ROUND(SUMIF(data_EU!$A$2:$A$931,aux_ue!$H$3,data_EU!Y2:Y931),aux_ue!$L$4)","v":4160},{"$f":"+ROUND(SUMIF(data_EU!$A$2:$A$931,aux_ue!$H$3,data_EU!Z2:Z931),aux_ue!$L$4)","v":3970},{"$f":"+ROUND(SUMIF(data_EU!$A$2:$A$931,aux_ue!$H$3,data_EU!AA2:AA931),aux_ue!$L$4)","v":4036},{"$f":"+ROUND(SUMIF(data_EU!$A$2:$A$931,aux_ue!$H$3,data_EU!AB2:AB931),aux_ue!$L$4)","v":4398},{"$f":"+ROUND(SUMIF(data_EU!$A$2:$A$931,aux_ue!$H$3,data_EU!AC2:AC931),aux_ue!$L$4)","v":5049},{"$f":"+ROUND(SUMIF(data_EU!$A$2:$A$931,aux_ue!$H$3,data_EU!AD2:AD931),aux_ue!$L$4)","v":4663}]
[]
[]
[]
[{"$f":"+\"Evolução da \"&aux_ue!I4&\" \"&aux_ue!K4&\" por Cultura e Região\"","v":"Evolução da Produção (mil ton) por Cultura e Região"}]
[]
[]
[]
[]
[]
[]
[]
[]
[]
[]
[]
[]
[]
[]
[]
[]
[]
[]
[]
[]
[]
[{"$f":"+\"Evolução da \"&aux_ue!I4&\" (IND100= 1986) por Cultura e Região\"","v":"Evolução da Produção (IND100= 1986) por Cultura e Região"}]
[]
[]
[]
[]
[]
[]
[]
[]
[]
[]
[]
[]
[]
[]
[]
[]
[]
[]
[]
[]
[]
[]
[]
[]
[]
[]
[]
[]
[]
[]
[]
[]
[]
[]
[]
[]
[]
[]
[]
[]
[]
[]
[]
[]
[]
[]
[]
[]
[]
[]
[]
[]
[]
[]
[]
[]
[]
[]
[]
[]
[]
[]
[]
[]
[]
[]
[]
[]
[]
[]
[]
[]
[]
[]
[]
[]
[]
[]
[]
[]
[]
[]
[]
[]
[]
[]
[]
[]
[]
[]
[]
[]
[]
[]
[]
[]
[]
[]
[null,{"$f":"+B9","v":1993},{"$f":"+C9","v":1994},1995,1996,1997,1998,1999,2000,2001,2002,2003,2004,2005,2006,2007,2008,2009,2010,2011,2012,2013,2014,2015,2016,2017]
[{"$f":"+aux_ue!I4&\" de \"&aux_ue!A2&\" - \"&aux_ue!E2 &  \" (IND100=1986)\"","v":"Produção de Trigo mole - Eslováquia (IND100=1986)"},{"$f":"+B10/$B$10*100","v":100},{"$f":"+C10/$B$10*100","v":140.28776978417267},126.74950948332244,112.03400915631133,123.34859385219097,116.15434924787442,76.782210595160237,81.360366252452593,115.50032701111839,100.85022890778286,60.039241334205364,113.34205362982341,103.72792674950948,86.657946370176589,89.339437540876389,116.67756703727927,98.168737737083063,72.727272727272734,103.27011118378024,81.556572923479393,107.06344015696534,132.11249182472204,128.77697841726618,145.38914323086985,108.37148463047743]
[{"$f":"+aux_ue!I4&\" de \"&aux_ue!B2&\" - \"&aux_ue!F2& \" (IND100=1986)\"","v":"Produção de Trigo duro - Itália (IND100=1986)"},{"$f":"+B11/$B$11*100","v":100},{"$f":"+C11/$B$11*100","v":106.88183515604162},100.42678047479328,104.02774073086157,92.211256335022668,120.00533475593491,110.77620698853028,114.96399039743932,96.66577754067751,113.84369165110697,99.17311283008803,147.93278207522005,118.1915177380635,106.40170712189918,104.6412376633769,136.38303547612696,97.305948252867438,102.0005334755935,101.1736463056815,110.96292344625233,105.89490530808217,107.65537476660442,117.31128300880236,134.67591357695386,124.37983462256601]